{"text_format":"1","workbook":"xlsx","n_sheets":7,"sheets":["レジメン詳細 ","レジメンマスタコード","疾患別コード","疾患別コード（レジメン名） ","前投薬リスト","用量調整表","患者確認事項一覧"],"not_rendered":{"charts":0,"images":0,"macros":1,"external_links":2,"defined_names":51,"comments":0,"pivot_tables":0},"unopened":[],"bounds":{"document_bytes":16777216,"sheet_cells":100000,"rows_first":2000,"rows_last":500,"rows_between":2000,"halvings":0,"cell_chars":16384,"cell_head_chars":4096},"cells_cut":0,"cells_raw":0,"read":"whole","date_system":"1900"}

{"sheet":"レジメン詳細 ","index":0,"n_rows":71,"n_cols":16,"rows_kept":71,"cut":false,"hidden":false,"merged":[[27,13,27,14],[25,3,25,8],[27,3,27,8],[27,9,27,12],[26,13,26,14],[25,13,25,14],[25,1,25,2],[26,1,26,2],[27,1,27,2],[26,3,26,8],[25,9,25,12],[26,9,26,12],[31,13,31,14],[28,1,28,2],[29,1,29,2],[30,1,30,2],[31,1,31,2],[28,3,28,8],[29,3,29,8],[30,3,30,8],[31,3,31,8],[28,9,28,12],[29,9,29,12],[30,9,30,12],[31,9,31,12],[29,13,29,14],[30,13,30,14],[28,13,28,14],[0,11,0,12],[7,9,7,10],[0,2,0,9],[2,2,2,5],[5,2,5,9],[7,1,7,2],[1,2,1,7],[6,2,6,4],[6,7,6,9],[3,2,3,4],[4,2,4,4],[4,12,4,13],[4,6,4,9],[16,1,23,14],[24,3,24,8],[24,9,24,12],[24,13,24,14],[10,1,10,2],[11,1,11,2],[12,1,12,2],[13,1,13,2],[14,1,14,2],[8,1,8,2],[9,1,9,2]]}
[null,"氏名",null,null,null,null,null,null,null,null,"ID",null,null,"前橋赤十字病院\nレジメン","ver.1.0","2026/1/31現在"]
[null,"フリガナ",null,null,null,null,null,null,"性別",null,null,"身長(cm)",null,"測定日"]
[null,"生年月日",null,null,null,null,{"$f":"DATEDIF(C3,TODAY(),\"Y\")","v":126},"歳","CRE",null,null,"体重(kg)",null,"測定日","３か月\n以内"]
[null,"適応疾患","造血器",null,null,"ステージ",null,null,"CCｒ",{"$f":"IFERROR(IF(J2=\"男\", ((140-G3)*M3)/(72*J3), IF(J2=\"女\", ((140-G3)*M3)/(72*J3)*0.85, \"\")), \"\")","v":""},"ml/min","BSA",{"$f":"POWER(M3,0.425)*POWER(M2,0.725)*71.84/10000","v":0},"㎡",{"$f":"EDATE(M5,-3)","v":45778}]
[null,"レジメンコード",{"$f":"INDEX(レジメンマスタコード!$A:$A,MATCH('レジメン詳細 '!$C$6:$J$6,レジメンマスタコード!$B:$B,0))","v":{"$error":"#N/A"}},null,null,"癌種",{"$f":"VLOOKUP($C$5,INDIRECT(\"__レジメンマスタ[#データ]\"),6,FALSE)&\"\"","v":{"$error":"#N/A"}},null,null,null,"治療開始日",null,"2025-08-01"]
[null,"レジメン"]
[null,"期間",{"$f":"VLOOKUP($C$5,INDIRECT(\"__レジメンマスタ[#データ]\"),4,FALSE)&\"\"","v":{"$error":"#N/A"}},null,null,null,"回数制限",{"$f":"VLOOKUP($C$5,INDIRECT(\"__レジメンマスタ[#データ]\"),5,FALSE)&\"\"","v":{"$error":"#N/A"}},null,null,null,null,null,"（）は考慮することと記載あり"]
[null,"薬剤",null,"経路","用量","単位","計算量","減量：",0.8,"投与量",null,"催吐性","投与日","前投薬","回数"]
[{"$f":"VLOOKUP($C$5,INDIRECT(\"__レジメンマスタ[#データ]\"),10,)","v":{"$error":"#N/A"}},{"$f":"VLOOKUP($C$5,INDIRECT(\"__レジメンマスタ[#データ]\"),8,FALSE)&\"\"","v":{"$error":"#N/A"}},null,{"$f":"VLOOKUP($C$5,INDIRECT(\"__レジメンマスタ[#データ]\"),11,FALSE)&\"\"","v":{"$error":"#N/A"}},{"$f":"VLOOKUP($C$5,INDIRECT(\"__レジメンマスタ[#データ]\"),13,FALSE)&\"\"","v":{"$error":"#N/A"}},{"$f":"VLOOKUP($C$5,INDIRECT(\"__レジメンマスタ[#データ]\"),14,FALSE)&\"\"","v":{"$error":"#N/A"}},{"$f":"IF(F9=\"㎡\",E9*$M$4,IF(F9=\"kg\",E9*$M$3,IF(F9=\"BODY\",E9,IF(F9=\"AUC\",(MIN($J$4,125)+25)*E9,\"\"))))","v":{"$error":"#N/A"}},{"$f":"VLOOKUP($C$5,INDIRECT(\"__レジメンマスタ[#データ]\"),15,FALSE)&\"\"","v":{"$error":"#N/A"}},{"$f":"IFERROR(G9*$I$8,\"\")","v":""},null,{"$f":"VLOOKUP($C$5,INDIRECT(\"__レジメンマスタ[#データ]\"),15,FALSE)&\"\"","v":{"$error":"#N/A"}},{"$f":"VLOOKUP($C$5,INDIRECT(\"__レジメンマスタ[#データ]\"),16,FALSE)&\"\"","v":{"$error":"#N/A"}},{"$f":"VLOOKUP($C$5,INDIRECT(\"__レジメンマスタ[#データ]\"),17,FALSE)&\"\"","v":{"$error":"#N/A"}},{"$f":"VLOOKUP($C$5,INDIRECT(\"__レジメンマスタ[#データ]\"),18,FALSE)&\"\"","v":{"$error":"#N/A"}},{"$f":"VLOOKUP($C$5,INDIRECT(\"__レジメンマスタ[#データ]\"),19,FALSE)&\"\"","v":{"$error":"#N/A"}}]
[{"$f":"VLOOKUP($C$5,INDIRECT(\"__レジメンマスタ[#データ]\"),22,)","v":{"$error":"#N/A"}},{"$f":"VLOOKUP($C$5,INDIRECT(\"__レジメンマスタ[#データ]\"),20,FALSE)&\"\"","v":{"$error":"#N/A"}},null,{"$f":"VLOOKUP($C$5,INDIRECT(\"__レジメンマスタ[#データ]\"),23,FALSE)&\"\"","v":{"$error":"#N/A"}},{"$f":"VLOOKUP($C$5,INDIRECT(\"__レジメンマスタ[#データ]\"),25,FALSE)&\"\"","v":{"$error":"#N/A"}},{"$f":"VLOOKUP($C$5,INDIRECT(\"__レジメンマスタ[#データ]\"),26,FALSE)&\"\"","v":{"$error":"#N/A"}},{"$f":"IF(F10=\"㎡\",E10*$M$4,IF(F10=\"kg\",E10*$M$3,IF(F10=\"BODY\",E10,IF(F10=\"AUC\",(MIN($J$4,125)+25)*E10,\"\"))))","v":{"$error":"#N/A"}},{"$f":"VLOOKUP($C$5,INDIRECT(\"__レジメンマスタ[#データ]\"),27,FALSE)&\"\"","v":{"$error":"#N/A"}},{"$f":"IFERROR(G10*$I$8,\"\")","v":""},null,{"$f":"VLOOKUP($C$5,INDIRECT(\"__レジメンマスタ[#データ]\"),27,FALSE)&\"\"","v":{"$error":"#N/A"}},{"$f":"VLOOKUP($C$5,INDIRECT(\"__レジメンマスタ[#データ]\"),28,FALSE)&\"\"","v":{"$error":"#N/A"}},{"$f":"VLOOKUP($C$5,INDIRECT(\"__レジメンマスタ[#データ]\"),29,FALSE)&\"\"","v":{"$error":"#N/A"}},{"$f":"VLOOKUP($C$5,INDIRECT(\"__レジメンマスタ[#データ]\"),30,FALSE)&\"\"","v":{"$error":"#N/A"}},{"$f":"VLOOKUP($C$5,INDIRECT(\"__レジメンマスタ[#データ]\"),31,FALSE)&\"\"","v":{"$error":"#N/A"}}]
[{"$f":"VLOOKUP($C$5,INDIRECT(\"__レジメンマスタ[#データ]\"),34,)","v":{"$error":"#N/A"}},{"$f":"VLOOKUP($C$5,INDIRECT(\"__レジメンマスタ[#データ]\"),32,FALSE)&\"\"","v":{"$error":"#N/A"}},null,{"$f":"VLOOKUP($C$5,INDIRECT(\"__レジメンマスタ[#データ]\"),35,FALSE)&\"\"","v":{"$error":"#N/A"}},{"$f":"VLOOKUP($C$5,INDIRECT(\"__レジメンマスタ[#データ]\"),37,FALSE)&\"\"","v":{"$error":"#N/A"}},{"$f":"VLOOKUP($C$5,INDIRECT(\"__レジメンマスタ[#データ]\"),38,FALSE)&\"\"","v":{"$error":"#N/A"}},{"$error":"#N/A"},{"$f":"VLOOKUP($C$5,INDIRECT(\"__レジメンマスタ[#データ]\"),39,FALSE)&\"\"","v":{"$error":"#N/A"}},{"$f":"IFERROR(G11*$I$8,\"\")","v":""},null,{"$f":"VLOOKUP($C$5,INDIRECT(\"__レジメンマスタ[#データ]\"),39,FALSE)&\"\"","v":{"$error":"#N/A"}},{"$f":"VLOOKUP($C$5,INDIRECT(\"__レジメンマスタ[#データ]\"),40,FALSE)&\"\"","v":{"$error":"#N/A"}},{"$f":"VLOOKUP($C$5,INDIRECT(\"__レジメンマスタ[#データ]\"),41,FALSE)&\"\"","v":{"$error":"#N/A"}},{"$f":"VLOOKUP($C$5,INDIRECT(\"__レジメンマスタ[#データ]\"),42,FALSE)&\"\"","v":{"$error":"#N/A"}},{"$f":"VLOOKUP($C$5,INDIRECT(\"__レジメンマスタ[#データ]\"),43,FALSE)&\"\"","v":{"$error":"#N/A"}}]
[{"$f":"VLOOKUP($C$5,INDIRECT(\"__レジメンマスタ[#データ]\"),46,)","v":{"$error":"#N/A"}},{"$f":"VLOOKUP($C$5,INDIRECT(\"__レジメンマスタ[#データ]\"),44,FALSE)&\"\"","v":{"$error":"#N/A"}},null,{"$f":"VLOOKUP($C$5,INDIRECT(\"__レジメンマスタ[#データ]\"),47,FALSE)&\"\"","v":{"$error":"#N/A"}},{"$f":"VLOOKUP($C$5,INDIRECT(\"__レジメンマスタ[#データ]\"),49,FALSE)&\"\"","v":{"$error":"#N/A"}},{"$f":"VLOOKUP($C$5,INDIRECT(\"__レジメンマスタ[#データ]\"),50,FALSE)&\"\"","v":{"$error":"#N/A"}},{"$error":"#N/A"},{"$f":"VLOOKUP($C$5,INDIRECT(\"__レジメンマスタ[#データ]\"),51,FALSE)&\"\"","v":{"$error":"#N/A"}},"",null,{"$f":"VLOOKUP($C$5,INDIRECT(\"__レジメンマスタ[#データ]\"),51,FALSE)&\"\"","v":{"$error":"#N/A"}},{"$f":"VLOOKUP($C$5,INDIRECT(\"__レジメンマスタ[#データ]\"),52,FALSE)&\"\"","v":{"$error":"#N/A"}},{"$f":"VLOOKUP($C$5,INDIRECT(\"__レジメンマスタ[#データ]\"),53,FALSE)&\"\"","v":{"$error":"#N/A"}},{"$f":"VLOOKUP($C$5,INDIRECT(\"__レジメンマスタ[#データ]\"),54,FALSE)&\"\"","v":{"$error":"#N/A"}},{"$f":"VLOOKUP($C$5,INDIRECT(\"__レジメンマスタ[#データ]\"),55,FALSE)&\"\"","v":{"$error":"#N/A"}}]
[{"$f":"VLOOKUP($C$5,INDIRECT(\"__レジメンマスタ[#データ]\"),58,)","v":{"$error":"#N/A"}},{"$f":"VLOOKUP($C$5,INDIRECT(\"__レジメンマスタ[#データ]\"),56,FALSE)&\"\"","v":{"$error":"#N/A"}},null,{"$f":"VLOOKUP($C$5,INDIRECT(\"__レジメンマスタ[#データ]\"),59,FALSE)&\"\"","v":{"$error":"#N/A"}},{"$f":"VLOOKUP($C$5,INDIRECT(\"__レジメンマスタ[#データ]\"),61,FALSE)&\"\"","v":{"$error":"#N/A"}},{"$f":"VLOOKUP($C$5,INDIRECT(\"__レジメンマスタ[#データ]\"),62,FALSE)&\"\"","v":{"$error":"#N/A"}},{"$error":"#N/A"},{"$f":"VLOOKUP($C$5,INDIRECT(\"__レジメンマスタ[#データ]\"),63,FALSE)&\"\"","v":{"$error":"#N/A"}},"",null,{"$f":"VLOOKUP($C$5,INDIRECT(\"__レジメンマスタ[#データ]\"),63,FALSE)&\"\"","v":{"$error":"#N/A"}},{"$f":"VLOOKUP($C$5,INDIRECT(\"__レジメンマスタ[#データ]\"),64,FALSE)&\"\"","v":{"$error":"#N/A"}},{"$f":"VLOOKUP($C$5,INDIRECT(\"__レジメンマスタ[#データ]\"),65,FALSE)&\"\"","v":{"$error":"#N/A"}},{"$f":"VLOOKUP($C$5,INDIRECT(\"__レジメンマスタ[#データ]\"),66,FALSE)&\"\"","v":{"$error":"#N/A"}},{"$f":"VLOOKUP($C$5,INDIRECT(\"__レジメンマスタ[#データ]\"),67,FALSE)&\"\"","v":{"$error":"#N/A"}}]
[{"$f":"VLOOKUP($C$5,INDIRECT(\"__レジメンマスタ[#データ]\"),70,)","v":{"$error":"#N/A"}},{"$f":"VLOOKUP($C$5,INDIRECT(\"__レジメンマスタ[#データ]\"),68,FALSE)&\"\"","v":{"$error":"#N/A"}},null,{"$f":"VLOOKUP($C$5,INDIRECT(\"__レジメンマスタ[#データ]\"),71,FALSE)&\"\"","v":{"$error":"#N/A"}},{"$f":"VLOOKUP($C$5,INDIRECT(\"__レジメンマスタ[#データ]\"),73,FALSE)&\"\"","v":{"$error":"#N/A"}},{"$f":"VLOOKUP($C$5,INDIRECT(\"__レジメンマスタ[#データ]\"),74,FALSE)&\"\"","v":{"$error":"#N/A"}},{"$error":"#N/A"},{"$f":"VLOOKUP($C$5,INDIRECT(\"__レジメンマスタ[#データ]\"),75,FALSE)&\"\"","v":{"$error":"#N/A"}},{"$f":"IFERROR(G14*$I$8,\"\")","v":""},null,{"$f":"VLOOKUP($C$5,INDIRECT(\"__レジメンマスタ[#データ]\"),75,FALSE)&\"\"","v":{"$error":"#N/A"}},{"$f":"VLOOKUP($C$5,INDIRECT(\"__レジメンマスタ[#データ]\"),76,FALSE)&\"\"","v":{"$error":"#N/A"}},{"$f":"VLOOKUP($C$5,INDIRECT(\"__レジメンマスタ[#データ]\"),77,FALSE)&\"\"","v":{"$error":"#N/A"}},{"$f":"VLOOKUP($C$5,INDIRECT(\"__レジメンマスタ[#データ]\"),78,FALSE)&\"\"","v":{"$error":"#N/A"}},{"$f":"VLOOKUP($C$5,INDIRECT(\"__レジメンマスタ[#データ]\"),79,FALSE)&\"\"","v":{"$error":"#N/A"}}]
[{"$f":"VLOOKUP($C$5,INDIRECT(\"__レジメンマスタ[#データ]\"),82,)","v":{"$error":"#N/A"}},{"$f":"VLOOKUP($C$5,INDIRECT(\"__レジメンマスタ[#データ]\"),80,FALSE)&\"\"","v":{"$error":"#N/A"}},null,{"$f":"VLOOKUP($C$5,INDIRECT(\"__レジメンマスタ[#データ]\"),83,FALSE)&\"\"","v":{"$error":"#N/A"}},{"$f":"VLOOKUP($C$5,INDIRECT(\"__レジメンマスタ[#データ]\"),85,FALSE)&\"\"","v":{"$error":"#N/A"}},{"$f":"VLOOKUP($C$5,INDIRECT(\"__レジメンマスタ[#データ]\"),86,FALSE)&\"\"","v":{"$error":"#N/A"}},{"$error":"#N/A"},{"$f":"VLOOKUP($C$5,INDIRECT(\"__レジメンマスタ[#データ]\"),87,FALSE)&\"\"","v":{"$error":"#N/A"}},"",null,{"$f":"VLOOKUP($C$5,INDIRECT(\"__レジメンマスタ[#データ]\"),87,FALSE)&\"\"","v":{"$error":"#N/A"}},{"$f":"VLOOKUP($C$5,INDIRECT(\"__レジメンマスタ[#データ]\"),88,FALSE)&\"\"","v":{"$error":"#N/A"}},{"$f":"VLOOKUP($C$5,INDIRECT(\"__レジメンマスタ[#データ]\"),89,FALSE)&\"\"","v":{"$error":"#N/A"}},{"$f":"VLOOKUP($C$5,INDIRECT(\"__レジメンマスタ[#データ]\"),90,FALSE)&\"\"","v":{"$error":"#N/A"}},{"$f":"VLOOKUP($C$5,INDIRECT(\"__レジメンマスタ[#データ]\"),91,FALSE)&\"\"","v":{"$error":"#N/A"}}]
[null,"レジメン特記事項"]
[null,{"$f":"VLOOKUP($C$5,INDIRECT(\"__レジメンマスタ[#データ]\"),3,FALSE)&\"\"","v":{"$error":"#N/A"}}]
[]
[]
[]
[]
[]
[]
[]
[null,null,null,"腎機能",null,null,null,null,null,"肝機能",null,null,null,"備考"]
[]
[]
[]
[]
[]
[]
[]
[null,"※腎機能(日本腎臓病薬物療法学会誌改訂5版参照),肝機能(臨床腫瘍薬学第2版参照)この情報はあくまで参考値のため各専門書を確認すること"]
[]
[]
[]
[]
[]
[]
[]
[]
[]
[]
[]
[]
[]
[]
[]
[]
[1]
[2]
[3]
[4]
[5]
[6]
[7]
[8]
[9]
[10]
[11]
[12]
[13]
[14]
[15]
[16]
[17]
[18]
[19]
[15.5510204081633]
[16.3061224489796]
[17.061224489796]

{"sheet":"レジメンマスタコード","index":1,"n_rows":644,"n_cols":117,"rows_kept":644,"cut":false,"hidden":true,"merged":[]}
["マスターコード","パス名称","レジメン特記事項","期間","回数","分類名称","適応科名称","成分名①","薬剤名称①","YJコード①","経路①","投与時間①","投与基準量①","計算式①","単位①","催吐性","投与日①","前投薬①","回数①","成分名②","薬剤名称②","YJコード②","経路②","投与時間②","投与基準量②","計算式②","単位②","催吐性②","投与日②","前投薬②","回数②","成分名③","薬剤名称③","YJコード③","経路③","投与時間③","投与基準量③","計算式③","単位③","催吐性③","投与日③","前投薬③","回数③","成分名④","薬剤名称④","YJコード④","経路④","投与時間④","投与基準量④","計算式④","単位④","催吐性④","投与日④","前投薬④","回数④","成分名⑤","薬剤名称⑤","YJコード⑤","経路⑤","投与時間⑤","投与基準量⑤","計算式⑤","単位⑤","催吐性⑤","投与日⑤","前投薬⑤","回数⑤","成分名⑥","薬剤名称⑥","YJコード⑥","経路⑥","投与時間⑥","投与基準量⑥","計算式⑥","単位⑥","催吐性⑥","投与日⑥","前投薬⑥","回数⑥","成分名⑦","薬剤名称⑦","YJコード⑦","経路⑦","投与時間⑦","投与基準量⑦","計算式⑦","単位⑦","催吐性⑦","投与日⑦","前投薬⑦","回数⑦","副作用1","副作用2","副作用3","副作用4","副作用5","副作用6","副作用7","副作用8","副作用9","副作用10","副作用11","副作用12","副作用13","副作用14","副作用15","副作用16","副作用17","副作用18","副作用19","副作用20","副作用21","副作用22","副作用23","副作用24","副作用25","副作用26"]
["A100001","BEP"," 　　　　　　　　Ｗ1 　　　　　　 Ｗ2  　　　　　 Ｗ3  \nブレオ　　　 ×↓×××××  ×↓×××××   ×↓×××××  \nエトポシド　 ↓↓↓↓↓××  ×××××××   ×××××××  \nシスプラチン ↓↓↓↓↓××  ×××××××   ××××××× \n3コースで終了。継続はDr確認。\nBLM360mg/BODY以上で肺障害リスク高まるため4コース以上は要注意 ","21日","3コース","胚細胞腫瘍","産婦人科","ブレオマイシン",null,"4234400D5039","注射",null,30,"BODY","mg",null,"d2,9,16",{"$f":"IFERROR(VLOOKUP(__レジメンマスタ[[#This Row],[YJコード①]],[1]!__前投薬リスト[#Data],4,FALSE)&\"\",\"\")","v":""},null,"エトポシド","危 ｴﾄﾎﾟｼﾄﾞ点滴静注液「ｻﾝﾄﾞ」100mg/5mL（先:ﾗｽﾃｯﾄ）","4240403A2069","注射",null,100,"㎡","mg",null,"d1-5",{"$f":"IFERROR(VLOOKUP(__レジメンマスタ[[#This Row],[YJコード②]],[1]!__前投薬リスト[#Data],4,FALSE)&\"\",\"\")","v":""},null,"シスプラチン","危〈毒〉50mg/100mL ｼｽﾌﾟﾗﾁﾝ点滴静注「ﾏﾙｺ」（先:ﾗﾝﾀﾞ）","4291401A3111","注射",null,20,"㎡","mg","高","d1-5",{"$f":"IFERROR(VLOOKUP(__レジメンマスタ[[#This Row],[YJコード③]],[1]!__前投薬リスト[#Data],4,FALSE)&\"\",\"\")","v":""},null,null,null,null,null,null,null,null,null,null,null,{"$f":"IFERROR(VLOOKUP(__レジメンマスタ[[#This Row],[YJコード④]],[1]!__前投薬リスト[#Data],4,FALSE)&\"\",\"\")","v":""},null,null,null,null,null,null,null,null,null,null,null,{"$f":"IFERROR(VLOOKUP(__レジメンマスタ[[#This Row],[YJコード⑤]],[1]!__前投薬リスト[#Data],4,FALSE)&\"\",\"\")","v":""},null,null,null,null,null,null,null,null,null,null,null,{"$f":"IFERROR(VLOOKUP(__レジメンマスタ[[#This Row],[YJコード⑥]],[1]!__前投薬リスト[#Data],4,FALSE)&\"\",\"\")","v":""},null,null,null,null,null,null,null,null,null,null,null,{"$f":"IFERROR(VLOOKUP(__レジメンマスタ[[#This Row],[YJコード⑦]],[1]!__前投薬リスト[#Data],4,FALSE)&\"\",\"\")","v":""},null,"・骨髄抑制：感染予防対策の徹底","・嘔吐、悪心：制吐剤で予防。水分摂取も困難な際は病院に連絡","・便秘：下剤の使用も可能なため、症状ある際は申し出を"]
["A100002","ペムブロリズマブ(3週間毎）","標準治療に抵抗性の場合(大腸癌を除く）\n 3週間ごとに投与 \n             W1　　　　   W2～3   \nPmbro  ↓××××××  ××××××× ","21日","∞","MSI-high固形癌","呼吸器内科","ペムブロリズマブ","危 ｷｲﾄﾙｰﾀﾞ点滴静注 100mg/4mL（希釈液:生食orTZ）","4291435A2025","注射","３０ 分で",200,"BODY","mg","最小","d1",{"$f":"IFERROR(VLOOKUP(__レジメンマスタ[[#This Row],[YJコード①]],[1]!__前投薬リスト[#Data],4,FALSE)&\"\",\"\")","v":""},null,null,null,null,null,null,null,null,null,null,null,{"$f":"IFERROR(VLOOKUP(__レジメンマスタ[[#This Row],[YJコード②]],[1]!__前投薬リスト[#Data],4,FALSE)&\"\",\"\")","v":""},null,null,null,null,null,null,null,null,null,null,null,{"$f":"IFERROR(VLOOKUP(__レジメンマスタ[[#This Row],[YJコード③]],[1]!__前投薬リスト[#Data],4,FALSE)&\"\",\"\")","v":""},null,null,null,null,null,null,null,null,null,null,null,{"$f":"IFERROR(VLOOKUP(__レジメンマスタ[[#This Row],[YJコード④]],[1]!__前投薬リスト[#Data],4,FALSE)&\"\",\"\")","v":""},null,null,null,null,null,null,null,null,null,null,null,{"$f":"IFERROR(VLOOKUP(__レジメンマスタ[[#This Row],[YJコード⑤]],[1]!__前投薬リスト[#Data],4,FALSE)&\"\",\"\")","v":""},null,null,null,null,null,null,null,null,null,null,null,{"$f":"IFERROR(VLOOKUP(__レジメンマスタ[[#This Row],[YJコード⑥]],[1]!__前投薬リスト[#Data],4,FALSE)&\"\",\"\")","v":""},null,null,null,null,null,null,null,null,null,null,null,{"$f":"IFERROR(VLOOKUP(__レジメンマスタ[[#This Row],[YJコード⑦]],[1]!__前投薬リスト[#Data],4,FALSE)&\"\",\"\")","v":""},null,"irAE：重症化防止には早期発見、早期治療が大切であるため患者・家族の理解が早期発見に重要である","神経障害、眼障害、肺障害、腎障害、筋関節障害、内分泌障害、心血管系障害、肝・胆・膵障害、胃腸障害、皮膚障害"]
["A100002-2","ペムブロリズマブ(6週間毎）","標準治療に抵抗性の場合(大腸癌を除く）\n 6週間ごとに投与 \n             W1　　　　   W2～6   \nPmbro  ↓××××××  ××××××× ","42日","∞","MSI-high固形癌","呼吸器内科","ペムブロリズマブ","危 ｷｲﾄﾙｰﾀﾞ点滴静注 100mg/4mL（希釈液:生食orTZ）","4291435A2025","注射","３０ 分で",400,"BODY","mg","最小","d1",{"$f":"IFERROR(VLOOKUP(__レジメンマスタ[[#This Row],[YJコード①]],[1]!__前投薬リスト[#Data],4,FALSE)&\"\",\"\")","v":""},null,null,null,null,null,null,null,null,null,null,null,{"$f":"IFERROR(VLOOKUP(__レジメンマスタ[[#This Row],[YJコード②]],[1]!__前投薬リスト[#Data],4,FALSE)&\"\",\"\")","v":""},null,null,null,null,null,null,null,null,null,null,null,{"$f":"IFERROR(VLOOKUP(__レジメンマスタ[[#This Row],[YJコード③]],[1]!__前投薬リスト[#Data],4,FALSE)&\"\",\"\")","v":""},null,null,null,null,null,null,null,null,null,null,null,{"$f":"IFERROR(VLOOKUP(__レジメンマスタ[[#This Row],[YJコード④]],[1]!__前投薬リスト[#Data],4,FALSE)&\"\",\"\")","v":""},null,null,null,null,null,null,null,null,null,null,null,{"$f":"IFERROR(VLOOKUP(__レジメンマスタ[[#This Row],[YJコード⑤]],[1]!__前投薬リスト[#Data],4,FALSE)&\"\",\"\")","v":""},null,null,null,null,null,null,null,null,null,null,null,{"$f":"IFERROR(VLOOKUP(__レジメンマスタ[[#This Row],[YJコード⑥]],[1]!__前投薬リスト[#Data],4,FALSE)&\"\",\"\")","v":""},null,null,null,null,null,null,null,null,null,null,null,{"$f":"IFERROR(VLOOKUP(__レジメンマスタ[[#This Row],[YJコード⑦]],[1]!__前投薬リスト[#Data],4,FALSE)&\"\",\"\")","v":""},null,"irAE：重症化防止には早期発見、早期治療が大切であるため患者・家族の理解が早期発見に重要である","神経障害、眼障害、肺障害、腎障害、筋関節障害、内分泌障害、心血管系障害、肝・胆・膵障害、胃腸障害、皮膚障害"]
["A100003","CDDP＋ETP","　　　　　　W1 　　　　 Ｗ2  　　　　　　 Ｗ3 　　　　  Ｗ4  \nCDDP  ↓×××××× ×××××××  ×××××××  ×××××××  \nETP 　↓↓↓×××× ×××××××  ×××××××  ×××××××  \n","28日","∞","神経内分泌腫瘍","外科","シスプラチン","危〈毒〉50mg/100mL ｼｽﾌﾟﾗﾁﾝ点滴静注「ﾏﾙｺ」（先:ﾗﾝﾀﾞ）","4291401A3111","注射",null,80,"㎡","mg","高","d1",{"$f":"IFERROR(VLOOKUP(__レジメンマスタ[[#This Row],[YJコード①]],[1]!__前投薬リスト[#Data],4,FALSE)&\"\",\"\")","v":""},null,"エトポシド","危 ｴﾄﾎﾟｼﾄﾞ点滴静注液「ｻﾝﾄﾞ」100mg/5mL（先:ﾗｽﾃｯﾄ）","4240403A2069","注射",null,100,"㎡","mg",null,"d1-3",{"$f":"IFERROR(VLOOKUP(__レジメンマスタ[[#This Row],[YJコード②]],[1]!__前投薬リスト[#Data],4,FALSE)&\"\",\"\")","v":""},null,null,null,null,null,null,null,null,null,null,null,{"$f":"IFERROR(VLOOKUP(__レジメンマスタ[[#This Row],[YJコード③]],[1]!__前投薬リスト[#Data],4,FALSE)&\"\",\"\")","v":""},null,null,null,null,null,null,null,null,null,null,null,{"$f":"IFERROR(VLOOKUP(__レジメンマスタ[[#This Row],[YJコード④]],[1]!__前投薬リスト[#Data],4,FALSE)&\"\",\"\")","v":""},null,null,null,null,null,null,null,null,null,null,null,{"$f":"IFERROR(VLOOKUP(__レジメンマスタ[[#This Row],[YJコード⑤]],[1]!__前投薬リスト[#Data],4,FALSE)&\"\",\"\")","v":""},null,null,null,null,null,null,null,null,null,null,null,{"$f":"IFERROR(VLOOKUP(__レジメンマスタ[[#This Row],[YJコード⑥]],[1]!__前投薬リスト[#Data],4,FALSE)&\"\",\"\")","v":""},null,null,null,null,null,null,null,null,null,null,null,{"$f":"IFERROR(VLOOKUP(__レジメンマスタ[[#This Row],[YJコード⑦]],[1]!__前投薬リスト[#Data],4,FALSE)&\"\",\"\")","v":""},null,"・骨髄抑制：感染予防対策の徹底","・嘔吐、悪心：制吐剤で予防。水分摂取も困難な際は病院に連絡","・過敏症・ｲﾝﾌｭｰｼﾞｮﾝﾘｱｸｼｮﾝ：掻痒感や発疹、発熱、悪寒、呼吸困難、気管支痙攣等の症状がある場合は申し出を","・腎障害：水分摂取、排尿を心がける"]
["A100004","【大腸癌】オプジーボ・ヤーボイ","２剤併用：3週間毎　4回まで、その後オプジーボ単独（レジメン変更へ）\n                 W1             W2～3  \nオプジーボ ↓××××××   ×××××××   \nヤーボイ   ↓××××××   ×××××××    ","21日","4コース","MSI-High固形癌","外科","ヤーボイ","危 臨）50mg/10mL ﾔｰﾎﾞｲ点滴静注液","4291430A1026","注射","３０ 分で",1,"kg","mg",null,"d1",{"$f":"IFERROR(VLOOKUP(__レジメンマスタ[[#This Row],[YJコード①]],[1]!__前投薬リスト[#Data],4,FALSE)&\"\",\"\")","v":""},"4コース","ニボルマブ","危 240mg/24mL ｵﾌﾟｼﾞｰﾎﾞ点滴静注（希釈液:生食orTZ）","4291427A3027","注射","３０ 分で",240,"BODY","mg","最小","d1",{"$f":"IFERROR(VLOOKUP(__レジメンマスタ[[#This Row],[YJコード②]],[1]!__前投薬リスト[#Data],4,FALSE)&\"\",\"\")","v":""},"∞",null,null,null,null,null,null,null,null,null,null,{"$f":"IFERROR(VLOOKUP(__レジメンマスタ[[#This Row],[YJコード③]],[1]!__前投薬リスト[#Data],4,FALSE)&\"\",\"\")","v":""},null,null,null,null,null,null,null,null,null,null,null,{"$f":"IFERROR(VLOOKUP(__レジメンマスタ[[#This Row],[YJコード④]],[1]!__前投薬リスト[#Data],4,FALSE)&\"\",\"\")","v":""},null,null,null,null,null,null,null,null,null,null,null,{"$f":"IFERROR(VLOOKUP(__レジメンマスタ[[#This Row],[YJコード⑤]],[1]!__前投薬リスト[#Data],4,FALSE)&\"\",\"\")","v":""},null,null,null,null,null,null,null,null,null,null,null,{"$f":"IFERROR(VLOOKUP(__レジメンマスタ[[#This Row],[YJコード⑥]],[1]!__前投薬リスト[#Data],4,FALSE)&\"\",\"\")","v":""},null,null,null,null,null,null,null,null,null,null,null,{"$f":"IFERROR(VLOOKUP(__レジメンマスタ[[#This Row],[YJコード⑦]],[1]!__前投薬リスト[#Data],4,FALSE)&\"\",\"\")","v":""}]
["A100004-1","【大腸癌】オプジーボ・ヤーボイ（維持療法2週間毎）","ヤーボイ併用後：オプジーボ単独で2週間毎\n　　　　　　　　　 W1　　　　　   W2 \nオプジーボ ↓×××××× ××××××× ","14日","∞","MSI-High固形癌","外科","オプジーボ","危 240mg/24mL ｵﾌﾟｼﾞｰﾎﾞ点滴静注（希釈液:生食orTZ）","4291427A3027","注射","３０ 分で",240,"BODY","mg","最小","d1",{"$f":"IFERROR(VLOOKUP(__レジメンマスタ[[#This Row],[YJコード①]],[1]!__前投薬リスト[#Data],4,FALSE)&\"\",\"\")","v":""},"∞",null,null,null,null,null,null,null,null,null,null,{"$f":"IFERROR(VLOOKUP(__レジメンマスタ[[#This Row],[YJコード②]],[1]!__前投薬リスト[#Data],4,FALSE)&\"\",\"\")","v":""},null,null,null,null,null,null,null,null,null,null,null,{"$f":"IFERROR(VLOOKUP(__レジメンマスタ[[#This Row],[YJコード③]],[1]!__前投薬リスト[#Data],4,FALSE)&\"\",\"\")","v":""},null,null,null,null,null,null,null,null,null,null,null,{"$f":"IFERROR(VLOOKUP(__レジメンマスタ[[#This Row],[YJコード④]],[1]!__前投薬リスト[#Data],4,FALSE)&\"\",\"\")","v":""},null,null,null,null,null,null,null,null,null,null,null,{"$f":"IFERROR(VLOOKUP(__レジメンマスタ[[#This Row],[YJコード⑤]],[1]!__前投薬リスト[#Data],4,FALSE)&\"\",\"\")","v":""},null,null,null,null,null,null,null,null,null,null,null,{"$f":"IFERROR(VLOOKUP(__レジメンマスタ[[#This Row],[YJコード⑥]],[1]!__前投薬リスト[#Data],4,FALSE)&\"\",\"\")","v":""},null,null,null,null,null,null,null,null,null,null,null,{"$f":"IFERROR(VLOOKUP(__レジメンマスタ[[#This Row],[YJコード⑦]],[1]!__前投薬リスト[#Data],4,FALSE)&\"\",\"\")","v":""}]
["A100004-2","【大腸癌】オプジーボ・ヤーボイ（維持療法、４週間毎）","ヤーボイ併用後：オプジーボ単独で4週間毎\n　　　　　　　　　W1　　　    W2～W4\nオプジーボ ↓××××××  ×××××××","28日","∞","MSI-High固形癌","外科","オプジーボ","危 240mg/24mL ｵﾌﾟｼﾞｰﾎﾞ点滴静注（希釈液:生食orTZ）","4291427A3027","注射","３０ 分で",480,"BODY","mg","最小","d1",{"$f":"IFERROR(VLOOKUP(__レジメンマスタ[[#This Row],[YJコード①]],[1]!__前投薬リスト[#Data],4,FALSE)&\"\",\"\")","v":""},"∞",null,null,null,null,null,null,null,null,null,null,{"$f":"IFERROR(VLOOKUP(__レジメンマスタ[[#This Row],[YJコード②]],[1]!__前投薬リスト[#Data],4,FALSE)&\"\",\"\")","v":""},null,null,null,null,null,null,null,null,null,null,null,{"$f":"IFERROR(VLOOKUP(__レジメンマスタ[[#This Row],[YJコード③]],[1]!__前投薬リスト[#Data],4,FALSE)&\"\",\"\")","v":""},null,null,null,null,null,null,null,null,null,null,null,{"$f":"IFERROR(VLOOKUP(__レジメンマスタ[[#This Row],[YJコード④]],[1]!__前投薬リスト[#Data],4,FALSE)&\"\",\"\")","v":""},null,null,null,null,null,null,null,null,null,null,null,{"$f":"IFERROR(VLOOKUP(__レジメンマスタ[[#This Row],[YJコード⑤]],[1]!__前投薬リスト[#Data],4,FALSE)&\"\",\"\")","v":""},null,null,null,null,null,null,null,null,null,null,null,{"$f":"IFERROR(VLOOKUP(__レジメンマスタ[[#This Row],[YJコード⑥]],[1]!__前投薬リスト[#Data],4,FALSE)&\"\",\"\")","v":""},null,null,null,null,null,null,null,null,null,null,null,{"$f":"IFERROR(VLOOKUP(__レジメンマスタ[[#This Row],[YJコード⑦]],[1]!__前投薬リスト[#Data],4,FALSE)&\"\",\"\")","v":""}]
["A100005","CDDP＋CPT-11"," 　　　　　Ｗ1  　　　　　　Ｗ2   　　　　Ｗ3  　　　　 Ｗ4  \nCDDP   ↓××××××　××××××× ××××××× ×××××××  \nCTP-11 ↓×××××× ↓×××××× ↓×××××× ×××××××  \n","28日","∞","神経内分泌腫瘍","外科","シスプラチン","危〈毒〉50mg/100mL ｼｽﾌﾟﾗﾁﾝ点滴静注「ﾏﾙｺ」（先:ﾗﾝﾀﾞ）","4291401A3111","注射",null,60,"㎡","mg","高","d1",{"$f":"IFERROR(VLOOKUP(__レジメンマスタ[[#This Row],[YJコード①]],[1]!__前投薬リスト[#Data],4,FALSE)&\"\",\"\")","v":""},null,"イリノテカン","危 100mg/5mL ｲﾘﾉﾃｶﾝ塩酸塩点滴静注液「NK」（先:ﾄﾎﾟﾃｼﾝ）","4240404A2055","注射",null,60,"㎡","mg","中","d1,8,15",{"$f":"IFERROR(VLOOKUP(__レジメンマスタ[[#This Row],[YJコード②]],[1]!__前投薬リスト[#Data],4,FALSE)&\"\",\"\")","v":""},null,null,null,null,null,null,null,null,null,null,null,{"$f":"IFERROR(VLOOKUP(__レジメンマスタ[[#This Row],[YJコード③]],[1]!__前投薬リスト[#Data],4,FALSE)&\"\",\"\")","v":""},null,null,null,null,null,null,null,null,null,null,null,{"$f":"IFERROR(VLOOKUP(__レジメンマスタ[[#This Row],[YJコード④]],[1]!__前投薬リスト[#Data],4,FALSE)&\"\",\"\")","v":""},null,null,null,null,null,null,null,null,null,null,null,{"$f":"IFERROR(VLOOKUP(__レジメンマスタ[[#This Row],[YJコード⑤]],[1]!__前投薬リスト[#Data],4,FALSE)&\"\",\"\")","v":""},null,null,null,null,null,null,null,null,null,null,null,{"$f":"IFERROR(VLOOKUP(__レジメンマスタ[[#This Row],[YJコード⑥]],[1]!__前投薬リスト[#Data],4,FALSE)&\"\",\"\")","v":""},null,null,null,null,null,null,null,null,null,null,null,{"$f":"IFERROR(VLOOKUP(__レジメンマスタ[[#This Row],[YJコード⑦]],[1]!__前投薬リスト[#Data],4,FALSE)&\"\",\"\")","v":""}]
["A100006-2","ニボルマブ（４週間毎）","1stLine適応なし。化学療法歴確認\n　　　　　　　　　W1　　　    W2～W4\nオプジーボ ↓××××××  ×××××××","28日","∞","原発不明癌","外科","オプジーボ","危 240mg/24mL ｵﾌﾟｼﾞｰﾎﾞ点滴静注（希釈液:生食orTZ）","4291427A3027","注射","３０ 分で",480,"BODY","mg","最小","d1",{"$f":"IFERROR(VLOOKUP(__レジメンマスタ[[#This Row],[YJコード①]],[1]!__前投薬リスト[#Data],4,FALSE)&\"\",\"\")","v":""},null,null,null,null,null,null,null,null,null,null,null,{"$f":"IFERROR(VLOOKUP(__レジメンマスタ[[#This Row],[YJコード②]],[1]!__前投薬リスト[#Data],4,FALSE)&\"\",\"\")","v":""},null,null,null,null,null,null,null,null,null,null,null,{"$f":"IFERROR(VLOOKUP(__レジメンマスタ[[#This Row],[YJコード③]],[1]!__前投薬リスト[#Data],4,FALSE)&\"\",\"\")","v":""},null,null,null,null,null,null,null,null,null,null,null,{"$f":"IFERROR(VLOOKUP(__レジメンマスタ[[#This Row],[YJコード④]],[1]!__前投薬リスト[#Data],4,FALSE)&\"\",\"\")","v":""},null,null,null,null,null,null,null,null,null,null,null,{"$f":"IFERROR(VLOOKUP(__レジメンマスタ[[#This Row],[YJコード⑤]],[1]!__前投薬リスト[#Data],4,FALSE)&\"\",\"\")","v":""},null,null,null,null,null,null,null,null,null,null,null,{"$f":"IFERROR(VLOOKUP(__レジメンマスタ[[#This Row],[YJコード⑥]],[1]!__前投薬リスト[#Data],4,FALSE)&\"\",\"\")","v":""},null,null,null,null,null,null,null,null,null,null,null,{"$f":"IFERROR(VLOOKUP(__レジメンマスタ[[#This Row],[YJコード⑦]],[1]!__前投薬リスト[#Data],4,FALSE)&\"\",\"\")","v":""}]
["A100007","CBDCA+ETP","CDDPが使用困難な症例のみに適応\n                     W1            W2           W3～W4  \nカルボプラチン ↓×××××× ××××××× ×××××××  \nエトポシド     ↓↓↓×××× ××××××× ×××××××  \n","21-28日",null,"神経内分泌腫瘍","外科","カルボプラチン","危〈毒〉ｶﾙﾎﾞﾌﾟﾗﾁﾝ点滴静注液「NK」150mg/15mL（先:ﾊﾟﾗﾌﾟﾗﾁﾝ）","4291403A2092","注射",null,5,"AUC","mg","高","d1",{"$f":"IFERROR(VLOOKUP(__レジメンマスタ[[#This Row],[YJコード①]],[1]!__前投薬リスト[#Data],4,FALSE)&\"\",\"\")","v":""},null,"エトポシド","危 ｴﾄﾎﾟｼﾄﾞ点滴静注液「ｻﾝﾄﾞ」100mg/5mL（先:ﾗｽﾃｯﾄ）","4240403A2069",null,null,80,"㎡","mg",null,"d1-3",{"$f":"IFERROR(VLOOKUP(__レジメンマスタ[[#This Row],[YJコード②]],[1]!__前投薬リスト[#Data],4,FALSE)&\"\",\"\")","v":""},null,null,null,null,null,null,null,null,null,null,null,{"$f":"IFERROR(VLOOKUP(__レジメンマスタ[[#This Row],[YJコード③]],[1]!__前投薬リスト[#Data],4,FALSE)&\"\",\"\")","v":""},null,null,null,null,null,null,null,null,null,null,null,{"$f":"IFERROR(VLOOKUP(__レジメンマスタ[[#This Row],[YJコード④]],[1]!__前投薬リスト[#Data],4,FALSE)&\"\",\"\")","v":""},null,null,null,null,null,null,null,null,null,null,null,{"$f":"IFERROR(VLOOKUP(__レジメンマスタ[[#This Row],[YJコード⑤]],[1]!__前投薬リスト[#Data],4,FALSE)&\"\",\"\")","v":""},null,null,null,null,null,null,null,null,null,null,null,{"$f":"IFERROR(VLOOKUP(__レジメンマスタ[[#This Row],[YJコード⑥]],[1]!__前投薬リスト[#Data],4,FALSE)&\"\",\"\")","v":""},null,null,null,null,null,null,null,null,null,null,null,{"$f":"IFERROR(VLOOKUP(__レジメンマスタ[[#This Row],[YJコード⑦]],[1]!__前投薬リスト[#Data],4,FALSE)&\"\",\"\")","v":""}]
["A100008","PTX（血管肉腫）","         W1            W2             W3～6         W7  \nPTX ↓×××××× ↓×××××× ↓×××××× ×××××××  \n週1回を6回連続、1回休み　　※輸液量注意：至適濃度30mg～120mg/100ml","49日","∞","血管肉腫","血液内科","パクリタキセル","危〈毒〉100mg/16.7mL ﾊﾟｸﾘﾀｷｾﾙ注「NK」（希釈液:生食orTZ）（先:ﾀｷｿｰﾙ）","4240406A2046","注射",null,100,"㎡","mg",null,"d1,8,15,22,29,36",{"$f":"IFERROR(VLOOKUP(__レジメンマスタ[[#This Row],[YJコード①]],[1]!__前投薬リスト[#Data],4,FALSE)&\"\",\"\")","v":"抗ヒス,H2B,ステ"},null,null,null,null,null,null,null,null,null,null,null,{"$f":"IFERROR(VLOOKUP(__レジメンマスタ[[#This Row],[YJコード②]],[1]!__前投薬リスト[#Data],4,FALSE)&\"\",\"\")","v":""},null,null,null,null,null,null,null,null,null,null,null,{"$f":"IFERROR(VLOOKUP(__レジメンマスタ[[#This Row],[YJコード③]],[1]!__前投薬リスト[#Data],4,FALSE)&\"\",\"\")","v":""},null,null,null,null,null,null,null,null,null,null,null,{"$f":"IFERROR(VLOOKUP(__レジメンマスタ[[#This Row],[YJコード④]],[1]!__前投薬リスト[#Data],4,FALSE)&\"\",\"\")","v":""},null,null,null,null,null,null,null,null,null,null,null,{"$f":"IFERROR(VLOOKUP(__レジメンマスタ[[#This Row],[YJコード⑤]],[1]!__前投薬リスト[#Data],4,FALSE)&\"\",\"\")","v":""},null,null,null,null,null,null,null,null,null,null,null,{"$f":"IFERROR(VLOOKUP(__レジメンマスタ[[#This Row],[YJコード⑥]],[1]!__前投薬リスト[#Data],4,FALSE)&\"\",\"\")","v":""},null,null,null,null,null,null,null,null,null,null,null,{"$f":"IFERROR(VLOOKUP(__レジメンマスタ[[#This Row],[YJコード⑦]],[1]!__前投薬リスト[#Data],4,FALSE)&\"\",\"\")","v":""}]
["A100009","ペムブロリズマブ(3週間毎）","化学療法後に増悪した、標準的治療が困難な場合\n 3週間ごとに投与 \n             W1　　　　   W2～3   \nPmbro  ↓××××××  ××××××× ","21日","∞","TMB-high固形癌","外科","ペムブロリズマブ","危 ｷｲﾄﾙｰﾀﾞ点滴静注 100mg/4mL（希釈液:生食orTZ）","4291435A2025","注射","３０ 分で",200,"BODY","mg","最小","d1",{"$f":"IFERROR(VLOOKUP(__レジメンマスタ[[#This Row],[YJコード①]],[1]!__前投薬リスト[#Data],4,FALSE)&\"\",\"\")","v":""},null,null,null,null,null,null,null,null,null,null,null,{"$f":"IFERROR(VLOOKUP(__レジメンマスタ[[#This Row],[YJコード②]],[1]!__前投薬リスト[#Data],4,FALSE)&\"\",\"\")","v":""},null,null,null,null,null,null,null,null,null,null,null,{"$f":"IFERROR(VLOOKUP(__レジメンマスタ[[#This Row],[YJコード③]],[1]!__前投薬リスト[#Data],4,FALSE)&\"\",\"\")","v":""},null,null,null,null,null,null,null,null,null,null,null,{"$f":"IFERROR(VLOOKUP(__レジメンマスタ[[#This Row],[YJコード④]],[1]!__前投薬リスト[#Data],4,FALSE)&\"\",\"\")","v":""},null,null,null,null,null,null,null,null,null,null,null,{"$f":"IFERROR(VLOOKUP(__レジメンマスタ[[#This Row],[YJコード⑤]],[1]!__前投薬リスト[#Data],4,FALSE)&\"\",\"\")","v":""},null,null,null,null,null,null,null,null,null,null,null,{"$f":"IFERROR(VLOOKUP(__レジメンマスタ[[#This Row],[YJコード⑥]],[1]!__前投薬リスト[#Data],4,FALSE)&\"\",\"\")","v":""},null,null,null,null,null,null,null,null,null,null,null,{"$f":"IFERROR(VLOOKUP(__レジメンマスタ[[#This Row],[YJコード⑦]],[1]!__前投薬リスト[#Data],4,FALSE)&\"\",\"\")","v":""}]
["A100009-2","ペムブロリズマブ(6週間毎）","化学療法後に増悪した、標準的治療が困難な場合\n 6週間ごとに投与 \n             W1　　　　   W2～6   \nPmbro  ↓××××××  ××××××× ","42日","∞","TMB-high固形癌","血液内科","ペムブロリズマブ","危 ｷｲﾄﾙｰﾀﾞ点滴静注 100mg/4mL（希釈液:生食orTZ）","4291435A2025","注射","３０ 分で",400,"BODY","mg","最小","d1",{"$f":"IFERROR(VLOOKUP(__レジメンマスタ[[#This Row],[YJコード①]],[1]!__前投薬リスト[#Data],4,FALSE)&\"\",\"\")","v":""},null,null,null,null,null,null,null,null,null,null,null,{"$f":"IFERROR(VLOOKUP(__レジメンマスタ[[#This Row],[YJコード②]],[1]!__前投薬リスト[#Data],4,FALSE)&\"\",\"\")","v":""},null,null,null,null,null,null,null,null,null,null,null,{"$f":"IFERROR(VLOOKUP(__レジメンマスタ[[#This Row],[YJコード③]],[1]!__前投薬リスト[#Data],4,FALSE)&\"\",\"\")","v":""},null,null,null,null,null,null,null,null,null,null,null,{"$f":"IFERROR(VLOOKUP(__レジメンマスタ[[#This Row],[YJコード④]],[1]!__前投薬リスト[#Data],4,FALSE)&\"\",\"\")","v":""},null,null,null,null,null,null,null,null,null,null,null,{"$f":"IFERROR(VLOOKUP(__レジメンマスタ[[#This Row],[YJコード⑤]],[1]!__前投薬リスト[#Data],4,FALSE)&\"\",\"\")","v":""},null,null,null,null,null,null,null,null,null,null,null,{"$f":"IFERROR(VLOOKUP(__レジメンマスタ[[#This Row],[YJコード⑥]],[1]!__前投薬リスト[#Data],4,FALSE)&\"\",\"\")","v":""},null,null,null,null,null,null,null,null,null,null,null,{"$f":"IFERROR(VLOOKUP(__レジメンマスタ[[#This Row],[YJコード⑦]],[1]!__前投薬リスト[#Data],4,FALSE)&\"\",\"\")","v":""}]
["A100010","ドキシル（カポジ肉腫）","   　　　　　　　W1   　　　　W2～3 　　　  W1  \nドキシル ↓×××××× ××××××× ↓××××××  \n2～3週間に1回","14-21日","∞","その他（非がん）","感染症内科","ドキシル","ドキシル注２０ｍｇ","4235402A1025","注射",null,20,"㎡","mg",null,"d1",{"$f":"IFERROR(VLOOKUP(__レジメンマスタ[[#This Row],[YJコード①]],[1]!__前投薬リスト[#Data],4,FALSE)&\"\",\"\")","v":""},null,null,null,null,null,null,null,null,null,null,null,{"$f":"IFERROR(VLOOKUP(__レジメンマスタ[[#This Row],[YJコード②]],[1]!__前投薬リスト[#Data],4,FALSE)&\"\",\"\")","v":""},null,null,null,null,null,null,null,null,null,null,null,{"$f":"IFERROR(VLOOKUP(__レジメンマスタ[[#This Row],[YJコード③]],[1]!__前投薬リスト[#Data],4,FALSE)&\"\",\"\")","v":""},null,null,null,null,null,null,null,null,null,null,null,{"$f":"IFERROR(VLOOKUP(__レジメンマスタ[[#This Row],[YJコード④]],[1]!__前投薬リスト[#Data],4,FALSE)&\"\",\"\")","v":""},null,null,null,null,null,null,null,null,null,null,null,{"$f":"IFERROR(VLOOKUP(__レジメンマスタ[[#This Row],[YJコード⑤]],[1]!__前投薬リスト[#Data],4,FALSE)&\"\",\"\")","v":""},null,null,null,null,null,null,null,null,null,null,null,{"$f":"IFERROR(VLOOKUP(__レジメンマスタ[[#This Row],[YJコード⑥]],[1]!__前投薬リスト[#Data],4,FALSE)&\"\",\"\")","v":""},null,null,null,null,null,null,null,null,null,null,null,{"$f":"IFERROR(VLOOKUP(__レジメンマスタ[[#This Row],[YJコード⑦]],[1]!__前投薬リスト[#Data],4,FALSE)&\"\",\"\")","v":""}]
["A100011","ニボルマブ（４週間毎）","悪性胸膜中皮腫を除く悪性中皮腫\n　　　　　　　　　W1　　　    W2～W4\nオプジーボ ↓××××××  ×××××××","28日","∞","悪性中皮腫","呼吸器内科","オプジーボ","危 240mg/24mL ｵﾌﾟｼﾞｰﾎﾞ点滴静注（希釈液:生食orTZ）","4291427A3027","注射","３０ 分で",480,"BODY","mg","最小","d1",{"$f":"IFERROR(VLOOKUP(__レジメンマスタ[[#This Row],[YJコード①]],[1]!__前投薬リスト[#Data],4,FALSE)&\"\",\"\")","v":""},null,null,null,null,null,null,null,null,null,null,null,{"$f":"IFERROR(VLOOKUP(__レジメンマスタ[[#This Row],[YJコード②]],[1]!__前投薬リスト[#Data],4,FALSE)&\"\",\"\")","v":""},null,null,null,null,null,null,null,null,null,null,null,{"$f":"IFERROR(VLOOKUP(__レジメンマスタ[[#This Row],[YJコード③]],[1]!__前投薬リスト[#Data],4,FALSE)&\"\",\"\")","v":""},null,null,null,null,null,null,null,null,null,null,null,{"$f":"IFERROR(VLOOKUP(__レジメンマスタ[[#This Row],[YJコード④]],[1]!__前投薬リスト[#Data],4,FALSE)&\"\",\"\")","v":""},null,null,null,null,null,null,null,null,null,null,null,{"$f":"IFERROR(VLOOKUP(__レジメンマスタ[[#This Row],[YJコード⑤]],[1]!__前投薬リスト[#Data],4,FALSE)&\"\",\"\")","v":""},null,null,null,null,null,null,null,null,null,null,null,{"$f":"IFERROR(VLOOKUP(__レジメンマスタ[[#This Row],[YJコード⑥]],[1]!__前投薬リスト[#Data],4,FALSE)&\"\",\"\")","v":""},null,null,null,null,null,null,null,null,null,null,null,{"$f":"IFERROR(VLOOKUP(__レジメンマスタ[[#This Row],[YJコード⑦]],[1]!__前投薬リスト[#Data],4,FALSE)&\"\",\"\")","v":""}]
["BRA0003","TMZ(注射）（維持・再発）","  　　　 W1   　　　　　　W2   　　　　　W3 　　　　  W4  \nTMZ ↓↓↓↓↓×× ××××××× ××××××× ×××××××  \n5日間投与し、23日間休薬する\n2クール目以降は、200mg/㎡へ増量可能","28日","∞","脳腫瘍（TMZ注射）","脳神経外科","テモダール",null,"4219404D1027","注射",null,150,"㎡","mg",null,"d1-5",{"$f":"IFERROR(VLOOKUP(__レジメンマスタ[[#This Row],[YJコード①]],[1]!__前投薬リスト[#Data],4,FALSE)&\"\",\"\")","v":""},null,"テモダール(2回目～:増量時)",null,"4219404D1027","注射",null,200,"㎡","mg",null,"d1-5",{"$f":"IFERROR(VLOOKUP(__レジメンマスタ[[#This Row],[YJコード②]],[1]!__前投薬リスト[#Data],4,FALSE)&\"\",\"\")","v":""},null,null,null,null,null,null,null,null,null,null,null,{"$f":"IFERROR(VLOOKUP(__レジメンマスタ[[#This Row],[YJコード③]],[1]!__前投薬リスト[#Data],4,FALSE)&\"\",\"\")","v":""},null,null,null,null,null,null,null,null,null,null,null,{"$f":"IFERROR(VLOOKUP(__レジメンマスタ[[#This Row],[YJコード④]],[1]!__前投薬リスト[#Data],4,FALSE)&\"\",\"\")","v":""},null,null,null,null,null,null,null,null,null,null,null,{"$f":"IFERROR(VLOOKUP(__レジメンマスタ[[#This Row],[YJコード⑤]],[1]!__前投薬リスト[#Data],4,FALSE)&\"\",\"\")","v":""},null,null,null,null,null,null,null,null,null,null,null,{"$f":"IFERROR(VLOOKUP(__レジメンマスタ[[#This Row],[YJコード⑥]],[1]!__前投薬リスト[#Data],4,FALSE)&\"\",\"\")","v":""},null,null,null,null,null,null,null,null,null,null,null,{"$f":"IFERROR(VLOOKUP(__レジメンマスタ[[#This Row],[YJコード⑦]],[1]!__前投薬リスト[#Data],4,FALSE)&\"\",\"\")","v":""}]
["BRA0004","TMZ(注射）＋RT","           W1             W2             W3～6      　  W7～10  \nTMZ  ↓↓↓↓↓↓↓ ↓↓↓↓↓↓↓  ↓↓↓↓↓↓↓  ×××××××   \n42日間投与し、4週間休薬→その後はTMZ（再発・維持）へ","70日",null,"脳腫瘍（TMZ注射・RT)","脳神経外科","テモダール",null,"4219404D1027","注射",null,75,"㎡","mg",null,"d1-42",{"$f":"IFERROR(VLOOKUP(__レジメンマスタ[[#This Row],[YJコード①]],[1]!__前投薬リスト[#Data],4,FALSE)&\"\",\"\")","v":""},null,null,null,null,null,null,null,null,null,null,null,{"$f":"IFERROR(VLOOKUP(__レジメンマスタ[[#This Row],[YJコード②]],[1]!__前投薬リスト[#Data],4,FALSE)&\"\",\"\")","v":""},null,null,null,null,null,null,null,null,null,null,null,{"$f":"IFERROR(VLOOKUP(__レジメンマスタ[[#This Row],[YJコード③]],[1]!__前投薬リスト[#Data],4,FALSE)&\"\",\"\")","v":""},null,null,null,null,null,null,null,null,null,null,null,{"$f":"IFERROR(VLOOKUP(__レジメンマスタ[[#This Row],[YJコード④]],[1]!__前投薬リスト[#Data],4,FALSE)&\"\",\"\")","v":""},null,null,null,null,null,null,null,null,null,null,null,{"$f":"IFERROR(VLOOKUP(__レジメンマスタ[[#This Row],[YJコード⑤]],[1]!__前投薬リスト[#Data],4,FALSE)&\"\",\"\")","v":""},null,null,null,null,null,null,null,null,null,null,null,{"$f":"IFERROR(VLOOKUP(__レジメンマスタ[[#This Row],[YJコード⑥]],[1]!__前投薬リスト[#Data],4,FALSE)&\"\",\"\")","v":""},null,null,null,null,null,null,null,null,null,null,null,{"$f":"IFERROR(VLOOKUP(__レジメンマスタ[[#This Row],[YJコード⑦]],[1]!__前投薬リスト[#Data],4,FALSE)&\"\",\"\")","v":""}]
["BRA0005-11","TMZ(注射）+Bev＋RT","           W1             W2            W3～6      　  W7～10  \nTMZ  ↓↓↓↓↓↓↓ ↓↓↓↓↓↓↓  ↓↓↓↓↓↓↓  ×××××××  \nBEV　↓×××××× ×××××××   2週ごと4回投与\nTMZ:42日間投与し、4週間休薬 BEV:2週ごと4回","70日",null,"脳腫瘍（TMZ注射・RT)","脳神経外科","ベバシズマブ","危 400mg/16mL ﾍﾞﾊﾞｼｽﾞﾏﾌﾞBS点滴静注「CTNK」（希釈液:生食）（先:ｱﾊﾞｽﾁﾝ）","4291463A2027","注射","初回９０分、２回目６０分、３回目～３０分",10,"kg","mg",null,"d1,15,29,43",{"$f":"IFERROR(VLOOKUP(__レジメンマスタ[[#This Row],[YJコード①]],[1]!__前投薬リスト[#Data],4,FALSE)&\"\",\"\")","v":""},"4回","テモダール",null,"4219004F2021","注射",null,75,"㎡","mg",null,"d1-42",{"$f":"IFERROR(VLOOKUP(__レジメンマスタ[[#This Row],[YJコード②]],[1]!__前投薬リスト[#Data],4,FALSE)&\"\",\"\")","v":""},null,null,null,null,null,null,null,null,null,null,null,{"$f":"IFERROR(VLOOKUP(__レジメンマスタ[[#This Row],[YJコード③]],[1]!__前投薬リスト[#Data],4,FALSE)&\"\",\"\")","v":""},null,null,null,null,null,null,null,null,null,null,null,{"$f":"IFERROR(VLOOKUP(__レジメンマスタ[[#This Row],[YJコード④]],[1]!__前投薬リスト[#Data],4,FALSE)&\"\",\"\")","v":""},null,null,null,null,null,null,null,null,null,null,null,{"$f":"IFERROR(VLOOKUP(__レジメンマスタ[[#This Row],[YJコード⑤]],[1]!__前投薬リスト[#Data],4,FALSE)&\"\",\"\")","v":""},null,null,null,null,null,null,null,null,null,null,null,{"$f":"IFERROR(VLOOKUP(__レジメンマスタ[[#This Row],[YJコード⑥]],[1]!__前投薬リスト[#Data],4,FALSE)&\"\",\"\")","v":""},null,null,null,null,null,null,null,null,null,null,null,{"$f":"IFERROR(VLOOKUP(__レジメンマスタ[[#This Row],[YJコード⑦]],[1]!__前投薬リスト[#Data],4,FALSE)&\"\",\"\")","v":""}]
["BRA0005-02","TMZ（内服）＋Bev＋Rt","           W1             W2            W3～6      　  W7～10  \nTMZ  ↓↓↓↓↓↓↓ ↓↓↓↓↓↓↓  ↓↓↓↓↓↓↓  ×××××××  \nBEV　↓×××××× ×××××××   2週ごと4回投与\nTMZ:42日間投与し、4週間休薬 BEV:2週ごと4回","70日",null,"脳腫瘍（TMZ内服・RT)","脳神経外科","ベバシズマブ","危 400mg/16mL ﾍﾞﾊﾞｼｽﾞﾏﾌﾞBS点滴静注「CTNK」（希釈液:生食）（先:ｱﾊﾞｽﾁﾝ）","4291463A2027","注射","初回９０分、２回目６０分、３回目～３０分",10,"kg","mg",null,"d1,15,29,43",{"$f":"IFERROR(VLOOKUP(__レジメンマスタ[[#This Row],[YJコード①]],[1]!__前投薬リスト[#Data],4,FALSE)&\"\",\"\")","v":""},"4回","テモゾロミド",null,"4219404D1027","経口",null,75,"㎡","mg",null,"d1-42",{"$f":"IFERROR(VLOOKUP(__レジメンマスタ[[#This Row],[YJコード②]],[1]!__前投薬リスト[#Data],4,FALSE)&\"\",\"\")","v":""},null,null,null,null,null,null,null,null,null,null,null,{"$f":"IFERROR(VLOOKUP(__レジメンマスタ[[#This Row],[YJコード③]],[1]!__前投薬リスト[#Data],4,FALSE)&\"\",\"\")","v":""},null,null,null,null,null,null,null,null,null,null,null,{"$f":"IFERROR(VLOOKUP(__レジメンマスタ[[#This Row],[YJコード④]],[1]!__前投薬リスト[#Data],4,FALSE)&\"\",\"\")","v":""},null,null,null,null,null,null,null,null,null,null,null,{"$f":"IFERROR(VLOOKUP(__レジメンマスタ[[#This Row],[YJコード⑤]],[1]!__前投薬リスト[#Data],4,FALSE)&\"\",\"\")","v":""},null,null,null,null,null,null,null,null,null,null,null,{"$f":"IFERROR(VLOOKUP(__レジメンマスタ[[#This Row],[YJコード⑥]],[1]!__前投薬リスト[#Data],4,FALSE)&\"\",\"\")","v":""},null,null,null,null,null,null,null,null,null,null,null,{"$f":"IFERROR(VLOOKUP(__レジメンマスタ[[#This Row],[YJコード⑦]],[1]!__前投薬リスト[#Data],4,FALSE)&\"\",\"\")","v":""}]
["BRA0005-03","TMZ（内服）＋Bev（維持）","  　　　　 W1  　　　　 W2  　　　　　　 W3 　　　　  W4  \nBEV ↓×××××× ××××××× ↓×××××× ×××××××  \nTMZ ↓↓↓↓↓×× ××××××× ××××××× ×××××××  \nBEV:2週間毎\nTMZ:d1-5内服、2クール目以降は、200mg/㎡へ増量可能","28日","∞","脳腫瘍(TMZ内服)","脳神経外科","ベバシズマブ","危 400mg/16mL ﾍﾞﾊﾞｼｽﾞﾏﾌﾞBS点滴静注「CTNK」（希釈液:生食）（先:ｱﾊﾞｽﾁﾝ）","4291463A2027","注射","初回９０分、２回目６０分、３回目～３０分",10,"kg","mg",null,"d1,15",{"$f":"IFERROR(VLOOKUP(__レジメンマスタ[[#This Row],[YJコード①]],[1]!__前投薬リスト[#Data],4,FALSE)&\"\",\"\")","v":""},null,"テモゾロミド",null,"4219004F2021","経口",null,150,"㎡","mg",null,"d1-5",{"$f":"IFERROR(VLOOKUP(__レジメンマスタ[[#This Row],[YJコード②]],[1]!__前投薬リスト[#Data],4,FALSE)&\"\",\"\")","v":""},null,null,null,null,null,null,null,null,null,null,null,{"$f":"IFERROR(VLOOKUP(__レジメンマスタ[[#This Row],[YJコード③]],[1]!__前投薬リスト[#Data],4,FALSE)&\"\",\"\")","v":""},null,null,null,null,null,null,null,null,null,null,null,{"$f":"IFERROR(VLOOKUP(__レジメンマスタ[[#This Row],[YJコード④]],[1]!__前投薬リスト[#Data],4,FALSE)&\"\",\"\")","v":""},null,null,null,null,null,null,null,null,null,null,null,{"$f":"IFERROR(VLOOKUP(__レジメンマスタ[[#This Row],[YJコード⑤]],[1]!__前投薬リスト[#Data],4,FALSE)&\"\",\"\")","v":""},null,null,null,null,null,null,null,null,null,null,null,{"$f":"IFERROR(VLOOKUP(__レジメンマスタ[[#This Row],[YJコード⑥]],[1]!__前投薬リスト[#Data],4,FALSE)&\"\",\"\")","v":""},null,null,null,null,null,null,null,null,null,null,null,{"$f":"IFERROR(VLOOKUP(__レジメンマスタ[[#This Row],[YJコード⑦]],[1]!__前投薬リスト[#Data],4,FALSE)&\"\",\"\")","v":""}]
["BRA0005-13","TMZ(注射）+Bev（維持）","  　　　　 W1  　　　　 W2  　　　　　　 W3 　　　　  W4  \nBEV ↓×××××× ××××××× ↓×××××× ×××××××  \nTMZ ↓↓↓↓↓×× ××××××× ××××××× ×××××××  \nBEV:2週間毎\nTMZ:d1-5注射　2クール目以降は、200mg/㎡へ増量可能","28日","∞","脳腫瘍（TMZ注射）","脳神経外科","ベバシズマブ","危 400mg/16mL ﾍﾞﾊﾞｼｽﾞﾏﾌﾞBS点滴静注「CTNK」（希釈液:生食）（先:ｱﾊﾞｽﾁﾝ）","4291463A2027","注射","初回９０分、２回目６０分、３回目～３０分",10,"kg","mg",null,"d1,15",{"$f":"IFERROR(VLOOKUP(__レジメンマスタ[[#This Row],[YJコード①]],[1]!__前投薬リスト[#Data],4,FALSE)&\"\",\"\")","v":""},null,"テモダール",null,"4219404D1027","注射",null,150,"㎡","mg",null,"d1-5",{"$f":"IFERROR(VLOOKUP(__レジメンマスタ[[#This Row],[YJコード②]],[1]!__前投薬リスト[#Data],4,FALSE)&\"\",\"\")","v":""},null,null,null,null,null,null,null,null,null,null,null,{"$f":"IFERROR(VLOOKUP(__レジメンマスタ[[#This Row],[YJコード③]],[1]!__前投薬リスト[#Data],4,FALSE)&\"\",\"\")","v":""},null,null,null,null,null,null,null,null,null,null,null,{"$f":"IFERROR(VLOOKUP(__レジメンマスタ[[#This Row],[YJコード④]],[1]!__前投薬リスト[#Data],4,FALSE)&\"\",\"\")","v":""},null,null,null,null,null,null,null,null,null,null,null,{"$f":"IFERROR(VLOOKUP(__レジメンマスタ[[#This Row],[YJコード⑤]],[1]!__前投薬リスト[#Data],4,FALSE)&\"\",\"\")","v":""},null,null,null,null,null,null,null,null,null,null,null,{"$f":"IFERROR(VLOOKUP(__レジメンマスタ[[#This Row],[YJコード⑥]],[1]!__前投薬リスト[#Data],4,FALSE)&\"\",\"\")","v":""},null,null,null,null,null,null,null,null,null,null,null,{"$f":"IFERROR(VLOOKUP(__レジメンマスタ[[#This Row],[YJコード⑦]],[1]!__前投薬リスト[#Data],4,FALSE)&\"\",\"\")","v":""}]
["BRA0005-07","Beva単剤","  　　　　　　 W1　　　　   W2  　　　　　　 W3  \nBEV  ↓××××××   ×××××××   ×××××××  \n","21日","∞","脳腫瘍（TMZ注射・RT)","脳神経外科","ベバシズマブ","危 400mg/16mL ﾍﾞﾊﾞｼｽﾞﾏﾌﾞBS点滴静注「CTNK」（希釈液:生食）（先:ｱﾊﾞｽﾁﾝ）","4291463A2027","注射","初回９０分、２回目６０分、３回目～３０分",15,"kg","mg",null,"d1",{"$f":"IFERROR(VLOOKUP(__レジメンマスタ[[#This Row],[YJコード①]],[1]!__前投薬リスト[#Data],4,FALSE)&\"\",\"\")","v":""},null,null,null,null,null,null,null,null,null,null,null,{"$f":"IFERROR(VLOOKUP(__レジメンマスタ[[#This Row],[YJコード②]],[1]!__前投薬リスト[#Data],4,FALSE)&\"\",\"\")","v":""},null,null,null,null,null,null,null,null,null,null,null,{"$f":"IFERROR(VLOOKUP(__レジメンマスタ[[#This Row],[YJコード③]],[1]!__前投薬リスト[#Data],4,FALSE)&\"\",\"\")","v":""},null,null,null,null,null,null,null,null,null,null,null,{"$f":"IFERROR(VLOOKUP(__レジメンマスタ[[#This Row],[YJコード④]],[1]!__前投薬リスト[#Data],4,FALSE)&\"\",\"\")","v":""},null,null,null,null,null,null,null,null,null,null,null,{"$f":"IFERROR(VLOOKUP(__レジメンマスタ[[#This Row],[YJコード⑤]],[1]!__前投薬リスト[#Data],4,FALSE)&\"\",\"\")","v":""},null,null,null,null,null,null,null,null,null,null,null,{"$f":"IFERROR(VLOOKUP(__レジメンマスタ[[#This Row],[YJコード⑥]],[1]!__前投薬リスト[#Data],4,FALSE)&\"\",\"\")","v":""},null,null,null,null,null,null,null,null,null,null,null,{"$f":"IFERROR(VLOOKUP(__レジメンマスタ[[#This Row],[YJコード⑦]],[1]!__前投薬リスト[#Data],4,FALSE)&\"\",\"\")","v":""}]
["BRA0006","Bev単剤（再発）2wk毎","   　　　　W1    　　　　W2  \nBEV ↓××××××  ×××××××  \n","14日","∞","脳腫瘍","脳神経外科","ベバシズマブ","危 400mg/16mL ﾍﾞﾊﾞｼｽﾞﾏﾌﾞBS点滴静注「CTNK」（希釈液:生食）（先:ｱﾊﾞｽﾁﾝ）","4291463A2027","注射","初回９０分、２回目６０分、３回目～３０分",10,"kg","mg",null,"d1",{"$f":"IFERROR(VLOOKUP(__レジメンマスタ[[#This Row],[YJコード①]],[1]!__前投薬リスト[#Data],4,FALSE)&\"\",\"\")","v":""},null,null,null,null,null,null,null,null,null,null,null,{"$f":"IFERROR(VLOOKUP(__レジメンマスタ[[#This Row],[YJコード②]],[1]!__前投薬リスト[#Data],4,FALSE)&\"\",\"\")","v":""},null,null,null,null,null,null,null,null,null,null,null,{"$f":"IFERROR(VLOOKUP(__レジメンマスタ[[#This Row],[YJコード③]],[1]!__前投薬リスト[#Data],4,FALSE)&\"\",\"\")","v":""},null,null,null,null,null,null,null,null,null,null,null,{"$f":"IFERROR(VLOOKUP(__レジメンマスタ[[#This Row],[YJコード④]],[1]!__前投薬リスト[#Data],4,FALSE)&\"\",\"\")","v":""},null,null,null,null,null,null,null,null,null,null,null,{"$f":"IFERROR(VLOOKUP(__レジメンマスタ[[#This Row],[YJコード⑤]],[1]!__前投薬リスト[#Data],4,FALSE)&\"\",\"\")","v":""},null,null,null,null,null,null,null,null,null,null,null,{"$f":"IFERROR(VLOOKUP(__レジメンマスタ[[#This Row],[YJコード⑥]],[1]!__前投薬リスト[#Data],4,FALSE)&\"\",\"\")","v":""},null,null,null,null,null,null,null,null,null,null,null,{"$f":"IFERROR(VLOOKUP(__レジメンマスタ[[#This Row],[YJコード⑦]],[1]!__前投薬リスト[#Data],4,FALSE)&\"\",\"\")","v":""}]
["BRA0007","CARB-VP","　　　　　　 W1 　　　　　　 W2  　　　　 W3～W4  \nCBDCA ↓××××××  ×××××××   ×××××××  \nETP　 ↓↓↓××××  ×××××××   ×××××××  \n★通常カルボプラチンは目標AUCを設定してCalvert式により求める★","28日","6コース","脳腫瘍","脳神経外科","カルボプラチン","危〈毒〉ｶﾙﾎﾞﾌﾟﾗﾁﾝ点滴静注液「NK」150mg/15mL（先:ﾊﾟﾗﾌﾟﾗﾁﾝ）","4291403A2092","注射","250ml/hr",450,"㎡","mg",null,"d1",{"$f":"IFERROR(VLOOKUP(__レジメンマスタ[[#This Row],[YJコード①]],[1]!__前投薬リスト[#Data],4,FALSE)&\"\",\"\")","v":""},null,"エトポシド","危 ｴﾄﾎﾟｼﾄﾞ点滴静注液「ｻﾝﾄﾞ」100mg/5mL（先:ﾗｽﾃｯﾄ）","4240403A2069","注射","250ml/hr",150,"㎡","mg",null,"d1-3",{"$f":"IFERROR(VLOOKUP(__レジメンマスタ[[#This Row],[YJコード②]],[1]!__前投薬リスト[#Data],4,FALSE)&\"\",\"\")","v":""},null,null,null,null,null,null,null,null,null,null,null,{"$f":"IFERROR(VLOOKUP(__レジメンマスタ[[#This Row],[YJコード③]],[1]!__前投薬リスト[#Data],4,FALSE)&\"\",\"\")","v":""},null,null,null,null,null,null,null,null,null,null,null,{"$f":"IFERROR(VLOOKUP(__レジメンマスタ[[#This Row],[YJコード④]],[1]!__前投薬リスト[#Data],4,FALSE)&\"\",\"\")","v":""},null,null,null,null,null,null,null,null,null,null,null,{"$f":"IFERROR(VLOOKUP(__レジメンマスタ[[#This Row],[YJコード⑤]],[1]!__前投薬リスト[#Data],4,FALSE)&\"\",\"\")","v":""},null,null,null,null,null,null,null,null,null,null,null,{"$f":"IFERROR(VLOOKUP(__レジメンマスタ[[#This Row],[YJコード⑥]],[1]!__前投薬リスト[#Data],4,FALSE)&\"\",\"\")","v":""},null,null,null,null,null,null,null,null,null,null,null,{"$f":"IFERROR(VLOOKUP(__レジメンマスタ[[#This Row],[YJコード⑦]],[1]!__前投薬リスト[#Data],4,FALSE)&\"\",\"\")","v":""}]
["BRA0008","ICE","           W1             W2            　W3～6 \nIFM   ↓↓↓↓↓×× ×××××××  ×××××××  \nCDDP  ↓↓↓↓↓×× ×××××××  ×××××××    \nETP　 ↓↓↓↓↓×× ×××××××  ×××××××   \nMesna ↓↓↓↓↓×× ×××××××  ×××××××     \nウロミテキサンはイホマイド投与直後、4時間後、8時間後\nウロミテキサンの投与量の欄は（1回量）を記入\n4～6週ごとに繰り返す★8回まで★","28-42日","8回","脳腫瘍","脳神経外科","イホマイド","危 注射用ｲﾎﾏｲﾄﾞ 1g（溶解液:生食orAq）","4211402D1020","注射",null,900,"㎡","mg",null,"d1-5",{"$f":"IFERROR(VLOOKUP(__レジメンマスタ[[#This Row],[YJコード①]],[1]!__前投薬リスト[#Data],4,FALSE)&\"\",\"\")","v":""},null,"シスプラチン","危〈毒〉10mg/20mL ｼｽﾌﾟﾗﾁﾝ点滴静注「ﾏﾙｺ」（先:ﾗﾝﾀﾞ）","4291401A1119","注射",null,20,"㎡","mg",null,"d1-5",{"$f":"IFERROR(VLOOKUP(__レジメンマスタ[[#This Row],[YJコード②]],[1]!__前投薬リスト[#Data],4,FALSE)&\"\",\"\")","v":""},null,"エトポシド","危 ｴﾄﾎﾟｼﾄﾞ点滴静注液「ｻﾝﾄﾞ」100mg/5mL（先:ﾗｽﾃｯﾄ）","4240403A2069","注射",null,60,"㎡","mg",null,"d1-5",{"$f":"IFERROR(VLOOKUP(__レジメンマスタ[[#This Row],[YJコード③]],[1]!__前投薬リスト[#Data],4,FALSE)&\"\",\"\")","v":""},null,"ウロミテキサン×３",null,"3929406A2026","注射",null,180,"㎡","mg",null,"×３\nd1-5",{"$f":"IFERROR(VLOOKUP(__レジメンマスタ[[#This Row],[YJコード④]],[1]!__前投薬リスト[#Data],4,FALSE)&\"\",\"\")","v":""},null,null,null,null,null,null,null,null,null,null,null,{"$f":"IFERROR(VLOOKUP(__レジメンマスタ[[#This Row],[YJコード⑤]],[1]!__前投薬リスト[#Data],4,FALSE)&\"\",\"\")","v":""},null,null,null,null,null,null,null,null,null,null,null,{"$f":"IFERROR(VLOOKUP(__レジメンマスタ[[#This Row],[YJコード⑥]],[1]!__前投薬リスト[#Data],4,FALSE)&\"\",\"\")","v":""},null,null,null,null,null,null,null,null,null,null,null,{"$f":"IFERROR(VLOOKUP(__レジメンマスタ[[#This Row],[YJコード⑦]],[1]!__前投薬リスト[#Data],4,FALSE)&\"\",\"\")","v":""}]
["BRA0009","【適応外】リツキシマブ（375mg/㎡）","  　　　　  W1  　　\nRit   ↓××××××   \n1週間に1回、4回まで\n効果を確認して再投与の可能性あり\n\n※「抗MAG活性を有するIgM型パラプロテイン陽性ニューロパチー」には保険適応外なので安価なバイオシミラーを使用","７日","4回","抗MAG活性を有するIgM型パラプロテイン陽性ニューロパチー","脳神経内科","リツキシマブ","危 500㎎/50mL ﾘﾂｷｼﾏﾌﾞBS点滴静注「ﾌｧｲｻﾞｰ」（希釈液:生食orTZ）（先:ﾘﾂｷｻﾝ）","4291451A2024","注射","５０ｍＬ／ｈで開始、ｍａｘ２００ｍＬ／ｈ",375,"㎡","mg",null,"d1",{"$f":"IFERROR(VLOOKUP(__レジメンマスタ[[#This Row],[YJコード①]],[1]!__前投薬リスト[#Data],4,FALSE)&\"\",\"\")","v":"抗ヒス,解,(ステ)"},null,null,null,null,null,null,null,null,null,null,null,{"$f":"IFERROR(VLOOKUP(__レジメンマスタ[[#This Row],[YJコード②]],[1]!__前投薬リスト[#Data],4,FALSE)&\"\",\"\")","v":""},null,null,null,null,null,null,null,null,null,null,null,{"$f":"IFERROR(VLOOKUP(__レジメンマスタ[[#This Row],[YJコード③]],[1]!__前投薬リスト[#Data],4,FALSE)&\"\",\"\")","v":""},null,null,null,null,null,null,null,null,null,null,null,{"$f":"IFERROR(VLOOKUP(__レジメンマスタ[[#This Row],[YJコード④]],[1]!__前投薬リスト[#Data],4,FALSE)&\"\",\"\")","v":""},null,null,null,null,null,null,null,null,null,null,null,{"$f":"IFERROR(VLOOKUP(__レジメンマスタ[[#This Row],[YJコード⑤]],[1]!__前投薬リスト[#Data],4,FALSE)&\"\",\"\")","v":""},null,null,null,null,null,null,null,null,null,null,null,{"$f":"IFERROR(VLOOKUP(__レジメンマスタ[[#This Row],[YJコード⑥]],[1]!__前投薬リスト[#Data],4,FALSE)&\"\",\"\")","v":""},null,null,null,null,null,null,null,null,null,null,null,{"$f":"IFERROR(VLOOKUP(__レジメンマスタ[[#This Row],[YJコード⑦]],[1]!__前投薬リスト[#Data],4,FALSE)&\"\",\"\")","v":""}]
["BRA0010","PAV","　　　  W1        W2       W3        W4       W5       W6\nACNU ↓×××   ××××  ××××  ××××  ××××  ×××× \nVCR  ××××   ↓×××  ××××  ××××  ↓×××  ×××× \nPCZ  ××××   ↓↓…↓  ↓↓…↓  ××××  ××××  ×××× \n★オンコビン：MAX2mg★\n8週間毎に6サイクルまで","56日","6回","脳腫瘍","脳神経外科","ニドラン","ニドラン注射用５０ｍｇ","4219400D2025","注射",null,70,"㎡","mg",null,"d1",null,null,"オンコビン","危 ｵﾝｺﾋﾞﾝ注射用 1㎎","4240400D1030","注射","５～１０分かけて",1.4,"㎡","mg",null,"d8,29",{"$f":"IFERROR(VLOOKUP(__レジメンマスタ[[#This Row],[YJコード②]],[1]!__前投薬リスト[#Data],4,FALSE)&\"\",\"\")","v":""},null,"プロカルバジン",null,"4291002M1044","経口",null,60,"㎡","mg",null,"d8-21",{"$f":"IFERROR(VLOOKUP(__レジメンマスタ[[#This Row],[YJコード④]],[1]!__前投薬リスト[#Data],4,FALSE)&\"\",\"\")","v":""},null,null,null,null,null,null,null,null,null,null,null,null,null,null,null,null,null,null,null,null,null,null,null,null,null,null,null,null,null,null,null,null,null,null,null,null,null,null,null,null,null,null,null,null,null,null,null,{"$f":"IFERROR(VLOOKUP(__レジメンマスタ[[#This Row],[YJコード⑦]],[1]!__前投薬リスト[#Data],4,FALSE)&\"\",\"\")","v":""}]
["BRA0011","【適応外】CPA（てんかん重積状態）","　　　　 W1 　　　　　　 W2  　　　　　 W3～W4  \nCPA ↓××××××  ×××××××   ×××××××  \n\n★用量は1回500～750mg/㎡★\n原則として4週間毎              ","28日",null,"リウマチ性疾患","リウマチ・腎臓内科","エンドキサン","危 注射用ｴﾝﾄﾞｷｻﾝ 500㎎","4211401D2021","注射","２  時間で",750,"㎡","mg",null,"d1",{"$f":"IFERROR(VLOOKUP(__レジメンマスタ[[#This Row],[YJコード①]],[1]!__前投薬リスト[#Data],4,FALSE)&\"\",\"\")","v":""},null,null,null,null,null,null,null,null,null,null,null,null,null,null,null,null,null,null,null,null,null,null,null,null,null,null,null,null,null,null,null,null,null,null,null,null,null,null,null,null,null,null,null,null,null,null,null,null,null,null,null,null,null,null,null,null,null,null,null,null,null,null,null,null,null,null,null,null,null,null,null,{"$f":"IFERROR(VLOOKUP(__レジメンマスタ[[#This Row],[YJコード⑦]],[1]!__前投薬リスト[#Data],4,FALSE)&\"\",\"\")","v":""}]
["BRE0001","FEC","  　　　　 　Ｗ1 　　　　  Ｗ2   　　　　Ｗ3  \n5FU ↓×××××× ××××××× ×××××××  \nEPI ↓×××××× ××××××× ×××××××  \nCPA ↓×××××× ××××××× ×××××××  \n8回まで\n※骨髄抑制が懸念される場合はEPIのみ75%doseへ減量することが多い","21日","8回","乳癌","乳腺・内分泌外科","フルオロウラシル","危 1000mg/20mL ﾌﾙｵﾛｳﾗｼﾙ注「ﾄｰﾜ」（先:5-FU）","4223401A3030","注射","１　時間で",500,"㎡","mg",null,"d1",{"$f":"IFERROR(VLOOKUP(__レジメンマスタ[[#This Row],[YJコード①]],[1]!__前投薬リスト[#Data],4,FALSE)&\"\",\"\")","v":""},null,"エピルビシン","危 50mg ｴﾋﾟﾙﾋﾞｼﾝ塩酸塩注射用「NK」","4235404D2060","注射","１５ 分で",100,"㎡","mg",null,"d1",{"$f":"IFERROR(VLOOKUP(__レジメンマスタ[[#This Row],[YJコード②]],[1]!__前投薬リスト[#Data],4,FALSE)&\"\",\"\")","v":""},null,"エンドキサン","危 注射用ｴﾝﾄﾞｷｻﾝ 500㎎","4211401D2021","注射","３０ 分で",500,"㎡","mg","高","d1",{"$f":"IFERROR(VLOOKUP(__レジメンマスタ[[#This Row],[YJコード③]],[1]!__前投薬リスト[#Data],4,FALSE)&\"\",\"\")","v":""},null,null,null,null,null,null,null,null,null,null,null,{"$f":"IFERROR(VLOOKUP(__レジメンマスタ[[#This Row],[YJコード④]],[1]!__前投薬リスト[#Data],4,FALSE)&\"\",\"\")","v":""},null,null,null,null,null,null,null,null,null,null,null,{"$f":"IFERROR(VLOOKUP(__レジメンマスタ[[#This Row],[YJコード⑤]],[1]!__前投薬リスト[#Data],4,FALSE)&\"\",\"\")","v":""},null,null,null,null,null,null,null,null,null,null,null,{"$f":"IFERROR(VLOOKUP(__レジメンマスタ[[#This Row],[YJコード⑥]],[1]!__前投薬リスト[#Data],4,FALSE)&\"\",\"\")","v":""},null,null,null,null,null,null,null,null,null,null,null,{"$f":"IFERROR(VLOOKUP(__レジメンマスタ[[#This Row],[YJコード⑦]],[1]!__前投薬リスト[#Data],4,FALSE)&\"\",\"\")","v":""}]
["BRE0002","CMF","  　　　　 　Ｗ1 　　　　  Ｗ2   　\n5FU ↓×××××× ×××××××  \nCPA ↓×××××× ×××××××   \nMTX ↓×××××× ×××××××   ","14日","∞","乳癌","乳腺・内分泌外科","フルオロウラシル","危 1000mg/20mL ﾌﾙｵﾛｳﾗｼﾙ注「ﾄｰﾜ」（先:5-FU）","4223401A3030","注射",null,500,"㎡","mg",null,"d1",{"$f":"IFERROR(VLOOKUP(__レジメンマスタ[[#This Row],[YJコード①]],[1]!__前投薬リスト[#Data],4,FALSE)&\"\",\"\")","v":""},null,"エンドキサン","危 注射用ｴﾝﾄﾞｷｻﾝ 500㎎","4211401D2021","注射","３０ 分で",500,"㎡","mg","高","d1",{"$f":"IFERROR(VLOOKUP(__レジメンマスタ[[#This Row],[YJコード②]],[1]!__前投薬リスト[#Data],4,FALSE)&\"\",\"\")","v":""},null,"メソトレキセート","【持】メソトレキセート点滴静注液２００ｍｇ","4222400A1036","注射",null,40,"㎡","mg",null,"d1",{"$f":"IFERROR(VLOOKUP(__レジメンマスタ[[#This Row],[YJコード③]],[1]!__前投薬リスト[#Data],4,FALSE)&\"\",\"\")","v":""},null,null,null,null,null,null,null,null,null,null,null,{"$f":"IFERROR(VLOOKUP(__レジメンマスタ[[#This Row],[YJコード④]],[1]!__前投薬リスト[#Data],4,FALSE)&\"\",\"\")","v":""},null,null,null,null,null,null,null,null,null,null,null,{"$f":"IFERROR(VLOOKUP(__レジメンマスタ[[#This Row],[YJコード⑤]],[1]!__前投薬リスト[#Data],4,FALSE)&\"\",\"\")","v":""},null,null,null,null,null,null,null,null,null,null,null,{"$f":"IFERROR(VLOOKUP(__レジメンマスタ[[#This Row],[YJコード⑥]],[1]!__前投薬リスト[#Data],4,FALSE)&\"\",\"\")","v":""},null,null,null,null,null,null,null,null,null,null,null,{"$f":"IFERROR(VLOOKUP(__レジメンマスタ[[#This Row],[YJコード⑦]],[1]!__前投薬リスト[#Data],4,FALSE)&\"\",\"\")","v":""}]
["BRE0004","DOC","　　　　　　　　　  W1  　　　　 W2～W4  \nドセタキセル ↓××××××  ×××××××  \n3～4週間毎","21－28日","∞","乳癌","乳腺・内分泌外科","ドセタキセル","危〈毒〉80㎎/4mL ﾄﾞｾﾀｷｾﾙ点滴静注「ﾆﾌﾟﾛ」（先:ﾀｷｿﾃｰﾙ）","4240405A4109","注射","１ 時間で",75,"㎡","mg",null,"d1",{"$f":"IFERROR(VLOOKUP(__レジメンマスタ[[#This Row],[YJコード①]],[1]!__前投薬リスト[#Data],4,FALSE)&\"\",\"\")","v":""},null,null,null,null,null,null,null,null,null,null,null,{"$f":"IFERROR(VLOOKUP(__レジメンマスタ[[#This Row],[YJコード②]],[1]!__前投薬リスト[#Data],4,FALSE)&\"\",\"\")","v":""},null,null,null,null,null,null,null,null,null,null,null,{"$f":"IFERROR(VLOOKUP(__レジメンマスタ[[#This Row],[YJコード③]],[1]!__前投薬リスト[#Data],4,FALSE)&\"\",\"\")","v":""},null,null,null,null,null,null,null,null,null,null,null,{"$f":"IFERROR(VLOOKUP(__レジメンマスタ[[#This Row],[YJコード④]],[1]!__前投薬リスト[#Data],4,FALSE)&\"\",\"\")","v":""},null,null,null,null,null,null,null,null,null,null,null,{"$f":"IFERROR(VLOOKUP(__レジメンマスタ[[#This Row],[YJコード⑤]],[1]!__前投薬リスト[#Data],4,FALSE)&\"\",\"\")","v":""},null,null,null,null,null,null,null,null,null,null,null,{"$f":"IFERROR(VLOOKUP(__レジメンマスタ[[#This Row],[YJコード⑥]],[1]!__前投薬リスト[#Data],4,FALSE)&\"\",\"\")","v":""},null,null,null,null,null,null,null,null,null,null,null,{"$f":"IFERROR(VLOOKUP(__レジメンマスタ[[#This Row],[YJコード⑦]],[1]!__前投薬リスト[#Data],4,FALSE)&\"\",\"\")","v":""}]
["BRE0005","weekly PTX","  　　　　    W1  　　　　　 W2 　　　　  W3  　　　　 W4～12  \nPTX   ↓×××××× ↓×××××× ↓×××××× ↓××××××  \n1週間に1回、12回","7日","12回","乳癌","乳腺・内分泌外科","パクリタキセル","危〈毒〉100mg/16.7mL ﾊﾟｸﾘﾀｷｾﾙ注「NK」（希釈液:生食orTZ）（先:ﾀｷｿｰﾙ）","4240406A2046","注射",null,80,"㎡","mg",null,"d1",{"$f":"IFERROR(VLOOKUP(__レジメンマスタ[[#This Row],[YJコード①]],[1]!__前投薬リスト[#Data],4,FALSE)&\"\",\"\")","v":"抗ヒス,H2B,ステ"},null,null,null,null,null,null,null,null,null,null,null,{"$f":"IFERROR(VLOOKUP(__レジメンマスタ[[#This Row],[YJコード②]],[1]!__前投薬リスト[#Data],4,FALSE)&\"\",\"\")","v":""},null,null,null,null,null,null,null,null,null,null,null,{"$f":"IFERROR(VLOOKUP(__レジメンマスタ[[#This Row],[YJコード③]],[1]!__前投薬リスト[#Data],4,FALSE)&\"\",\"\")","v":""},null,null,null,null,null,null,null,null,null,null,null,{"$f":"IFERROR(VLOOKUP(__レジメンマスタ[[#This Row],[YJコード④]],[1]!__前投薬リスト[#Data],4,FALSE)&\"\",\"\")","v":""},null,null,null,null,null,null,null,null,null,null,null,{"$f":"IFERROR(VLOOKUP(__レジメンマスタ[[#This Row],[YJコード⑤]],[1]!__前投薬リスト[#Data],4,FALSE)&\"\",\"\")","v":""},null,null,null,null,null,null,null,null,null,null,null,{"$f":"IFERROR(VLOOKUP(__レジメンマスタ[[#This Row],[YJコード⑥]],[1]!__前投薬リスト[#Data],4,FALSE)&\"\",\"\")","v":""},null,null,null,null,null,null,null,null,null,null,null,{"$f":"IFERROR(VLOOKUP(__レジメンマスタ[[#This Row],[YJコード⑦]],[1]!__前投薬リスト[#Data],4,FALSE)&\"\",\"\")","v":""}]
["BRE0006","VNR","　　　　　　　  W1   　　　　　　W2 　　　　　  W3  \nビノレルビン ↓×××××× ↓×××××× ×××××××  \n1週間間隔で2週連続投与、1週間休薬","21日","∞","乳癌","乳腺・内分泌外科","ビノレルビン","危〈毒〉40㎎/4mL ﾛｾﾞｳｽ静注液（先:ﾅﾍﾞﾙﾋﾞﾝ）","4240407A2032","注射","全開で（輸液ポンプ不可）",25,"㎡","mg",null,"d1,8",{"$f":"IFERROR(VLOOKUP(__レジメンマスタ[[#This Row],[YJコード①]],[1]!__前投薬リスト[#Data],4,FALSE)&\"\",\"\")","v":""},null,null,null,null,null,null,null,null,null,null,null,{"$f":"IFERROR(VLOOKUP(__レジメンマスタ[[#This Row],[YJコード②]],[1]!__前投薬リスト[#Data],4,FALSE)&\"\",\"\")","v":""},null,null,null,null,null,null,null,null,null,null,null,{"$f":"IFERROR(VLOOKUP(__レジメンマスタ[[#This Row],[YJコード③]],[1]!__前投薬リスト[#Data],4,FALSE)&\"\",\"\")","v":""},null,null,null,null,null,null,null,null,null,null,null,{"$f":"IFERROR(VLOOKUP(__レジメンマスタ[[#This Row],[YJコード④]],[1]!__前投薬リスト[#Data],4,FALSE)&\"\",\"\")","v":""},null,null,null,null,null,null,null,null,null,null,null,{"$f":"IFERROR(VLOOKUP(__レジメンマスタ[[#This Row],[YJコード⑤]],[1]!__前投薬リスト[#Data],4,FALSE)&\"\",\"\")","v":""},null,null,null,null,null,null,null,null,null,null,null,{"$f":"IFERROR(VLOOKUP(__レジメンマスタ[[#This Row],[YJコード⑥]],[1]!__前投薬リスト[#Data],4,FALSE)&\"\",\"\")","v":""},null,null,null,null,null,null,null,null,null,null,null,{"$f":"IFERROR(VLOOKUP(__レジメンマスタ[[#This Row],[YJコード⑦]],[1]!__前投薬リスト[#Data],4,FALSE)&\"\",\"\")","v":""}]
["BRE0007","weeklyトラスツズマブ","  　　　　    W1  　　　　　 W2 　　　　  W3  　　 \nTmab   ↓×××××× ↓×××××× ↓××××××\n1週間間隔","7日","∞","乳癌（Her2+)","乳腺・内分泌外科","トラスツズマブ(初回）","危 ﾄﾗｽﾂｽﾞﾏﾌﾞBS点滴静注用 150mg「NK」（溶解液:Aq,希釈液:生食）（先:ﾊｰｾﾌﾟﾁﾝ）","4291442D2030","注射","９０ 分で",4,"kg","mg",null,"d1",{"$f":"IFERROR(VLOOKUP(__レジメンマスタ[[#This Row],[YJコード①]],[1]!__前投薬リスト[#Data],4,FALSE)&\"\",\"\")","v":""},null,"トラスツズマブ（2回目以降）","危 ﾄﾗｽﾂｽﾞﾏﾌﾞBS点滴静注用 150mg「NK」（溶解液:Aq,希釈液:生食）（先:ﾊｰｾﾌﾟﾁﾝ）","4291442D2030","注射","３０分まで短縮可",2,"kg","mg",null,"d1",{"$f":"IFERROR(VLOOKUP(__レジメンマスタ[[#This Row],[YJコード②]],[1]!__前投薬リスト[#Data],4,FALSE)&\"\",\"\")","v":""},null,null,null,null,null,null,null,null,null,null,null,{"$f":"IFERROR(VLOOKUP(__レジメンマスタ[[#This Row],[YJコード③]],[1]!__前投薬リスト[#Data],4,FALSE)&\"\",\"\")","v":""},null,null,null,null,null,null,null,null,null,null,null,{"$f":"IFERROR(VLOOKUP(__レジメンマスタ[[#This Row],[YJコード④]],[1]!__前投薬リスト[#Data],4,FALSE)&\"\",\"\")","v":""},null,null,null,null,null,null,null,null,null,null,null,{"$f":"IFERROR(VLOOKUP(__レジメンマスタ[[#This Row],[YJコード⑤]],[1]!__前投薬リスト[#Data],4,FALSE)&\"\",\"\")","v":""},null,null,null,null,null,null,null,null,null,null,null,{"$f":"IFERROR(VLOOKUP(__レジメンマスタ[[#This Row],[YJコード⑥]],[1]!__前投薬リスト[#Data],4,FALSE)&\"\",\"\")","v":""},null,null,null,null,null,null,null,null,null,null,null,{"$f":"IFERROR(VLOOKUP(__レジメンマスタ[[#This Row],[YJコード⑦]],[1]!__前投薬リスト[#Data],4,FALSE)&\"\",\"\")","v":""}]
["BRE0008","Tri weeklyトラスツズマブ","            W1              W2                W3  \nTmab ↓××××××   ×××××××   ×××××××\n3週間間隔   ★1年間★→制限年月日を患者特記事項に記載","21日","1年間","乳癌（Her2+)","乳腺・内分泌外科","トラスツズマブ(初回）","危 ﾄﾗｽﾂｽﾞﾏﾌﾞBS点滴静注用 150mg「NK」（溶解液:Aq,希釈液:生食）（先:ﾊｰｾﾌﾟﾁﾝ）","4291442D2030","注射","９０ 分で",8,"kg","mg",null,"d1",{"$f":"IFERROR(VLOOKUP(__レジメンマスタ[[#This Row],[YJコード①]],[1]!__前投薬リスト[#Data],4,FALSE)&\"\",\"\")","v":""},null,"トラスツズマブ（2回目以降）","危 ﾄﾗｽﾂｽﾞﾏﾌﾞBS点滴静注用 150mg「NK」（溶解液:Aq,希釈液:生食）（先:ﾊｰｾﾌﾟﾁﾝ）","4291442D2030","注射","３０分まで短縮可",6,"kg","mg",null,"d1",{"$f":"IFERROR(VLOOKUP(__レジメンマスタ[[#This Row],[YJコード②]],[1]!__前投薬リスト[#Data],4,FALSE)&\"\",\"\")","v":""},null,null,null,null,null,null,null,null,null,null,null,{"$f":"IFERROR(VLOOKUP(__レジメンマスタ[[#This Row],[YJコード③]],[1]!__前投薬リスト[#Data],4,FALSE)&\"\",\"\")","v":""},null,null,null,null,null,null,null,null,null,null,null,{"$f":"IFERROR(VLOOKUP(__レジメンマスタ[[#This Row],[YJコード④]],[1]!__前投薬リスト[#Data],4,FALSE)&\"\",\"\")","v":""},null,null,null,null,null,null,null,null,null,null,null,{"$f":"IFERROR(VLOOKUP(__レジメンマスタ[[#This Row],[YJコード⑤]],[1]!__前投薬リスト[#Data],4,FALSE)&\"\",\"\")","v":""},null,null,null,null,null,null,null,null,null,null,null,{"$f":"IFERROR(VLOOKUP(__レジメンマスタ[[#This Row],[YJコード⑥]],[1]!__前投薬リスト[#Data],4,FALSE)&\"\",\"\")","v":""},null,null,null,null,null,null,null,null,null,null,null,{"$f":"IFERROR(VLOOKUP(__レジメンマスタ[[#This Row],[YJコード⑦]],[1]!__前投薬リスト[#Data],4,FALSE)&\"\",\"\")","v":""}]
["BRE0009","GEM","  　　　　　　　　 W1 　　　　　  W2　　　　　   W3  \nゲムシタビン ↓×××××× ↓×××××× ×××××××  \n2週連続投与1週休薬\nGEM:溶解液確認→Tzで行う方針の場合はTzへ変更","21日","∞","乳癌","乳腺・内分泌外科","ゲムシタビン","危 1g ｹﾞﾑｼﾀﾋﾞﾝ点滴静注用「ﾔｸﾙﾄ」（溶解液:生食）（先:ｼﾞｪﾑｻﾞｰﾙ）","4224403D2061","注射","３０ 分で",1250,"㎡","mg",null,"d1,8",{"$f":"IFERROR(VLOOKUP(__レジメンマスタ[[#This Row],[YJコード①]],[1]!__前投薬リスト[#Data],4,FALSE)&\"\",\"\")","v":""},null,null,null,null,null,null,null,null,null,null,null,{"$f":"IFERROR(VLOOKUP(__レジメンマスタ[[#This Row],[YJコード②]],[1]!__前投薬リスト[#Data],4,FALSE)&\"\",\"\")","v":""},null,null,null,null,null,null,null,null,null,null,null,{"$f":"IFERROR(VLOOKUP(__レジメンマスタ[[#This Row],[YJコード③]],[1]!__前投薬リスト[#Data],4,FALSE)&\"\",\"\")","v":""},null,null,null,null,null,null,null,null,null,null,null,{"$f":"IFERROR(VLOOKUP(__レジメンマスタ[[#This Row],[YJコード④]],[1]!__前投薬リスト[#Data],4,FALSE)&\"\",\"\")","v":""},null,null,null,null,null,null,null,null,null,null,null,{"$f":"IFERROR(VLOOKUP(__レジメンマスタ[[#This Row],[YJコード⑤]],[1]!__前投薬リスト[#Data],4,FALSE)&\"\",\"\")","v":""},null,null,null,null,null,null,null,null,null,null,null,{"$f":"IFERROR(VLOOKUP(__レジメンマスタ[[#This Row],[YJコード⑥]],[1]!__前投薬リスト[#Data],4,FALSE)&\"\",\"\")","v":""},null,null,null,null,null,null,null,null,null,null,null,{"$f":"IFERROR(VLOOKUP(__レジメンマスタ[[#This Row],[YJコード⑦]],[1]!__前投薬リスト[#Data],4,FALSE)&\"\",\"\")","v":""}]
["BRE0010","GEM+PTX","  　　　　　　　　　 W1  　　　　　 W2 　　　　　  W3  \nパクリタキセル ↓×××××× ××××××× ×××××××  \nゲムシタビン   ↓×××××× ↓×××××× ×××××××  \nPTX:3週間に1回、GEM:2週連続投与、1週休薬\nGEM:溶解液確認→Tzで行う方針の場合はTzへ変更","21日","∞","乳癌","乳腺・内分泌外科","パクリタキセル","危〈毒〉100mg/16.7mL ﾊﾟｸﾘﾀｷｾﾙ注「NK」（希釈液:生食orTZ）（先:ﾀｷｿｰﾙ）","4240406A2046","注射",null,175,"㎡","mg",null,"d1",{"$f":"IFERROR(VLOOKUP(__レジメンマスタ[[#This Row],[YJコード①]],[1]!__前投薬リスト[#Data],4,FALSE)&\"\",\"\")","v":"抗ヒス,H2B,ステ"},null,"ゲムシタビン","危 1g ｹﾞﾑｼﾀﾋﾞﾝ点滴静注用「ﾔｸﾙﾄ」（溶解液:生食）（先:ｼﾞｪﾑｻﾞｰﾙ）","4224403D2061","注射","３０ 分で",1250,"㎡","mg",null,"d1,8",{"$f":"IFERROR(VLOOKUP(__レジメンマスタ[[#This Row],[YJコード②]],[1]!__前投薬リスト[#Data],4,FALSE)&\"\",\"\")","v":""},null,null,null,null,null,null,null,null,null,null,null,{"$f":"IFERROR(VLOOKUP(__レジメンマスタ[[#This Row],[YJコード③]],[1]!__前投薬リスト[#Data],4,FALSE)&\"\",\"\")","v":""},null,null,null,null,null,null,null,null,null,null,null,{"$f":"IFERROR(VLOOKUP(__レジメンマスタ[[#This Row],[YJコード④]],[1]!__前投薬リスト[#Data],4,FALSE)&\"\",\"\")","v":""},null,null,null,null,null,null,null,null,null,null,null,{"$f":"IFERROR(VLOOKUP(__レジメンマスタ[[#This Row],[YJコード⑤]],[1]!__前投薬リスト[#Data],4,FALSE)&\"\",\"\")","v":""},null,null,null,null,null,null,null,null,null,null,null,{"$f":"IFERROR(VLOOKUP(__レジメンマスタ[[#This Row],[YJコード⑥]],[1]!__前投薬リスト[#Data],4,FALSE)&\"\",\"\")","v":""},null,null,null,null,null,null,null,null,null,null,null,{"$f":"IFERROR(VLOOKUP(__レジメンマスタ[[#This Row],[YJコード⑦]],[1]!__前投薬リスト[#Data],4,FALSE)&\"\",\"\")","v":""}]
["BRE0011","TC","  　　　　　　　　 W1  　　　　　 W2 　　　　　  W3  \nドセタキセル ↓×××××× ××××××× ×××××××  \nエンドキサン ↓×××××× ××××××× ×××××××  ","21日","∞","乳癌","乳腺・内分泌外科","ドセタキセル","危〈毒〉80㎎/4mL ﾄﾞｾﾀｷｾﾙ点滴静注「ﾆﾌﾟﾛ」（先:ﾀｷｿﾃｰﾙ）","4240405A4109","注射","１　時間で",75,"㎡","mg",null,"d1",{"$f":"IFERROR(VLOOKUP(__レジメンマスタ[[#This Row],[YJコード①]],[1]!__前投薬リスト[#Data],4,FALSE)&\"\",\"\")","v":""},null,"エンドキサン","危 注射用ｴﾝﾄﾞｷｻﾝ 500㎎","4211401D2021","注射","３０ 分で",600,"㎡","mg",null,"d1",{"$f":"IFERROR(VLOOKUP(__レジメンマスタ[[#This Row],[YJコード②]],[1]!__前投薬リスト[#Data],4,FALSE)&\"\",\"\")","v":""},null,null,null,null,null,null,null,null,null,null,null,{"$f":"IFERROR(VLOOKUP(__レジメンマスタ[[#This Row],[YJコード③]],[1]!__前投薬リスト[#Data],4,FALSE)&\"\",\"\")","v":""},null,null,null,null,null,null,null,null,null,null,null,{"$f":"IFERROR(VLOOKUP(__レジメンマスタ[[#This Row],[YJコード④]],[1]!__前投薬リスト[#Data],4,FALSE)&\"\",\"\")","v":""},null,null,null,null,null,null,null,null,null,null,null,{"$f":"IFERROR(VLOOKUP(__レジメンマスタ[[#This Row],[YJコード⑤]],[1]!__前投薬リスト[#Data],4,FALSE)&\"\",\"\")","v":""},null,null,null,null,null,null,null,null,null,null,null,{"$f":"IFERROR(VLOOKUP(__レジメンマスタ[[#This Row],[YJコード⑥]],[1]!__前投薬リスト[#Data],4,FALSE)&\"\",\"\")","v":""},null,null,null,null,null,null,null,null,null,null,null,{"$f":"IFERROR(VLOOKUP(__レジメンマスタ[[#This Row],[YJコード⑦]],[1]!__前投薬リスト[#Data],4,FALSE)&\"\",\"\")","v":""}]
["BRE0012","トラスツズマブ＋PTX"," 　　　　　 W1 　　　　　  W2　　　　　   W3　　　　   W4  \nTmab ↓×××××× ↓×××××× ↓××××××  ↓××××××  \nPTX  ↓×××××× ↓×××××× ↓×××××× (↓)××××××  \nPTX:W4は休薬することが多い","28日","∞","乳癌（Her2+)","乳腺・内分泌外科","トラスツズマブ(初回）","危 ﾄﾗｽﾂｽﾞﾏﾌﾞBS点滴静注用 150mg「NK」（溶解液:Aq,希釈液:生食）（先:ﾊｰｾﾌﾟﾁﾝ）","4291442D2030","注射","３０分まで短縮可",4,"kg","mg",null,"d1",{"$f":"IFERROR(VLOOKUP(__レジメンマスタ[[#This Row],[YJコード①]],[1]!__前投薬リスト[#Data],4,FALSE)&\"\",\"\")","v":""},null,"トラスツズマブ（2回目以降）","危 ﾄﾗｽﾂｽﾞﾏﾌﾞBS点滴静注用 150mg「NK」（溶解液:Aq,希釈液:生食）（先:ﾊｰｾﾌﾟﾁﾝ）","4291442D2030","注射","３０分まで短縮可",2,"kg","mg",null,"d1,8,15,22",{"$f":"IFERROR(VLOOKUP(__レジメンマスタ[[#This Row],[YJコード②]],[1]!__前投薬リスト[#Data],4,FALSE)&\"\",\"\")","v":""},null,"パクリタキセル","危〈毒〉100mg/16.7mL ﾊﾟｸﾘﾀｷｾﾙ注「NK」（希釈液:生食orTZ）（先:ﾀｷｿｰﾙ）","4240406A2046","注射","１　時間で",80,"㎡","mg",null,"d1,8,15,(22)",{"$f":"IFERROR(VLOOKUP(__レジメンマスタ[[#This Row],[YJコード③]],[1]!__前投薬リスト[#Data],4,FALSE)&\"\",\"\")","v":"抗ヒス,H2B,ステ"},null,null,null,null,null,null,null,null,null,null,null,{"$f":"IFERROR(VLOOKUP(__レジメンマスタ[[#This Row],[YJコード④]],[1]!__前投薬リスト[#Data],4,FALSE)&\"\",\"\")","v":""},null,null,null,null,null,null,null,null,null,null,null,{"$f":"IFERROR(VLOOKUP(__レジメンマスタ[[#This Row],[YJコード⑤]],[1]!__前投薬リスト[#Data],4,FALSE)&\"\",\"\")","v":""},null,null,null,null,null,null,null,null,null,null,null,{"$f":"IFERROR(VLOOKUP(__レジメンマスタ[[#This Row],[YJコード⑥]],[1]!__前投薬リスト[#Data],4,FALSE)&\"\",\"\")","v":""},null,null,null,null,null,null,null,null,null,null,null,{"$f":"IFERROR(VLOOKUP(__レジメンマスタ[[#This Row],[YJコード⑦]],[1]!__前投薬リスト[#Data],4,FALSE)&\"\",\"\")","v":""}]
["BRE0013","n-PTX","            W1              W2                W3  \nn-PTX ↓××××××   ×××××××   ×××××××  \n","21日","∞","乳癌","乳腺・内分泌外科","アブラキサン","危〈毒〉ｱﾌﾞﾗｷｻﾝ点滴静注用 100mg","4240409D1023","注射","３０ 分で",260,"㎡","mg",null,"d1",{"$f":"IFERROR(VLOOKUP(__レジメンマスタ[[#This Row],[YJコード①]],[1]!__前投薬リスト[#Data],4,FALSE)&\"\",\"\")","v":""},null,null,null,null,null,null,null,null,null,null,null,{"$f":"IFERROR(VLOOKUP(__レジメンマスタ[[#This Row],[YJコード②]],[1]!__前投薬リスト[#Data],4,FALSE)&\"\",\"\")","v":""},null,null,null,null,null,null,null,null,null,null,null,{"$f":"IFERROR(VLOOKUP(__レジメンマスタ[[#This Row],[YJコード③]],[1]!__前投薬リスト[#Data],4,FALSE)&\"\",\"\")","v":""},null,null,null,null,null,null,null,null,null,null,null,{"$f":"IFERROR(VLOOKUP(__レジメンマスタ[[#This Row],[YJコード④]],[1]!__前投薬リスト[#Data],4,FALSE)&\"\",\"\")","v":""},null,null,null,null,null,null,null,null,null,null,null,{"$f":"IFERROR(VLOOKUP(__レジメンマスタ[[#This Row],[YJコード⑤]],[1]!__前投薬リスト[#Data],4,FALSE)&\"\",\"\")","v":""},null,null,null,null,null,null,null,null,null,null,null,{"$f":"IFERROR(VLOOKUP(__レジメンマスタ[[#This Row],[YJコード⑥]],[1]!__前投薬リスト[#Data],4,FALSE)&\"\",\"\")","v":""},null,null,null,null,null,null,null,null,null,null,null,{"$f":"IFERROR(VLOOKUP(__レジメンマスタ[[#This Row],[YJコード⑦]],[1]!__前投薬リスト[#Data],4,FALSE)&\"\",\"\")","v":""}]
["BRE0014","エリブリン","  　　　　　　　　W1 　　　　　  W2 　　　　  W3  \nエリブリン ↓×××××× ↓×××××× ×××××××  \n1週間間隔で2週連続、1週間休薬","21日","∞","乳癌","乳腺・内分泌外科","エリブリン","危 ﾊﾗｳﾞｪﾝ静注 1mg/2mL（希釈液:生食）","4291420A1022","注射","２～５分で",1.4,"㎡","mg",null,"d1,8",{"$f":"IFERROR(VLOOKUP(__レジメンマスタ[[#This Row],[YJコード①]],[1]!__前投薬リスト[#Data],4,FALSE)&\"\",\"\")","v":""},null,null,null,null,null,null,null,null,null,null,null,{"$f":"IFERROR(VLOOKUP(__レジメンマスタ[[#This Row],[YJコード②]],[1]!__前投薬リスト[#Data],4,FALSE)&\"\",\"\")","v":""},null,null,null,null,null,null,null,null,null,null,null,{"$f":"IFERROR(VLOOKUP(__レジメンマスタ[[#This Row],[YJコード③]],[1]!__前投薬リスト[#Data],4,FALSE)&\"\",\"\")","v":""},null,null,null,null,null,null,null,null,null,null,null,{"$f":"IFERROR(VLOOKUP(__レジメンマスタ[[#This Row],[YJコード④]],[1]!__前投薬リスト[#Data],4,FALSE)&\"\",\"\")","v":""},null,null,null,null,null,null,null,null,null,null,null,{"$f":"IFERROR(VLOOKUP(__レジメンマスタ[[#This Row],[YJコード⑤]],[1]!__前投薬リスト[#Data],4,FALSE)&\"\",\"\")","v":""},null,null,null,null,null,null,null,null,null,null,null,{"$f":"IFERROR(VLOOKUP(__レジメンマスタ[[#This Row],[YJコード⑥]],[1]!__前投薬リスト[#Data],4,FALSE)&\"\",\"\")","v":""},null,null,null,null,null,null,null,null,null,null,null,{"$f":"IFERROR(VLOOKUP(__レジメンマスタ[[#This Row],[YJコード⑦]],[1]!__前投薬リスト[#Data],4,FALSE)&\"\",\"\")","v":""}]
["BRE0015","PTX+Beva","   　　　　W1 　　　　　  W2 　　　　　  W3 　　　　  W4  \nPTX ↓×××××× ↓×××××× ↓×××××× ×××××××\nBEV ↓×××××× ××××××× ↓×××××× ×××××××    ","28日","∞","乳癌","乳腺・内分泌外科","パクリタキセル","危〈毒〉100mg/16.7mL ﾊﾟｸﾘﾀｷｾﾙ注「NK」（希釈液:生食orTZ）（先:ﾀｷｿｰﾙ）","4240406A2046","注射","１　時間で",80,"㎡","mg",null,"d1,8,15",{"$f":"IFERROR(VLOOKUP(__レジメンマスタ[[#This Row],[YJコード①]],[1]!__前投薬リスト[#Data],4,FALSE)&\"\",\"\")","v":"抗ヒス,H2B,ステ"},null,"ベバシズマブ","危 400mg/16mL ﾍﾞﾊﾞｼｽﾞﾏﾌﾞBS点滴静注「CTNK」（希釈液:生食）（先:ｱﾊﾞｽﾁﾝ）","4291463A2027","注射","初回９０分、２回目６０分、３回目～３０分",10,"kg","mg",null,"d1,15",{"$f":"IFERROR(VLOOKUP(__レジメンマスタ[[#This Row],[YJコード②]],[1]!__前投薬リスト[#Data],4,FALSE)&\"\",\"\")","v":""},null,null,null,null,null,null,null,null,null,null,null,{"$f":"IFERROR(VLOOKUP(__レジメンマスタ[[#This Row],[YJコード③]],[1]!__前投薬リスト[#Data],4,FALSE)&\"\",\"\")","v":""},null,null,null,null,null,null,null,null,null,null,null,{"$f":"IFERROR(VLOOKUP(__レジメンマスタ[[#This Row],[YJコード④]],[1]!__前投薬リスト[#Data],4,FALSE)&\"\",\"\")","v":""},null,null,null,null,null,null,null,null,null,null,null,{"$f":"IFERROR(VLOOKUP(__レジメンマスタ[[#This Row],[YJコード⑤]],[1]!__前投薬リスト[#Data],4,FALSE)&\"\",\"\")","v":""},null,null,null,null,null,null,null,null,null,null,null,{"$f":"IFERROR(VLOOKUP(__レジメンマスタ[[#This Row],[YJコード⑥]],[1]!__前投薬リスト[#Data],4,FALSE)&\"\",\"\")","v":""},null,null,null,null,null,null,null,null,null,null,null,{"$f":"IFERROR(VLOOKUP(__レジメンマスタ[[#This Row],[YJコード⑦]],[1]!__前投薬リスト[#Data],4,FALSE)&\"\",\"\")","v":""}]
["BRE0016","Tmab+Pmab+DOC","             W1          W2             W3             W4  \nPmab ↓×××××× ××××××× ××××××× ↓××××××  \nTmab ↓×××××× ××××××× ××××××× ↓××××××  \nDOC  ↓×××××× ××××××× ××××××× ↓××××××  \n★前回投与日から6週間以上のときは初回量に戻す★\nDOC終了後はPmab＋Tmabで維持療法","21日","∞","乳癌（Her2+)","乳腺・内分泌外科","ペルツズマブ(初回)","危 ﾊﾟｰｼﾞｪﾀ点滴静注 420mg/14mL（希釈液:生食）","4291424A1020","注射",null,840,"BODY","mg",null,"d1",{"$f":"IFERROR(VLOOKUP(__レジメンマスタ[[#This Row],[YJコード①]],[1]!__前投薬リスト[#Data],4,FALSE)&\"\",\"\")","v":""},null,"ペルツズマブ(2回目～)","危 ﾊﾟｰｼﾞｪﾀ点滴静注 420mg/14mL（希釈液:生食）","4291424A1020","注射",null,420,"BODY","mg",null,"d1",{"$f":"IFERROR(VLOOKUP(__レジメンマスタ[[#This Row],[YJコード②]],[1]!__前投薬リスト[#Data],4,FALSE)&\"\",\"\")","v":""},null,"トラスツズマブ(初回）","危 ﾄﾗｽﾂｽﾞﾏﾌﾞBS点滴静注用 150mg「NK」（溶解液:Aq,希釈液:生食）（先:ﾊｰｾﾌﾟﾁﾝ）","4291442D2030","注射","９０ 分で",8,"kg","mg",null,"d1",{"$f":"IFERROR(VLOOKUP(__レジメンマスタ[[#This Row],[YJコード③]],[1]!__前投薬リスト[#Data],4,FALSE)&\"\",\"\")","v":""},null,"トラスツズマブ（2回目以降）","危 ﾄﾗｽﾂｽﾞﾏﾌﾞBS点滴静注用 150mg「NK」（溶解液:Aq,希釈液:生食）（先:ﾊｰｾﾌﾟﾁﾝ）","4291442D2030","注射","３０ 分で",6,"kg","mg",null,"d1",{"$f":"IFERROR(VLOOKUP(__レジメンマスタ[[#This Row],[YJコード④]],[1]!__前投薬リスト[#Data],4,FALSE)&\"\",\"\")","v":""},null,"ドセタキセル","危〈毒〉80㎎/4mL ﾄﾞｾﾀｷｾﾙ点滴静注「ﾆﾌﾟﾛ」（先:ﾀｷｿﾃｰﾙ）","4240405A4109","注射","１ 時間で",75,"㎡","mg",null,"d1",{"$f":"IFERROR(VLOOKUP(__レジメンマスタ[[#This Row],[YJコード⑤]],[1]!__前投薬リスト[#Data],4,FALSE)&\"\",\"\")","v":""},null,null,null,null,null,null,null,null,null,null,null,{"$f":"IFERROR(VLOOKUP(__レジメンマスタ[[#This Row],[YJコード⑥]],[1]!__前投薬リスト[#Data],4,FALSE)&\"\",\"\")","v":""},null,null,null,null,null,null,null,null,null,null,null,{"$f":"IFERROR(VLOOKUP(__レジメンマスタ[[#This Row],[YJコード⑦]],[1]!__前投薬リスト[#Data],4,FALSE)&\"\",\"\")","v":""}]
["BRE0016-04","ハーセプチン+Pmab+DOC（維持療法）","             W1          W2             W3             W4  \nPmab ↓×××××× ××××××× ××××××× ↓××××××  \nTmab ↓×××××× ××××××× ××××××× ↓××××××    \n★前回投与日から6週間以上のときは初回量に戻す★\n(初回量　Pmab：840mg/body、Tmab：8mg/kg）","21日","∞","乳癌（Her2+)","乳腺・内分泌外科","ハーセプチン(2回目～)","危 ﾊｰｾﾌﾟﾁﾝ注射用 150mg（溶解液:Aq,希釈液:生食）","4291406D6020","注射","２回目以降は３０分まで短縮可",6,"kg","mg",null,"d1",{"$f":"IFERROR(VLOOKUP(__レジメンマスタ[[#This Row],[YJコード①]],[1]!__前投薬リスト[#Data],4,FALSE)&\"\",\"\")","v":""},null,"パージェタ(2回目～)","危 ﾊﾟｰｼﾞｪﾀ点滴静注 420mg/14mL（希釈液:生食）","4291424A1020","注射","１ 時間で",420,"BODY","mg",null,"d1",{"$f":"IFERROR(VLOOKUP(__レジメンマスタ[[#This Row],[YJコード②]],[1]!__前投薬リスト[#Data],4,FALSE)&\"\",\"\")","v":""},null,null,null,null,null,null,null,null,null,null,null,{"$f":"IFERROR(VLOOKUP(__レジメンマスタ[[#This Row],[YJコード③]],[1]!__前投薬リスト[#Data],4,FALSE)&\"\",\"\")","v":""},null,null,null,null,null,null,null,null,null,null,null,{"$f":"IFERROR(VLOOKUP(__レジメンマスタ[[#This Row],[YJコード④]],[1]!__前投薬リスト[#Data],4,FALSE)&\"\",\"\")","v":""},null,null,null,null,null,null,null,null,null,null,null,{"$f":"IFERROR(VLOOKUP(__レジメンマスタ[[#This Row],[YJコード⑤]],[1]!__前投薬リスト[#Data],4,FALSE)&\"\",\"\")","v":""},null,null,null,null,null,null,null,null,null,null,null,{"$f":"IFERROR(VLOOKUP(__レジメンマスタ[[#This Row],[YJコード⑥]],[1]!__前投薬リスト[#Data],4,FALSE)&\"\",\"\")","v":""},null,null,null,null,null,null,null,null,null,null,null,{"$f":"IFERROR(VLOOKUP(__レジメンマスタ[[#This Row],[YJコード⑦]],[1]!__前投薬リスト[#Data],4,FALSE)&\"\",\"\")","v":""}]
["BRE0017","カドサイラ","  　　          W1              W2                W3  \nカドサイラ ↓××××××   ×××××××   ×××××××  \n","21日","∞","乳癌（Her2+)","乳腺・内分泌外科","カドサイラ","危 160mg ｶﾄﾞｻｲﾗ点滴静注用（溶解液:Aq、希釈液:生食）","4291426D2022","注射","初回９０分、２回目以降６０分",3.6,"kg","mg",null,"d1",{"$f":"IFERROR(VLOOKUP(__レジメンマスタ[[#This Row],[YJコード①]],[1]!__前投薬リスト[#Data],4,FALSE)&\"\",\"\")","v":""},null,null,null,null,null,null,null,null,null,null,null,{"$f":"IFERROR(VLOOKUP(__レジメンマスタ[[#This Row],[YJコード②]],[1]!__前投薬リスト[#Data],4,FALSE)&\"\",\"\")","v":""},null,null,null,null,null,null,null,null,null,null,null,{"$f":"IFERROR(VLOOKUP(__レジメンマスタ[[#This Row],[YJコード③]],[1]!__前投薬リスト[#Data],4,FALSE)&\"\",\"\")","v":""},null,null,null,null,null,null,null,null,null,null,null,{"$f":"IFERROR(VLOOKUP(__レジメンマスタ[[#This Row],[YJコード④]],[1]!__前投薬リスト[#Data],4,FALSE)&\"\",\"\")","v":""},null,null,null,null,null,null,null,null,null,null,null,{"$f":"IFERROR(VLOOKUP(__レジメンマスタ[[#This Row],[YJコード⑤]],[1]!__前投薬リスト[#Data],4,FALSE)&\"\",\"\")","v":""},null,null,null,null,null,null,null,null,null,null,null,{"$f":"IFERROR(VLOOKUP(__レジメンマスタ[[#This Row],[YJコード⑥]],[1]!__前投薬リスト[#Data],4,FALSE)&\"\",\"\")","v":""},null,null,null,null,null,null,null,null,null,null,null,{"$f":"IFERROR(VLOOKUP(__レジメンマスタ[[#This Row],[YJコード⑦]],[1]!__前投薬リスト[#Data],4,FALSE)&\"\",\"\")","v":""}]
["BRE0018","Her+DOC","            W1            W2             W3             W4  \nTmab  ↓×××××× ××××××× ××××××× ↓××××××  \nDOC   ↓×××××× ××××××× ××××××× ↓××××××  \n","21日","∞","乳癌（Her2+)","乳腺・内分泌外科","トラスツズマブ(初回）","危 ﾄﾗｽﾂｽﾞﾏﾌﾞBS点滴静注用 150mg「NK」（溶解液:Aq,希釈液:生食）（先:ﾊｰｾﾌﾟﾁﾝ）","4291442D2030","注射","９０ 分で",8,"kg","mg",null,"d1",{"$f":"IFERROR(VLOOKUP(__レジメンマスタ[[#This Row],[YJコード①]],[1]!__前投薬リスト[#Data],4,FALSE)&\"\",\"\")","v":""},null,"トラスツズマブ（2回目以降）","危 ﾄﾗｽﾂｽﾞﾏﾌﾞBS点滴静注用 150mg「NK」（溶解液:Aq,希釈液:生食）（先:ﾊｰｾﾌﾟﾁﾝ）","4291442D2030","注射","９０ 分で",6,"kg","mg",null,"d1",{"$f":"IFERROR(VLOOKUP(__レジメンマスタ[[#This Row],[YJコード②]],[1]!__前投薬リスト[#Data],4,FALSE)&\"\",\"\")","v":""},null,"ドセタキセル","危〈毒〉80㎎/4mL ﾄﾞｾﾀｷｾﾙ点滴静注「ﾆﾌﾟﾛ」（先:ﾀｷｿﾃｰﾙ）","4240405A4109","注射","１ 時間で",75,"㎡","mg",null,"d1",{"$f":"IFERROR(VLOOKUP(__レジメンマスタ[[#This Row],[YJコード③]],[1]!__前投薬リスト[#Data],4,FALSE)&\"\",\"\")","v":""},null,null,null,null,null,null,null,null,null,null,null,{"$f":"IFERROR(VLOOKUP(__レジメンマスタ[[#This Row],[YJコード④]],[1]!__前投薬リスト[#Data],4,FALSE)&\"\",\"\")","v":""},null,null,null,null,null,null,null,null,null,null,null,{"$f":"IFERROR(VLOOKUP(__レジメンマスタ[[#This Row],[YJコード⑤]],[1]!__前投薬リスト[#Data],4,FALSE)&\"\",\"\")","v":""},null,null,null,null,null,null,null,null,null,null,null,{"$f":"IFERROR(VLOOKUP(__レジメンマスタ[[#This Row],[YJコード⑥]],[1]!__前投薬リスト[#Data],4,FALSE)&\"\",\"\")","v":""},null,null,null,null,null,null,null,null,null,null,null,{"$f":"IFERROR(VLOOKUP(__レジメンマスタ[[#This Row],[YJコード⑦]],[1]!__前投薬リスト[#Data],4,FALSE)&\"\",\"\")","v":""}]
["BRE0019","AC","  　　　　 　Ｗ1 　　　　  Ｗ2   　　　　Ｗ3  \nDXR ↓×××××× ××××××× ×××××××  \nCPA ↓×××××× ××××××× ×××××××   ","21日","8回","乳癌","乳腺・内分泌外科","ドキソルビシン","危 50mg ﾄﾞｷｿﾙﾋﾞｼﾝ塩酸塩注射用「NK」（溶解液:生食orAq）（先:ｱﾄﾞﾘｱｼﾝ）","4235402D2028","注射",null,60,"㎡","mg",null,"d1",{"$f":"IFERROR(VLOOKUP(__レジメンマスタ[[#This Row],[YJコード①]],[1]!__前投薬リスト[#Data],4,FALSE)&\"\",\"\")","v":""},null,"エンドキサン","危 注射用ｴﾝﾄﾞｷｻﾝ 500㎎","4211401D2021","注射",null,600,"㎡","mg",null,"d1",{"$f":"IFERROR(VLOOKUP(__レジメンマスタ[[#This Row],[YJコード②]],[1]!__前投薬リスト[#Data],4,FALSE)&\"\",\"\")","v":""},null,null,null,null,null,null,null,null,null,null,null,{"$f":"IFERROR(VLOOKUP(__レジメンマスタ[[#This Row],[YJコード③]],[1]!__前投薬リスト[#Data],4,FALSE)&\"\",\"\")","v":""},null,null,null,null,null,null,null,null,null,null,null,{"$f":"IFERROR(VLOOKUP(__レジメンマスタ[[#This Row],[YJコード④]],[1]!__前投薬リスト[#Data],4,FALSE)&\"\",\"\")","v":""},null,null,null,null,null,null,null,null,null,null,null,{"$f":"IFERROR(VLOOKUP(__レジメンマスタ[[#This Row],[YJコード⑤]],[1]!__前投薬リスト[#Data],4,FALSE)&\"\",\"\")","v":""},null,null,null,null,null,null,null,null,null,null,null,{"$f":"IFERROR(VLOOKUP(__レジメンマスタ[[#This Row],[YJコード⑥]],[1]!__前投薬リスト[#Data],4,FALSE)&\"\",\"\")","v":""},null,null,null,null,null,null,null,null,null,null,null,{"$f":"IFERROR(VLOOKUP(__レジメンマスタ[[#This Row],[YJコード⑦]],[1]!__前投薬リスト[#Data],4,FALSE)&\"\",\"\")","v":""}]
["BRE0020","テセントリク＋n-PTX","  　　　　　 W1  　　　　　 W2 　　　　  W3 　　　　　  W4  \nAtezo  ↓×××××× ××××××× ↓×××××× ×××××××\nn-PTX  ↓×××××× ↓×××××× ↓×××××× ×××××××  \n","28日","∞","乳癌","乳腺・内分泌外科","テセントリク",null,"4291441A2020","注射",null,840,"BODY","mg",null,"d1,15",{"$f":"IFERROR(VLOOKUP(__レジメンマスタ[[#This Row],[YJコード①]],[1]!__前投薬リスト[#Data],4,FALSE)&\"\",\"\")","v":""},null,"アブラキサン","危〈毒〉ｱﾌﾞﾗｷｻﾝ点滴静注用 100mg","4240409D1023","注射","３０ 分で",100,"㎡","mg",null,"d1,8,15",{"$f":"IFERROR(VLOOKUP(__レジメンマスタ[[#This Row],[YJコード②]],[1]!__前投薬リスト[#Data],4,FALSE)&\"\",\"\")","v":""},null,null,null,null,null,null,null,null,null,null,null,{"$f":"IFERROR(VLOOKUP(__レジメンマスタ[[#This Row],[YJコード③]],[1]!__前投薬リスト[#Data],4,FALSE)&\"\",\"\")","v":""},null,null,null,null,null,null,null,null,null,null,null,{"$f":"IFERROR(VLOOKUP(__レジメンマスタ[[#This Row],[YJコード④]],[1]!__前投薬リスト[#Data],4,FALSE)&\"\",\"\")","v":""},null,null,null,null,null,null,null,null,null,null,null,{"$f":"IFERROR(VLOOKUP(__レジメンマスタ[[#This Row],[YJコード⑤]],[1]!__前投薬リスト[#Data],4,FALSE)&\"\",\"\")","v":""},null,null,null,null,null,null,null,null,null,null,null,{"$f":"IFERROR(VLOOKUP(__レジメンマスタ[[#This Row],[YJコード⑥]],[1]!__前投薬リスト[#Data],4,FALSE)&\"\",\"\")","v":""},null,null,null,null,null,null,null,null,null,null,null,{"$f":"IFERROR(VLOOKUP(__レジメンマスタ[[#This Row],[YJコード⑦]],[1]!__前投薬リスト[#Data],4,FALSE)&\"\",\"\")","v":""}]
["BRE0021","エンハーツ","         　　   W1              W2                W3  \nエンハーツ ↓××××××   ×××××××   ×××××××  \n","21日","∞","乳癌（Her2+)","乳腺・内分泌外科","エンハーツ","危 ｴﾝﾊｰﾂ点滴静注用 100mg（溶解液:Aq）","4291452D1029","注射","初回９０分、２回目以降３０分まで短縮可",5.4,"kg","mg",null,"d1",{"$f":"IFERROR(VLOOKUP(__レジメンマスタ[[#This Row],[YJコード①]],[1]!__前投薬リスト[#Data],4,FALSE)&\"\",\"\")","v":""},null,null,null,null,null,null,null,null,null,null,null,{"$f":"IFERROR(VLOOKUP(__レジメンマスタ[[#This Row],[YJコード②]],[1]!__前投薬リスト[#Data],4,FALSE)&\"\",\"\")","v":""},null,null,null,null,null,null,null,null,null,null,null,{"$f":"IFERROR(VLOOKUP(__レジメンマスタ[[#This Row],[YJコード③]],[1]!__前投薬リスト[#Data],4,FALSE)&\"\",\"\")","v":""},null,null,null,null,null,null,null,null,null,null,null,{"$f":"IFERROR(VLOOKUP(__レジメンマスタ[[#This Row],[YJコード④]],[1]!__前投薬リスト[#Data],4,FALSE)&\"\",\"\")","v":""},null,null,null,null,null,null,null,null,null,null,null,{"$f":"IFERROR(VLOOKUP(__レジメンマスタ[[#This Row],[YJコード⑤]],[1]!__前投薬リスト[#Data],4,FALSE)&\"\",\"\")","v":""},null,null,null,null,null,null,null,null,null,null,null,{"$f":"IFERROR(VLOOKUP(__レジメンマスタ[[#This Row],[YJコード⑥]],[1]!__前投薬リスト[#Data],4,FALSE)&\"\",\"\")","v":""},null,null,null,null,null,null,null,null,null,null,null,{"$f":"IFERROR(VLOOKUP(__レジメンマスタ[[#This Row],[YJコード⑦]],[1]!__前投薬リスト[#Data],4,FALSE)&\"\",\"\")","v":""}]
["BRE0022","キイトルーダ＋GEM＋CBDCA","  　　　　　　　　　　 W1 　　　　  W2  　　　　 W3  \nキイトルーダ   ↓×××××× ××××××× ×××××××  \nゲムシタビン   ↓×××××× ↓×××××× ×××××××  \nカルボプラチン ↓×××××× ↓×××××× ×××××××  \nGEM:溶解液確認→Tzで行う方針の場合はTzへ変更","21日","∞","乳癌","乳腺・内分泌外科","キイトルーダ","危 ｷｲﾄﾙｰﾀﾞ点滴静注 100mg/4mL（希釈液:生食orTZ）","4291435A2025","注射","３０ 分で",200,"BODY","mg",null,"d1",{"$f":"IFERROR(VLOOKUP(__レジメンマスタ[[#This Row],[YJコード①]],[1]!__前投薬リスト[#Data],4,FALSE)&\"\",\"\")","v":""},null,"ゲムシタビン","危 1g ｹﾞﾑｼﾀﾋﾞﾝ点滴静注用「ﾔｸﾙﾄ」（溶解液:生食）（先:ｼﾞｪﾑｻﾞｰﾙ）","4224403D2061","注射","３０ 分で",1000,"㎡","mg",null,"d1,8",{"$f":"IFERROR(VLOOKUP(__レジメンマスタ[[#This Row],[YJコード②]],[1]!__前投薬リスト[#Data],4,FALSE)&\"\",\"\")","v":""},null,"カルボプラチン","危〈毒〉ｶﾙﾎﾞﾌﾟﾗﾁﾝ点滴静注液「NK」150mg/15mL（先:ﾊﾟﾗﾌﾟﾗﾁﾝ）","4291403A2092","注射","１ 時間で",2,"AUC","mg",null,"d1,8",{"$f":"IFERROR(VLOOKUP(__レジメンマスタ[[#This Row],[YJコード③]],[1]!__前投薬リスト[#Data],4,FALSE)&\"\",\"\")","v":""},null,null,null,null,null,null,null,null,null,null,null,{"$f":"IFERROR(VLOOKUP(__レジメンマスタ[[#This Row],[YJコード④]],[1]!__前投薬リスト[#Data],4,FALSE)&\"\",\"\")","v":""},null,null,null,null,null,null,null,null,null,null,null,{"$f":"IFERROR(VLOOKUP(__レジメンマスタ[[#This Row],[YJコード⑤]],[1]!__前投薬リスト[#Data],4,FALSE)&\"\",\"\")","v":""},null,null,null,null,null,null,null,null,null,null,null,{"$f":"IFERROR(VLOOKUP(__レジメンマスタ[[#This Row],[YJコード⑥]],[1]!__前投薬リスト[#Data],4,FALSE)&\"\",\"\")","v":""},null,null,null,null,null,null,null,null,null,null,null,{"$f":"IFERROR(VLOOKUP(__レジメンマスタ[[#This Row],[YJコード⑦]],[1]!__前投薬リスト[#Data],4,FALSE)&\"\",\"\")","v":""}]
["BRE0023","キイトルーダ+PTX","      W1  W2  W3  W4  W5  W6  W7  W8  W9  W10  W11 W12\nPmbro ○  ×  ×  ○  ×  ×  ○  ×  ×  ○   ×  ×\nPTX   ○  ○  ○  ×  ○  ○  ○  ×  ○  ○   ○  ×\nPmbro:3週間毎、PTX:3週連投1休\n1クール12週","84日",null,"乳癌","乳腺・内分泌外科","キイトルーダ","危 ｷｲﾄﾙｰﾀﾞ点滴静注 100mg/4mL（希釈液:生食orTZ）","4291435A2025","注射","３０ 分で",200,"BODY","mg",null,"d1,22,43,64",{"$f":"IFERROR(VLOOKUP(__レジメンマスタ[[#This Row],[YJコード①]],[1]!__前投薬リスト[#Data],4,FALSE)&\"\",\"\")","v":""},null,"パクリタキセル","危〈毒〉100mg/16.7mL ﾊﾟｸﾘﾀｷｾﾙ注「NK」（希釈液:生食orTZ）（先:ﾀｷｿｰﾙ）","4240406A2046","注射",null,90,"㎡","mg",null,"d1,8,15,29,36,43,57,64,71",{"$f":"IFERROR(VLOOKUP(__レジメンマスタ[[#This Row],[YJコード②]],[1]!__前投薬リスト[#Data],4,FALSE)&\"\",\"\")","v":"抗ヒス,H2B,ステ"},null,null,null,null,null,null,null,null,null,null,null,{"$f":"IFERROR(VLOOKUP(__レジメンマスタ[[#This Row],[YJコード③]],[1]!__前投薬リスト[#Data],4,FALSE)&\"\",\"\")","v":""},null,null,null,null,null,null,null,null,null,null,null,{"$f":"IFERROR(VLOOKUP(__レジメンマスタ[[#This Row],[YJコード④]],[1]!__前投薬リスト[#Data],4,FALSE)&\"\",\"\")","v":""},null,null,null,null,null,null,null,null,null,null,null,{"$f":"IFERROR(VLOOKUP(__レジメンマスタ[[#This Row],[YJコード⑤]],[1]!__前投薬リスト[#Data],4,FALSE)&\"\",\"\")","v":""},null,null,null,null,null,null,null,null,null,null,null,{"$f":"IFERROR(VLOOKUP(__レジメンマスタ[[#This Row],[YJコード⑥]],[1]!__前投薬リスト[#Data],4,FALSE)&\"\",\"\")","v":""},null,null,null,null,null,null,null,null,null,null,null,{"$f":"IFERROR(VLOOKUP(__レジメンマスタ[[#This Row],[YJコード⑦]],[1]!__前投薬リスト[#Data],4,FALSE)&\"\",\"\")","v":""}]
["BRE0024","キイトルーダ+n-PTX","       W1  W2  W3  W4  W5  W6  W7  W8  W9  W10  W11 W12\nPmbro  ○  ×  ×  ○  ×  ×  ○  ×  ×  ○   ×  ×\nn-PTX  ○  ○  ○  ×  ○  ○  ○  ×  ○  ○   ○  ×\nPmbro:3週間毎、n-PTX:3週連投1休\n1クール12週","84日",null,"乳癌","乳腺・内分泌外科","キイトルーダ","危 ｷｲﾄﾙｰﾀﾞ点滴静注 100mg/4mL（希釈液:生食orTZ）","4291435A2025","注射","３０ 分で",200,"BODY","mg",null,"d1,22,43,64",{"$f":"IFERROR(VLOOKUP(__レジメンマスタ[[#This Row],[YJコード①]],[1]!__前投薬リスト[#Data],4,FALSE)&\"\",\"\")","v":""},null,"アブラキサン","危〈毒〉ｱﾌﾞﾗｷｻﾝ点滴静注用 100mg","4240409D1023","注射","３０ 分で",100,"㎡","mg",null,"d1,8,15,29,36,43,57,64,71",{"$f":"IFERROR(VLOOKUP(__レジメンマスタ[[#This Row],[YJコード②]],[1]!__前投薬リスト[#Data],4,FALSE)&\"\",\"\")","v":""},null,null,null,null,null,null,null,null,null,null,null,{"$f":"IFERROR(VLOOKUP(__レジメンマスタ[[#This Row],[YJコード③]],[1]!__前投薬リスト[#Data],4,FALSE)&\"\",\"\")","v":""},null,null,null,null,null,null,null,null,null,null,null,{"$f":"IFERROR(VLOOKUP(__レジメンマスタ[[#This Row],[YJコード④]],[1]!__前投薬リスト[#Data],4,FALSE)&\"\",\"\")","v":""},null,null,null,null,null,null,null,null,null,null,null,{"$f":"IFERROR(VLOOKUP(__レジメンマスタ[[#This Row],[YJコード⑤]],[1]!__前投薬リスト[#Data],4,FALSE)&\"\",\"\")","v":""},null,null,null,null,null,null,null,null,null,null,null,{"$f":"IFERROR(VLOOKUP(__レジメンマスタ[[#This Row],[YJコード⑥]],[1]!__前投薬リスト[#Data],4,FALSE)&\"\",\"\")","v":""},null,null,null,null,null,null,null,null,null,null,null,{"$f":"IFERROR(VLOOKUP(__レジメンマスタ[[#This Row],[YJコード⑦]],[1]!__前投薬リスト[#Data],4,FALSE)&\"\",\"\")","v":""}]
["BRE0025","術前キイトルーダ+PTX+CBDCA","  　　　　　 W1  　　　　　 W2  　　　　　 W3  \nPmbro ↓××××××  ×××××××  ×××××××  \nPTX   ↓××××××  ↓××××××  ↓××××××  \nCBDCA ↓××××××  ×××××××  ×××××××  \n1クール3週間、4クール後→キイトルーダ＋EC療法へ","21日","4コース","乳癌","乳腺・内分泌外科","キイトルーダ","危 ｷｲﾄﾙｰﾀﾞ点滴静注 100mg/4mL（希釈液:生食orTZ）","4291435A2025","注射","３０ 分で",200,"BODY","mg",null,"d1",{"$f":"IFERROR(VLOOKUP(__レジメンマスタ[[#This Row],[YJコード①]],[1]!__前投薬リスト[#Data],4,FALSE)&\"\",\"\")","v":""},null,"パクリタキセル","危〈毒〉100mg/16.7mL ﾊﾟｸﾘﾀｷｾﾙ注「NK」（希釈液:生食orTZ）（先:ﾀｷｿｰﾙ）","4240406A2046","注射","１ 時間で",80,"㎡","mg",null,"d1,8,15",{"$f":"IFERROR(VLOOKUP(__レジメンマスタ[[#This Row],[YJコード②]],[1]!__前投薬リスト[#Data],4,FALSE)&\"\",\"\")","v":"抗ヒス,H2B,ステ"},null,"カルボプラチン","危〈毒〉ｶﾙﾎﾞﾌﾟﾗﾁﾝ点滴静注液「NK」150mg/15mL（先:ﾊﾟﾗﾌﾟﾗﾁﾝ）","4291403A2092","注射","１ 時間で",5,"AUC","mg",null,"d1",{"$f":"IFERROR(VLOOKUP(__レジメンマスタ[[#This Row],[YJコード③]],[1]!__前投薬リスト[#Data],4,FALSE)&\"\",\"\")","v":""},null,null,null,null,null,null,null,null,null,null,null,{"$f":"IFERROR(VLOOKUP(__レジメンマスタ[[#This Row],[YJコード④]],[1]!__前投薬リスト[#Data],4,FALSE)&\"\",\"\")","v":""},null,null,null,null,null,null,null,null,null,null,null,{"$f":"IFERROR(VLOOKUP(__レジメンマスタ[[#This Row],[YJコード⑤]],[1]!__前投薬リスト[#Data],4,FALSE)&\"\",\"\")","v":""},null,null,null,null,null,null,null,null,null,null,null,{"$f":"IFERROR(VLOOKUP(__レジメンマスタ[[#This Row],[YJコード⑥]],[1]!__前投薬リスト[#Data],4,FALSE)&\"\",\"\")","v":""},null,null,null,null,null,null,null,null,null,null,null,{"$f":"IFERROR(VLOOKUP(__レジメンマスタ[[#This Row],[YJコード⑦]],[1]!__前投薬リスト[#Data],4,FALSE)&\"\",\"\")","v":""}]
["BRE0026","術前キイトルーダ+EC","  　　　　 　Ｗ1 　　　　  Ｗ2   　　　　Ｗ3  \nPmbro ↓×××××× ××××××× ×××××××  \nEPI   ↓×××××× ××××××× ×××××××  \nCPA   ↓×××××× ××××××× ×××××××  \n4回→手術へ","21日","4コース","乳癌","乳腺・内分泌外科","キイトルーダ","危 ｷｲﾄﾙｰﾀﾞ点滴静注 100mg/4mL（希釈液:生食orTZ）","4291435A2025","注射","３０ 分で",200,"BODY","mg",null,"d1",{"$f":"IFERROR(VLOOKUP(__レジメンマスタ[[#This Row],[YJコード①]],[1]!__前投薬リスト[#Data],4,FALSE)&\"\",\"\")","v":""},null,"エピルビシン","危 50mg ｴﾋﾟﾙﾋﾞｼﾝ塩酸塩注射用「NK」","4235404D2060","注射","１５ 分で",90,"㎡","mg",null,"d1",{"$f":"IFERROR(VLOOKUP(__レジメンマスタ[[#This Row],[YJコード②]],[1]!__前投薬リスト[#Data],4,FALSE)&\"\",\"\")","v":""},null,"エンドキサン","危 注射用ｴﾝﾄﾞｷｻﾝ 500㎎","4211401D2021","注射","３０ 分で",600,"㎡","mg",null,"d1",{"$f":"IFERROR(VLOOKUP(__レジメンマスタ[[#This Row],[YJコード③]],[1]!__前投薬リスト[#Data],4,FALSE)&\"\",\"\")","v":""},null,null,null,null,null,null,null,null,null,null,null,{"$f":"IFERROR(VLOOKUP(__レジメンマスタ[[#This Row],[YJコード④]],[1]!__前投薬リスト[#Data],4,FALSE)&\"\",\"\")","v":""},null,null,null,null,null,null,null,null,null,null,null,{"$f":"IFERROR(VLOOKUP(__レジメンマスタ[[#This Row],[YJコード⑤]],[1]!__前投薬リスト[#Data],4,FALSE)&\"\",\"\")","v":""},null,null,null,null,null,null,null,null,null,null,null,{"$f":"IFERROR(VLOOKUP(__レジメンマスタ[[#This Row],[YJコード⑥]],[1]!__前投薬リスト[#Data],4,FALSE)&\"\",\"\")","v":""},null,null,null,null,null,null,null,null,null,null,null,{"$f":"IFERROR(VLOOKUP(__レジメンマスタ[[#This Row],[YJコード⑦]],[1]!__前投薬リスト[#Data],4,FALSE)&\"\",\"\")","v":""}]
["BRE0027","術後キイトルーダ","   　　　　　W1  　　　　 　　W2　　　　　W3  \nPmbro ↓××××××  ×××××××  ××××××× \n","21日","9回","乳癌","乳腺・内分泌外科","キイトルーダ","危 ｷｲﾄﾙｰﾀﾞ点滴静注 100mg/4mL（希釈液:生食orTZ）","4291435A2025","注射","３０ 分で",200,"BODY","mg",null,"d1",{"$f":"IFERROR(VLOOKUP(__レジメンマスタ[[#This Row],[YJコード①]],[1]!__前投薬リスト[#Data],4,FALSE)&\"\",\"\")","v":""},"9回",null,null,null,null,null,null,null,null,null,null,{"$f":"IFERROR(VLOOKUP(__レジメンマスタ[[#This Row],[YJコード②]],[1]!__前投薬リスト[#Data],4,FALSE)&\"\",\"\")","v":""},null,null,null,null,null,null,null,null,null,null,null,{"$f":"IFERROR(VLOOKUP(__レジメンマスタ[[#This Row],[YJコード③]],[1]!__前投薬リスト[#Data],4,FALSE)&\"\",\"\")","v":""},null,null,null,null,null,null,null,null,null,null,null,{"$f":"IFERROR(VLOOKUP(__レジメンマスタ[[#This Row],[YJコード④]],[1]!__前投薬リスト[#Data],4,FALSE)&\"\",\"\")","v":""},null,null,null,null,null,null,null,null,null,null,null,{"$f":"IFERROR(VLOOKUP(__レジメンマスタ[[#This Row],[YJコード⑤]],[1]!__前投薬リスト[#Data],4,FALSE)&\"\",\"\")","v":""},null,null,null,null,null,null,null,null,null,null,null,{"$f":"IFERROR(VLOOKUP(__レジメンマスタ[[#This Row],[YJコード⑥]],[1]!__前投薬リスト[#Data],4,FALSE)&\"\",\"\")","v":""},null,null,null,null,null,null,null,null,null,null,null,{"$f":"IFERROR(VLOOKUP(__レジメンマスタ[[#This Row],[YJコード⑦]],[1]!__前投薬リスト[#Data],4,FALSE)&\"\",\"\")","v":""}]
["BRE0028","HER+PER+ weekly PTX"," 　　　　　 W1   　　　　　W2 　　　　　  W3  \nPER  ↓××××××  ×××××××  ×××××××  \nTmab ↓××××××  ×××××××  ×××××××  \nPTX  ↓××××××  ↓××××××  ↓××××××  \n！注意！前回投与日から6週間以上のときは初回量に戻す","21日","∞","乳癌（Her2+)","乳腺・内分泌外科","ペルツズマブ(初回)","危 ﾊﾟｰｼﾞｪﾀ点滴静注 420mg/14mL（希釈液:生食）","4291424A1020","注射","６０ 分で",840,"BODY","mg",null,"d1",{"$f":"IFERROR(VLOOKUP(__レジメンマスタ[[#This Row],[YJコード①]],[1]!__前投薬リスト[#Data],4,FALSE)&\"\",\"\")","v":""},null,"ペルツズマブ(2回目～)","危 ﾊﾟｰｼﾞｪﾀ点滴静注 420mg/14mL（希釈液:生食）","4291424A1020","注射","３０ 分で",420,"BODY","mg",null,"d1",{"$f":"IFERROR(VLOOKUP(__レジメンマスタ[[#This Row],[YJコード②]],[1]!__前投薬リスト[#Data],4,FALSE)&\"\",\"\")","v":""},null,"トラスツズマブ(初回）","危 ﾄﾗｽﾂｽﾞﾏﾌﾞBS点滴静注用 150mg「NK」（溶解液:Aq,希釈液:生食）（先:ﾊｰｾﾌﾟﾁﾝ）","4291442D2030","注射","９０ 分で",8,"kg","mg",null,"d1",{"$f":"IFERROR(VLOOKUP(__レジメンマスタ[[#This Row],[YJコード③]],[1]!__前投薬リスト[#Data],4,FALSE)&\"\",\"\")","v":""},null,"トラスツズマブ（2回目以降）","危 ﾄﾗｽﾂｽﾞﾏﾌﾞBS点滴静注用 150mg「NK」（溶解液:Aq,希釈液:生食）（先:ﾊｰｾﾌﾟﾁﾝ）","4291442D2030","注射","３０ 分で",6,"kg","mg",null,"d1",{"$f":"IFERROR(VLOOKUP(__レジメンマスタ[[#This Row],[YJコード④]],[1]!__前投薬リスト[#Data],4,FALSE)&\"\",\"\")","v":""},null,"パクリタキセル","危〈毒〉100mg/16.7mL ﾊﾟｸﾘﾀｷｾﾙ注「NK」（希釈液:生食orTZ）（先:ﾀｷｿｰﾙ）","4240406A2046","注射","１ 時間で",80,"㎡","mg",null,"d1,8,15",{"$f":"IFERROR(VLOOKUP(__レジメンマスタ[[#This Row],[YJコード⑤]],[1]!__前投薬リスト[#Data],4,FALSE)&\"\",\"\")","v":"抗ヒス,H2B,ステ"},null,null,null,null,null,null,null,null,null,null,null,{"$f":"IFERROR(VLOOKUP(__レジメンマスタ[[#This Row],[YJコード⑥]],[1]!__前投薬リスト[#Data],4,FALSE)&\"\",\"\")","v":""},null,null,null,null,null,null,null,null,null,null,null,{"$f":"IFERROR(VLOOKUP(__レジメンマスタ[[#This Row],[YJコード⑦]],[1]!__前投薬リスト[#Data],4,FALSE)&\"\",\"\")","v":""}]
["BRE0029","HER+PER+n-PTX"," 　　　　　 W1   　　　　　W2 　　　　　  W3  \nPER   ↓××××××  ×××××××  ×××××××  \nTmab  ↓××××××  ×××××××  ×××××××  \nn-PTX ↓××××××  ×××××××  ×××××××  \n！注意！前回投与日から6週間以上のときは初回量に戻す","21日","∞","乳癌（Her2+)","乳腺・内分泌外科","ペルツズマブ(初回)","危 ﾊﾟｰｼﾞｪﾀ点滴静注 420mg/14mL（希釈液:生食）","4291424A1020","注射","６０ 分で",840,"BODY","mg",null,"d1",{"$f":"IFERROR(VLOOKUP(__レジメンマスタ[[#This Row],[YJコード①]],[1]!__前投薬リスト[#Data],4,FALSE)&\"\",\"\")","v":""},null,"ペルツズマブ(2回目～)","危 ﾊﾟｰｼﾞｪﾀ点滴静注 420mg/14mL（希釈液:生食）","4291424A1020","注射","３０ 分で",420,"BODY","mg",null,"d1",{"$f":"IFERROR(VLOOKUP(__レジメンマスタ[[#This Row],[YJコード②]],[1]!__前投薬リスト[#Data],4,FALSE)&\"\",\"\")","v":""},null,"トラスツズマブ(初回）","危 ﾄﾗｽﾂｽﾞﾏﾌﾞBS点滴静注用 150mg「NK」（溶解液:Aq,希釈液:生食）（先:ﾊｰｾﾌﾟﾁﾝ）","4291442D2030","注射","９０ 分で",8,"kg","mg",null,"d1",{"$f":"IFERROR(VLOOKUP(__レジメンマスタ[[#This Row],[YJコード③]],[1]!__前投薬リスト[#Data],4,FALSE)&\"\",\"\")","v":""},null,"トラスツズマブ（2回目以降）","危 ﾄﾗｽﾂｽﾞﾏﾌﾞBS点滴静注用 150mg「NK」（溶解液:Aq,希釈液:生食）（先:ﾊｰｾﾌﾟﾁﾝ）","4291442D2030","注射","３０ 分で",6,"kg","mg",null,"d1",{"$f":"IFERROR(VLOOKUP(__レジメンマスタ[[#This Row],[YJコード④]],[1]!__前投薬リスト[#Data],4,FALSE)&\"\",\"\")","v":""},null,"アブラキサン","危〈毒〉ｱﾌﾞﾗｷｻﾝ点滴静注用 100mg","4240409D1023","注射","３０ 分で",260,"㎡","mg",null,"d1",{"$f":"IFERROR(VLOOKUP(__レジメンマスタ[[#This Row],[YJコード⑤]],[1]!__前投薬リスト[#Data],4,FALSE)&\"\",\"\")","v":""},null,null,null,null,null,null,null,null,null,null,null,{"$f":"IFERROR(VLOOKUP(__レジメンマスタ[[#This Row],[YJコード⑥]],[1]!__前投薬リスト[#Data],4,FALSE)&\"\",\"\")","v":""},null,null,null,null,null,null,null,null,null,null,null,{"$f":"IFERROR(VLOOKUP(__レジメンマスタ[[#This Row],[YJコード⑦]],[1]!__前投薬リスト[#Data],4,FALSE)&\"\",\"\")","v":""}]
["BRE0030","DTX+フェスゴ","（※フェスゴの用量はPmabとTmabを合算して表示）\n                W1             W2              W3  \nフェスゴ  ↓××××××  ×××××××  ×××××××  \nDOC       ↓××××××  ×××××××  ×××××××  \n！注意！前回投与日から6週間以上のときは初回量に戻す\nパージェタ＋トラスツズマブより切り替えの場合：\n前回投与より6週未満→MA,6週以上→IN","21日","∞","乳癌（Her2+)","乳腺・内分泌外科","IN フェスゴ(初回量)","危 IN ﾌｪｽｺﾞ配合皮下注 15mL（P 1200mg+T 600mg）","4291501A2024","皮下","８分以上かけて大腿に皮下注射",1800,"BODY","mg",null,"d1",{"$f":"IFERROR(VLOOKUP(__レジメンマスタ[[#This Row],[YJコード①]],[1]!__前投薬リスト[#Data],4,FALSE)&\"\",\"\")","v":""},null,"MA フェスゴ(2回目～)","危 MA ﾌｪｽｺﾞ配合皮下注 10mL（P 600mg+T 600mg）","4291501A1028","皮下","５分以上かけて大腿に皮下注射",1200,"BODY","mg",null,"d1",{"$f":"IFERROR(VLOOKUP(__レジメンマスタ[[#This Row],[YJコード②]],[1]!__前投薬リスト[#Data],4,FALSE)&\"\",\"\")","v":""},null,"ドセタキセル","危〈毒〉80㎎/4mL ﾄﾞｾﾀｷｾﾙ点滴静注「ﾆﾌﾟﾛ」（先:ﾀｷｿﾃｰﾙ）","4240405A4109","注射","１ 時間で",75,"㎡","mg",null,"d1",{"$f":"IFERROR(VLOOKUP(__レジメンマスタ[[#This Row],[YJコード③]],[1]!__前投薬リスト[#Data],4,FALSE)&\"\",\"\")","v":""},null,null,null,null,null,null,null,null,null,null,null,{"$f":"IFERROR(VLOOKUP(__レジメンマスタ[[#This Row],[YJコード④]],[1]!__前投薬リスト[#Data],4,FALSE)&\"\",\"\")","v":""},null,null,null,null,null,null,null,null,null,null,null,{"$f":"IFERROR(VLOOKUP(__レジメンマスタ[[#This Row],[YJコード⑤]],[1]!__前投薬リスト[#Data],4,FALSE)&\"\",\"\")","v":""},null,null,null,null,null,null,null,null,null,null,null,{"$f":"IFERROR(VLOOKUP(__レジメンマスタ[[#This Row],[YJコード⑥]],[1]!__前投薬リスト[#Data],4,FALSE)&\"\",\"\")","v":""},null,null,null,null,null,null,null,null,null,null,null,{"$f":"IFERROR(VLOOKUP(__レジメンマスタ[[#This Row],[YJコード⑦]],[1]!__前投薬リスト[#Data],4,FALSE)&\"\",\"\")","v":""}]
["BRE0031","weekly PTX+フェスゴ","（※フェスゴの用量はPmabとTmabを合算して表示）\n                 W1            W2             W3  \nフェスゴ  ↓××××××  ×××××××  ×××××××  \nPTX       ↓××××××  ↓××××××  ↓××××××  \n！注意！前回投与日から6週間以上のときは初回量に戻す\nパージェタ＋トラスツズマブより切り替えの場合：\n前回投与より6週未満→MA,6週以上→IN","21日","∞","乳癌（Her2+)","乳腺・内分泌外科","IN フェスゴ(初回量)","危 IN ﾌｪｽｺﾞ配合皮下注 15mL（P 1200mg+T 600mg）","4291501A2024","皮下","８分以上かけて大腿に皮下注射",1800,"BODY","mg",null,"d1",{"$f":"IFERROR(VLOOKUP(__レジメンマスタ[[#This Row],[YJコード①]],[1]!__前投薬リスト[#Data],4,FALSE)&\"\",\"\")","v":""},null,"MA フェスゴ(2回目～)","危 MA ﾌｪｽｺﾞ配合皮下注 10mL（P 600mg+T 600mg）","4291501A1028","皮下","５分以上かけて大腿に皮下注射",1200,"BODY","mg",null,"d1",{"$f":"IFERROR(VLOOKUP(__レジメンマスタ[[#This Row],[YJコード②]],[1]!__前投薬リスト[#Data],4,FALSE)&\"\",\"\")","v":""},null,"パクリタキセル","危〈毒〉100mg/16.7mL ﾊﾟｸﾘﾀｷｾﾙ注「NK」（希釈液:生食orTZ）（先:ﾀｷｿｰﾙ）","4240406A2046","注射","１ 時間で",80,"㎡","mg",null,"d1,8,15",{"$f":"IFERROR(VLOOKUP(__レジメンマスタ[[#This Row],[YJコード③]],[1]!__前投薬リスト[#Data],4,FALSE)&\"\",\"\")","v":"抗ヒス,H2B,ステ"},null,null,null,null,null,null,null,null,null,null,null,{"$f":"IFERROR(VLOOKUP(__レジメンマスタ[[#This Row],[YJコード④]],[1]!__前投薬リスト[#Data],4,FALSE)&\"\",\"\")","v":""},null,null,null,null,null,null,null,null,null,null,null,{"$f":"IFERROR(VLOOKUP(__レジメンマスタ[[#This Row],[YJコード⑤]],[1]!__前投薬リスト[#Data],4,FALSE)&\"\",\"\")","v":""},null,null,null,null,null,null,null,null,null,null,null,{"$f":"IFERROR(VLOOKUP(__レジメンマスタ[[#This Row],[YJコード⑥]],[1]!__前投薬リスト[#Data],4,FALSE)&\"\",\"\")","v":""},null,null,null,null,null,null,null,null,null,null,null,{"$f":"IFERROR(VLOOKUP(__レジメンマスタ[[#This Row],[YJコード⑦]],[1]!__前投薬リスト[#Data],4,FALSE)&\"\",\"\")","v":""}]
["BRE0032","n-PTX+フェスゴ","（※フェスゴの用量はPmabとTmabを合算して表示）\n                W1             W2              W3  \nフェスゴ  ↓××××××  ×××××××  ×××××××  \nn-PTX     ↓××××××  ×××××××  ×××××××  \n！注意！前回投与日から6週間以上のときは初回量に戻す\nパージェタ＋トラスツズマブより切り替えの場合：\n前回投与より6週未満→MA,6週以上→IN","21日","∞","乳癌（Her2+)","乳腺・内分泌外科","IN フェスゴ(初回量)","危 IN ﾌｪｽｺﾞ配合皮下注 15mL（P 1200mg+T 600mg）","4291501A2024","皮下","８分以上かけて大腿に皮下注射",1800,"BODY","mg",null,"d1",{"$f":"IFERROR(VLOOKUP(__レジメンマスタ[[#This Row],[YJコード①]],[1]!__前投薬リスト[#Data],4,FALSE)&\"\",\"\")","v":""},null,"MA フェスゴ(2回目～)","危 MA ﾌｪｽｺﾞ配合皮下注 10mL（P 600mg+T 600mg）","4291501A1028","皮下","５分以上かけて大腿に皮下注射",1200,"BODY","mg",null,"d1",{"$f":"IFERROR(VLOOKUP(__レジメンマスタ[[#This Row],[YJコード②]],[1]!__前投薬リスト[#Data],4,FALSE)&\"\",\"\")","v":""},null,"アブラキサン","危〈毒〉ｱﾌﾞﾗｷｻﾝ点滴静注用 100mg","4240409D1023","注射","３０ 分で",260,"㎡","mg",null,"d1",{"$f":"IFERROR(VLOOKUP(__レジメンマスタ[[#This Row],[YJコード③]],[1]!__前投薬リスト[#Data],4,FALSE)&\"\",\"\")","v":""},null,null,null,null,null,null,null,null,null,null,null,{"$f":"IFERROR(VLOOKUP(__レジメンマスタ[[#This Row],[YJコード④]],[1]!__前投薬リスト[#Data],4,FALSE)&\"\",\"\")","v":""},null,null,null,null,null,null,null,null,null,null,null,{"$f":"IFERROR(VLOOKUP(__レジメンマスタ[[#This Row],[YJコード⑤]],[1]!__前投薬リスト[#Data],4,FALSE)&\"\",\"\")","v":""},null,null,null,null,null,null,null,null,null,null,null,{"$f":"IFERROR(VLOOKUP(__レジメンマスタ[[#This Row],[YJコード⑥]],[1]!__前投薬リスト[#Data],4,FALSE)&\"\",\"\")","v":""},null,null,null,null,null,null,null,null,null,null,null,{"$f":"IFERROR(VLOOKUP(__レジメンマスタ[[#This Row],[YJコード⑦]],[1]!__前投薬リスト[#Data],4,FALSE)&\"\",\"\")","v":""}]
["BRE0033","フェスゴ単剤","（※フェスゴの用量はPmabとTmabを合算して表示）\n                W1             W2              W3  \nフェスゴ  ↓××××××  ×××××××  ×××××××  \n！注意！前回投与日から6週間以上のときは初回量に戻す\nパージェタ＋トラスツズマブより切り替えの場合：\n前回投与より6週未満→MA,6週以上→IN","21日","∞","乳癌（Her2+)","乳腺・内分泌外科","IN フェスゴ(初回量)","危 IN ﾌｪｽｺﾞ配合皮下注 15mL（P 1200mg+T 600mg）","4291501A2024","皮下","８分以上かけて大腿に皮下注射",1800,"BODY","mg",null,"d1",{"$f":"IFERROR(VLOOKUP(__レジメンマスタ[[#This Row],[YJコード①]],[1]!__前投薬リスト[#Data],4,FALSE)&\"\",\"\")","v":""},null,"MA フェスゴ(2回目～)","危 MA ﾌｪｽｺﾞ配合皮下注 10mL（P 600mg+T 600mg）","4291501A1028","皮下","５分以上かけて大腿に皮下注射",1200,"BODY","mg",null,"d1",{"$f":"IFERROR(VLOOKUP(__レジメンマスタ[[#This Row],[YJコード②]],[1]!__前投薬リスト[#Data],4,FALSE)&\"\",\"\")","v":""},null,null,null,null,null,null,null,null,null,null,null,{"$f":"IFERROR(VLOOKUP(__レジメンマスタ[[#This Row],[YJコード③]],[1]!__前投薬リスト[#Data],4,FALSE)&\"\",\"\")","v":""},null,null,null,null,null,null,null,null,null,null,null,{"$f":"IFERROR(VLOOKUP(__レジメンマスタ[[#This Row],[YJコード④]],[1]!__前投薬リスト[#Data],4,FALSE)&\"\",\"\")","v":""},null,null,null,null,null,null,null,null,null,null,null,{"$f":"IFERROR(VLOOKUP(__レジメンマスタ[[#This Row],[YJコード⑤]],[1]!__前投薬リスト[#Data],4,FALSE)&\"\",\"\")","v":""},null,null,null,null,null,null,null,null,null,null,null,{"$f":"IFERROR(VLOOKUP(__レジメンマスタ[[#This Row],[YJコード⑥]],[1]!__前投薬リスト[#Data],4,FALSE)&\"\",\"\")","v":""},null,null,null,null,null,null,null,null,null,null,null,{"$f":"IFERROR(VLOOKUP(__レジメンマスタ[[#This Row],[YJコード⑦]],[1]!__前投薬リスト[#Data],4,FALSE)&\"\",\"\")","v":""}]
["BRE0034","ダトロウェイ","   　　　　　   W1              W2              W3  \nﾀﾞﾄﾛｳｪｲ　 ↓××××××   ×××××××   ×××××××  \n","21日","∞","乳癌","乳腺・内分泌外科","ダトロウェイ","ダトロウェイ点滴静注用１００ｍｇ","4291474D1025","注射",null,6,"kg","mg",null,"d1",{"$f":"IFERROR(VLOOKUP(__レジメンマスタ[[#This Row],[YJコード①]],[1]!__前投薬リスト[#Data],4,FALSE)&\"\",\"\")","v":"抗ヒス,ステ,解"},null,null,null,null,null,null,null,null,null,null,null,null,null,null,null,null,null,null,null,null,null,null,null,null,null,null,null,null,null,null,null,null,null,null,null,null,null,null,null,null,null,null,null,null,null,null,null,null,null,null,null,null,null,null,null,null,null,null,null,null,null,null,null,null,null,null,null,null,null,null,null,{"$f":"IFERROR(VLOOKUP(__レジメンマスタ[[#This Row],[YJコード⑦]],[1]!__前投薬リスト[#Data],4,FALSE)&\"\",\"\")","v":""}]
["BRE0035","トロデルビ","　　　　　　　Ｗ1        　　 Ｗ2 　     　　Ｗ3 \nﾄﾛﾃﾞﾙﾋﾞ  ↓×××××× ↓×××××× ××××××× \n\nトロデルビ：適正希釈量\n275mg未満：100mL、275～850mg:250mL、850mg以上：500mL\n（★デフォルトは250mLなので、275mg未満・850mg以上は変更する★）","21日","∞","乳癌","乳腺・内分泌外科","トロデルビ","トロデルビ点滴静注用２００ｍｇ","4291472D1026","注射",null,10,"kg","mg",null,"d1,8",{"$f":"IFERROR(VLOOKUP(__レジメンマスタ[[#This Row],[YJコード①]],[1]!__前投薬リスト[#Data],4,FALSE)&\"\",\"\")","v":"抗ヒス,H2B,ステ,解"},null,null,null,null,null,null,null,null,null,null,null,null,null,null,null,null,null,null,null,null,null,null,null,null,null,null,null,null,null,null,null,null,null,null,null,null,null,null,null,null,null,null,null,null,null,null,null,null,null,null,null,null,null,null,null,null,null,null,null,null,null,null,null,null,null,null,null,null,null,null,null,{"$f":"IFERROR(VLOOKUP(__レジメンマスタ[[#This Row],[YJコード⑦]],[1]!__前投薬リスト[#Data],4,FALSE)&\"\",\"\")","v":""}]
[null,null,null,null,null,null,null,null,null,null,null,null,null,null,null,null,null,{"$f":"IFERROR(VLOOKUP(__レジメンマスタ[[#This Row],[YJコード①]],[1]!__前投薬リスト[#Data],4,FALSE)&\"\",\"\")","v":""},null,null,null,null,null,null,null,null,null,null,null,null,null,null,null,null,null,null,null,null,null,null,null,null,null,null,null,null,null,null,null,null,null,null,null,null,null,null,null,null,null,null,null,null,null,null,null,null,null,null,null,null,null,null,null,null,null,null,null,null,null,null,null,null,null,null,null,null,null,null,null,{"$f":"IFERROR(VLOOKUP(__レジメンマスタ[[#This Row],[YJコード⑦]],[1]!__前投薬リスト[#Data],4,FALSE)&\"\",\"\")","v":""}]
["DEN0001-01","CDDP+RT","           W1             W2              W3  \nCDDP ↓××××××  ×××××××  ×××××××  \n3回（放射線併用期間）","21日","3回","口腔癌","歯科口腔外科","シスプラチン","危〈毒〉50mg/100mL ｼｽﾌﾟﾗﾁﾝ点滴静注「ﾏﾙｺ」（先:ﾗﾝﾀﾞ）","4291401A3111","注射","２ 時間で",100,"㎡","mg",null,"d1",{"$f":"IFERROR(VLOOKUP(__レジメンマスタ[[#This Row],[YJコード①]],[1]!__前投薬リスト[#Data],4,FALSE)&\"\",\"\")","v":""},null,null,null,null,null,null,null,null,null,null,null,{"$f":"IFERROR(VLOOKUP(__レジメンマスタ[[#This Row],[YJコード②]],[1]!__前投薬リスト[#Data],4,FALSE)&\"\",\"\")","v":""},null,null,null,null,null,null,null,null,null,null,null,{"$f":"IFERROR(VLOOKUP(__レジメンマスタ[[#This Row],[YJコード③]],[1]!__前投薬リスト[#Data],4,FALSE)&\"\",\"\")","v":""},null,null,null,null,null,null,null,null,null,null,null,{"$f":"IFERROR(VLOOKUP(__レジメンマスタ[[#This Row],[YJコード④]],[1]!__前投薬リスト[#Data],4,FALSE)&\"\",\"\")","v":""},null,null,null,null,null,null,null,null,null,null,null,{"$f":"IFERROR(VLOOKUP(__レジメンマスタ[[#This Row],[YJコード⑤]],[1]!__前投薬リスト[#Data],4,FALSE)&\"\",\"\")","v":""},null,null,null,null,null,null,null,null,null,null,null,{"$f":"IFERROR(VLOOKUP(__レジメンマスタ[[#This Row],[YJコード⑥]],[1]!__前投薬リスト[#Data],4,FALSE)&\"\",\"\")","v":""},null,null,null,null,null,null,null,null,null,null,null,{"$f":"IFERROR(VLOOKUP(__レジメンマスタ[[#This Row],[YJコード⑦]],[1]!__前投薬リスト[#Data],4,FALSE)&\"\",\"\")","v":""}]
["DEN0002-1","Cmab＋Rt","　　　　　   W1  　　　　　 W2 　　　　　  W3  \nCetu  ↓××××××  ↓××××××  ↓××××××  \n","7日","∞","口腔癌","歯科口腔外科","アービタックス（初回）","危 ｱｰﾋﾞﾀｯｸｽ注射液 100㎎/20mL","4291415A1021","注射","２ 時間で",400,"㎡","mg",null,"d1",{"$f":"IFERROR(VLOOKUP(__レジメンマスタ[[#This Row],[YJコード①]],[1]!__前投薬リスト[#Data],4,FALSE)&\"\",\"\")","v":"抗ヒス,(ステ)"},null,"アービタックス（2回目以降～）","危 ｱｰﾋﾞﾀｯｸｽ注射液 100㎎/20mL","4291415A1021","注射","１ 時間で",250,"㎡","mg",null,"d1",{"$f":"IFERROR(VLOOKUP(__レジメンマスタ[[#This Row],[YJコード②]],[1]!__前投薬リスト[#Data],4,FALSE)&\"\",\"\")","v":"抗ヒス,(ステ)"},null,null,null,null,null,null,null,null,null,null,null,{"$f":"IFERROR(VLOOKUP(__レジメンマスタ[[#This Row],[YJコード③]],[1]!__前投薬リスト[#Data],4,FALSE)&\"\",\"\")","v":""},null,null,null,null,null,null,null,null,null,null,null,{"$f":"IFERROR(VLOOKUP(__レジメンマスタ[[#This Row],[YJコード④]],[1]!__前投薬リスト[#Data],4,FALSE)&\"\",\"\")","v":""},null,null,null,null,null,null,null,null,null,null,null,{"$f":"IFERROR(VLOOKUP(__レジメンマスタ[[#This Row],[YJコード⑤]],[1]!__前投薬リスト[#Data],4,FALSE)&\"\",\"\")","v":""},null,null,null,null,null,null,null,null,null,null,null,{"$f":"IFERROR(VLOOKUP(__レジメンマスタ[[#This Row],[YJコード⑥]],[1]!__前投薬リスト[#Data],4,FALSE)&\"\",\"\")","v":""},null,null,null,null,null,null,null,null,null,null,null,{"$f":"IFERROR(VLOOKUP(__レジメンマスタ[[#This Row],[YJコード⑦]],[1]!__前投薬リスト[#Data],4,FALSE)&\"\",\"\")","v":""}]
["DER0001","DAV-フェロン療法","ガイドラインより術後補助化学療法として推奨されないため移行処理を行わない\n投与が検討される場合はケモチームへ相談",null,null,"悪性黒色腫","皮膚科",null,null,null,null,null,null,null,null,null,null,{"$f":"IFERROR(VLOOKUP(__レジメンマスタ[[#This Row],[YJコード①]],[1]!__前投薬リスト[#Data],4,FALSE)&\"\",\"\")","v":""},null,null,null,null,null,null,null,null,null,null,null,{"$f":"IFERROR(VLOOKUP(__レジメンマスタ[[#This Row],[YJコード②]],[1]!__前投薬リスト[#Data],4,FALSE)&\"\",\"\")","v":""},null,null,null,null,null,null,null,null,null,null,null,{"$f":"IFERROR(VLOOKUP(__レジメンマスタ[[#This Row],[YJコード③]],[1]!__前投薬リスト[#Data],4,FALSE)&\"\",\"\")","v":""},null,null,null,null,null,null,null,null,null,null,null,{"$f":"IFERROR(VLOOKUP(__レジメンマスタ[[#This Row],[YJコード④]],[1]!__前投薬リスト[#Data],4,FALSE)&\"\",\"\")","v":""},null,null,null,null,null,null,null,null,null,null,null,{"$f":"IFERROR(VLOOKUP(__レジメンマスタ[[#This Row],[YJコード⑤]],[1]!__前投薬リスト[#Data],4,FALSE)&\"\",\"\")","v":""},null,null,null,null,null,null,null,null,null,null,null,{"$f":"IFERROR(VLOOKUP(__レジメンマスタ[[#This Row],[YJコード⑥]],[1]!__前投薬リスト[#Data],4,FALSE)&\"\",\"\")","v":""},null,null,null,null,null,null,null,null,null,null,null,{"$f":"IFERROR(VLOOKUP(__レジメンマスタ[[#This Row],[YJコード⑦]],[1]!__前投薬リスト[#Data],4,FALSE)&\"\",\"\")","v":""}]
["DER0004-1","オプジーボ","  　　　　　　　　　 W1 　　　　　  W2  \nオプジーボ   ↓××××××   ×××××××  \n","14日","∞","悪性黒色腫","皮膚科","オプジーボ","危 240mg/24mL ｵﾌﾟｼﾞｰﾎﾞ点滴静注（希釈液:生食orTZ）","4291427A3027","注射","３０ 分で",240,"BODY","mg","最小","d1",{"$f":"IFERROR(VLOOKUP(__レジメンマスタ[[#This Row],[YJコード①]],[1]!__前投薬リスト[#Data],4,FALSE)&\"\",\"\")","v":""},null,null,null,null,null,null,null,null,null,null,null,{"$f":"IFERROR(VLOOKUP(__レジメンマスタ[[#This Row],[YJコード②]],[1]!__前投薬リスト[#Data],4,FALSE)&\"\",\"\")","v":""},null,null,null,null,null,null,null,null,null,null,null,{"$f":"IFERROR(VLOOKUP(__レジメンマスタ[[#This Row],[YJコード③]],[1]!__前投薬リスト[#Data],4,FALSE)&\"\",\"\")","v":""},null,null,null,null,null,null,null,null,null,null,null,{"$f":"IFERROR(VLOOKUP(__レジメンマスタ[[#This Row],[YJコード④]],[1]!__前投薬リスト[#Data],4,FALSE)&\"\",\"\")","v":""},null,null,null,null,null,null,null,null,null,null,null,{"$f":"IFERROR(VLOOKUP(__レジメンマスタ[[#This Row],[YJコード⑤]],[1]!__前投薬リスト[#Data],4,FALSE)&\"\",\"\")","v":""},null,null,null,null,null,null,null,null,null,null,null,{"$f":"IFERROR(VLOOKUP(__レジメンマスタ[[#This Row],[YJコード⑥]],[1]!__前投薬リスト[#Data],4,FALSE)&\"\",\"\")","v":""},null,null,null,null,null,null,null,null,null,null,null,{"$f":"IFERROR(VLOOKUP(__レジメンマスタ[[#This Row],[YJコード⑦]],[1]!__前投薬リスト[#Data],4,FALSE)&\"\",\"\")","v":""}]
["DER0005","ヤーボイ（イピリムマブ）","  　　　　　　　　 W1  　　　　 W2～W3  \nヤーボイ   ↓××××××   ×××××××  \n","21日","4回","悪性黒色腫","皮膚科","ヤーボイ","危 臨）50mg/10mL ﾔｰﾎﾞｲ点滴静注液","4291430A1026","注射","３０ 分で",3,"kg","mg",null,"d1",{"$f":"IFERROR(VLOOKUP(__レジメンマスタ[[#This Row],[YJコード①]],[1]!__前投薬リスト[#Data],4,FALSE)&\"\",\"\")","v":""},null,null,null,null,null,null,null,null,null,null,null,{"$f":"IFERROR(VLOOKUP(__レジメンマスタ[[#This Row],[YJコード②]],[1]!__前投薬リスト[#Data],4,FALSE)&\"\",\"\")","v":""},null,null,null,null,null,null,null,null,null,null,null,{"$f":"IFERROR(VLOOKUP(__レジメンマスタ[[#This Row],[YJコード③]],[1]!__前投薬リスト[#Data],4,FALSE)&\"\",\"\")","v":""},null,null,null,null,null,null,null,null,null,null,null,{"$f":"IFERROR(VLOOKUP(__レジメンマスタ[[#This Row],[YJコード④]],[1]!__前投薬リスト[#Data],4,FALSE)&\"\",\"\")","v":""},null,null,null,null,null,null,null,null,null,null,null,{"$f":"IFERROR(VLOOKUP(__レジメンマスタ[[#This Row],[YJコード⑤]],[1]!__前投薬リスト[#Data],4,FALSE)&\"\",\"\")","v":""},null,null,null,null,null,null,null,null,null,null,null,{"$f":"IFERROR(VLOOKUP(__レジメンマスタ[[#This Row],[YJコード⑥]],[1]!__前投薬リスト[#Data],4,FALSE)&\"\",\"\")","v":""},null,null,null,null,null,null,null,null,null,null,null,{"$f":"IFERROR(VLOOKUP(__レジメンマスタ[[#This Row],[YJコード⑦]],[1]!__前投薬リスト[#Data],4,FALSE)&\"\",\"\")","v":""}]
["DER0006","CDDP+ADM","★保険適応外：要適応外申請書★\n   　　　　　 W1　　　　   W2　　　　　   W3 \nCDDP  ↓×××××× ×××××××  ×××××××  \nDXR   ↓×××××× ×××××××  ×××××××  \n10コースまで（DXR：500mg/㎡まで）","21日","10回",null,null,"シスプラチン","危〈毒〉50mg/100mL ｼｽﾌﾟﾗﾁﾝ点滴静注「ﾏﾙｺ」（先:ﾗﾝﾀﾞ）","4291401A3111","注射","２ 時間で",75,"㎡","mg",null,"d1",{"$f":"IFERROR(VLOOKUP(__レジメンマスタ[[#This Row],[YJコード①]],[1]!__前投薬リスト[#Data],4,FALSE)&\"\",\"\")","v":""},null,"ドキソルビシン","危 50mg ﾄﾞｷｿﾙﾋﾞｼﾝ塩酸塩注射用「NK」（溶解液:生食orAq）（先:ｱﾄﾞﾘｱｼﾝ）","4235402D2028","注射","３０ 分で",50,"㎡","mg",null,"d1",{"$f":"IFERROR(VLOOKUP(__レジメンマスタ[[#This Row],[YJコード②]],[1]!__前投薬リスト[#Data],4,FALSE)&\"\",\"\")","v":""},null,null,null,null,null,null,null,null,null,null,null,{"$f":"IFERROR(VLOOKUP(__レジメンマスタ[[#This Row],[YJコード③]],[1]!__前投薬リスト[#Data],4,FALSE)&\"\",\"\")","v":""},null,null,null,null,null,null,null,null,null,null,null,{"$f":"IFERROR(VLOOKUP(__レジメンマスタ[[#This Row],[YJコード④]],[1]!__前投薬リスト[#Data],4,FALSE)&\"\",\"\")","v":""},null,null,null,null,null,null,null,null,null,null,null,{"$f":"IFERROR(VLOOKUP(__レジメンマスタ[[#This Row],[YJコード⑤]],[1]!__前投薬リスト[#Data],4,FALSE)&\"\",\"\")","v":""},null,null,null,null,null,null,null,null,null,null,null,{"$f":"IFERROR(VLOOKUP(__レジメンマスタ[[#This Row],[YJコード⑥]],[1]!__前投薬リスト[#Data],4,FALSE)&\"\",\"\")","v":""},null,null,null,null,null,null,null,null,null,null,null,{"$f":"IFERROR(VLOOKUP(__レジメンマスタ[[#This Row],[YJコード⑦]],[1]!__前投薬リスト[#Data],4,FALSE)&\"\",\"\")","v":""}]
["GYN0003-A1","Triweekly TC","              W1             W2              W3  \nPTX    ↓××××××  ×××××××  ×××××××  \nCBDCA  ↓××××××  ×××××××  ×××××××  \n★CBDCAはAUC5～6★\n6ヶ月以上の間隔をあけて再投与可","21日","6回","卵巣癌","産婦人科","カルボプラチン","危〈毒〉ｶﾙﾎﾞﾌﾟﾗﾁﾝ点滴静注液「NK」150mg/15mL（先:ﾊﾟﾗﾌﾟﾗﾁﾝ）","4291403A2092","注射","１ 時間で",6,"AUC","mg",null,"d1",{"$f":"IFERROR(VLOOKUP(__レジメンマスタ[[#This Row],[YJコード①]],[1]!__前投薬リスト[#Data],4,FALSE)&\"\",\"\")","v":""},null,"パクリタキセル","危〈毒〉100mg/16.7mL ﾊﾟｸﾘﾀｷｾﾙ注「NK」（希釈液:生食orTZ）（先:ﾀｷｿｰﾙ）","4240406A2046","注射","３ 時間で",175,"㎡","mg",null,"d1",{"$f":"IFERROR(VLOOKUP(__レジメンマスタ[[#This Row],[YJコード②]],[1]!__前投薬リスト[#Data],4,FALSE)&\"\",\"\")","v":"抗ヒス,H2B,ステ"},null,null,null,null,null,null,null,null,null,null,null,{"$f":"IFERROR(VLOOKUP(__レジメンマスタ[[#This Row],[YJコード③]],[1]!__前投薬リスト[#Data],4,FALSE)&\"\",\"\")","v":""},null,null,null,null,null,null,null,null,null,null,null,{"$f":"IFERROR(VLOOKUP(__レジメンマスタ[[#This Row],[YJコード④]],[1]!__前投薬リスト[#Data],4,FALSE)&\"\",\"\")","v":""},null,null,null,null,null,null,null,null,null,null,null,{"$f":"IFERROR(VLOOKUP(__レジメンマスタ[[#This Row],[YJコード⑤]],[1]!__前投薬リスト[#Data],4,FALSE)&\"\",\"\")","v":""},null,null,null,null,null,null,null,null,null,null,null,{"$f":"IFERROR(VLOOKUP(__レジメンマスタ[[#This Row],[YJコード⑥]],[1]!__前投薬リスト[#Data],4,FALSE)&\"\",\"\")","v":""},null,null,null,null,null,null,null,null,null,null,null,{"$f":"IFERROR(VLOOKUP(__レジメンマスタ[[#This Row],[YJコード⑦]],[1]!__前投薬リスト[#Data],4,FALSE)&\"\",\"\")","v":""}]
["GYN0003-A2","【適応外】Triweekly TC","              W1             W2              W3  \nPTX    ↓××××××  ×××××××  ×××××××  \nCBDCA  ↓××××××  ×××××××  ×××××××  \n★CBDCAはAUC5～6★","21日","6回","子宮体癌","産婦人科","カルボプラチン","危〈毒〉ｶﾙﾎﾞﾌﾟﾗﾁﾝ点滴静注液「NK」150mg/15mL（先:ﾊﾟﾗﾌﾟﾗﾁﾝ）","4291403A2092","注射","１ 時間で",6,"AUC","mg",null,"d1",{"$f":"IFERROR(VLOOKUP(__レジメンマスタ[[#This Row],[YJコード①]],[1]!__前投薬リスト[#Data],4,FALSE)&\"\",\"\")","v":""},null,"パクリタキセル","危〈毒〉100mg/16.7mL ﾊﾟｸﾘﾀｷｾﾙ注「NK」（希釈液:生食orTZ）（先:ﾀｷｿｰﾙ）","4240406A2046","注射","３ 時間で",175,"㎡","mg",null,"d1",{"$f":"IFERROR(VLOOKUP(__レジメンマスタ[[#This Row],[YJコード②]],[1]!__前投薬リスト[#Data],4,FALSE)&\"\",\"\")","v":"抗ヒス,H2B,ステ"},null,null,null,null,null,null,null,null,null,null,null,{"$f":"IFERROR(VLOOKUP(__レジメンマスタ[[#This Row],[YJコード③]],[1]!__前投薬リスト[#Data],4,FALSE)&\"\",\"\")","v":""},null,null,null,null,null,null,null,null,null,null,null,{"$f":"IFERROR(VLOOKUP(__レジメンマスタ[[#This Row],[YJコード④]],[1]!__前投薬リスト[#Data],4,FALSE)&\"\",\"\")","v":""},null,null,null,null,null,null,null,null,null,null,null,{"$f":"IFERROR(VLOOKUP(__レジメンマスタ[[#This Row],[YJコード⑤]],[1]!__前投薬リスト[#Data],4,FALSE)&\"\",\"\")","v":""},null,null,null,null,null,null,null,null,null,null,null,{"$f":"IFERROR(VLOOKUP(__レジメンマスタ[[#This Row],[YJコード⑥]],[1]!__前投薬リスト[#Data],4,FALSE)&\"\",\"\")","v":""},null,null,null,null,null,null,null,null,null,null,null,{"$f":"IFERROR(VLOOKUP(__レジメンマスタ[[#This Row],[YJコード⑦]],[1]!__前投薬リスト[#Data],4,FALSE)&\"\",\"\")","v":""}]
["GYN0005","DJ","              W1             W2              W3  \nDOC    ↓××××××  ×××××××  ×××××××  \nCBDCA  ↓××××××  ×××××××  ×××××××  \n★CBDCAはAUC5～6★\n6ヶ月以上の間隔をあけて再投与可","21日","6回","卵巣癌","外科","ドセタキセル","危〈毒〉80㎎/4mL ﾄﾞｾﾀｷｾﾙ点滴静注「ﾆﾌﾟﾛ」（先:ﾀｷｿﾃｰﾙ）","4240405A4109","注射","１　時間で",70,"㎡","mg",null,"d1",{"$f":"IFERROR(VLOOKUP(__レジメンマスタ[[#This Row],[YJコード①]],[1]!__前投薬リスト[#Data],4,FALSE)&\"\",\"\")","v":""},null,"カルボプラチン","危〈毒〉ｶﾙﾎﾞﾌﾟﾗﾁﾝ点滴静注液「NK」150mg/15mL（先:ﾊﾟﾗﾌﾟﾗﾁﾝ）","4291403A2092","注射","１ 時間で",6,"AUC","mg",null,"d1",{"$f":"IFERROR(VLOOKUP(__レジメンマスタ[[#This Row],[YJコード②]],[1]!__前投薬リスト[#Data],4,FALSE)&\"\",\"\")","v":""},null,null,null,null,null,null,null,null,null,null,null,{"$f":"IFERROR(VLOOKUP(__レジメンマスタ[[#This Row],[YJコード③]],[1]!__前投薬リスト[#Data],4,FALSE)&\"\",\"\")","v":""},null,null,null,null,null,null,null,null,null,null,null,{"$f":"IFERROR(VLOOKUP(__レジメンマスタ[[#This Row],[YJコード④]],[1]!__前投薬リスト[#Data],4,FALSE)&\"\",\"\")","v":""},null,null,null,null,null,null,null,null,null,null,null,{"$f":"IFERROR(VLOOKUP(__レジメンマスタ[[#This Row],[YJコード⑤]],[1]!__前投薬リスト[#Data],4,FALSE)&\"\",\"\")","v":""},null,null,null,null,null,null,null,null,null,null,null,{"$f":"IFERROR(VLOOKUP(__レジメンマスタ[[#This Row],[YJコード⑥]],[1]!__前投薬リスト[#Data],4,FALSE)&\"\",\"\")","v":""},null,null,null,null,null,null,null,null,null,null,null,{"$f":"IFERROR(VLOOKUP(__レジメンマスタ[[#This Row],[YJコード⑦]],[1]!__前投薬リスト[#Data],4,FALSE)&\"\",\"\")","v":""}]
["GYN0007","CPT-11+CDGP","　　　　　　 　W1  　　　　 W2  　　　　　 W3  　　　　　 W4  \nCPT-11 ↓×××××× ↓×××××× ↓×××××× ×××××××  \nCDGP　 ↓×××××× ××××××× ××××××× ×××××××  \n","28日","6回","子宮頚癌","産婦人科","イリノテカン","危 100mg/5mL ｲﾘﾉﾃｶﾝ塩酸塩点滴静注液「NK」（先:ﾄﾎﾟﾃｼﾝ）","4240404A2055","注射",null,50,"㎡","mg",null,"d1,8,15",{"$f":"IFERROR(VLOOKUP(__レジメンマスタ[[#This Row],[YJコード①]],[1]!__前投薬リスト[#Data],4,FALSE)&\"\",\"\")","v":""},null,"アクプラ",null,"4291405F2021","注射",null,60,"㎡","mg",null,"d1",{"$f":"IFERROR(VLOOKUP(__レジメンマスタ[[#This Row],[YJコード②]],[1]!__前投薬リスト[#Data],4,FALSE)&\"\",\"\")","v":""},null,null,null,null,null,null,null,null,null,null,null,{"$f":"IFERROR(VLOOKUP(__レジメンマスタ[[#This Row],[YJコード③]],[1]!__前投薬リスト[#Data],4,FALSE)&\"\",\"\")","v":""},null,null,null,null,null,null,null,null,null,null,null,{"$f":"IFERROR(VLOOKUP(__レジメンマスタ[[#This Row],[YJコード④]],[1]!__前投薬リスト[#Data],4,FALSE)&\"\",\"\")","v":""},null,null,null,null,null,null,null,null,null,null,null,{"$f":"IFERROR(VLOOKUP(__レジメンマスタ[[#This Row],[YJコード⑤]],[1]!__前投薬リスト[#Data],4,FALSE)&\"\",\"\")","v":""},null,null,null,null,null,null,null,null,null,null,null,{"$f":"IFERROR(VLOOKUP(__レジメンマスタ[[#This Row],[YJコード⑥]],[1]!__前投薬リスト[#Data],4,FALSE)&\"\",\"\")","v":""},null,null,null,null,null,null,null,null,null,null,null,{"$f":"IFERROR(VLOOKUP(__レジメンマスタ[[#This Row],[YJコード⑦]],[1]!__前投薬リスト[#Data],4,FALSE)&\"\",\"\")","v":""}]
["GYN0008","CPT-11+CBDCA","　　　　　　 　W1  　　　　 W2  　　　　　 W3  　　　　　 W4  \nCPT-11 ↓×××××× ↓×××××× ↓×××××× ×××××××  \nCBDCA  ↓×××××× ××××××× ××××××× ×××××××  \nCBDCA:300～400mg/㎡","28日","6回","子宮頚癌","外科","イリノテカン","危 100mg/5mL ｲﾘﾉﾃｶﾝ塩酸塩点滴静注液「NK」（先:ﾄﾎﾟﾃｼﾝ）","4240404A2055","注射",null,60,"㎡","mg",null,"d1,8,15",{"$f":"IFERROR(VLOOKUP(__レジメンマスタ[[#This Row],[YJコード①]],[1]!__前投薬リスト[#Data],4,FALSE)&\"\",\"\")","v":""},null,"カルボプラチン","危〈毒〉ｶﾙﾎﾞﾌﾟﾗﾁﾝ点滴静注液「NK」150mg/15mL（先:ﾊﾟﾗﾌﾟﾗﾁﾝ）","4291403A2092","注射",null,400,"㎡","mg",null,"d1",{"$f":"IFERROR(VLOOKUP(__レジメンマスタ[[#This Row],[YJコード②]],[1]!__前投薬リスト[#Data],4,FALSE)&\"\",\"\")","v":""},null,null,null,null,null,null,null,null,null,null,null,{"$f":"IFERROR(VLOOKUP(__レジメンマスタ[[#This Row],[YJコード③]],[1]!__前投薬リスト[#Data],4,FALSE)&\"\",\"\")","v":""},null,null,null,null,null,null,null,null,null,null,null,{"$f":"IFERROR(VLOOKUP(__レジメンマスタ[[#This Row],[YJコード④]],[1]!__前投薬リスト[#Data],4,FALSE)&\"\",\"\")","v":""},null,null,null,null,null,null,null,null,null,null,null,{"$f":"IFERROR(VLOOKUP(__レジメンマスタ[[#This Row],[YJコード⑤]],[1]!__前投薬リスト[#Data],4,FALSE)&\"\",\"\")","v":""},null,null,null,null,null,null,null,null,null,null,null,{"$f":"IFERROR(VLOOKUP(__レジメンマスタ[[#This Row],[YJコード⑥]],[1]!__前投薬リスト[#Data],4,FALSE)&\"\",\"\")","v":""},null,null,null,null,null,null,null,null,null,null,null,{"$f":"IFERROR(VLOOKUP(__レジメンマスタ[[#This Row],[YJコード⑦]],[1]!__前投薬リスト[#Data],4,FALSE)&\"\",\"\")","v":""}]
["GYN0010","【適応外】DXR","   　　　 W1   　　　　　　W2  　　　　　　 W3 \nDXR ↓××××××  ×××××××  ×××××××  \n★総投与量はドキソルビシンとして500mg/㎡以下とする★","21日","8回","子宮体癌","産婦人科","ドキソルビシン","危 50mg ﾄﾞｷｿﾙﾋﾞｼﾝ塩酸塩注射用「NK」（溶解液:生食orAq）（先:ｱﾄﾞﾘｱｼﾝ）","4235402D2028","注射",null,60,"㎡","mg",null,"d1",{"$f":"IFERROR(VLOOKUP(__レジメンマスタ[[#This Row],[YJコード①]],[1]!__前投薬リスト[#Data],4,FALSE)&\"\",\"\")","v":""},null,null,null,null,null,null,null,null,null,null,null,{"$f":"IFERROR(VLOOKUP(__レジメンマスタ[[#This Row],[YJコード②]],[1]!__前投薬リスト[#Data],4,FALSE)&\"\",\"\")","v":""},null,null,null,null,null,null,null,null,null,null,null,{"$f":"IFERROR(VLOOKUP(__レジメンマスタ[[#This Row],[YJコード③]],[1]!__前投薬リスト[#Data],4,FALSE)&\"\",\"\")","v":""},null,null,null,null,null,null,null,null,null,null,null,{"$f":"IFERROR(VLOOKUP(__レジメンマスタ[[#This Row],[YJコード④]],[1]!__前投薬リスト[#Data],4,FALSE)&\"\",\"\")","v":""},null,null,null,null,null,null,null,null,null,null,null,{"$f":"IFERROR(VLOOKUP(__レジメンマスタ[[#This Row],[YJコード⑤]],[1]!__前投薬リスト[#Data],4,FALSE)&\"\",\"\")","v":""},null,null,null,null,null,null,null,null,null,null,null,{"$f":"IFERROR(VLOOKUP(__レジメンマスタ[[#This Row],[YJコード⑥]],[1]!__前投薬リスト[#Data],4,FALSE)&\"\",\"\")","v":""},null,null,null,null,null,null,null,null,null,null,null,{"$f":"IFERROR(VLOOKUP(__レジメンマスタ[[#This Row],[YJコード⑦]],[1]!__前投薬リスト[#Data],4,FALSE)&\"\",\"\")","v":""}]
["GYN0014","絨毛性疾患（MTX）","1クール5日間で7～12日間休薬、最大投与回数なし\n★筋注★","12-17日","∞","絨毛性疾患","産婦人科","メソトレキセート","危 5mg 注射用ﾒｿﾄﾚｷｾｰﾄ","4222400D1024","注射",null,"10～30","BODY","mg",null,"d1-5",{"$f":"IFERROR(VLOOKUP(__レジメンマスタ[[#This Row],[YJコード①]],[1]!__前投薬リスト[#Data],4,FALSE)&\"\",\"\")","v":""},null,null,null,null,null,null,null,null,null,null,null,{"$f":"IFERROR(VLOOKUP(__レジメンマスタ[[#This Row],[YJコード②]],[1]!__前投薬リスト[#Data],4,FALSE)&\"\",\"\")","v":""},null,null,null,null,null,null,null,null,null,null,null,{"$f":"IFERROR(VLOOKUP(__レジメンマスタ[[#This Row],[YJコード③]],[1]!__前投薬リスト[#Data],4,FALSE)&\"\",\"\")","v":""},null,null,null,null,null,null,null,null,null,null,null,{"$f":"IFERROR(VLOOKUP(__レジメンマスタ[[#This Row],[YJコード④]],[1]!__前投薬リスト[#Data],4,FALSE)&\"\",\"\")","v":""},null,null,null,null,null,null,null,null,null,null,null,{"$f":"IFERROR(VLOOKUP(__レジメンマスタ[[#This Row],[YJコード⑤]],[1]!__前投薬リスト[#Data],4,FALSE)&\"\",\"\")","v":""},null,null,null,null,null,null,null,null,null,null,null,{"$f":"IFERROR(VLOOKUP(__レジメンマスタ[[#This Row],[YJコード⑥]],[1]!__前投薬リスト[#Data],4,FALSE)&\"\",\"\")","v":""},null,null,null,null,null,null,null,null,null,null,null,{"$f":"IFERROR(VLOOKUP(__レジメンマスタ[[#This Row],[YJコード⑦]],[1]!__前投薬リスト[#Data],4,FALSE)&\"\",\"\")","v":""}]
["GYN0014-02","【適応外】異所性妊娠（MTX50mg/㎡）","１回投与後、1週間空けて2回目投与することがある",null,null,"異所性妊娠","産婦人科","メソトレキセート","危 5mg 注射用ﾒｿﾄﾚｷｾｰﾄ","4222400D1024","注射",null,50,"㎡","mg",null,"d1,(8)",{"$f":"IFERROR(VLOOKUP(__レジメンマスタ[[#This Row],[YJコード①]],[1]!__前投薬リスト[#Data],4,FALSE)&\"\",\"\")","v":""},null,null,null,null,null,null,null,null,null,null,null,{"$f":"IFERROR(VLOOKUP(__レジメンマスタ[[#This Row],[YJコード②]],[1]!__前投薬リスト[#Data],4,FALSE)&\"\",\"\")","v":""},null,null,null,null,null,null,null,null,null,null,null,{"$f":"IFERROR(VLOOKUP(__レジメンマスタ[[#This Row],[YJコード③]],[1]!__前投薬リスト[#Data],4,FALSE)&\"\",\"\")","v":""},null,null,null,null,null,null,null,null,null,null,null,{"$f":"IFERROR(VLOOKUP(__レジメンマスタ[[#This Row],[YJコード④]],[1]!__前投薬リスト[#Data],4,FALSE)&\"\",\"\")","v":""},null,null,null,null,null,null,null,null,null,null,null,{"$f":"IFERROR(VLOOKUP(__レジメンマスタ[[#This Row],[YJコード⑤]],[1]!__前投薬リスト[#Data],4,FALSE)&\"\",\"\")","v":""},null,null,null,null,null,null,null,null,null,null,null,{"$f":"IFERROR(VLOOKUP(__レジメンマスタ[[#This Row],[YJコード⑥]],[1]!__前投薬リスト[#Data],4,FALSE)&\"\",\"\")","v":""},null,null,null,null,null,null,null,null,null,null,null,{"$f":"IFERROR(VLOOKUP(__レジメンマスタ[[#This Row],[YJコード⑦]],[1]!__前投薬リスト[#Data],4,FALSE)&\"\",\"\")","v":""}]
["GYN0020","CDDP+FU＋RT","　　　　　　W1              W2             W3～4          W5       \nCDDP  ↓××××××  ×××××××  ×××××××  ↓××××××      \n5-FU  ↓↓↓↓×××  ×××××××  ×××××××  ↓↓↓↓×××    \n放射線併用期間のみ","35日",null,"子宮頚癌","産婦人科","シスプラチン","危〈毒〉50mg/100mL ｼｽﾌﾟﾗﾁﾝ点滴静注「ﾏﾙｺ」（先:ﾗﾝﾀﾞ）","4291401A3111","注射","２ 時間で",50,"㎡","mg",null,"d1,29",{"$f":"IFERROR(VLOOKUP(__レジメンマスタ[[#This Row],[YJコード①]],[1]!__前投薬リスト[#Data],4,FALSE)&\"\",\"\")","v":""},null,"フルオロウラシル","危 1000mg/20mL ﾌﾙｵﾛｳﾗｼﾙ注「ﾄｰﾜ」（先:5-FU）","4223401A3030","注射","２４　時間で",1000,"㎡","mg",null,"d1-4,29-32",{"$f":"IFERROR(VLOOKUP(__レジメンマスタ[[#This Row],[YJコード②]],[1]!__前投薬リスト[#Data],4,FALSE)&\"\",\"\")","v":""},null,null,null,null,null,null,null,null,null,null,null,{"$f":"IFERROR(VLOOKUP(__レジメンマスタ[[#This Row],[YJコード③]],[1]!__前投薬リスト[#Data],4,FALSE)&\"\",\"\")","v":""},null,null,null,null,null,null,null,null,null,null,null,{"$f":"IFERROR(VLOOKUP(__レジメンマスタ[[#This Row],[YJコード④]],[1]!__前投薬リスト[#Data],4,FALSE)&\"\",\"\")","v":""},null,null,null,null,null,null,null,null,null,null,null,{"$f":"IFERROR(VLOOKUP(__レジメンマスタ[[#This Row],[YJコード⑤]],[1]!__前投薬リスト[#Data],4,FALSE)&\"\",\"\")","v":""},null,null,null,null,null,null,null,null,null,null,null,{"$f":"IFERROR(VLOOKUP(__レジメンマスタ[[#This Row],[YJコード⑥]],[1]!__前投薬リスト[#Data],4,FALSE)&\"\",\"\")","v":""},null,null,null,null,null,null,null,null,null,null,null,{"$f":"IFERROR(VLOOKUP(__レジメンマスタ[[#This Row],[YJコード⑦]],[1]!__前投薬リスト[#Data],4,FALSE)&\"\",\"\")","v":""}]
["GYN0021","ドキシル単独"," 　　　　　　  W1  　　　　 W2  　　　　　 W3～4  \nドキシル ↓×××××× ××××××× ×××××××  \n90㎎未満：5%Tz250ml、90㎎以上：5%Tz500ml","28日","10回","卵巣癌","産婦人科","ドキシル","ドキシル注２０ｍｇ","4235402A1025","注射",null,50,"㎡","mg",null,"d1",{"$f":"IFERROR(VLOOKUP(__レジメンマスタ[[#This Row],[YJコード①]],[1]!__前投薬リスト[#Data],4,FALSE)&\"\",\"\")","v":""},null,null,null,null,null,null,null,null,null,null,null,{"$f":"IFERROR(VLOOKUP(__レジメンマスタ[[#This Row],[YJコード②]],[1]!__前投薬リスト[#Data],4,FALSE)&\"\",\"\")","v":""},null,null,null,null,null,null,null,null,null,null,null,{"$f":"IFERROR(VLOOKUP(__レジメンマスタ[[#This Row],[YJコード③]],[1]!__前投薬リスト[#Data],4,FALSE)&\"\",\"\")","v":""},null,null,null,null,null,null,null,null,null,null,null,{"$f":"IFERROR(VLOOKUP(__レジメンマスタ[[#This Row],[YJコード④]],[1]!__前投薬リスト[#Data],4,FALSE)&\"\",\"\")","v":""},null,null,null,null,null,null,null,null,null,null,null,{"$f":"IFERROR(VLOOKUP(__レジメンマスタ[[#This Row],[YJコード⑤]],[1]!__前投薬リスト[#Data],4,FALSE)&\"\",\"\")","v":""},null,null,null,null,null,null,null,null,null,null,null,{"$f":"IFERROR(VLOOKUP(__レジメンマスタ[[#This Row],[YJコード⑥]],[1]!__前投薬リスト[#Data],4,FALSE)&\"\",\"\")","v":""},null,null,null,null,null,null,null,null,null,null,null,{"$f":"IFERROR(VLOOKUP(__レジメンマスタ[[#This Row],[YJコード⑦]],[1]!__前投薬リスト[#Data],4,FALSE)&\"\",\"\")","v":""}]
["GYN0022","【適応外】ドキシル＋GEM","   　　　　　　　W1   　　　　W2  　　　　　 W3  \nドキシル  ↓×××××× ××××××× ×××××××  \nGEM　　   ↓×××××× ↓×××××× ×××××××  \nGEM:溶解液確認→Tzで行う方針の場合はTzへ変更\n★DXRの総投与量に注意★","21日","6回","卵巣癌","産婦人科","ドキシル","ドキシル注２０ｍｇ","4235402A1025","注射",null,30,"㎡","mg",null,"d1",{"$f":"IFERROR(VLOOKUP(__レジメンマスタ[[#This Row],[YJコード①]],[1]!__前投薬リスト[#Data],4,FALSE)&\"\",\"\")","v":""},null,"ゲムシタビン","危 1g ｹﾞﾑｼﾀﾋﾞﾝ点滴静注用「ﾔｸﾙﾄ」（溶解液:生食）（先:ｼﾞｪﾑｻﾞｰﾙ）","4224403D2061","注射","３０ 分で",1000,"㎡","mg",null,"d1,8",{"$f":"IFERROR(VLOOKUP(__レジメンマスタ[[#This Row],[YJコード②]],[1]!__前投薬リスト[#Data],4,FALSE)&\"\",\"\")","v":""},null,null,null,null,null,null,null,null,null,null,null,{"$f":"IFERROR(VLOOKUP(__レジメンマスタ[[#This Row],[YJコード③]],[1]!__前投薬リスト[#Data],4,FALSE)&\"\",\"\")","v":""},null,null,null,null,null,null,null,null,null,null,null,{"$f":"IFERROR(VLOOKUP(__レジメンマスタ[[#This Row],[YJコード④]],[1]!__前投薬リスト[#Data],4,FALSE)&\"\",\"\")","v":""},null,null,null,null,null,null,null,null,null,null,null,{"$f":"IFERROR(VLOOKUP(__レジメンマスタ[[#This Row],[YJコード⑤]],[1]!__前投薬リスト[#Data],4,FALSE)&\"\",\"\")","v":""},null,null,null,null,null,null,null,null,null,null,null,{"$f":"IFERROR(VLOOKUP(__レジメンマスタ[[#This Row],[YJコード⑥]],[1]!__前投薬リスト[#Data],4,FALSE)&\"\",\"\")","v":""},null,null,null,null,null,null,null,null,null,null,null,{"$f":"IFERROR(VLOOKUP(__レジメンマスタ[[#This Row],[YJコード⑦]],[1]!__前投薬リスト[#Data],4,FALSE)&\"\",\"\")","v":""}]
["GYN0023","【適応外】ドキシル単独（Bi weekly)","  　　　　　　　 W1  　　　　 W2 　　　　　　  W3 　　　　  W4  \nドキシル ↓×××××× ××××××× ↓××××××  ×××××××  \n2週間に1回、12回まで（6コースまで）","28日","6コース","卵巣癌","産婦人科","ドキシル","ドキシル注２０ｍｇ","4235402A1025","注射",null,20,"㎡","mg",null,"d1,15",{"$f":"IFERROR(VLOOKUP(__レジメンマスタ[[#This Row],[YJコード①]],[1]!__前投薬リスト[#Data],4,FALSE)&\"\",\"\")","v":""},null,null,null,null,null,null,null,null,null,null,null,{"$f":"IFERROR(VLOOKUP(__レジメンマスタ[[#This Row],[YJコード②]],[1]!__前投薬リスト[#Data],4,FALSE)&\"\",\"\")","v":""},null,null,null,null,null,null,null,null,null,null,null,{"$f":"IFERROR(VLOOKUP(__レジメンマスタ[[#This Row],[YJコード③]],[1]!__前投薬リスト[#Data],4,FALSE)&\"\",\"\")","v":""},null,null,null,null,null,null,null,null,null,null,null,{"$f":"IFERROR(VLOOKUP(__レジメンマスタ[[#This Row],[YJコード④]],[1]!__前投薬リスト[#Data],4,FALSE)&\"\",\"\")","v":""},null,null,null,null,null,null,null,null,null,null,null,{"$f":"IFERROR(VLOOKUP(__レジメンマスタ[[#This Row],[YJコード⑤]],[1]!__前投薬リスト[#Data],4,FALSE)&\"\",\"\")","v":""},null,null,null,null,null,null,null,null,null,null,null,{"$f":"IFERROR(VLOOKUP(__レジメンマスタ[[#This Row],[YJコード⑥]],[1]!__前投薬リスト[#Data],4,FALSE)&\"\",\"\")","v":""},null,null,null,null,null,null,null,null,null,null,null,{"$f":"IFERROR(VLOOKUP(__レジメンマスタ[[#This Row],[YJコード⑦]],[1]!__前投薬リスト[#Data],4,FALSE)&\"\",\"\")","v":""}]
["GYN0024","ハイカムチン","               D1 D2 D3 D4 D5 ・・ ・・・ D21\n ハイカムチン  ↓ ↓ ↓ ↓ ↓ × × ×\n5日間連続投与し、少なくとも16日間休薬\n※添付文書上では1.5mg/㎡ですが、骨髄抑制が強く出現するため、1.2mg/㎡で投与することが通常です。","21日",null,"卵巣癌","産婦人科","ハイカムチン","危 臨）ﾊｲｶﾑﾁﾝ注射用 1.1mg","4240408D1037","注射","３０ 分で",1.5,"㎡","mg",null,"d1-5",{"$f":"IFERROR(VLOOKUP(__レジメンマスタ[[#This Row],[YJコード①]],[1]!__前投薬リスト[#Data],4,FALSE)&\"\",\"\")","v":""},null,null,null,null,null,null,null,null,null,null,null,{"$f":"IFERROR(VLOOKUP(__レジメンマスタ[[#This Row],[YJコード②]],[1]!__前投薬リスト[#Data],4,FALSE)&\"\",\"\")","v":""},null,null,null,null,null,null,null,null,null,null,null,{"$f":"IFERROR(VLOOKUP(__レジメンマスタ[[#This Row],[YJコード③]],[1]!__前投薬リスト[#Data],4,FALSE)&\"\",\"\")","v":""},null,null,null,null,null,null,null,null,null,null,null,{"$f":"IFERROR(VLOOKUP(__レジメンマスタ[[#This Row],[YJコード④]],[1]!__前投薬リスト[#Data],4,FALSE)&\"\",\"\")","v":""},null,null,null,null,null,null,null,null,null,null,null,{"$f":"IFERROR(VLOOKUP(__レジメンマスタ[[#This Row],[YJコード⑤]],[1]!__前投薬リスト[#Data],4,FALSE)&\"\",\"\")","v":""},null,null,null,null,null,null,null,null,null,null,null,{"$f":"IFERROR(VLOOKUP(__レジメンマスタ[[#This Row],[YJコード⑥]],[1]!__前投薬リスト[#Data],4,FALSE)&\"\",\"\")","v":""},null,null,null,null,null,null,null,null,null,null,null,{"$f":"IFERROR(VLOOKUP(__レジメンマスタ[[#This Row],[YJコード⑦]],[1]!__前投薬リスト[#Data],4,FALSE)&\"\",\"\")","v":""}]
["GYN0025","GEM単独","  　　　　 W1  　　　　　 W2 　　　　  W3 　　　　　  W4  \nGEM ↓×××××× ↓×××××× ↓×××××× ×××××××  \nGEM:溶解液確認→Tzで行う方針の場合はTzへ変更\n3週連投1週休薬","28日","∞","卵巣癌","産婦人科","ゲムシタビン","危 1g ｹﾞﾑｼﾀﾋﾞﾝ点滴静注用「ﾔｸﾙﾄ」（溶解液:生食）（先:ｼﾞｪﾑｻﾞｰﾙ）","4224403D2061","注射","３０ 分で",1000,"㎡","mg",null,"d1,8,15",{"$f":"IFERROR(VLOOKUP(__レジメンマスタ[[#This Row],[YJコード①]],[1]!__前投薬リスト[#Data],4,FALSE)&\"\",\"\")","v":""},null,null,null,null,null,null,null,null,null,null,null,{"$f":"IFERROR(VLOOKUP(__レジメンマスタ[[#This Row],[YJコード②]],[1]!__前投薬リスト[#Data],4,FALSE)&\"\",\"\")","v":""},null,null,null,null,null,null,null,null,null,null,null,{"$f":"IFERROR(VLOOKUP(__レジメンマスタ[[#This Row],[YJコード③]],[1]!__前投薬リスト[#Data],4,FALSE)&\"\",\"\")","v":""},null,null,null,null,null,null,null,null,null,null,null,{"$f":"IFERROR(VLOOKUP(__レジメンマスタ[[#This Row],[YJコード④]],[1]!__前投薬リスト[#Data],4,FALSE)&\"\",\"\")","v":""},null,null,null,null,null,null,null,null,null,null,null,{"$f":"IFERROR(VLOOKUP(__レジメンマスタ[[#This Row],[YJコード⑤]],[1]!__前投薬リスト[#Data],4,FALSE)&\"\",\"\")","v":""},null,null,null,null,null,null,null,null,null,null,null,{"$f":"IFERROR(VLOOKUP(__レジメンマスタ[[#This Row],[YJコード⑥]],[1]!__前投薬リスト[#Data],4,FALSE)&\"\",\"\")","v":""},null,null,null,null,null,null,null,null,null,null,null,{"$f":"IFERROR(VLOOKUP(__レジメンマスタ[[#This Row],[YJコード⑦]],[1]!__前投薬リスト[#Data],4,FALSE)&\"\",\"\")","v":""}]
["GYN0026","CDDP+IFM","  　　　　　 W1  　　　　　 W2  　　　　　 W3  \nCDDP  ↓××××××  ×××××××  ×××××××  \nIFM   ↓××××××  ×××××××  ×××××××  \nMesna ↓××××××  ×××××××  ×××××××\nウロミテキサンの投与量の欄は（1回量）を記入  ","21日","3-6回","子宮頚癌","産婦人科","シスプラチン","危〈毒〉50mg/100mL ｼｽﾌﾟﾗﾁﾝ点滴静注「ﾏﾙｺ」（先:ﾗﾝﾀﾞ）","4291401A3111","注射",null,50,"㎡","mg",null,"d1",{"$f":"IFERROR(VLOOKUP(__レジメンマスタ[[#This Row],[YJコード①]],[1]!__前投薬リスト[#Data],4,FALSE)&\"\",\"\")","v":""},null,"イホマイド","危 注射用ｲﾎﾏｲﾄﾞ 1g（溶解液:生食orAq）","4211402D1020","注射",null,5000,"㎡","mg",null,"d1",{"$f":"IFERROR(VLOOKUP(__レジメンマスタ[[#This Row],[YJコード②]],[1]!__前投薬リスト[#Data],4,FALSE)&\"\",\"\")","v":""},null,"ウロミテキサン×３",null,"3929406A2026","注射",null,1000,"㎡","mg",null,"×３\nd1",{"$f":"IFERROR(VLOOKUP(__レジメンマスタ[[#This Row],[YJコード③]],[1]!__前投薬リスト[#Data],4,FALSE)&\"\",\"\")","v":""},null,null,null,null,null,null,null,null,null,null,null,{"$f":"IFERROR(VLOOKUP(__レジメンマスタ[[#This Row],[YJコード④]],[1]!__前投薬リスト[#Data],4,FALSE)&\"\",\"\")","v":""},null,null,null,null,null,null,null,null,null,null,null,{"$f":"IFERROR(VLOOKUP(__レジメンマスタ[[#This Row],[YJコード⑤]],[1]!__前投薬リスト[#Data],4,FALSE)&\"\",\"\")","v":""},null,null,null,null,null,null,null,null,null,null,null,{"$f":"IFERROR(VLOOKUP(__レジメンマスタ[[#This Row],[YJコード⑥]],[1]!__前投薬リスト[#Data],4,FALSE)&\"\",\"\")","v":""},null,null,null,null,null,null,null,null,null,null,null,{"$f":"IFERROR(VLOOKUP(__レジメンマスタ[[#This Row],[YJコード⑦]],[1]!__前投薬リスト[#Data],4,FALSE)&\"\",\"\")","v":""}]
["GYN0027","dose-dense TC","  　　　　　 W1  　　　　　 W2　　　　   W3  \nPTX　 ↓×××××× ↓×××××× ↓××××××  \nCBDCA ↓×××××× ××××××× ×××××××\n6ヶ月以上の間隔をあけて再投与可  \n","21日","6-9クール","卵巣癌","産婦人科","パクリタキセル","危〈毒〉100mg/16.7mL ﾊﾟｸﾘﾀｷｾﾙ注「NK」（希釈液:生食orTZ）（先:ﾀｷｿｰﾙ）","4240406A2046","注射",null,80,"㎡","mg",null,"d1,8,15",{"$f":"IFERROR(VLOOKUP(__レジメンマスタ[[#This Row],[YJコード①]],[1]!__前投薬リスト[#Data],4,FALSE)&\"\",\"\")","v":"抗ヒス,H2B,ステ"},null,"カルボプラチン","危〈毒〉ｶﾙﾎﾞﾌﾟﾗﾁﾝ点滴静注液「NK」150mg/15mL（先:ﾊﾟﾗﾌﾟﾗﾁﾝ）","4291403A2092","注射",null,6,"AUC","mg",null,"d1",{"$f":"IFERROR(VLOOKUP(__レジメンマスタ[[#This Row],[YJコード②]],[1]!__前投薬リスト[#Data],4,FALSE)&\"\",\"\")","v":""},null,null,null,null,null,null,null,null,null,null,null,{"$f":"IFERROR(VLOOKUP(__レジメンマスタ[[#This Row],[YJコード③]],[1]!__前投薬リスト[#Data],4,FALSE)&\"\",\"\")","v":""},null,null,null,null,null,null,null,null,null,null,null,{"$f":"IFERROR(VLOOKUP(__レジメンマスタ[[#This Row],[YJコード④]],[1]!__前投薬リスト[#Data],4,FALSE)&\"\",\"\")","v":""},null,null,null,null,null,null,null,null,null,null,null,{"$f":"IFERROR(VLOOKUP(__レジメンマスタ[[#This Row],[YJコード⑤]],[1]!__前投薬リスト[#Data],4,FALSE)&\"\",\"\")","v":""},null,null,null,null,null,null,null,null,null,null,null,{"$f":"IFERROR(VLOOKUP(__レジメンマスタ[[#This Row],[YJコード⑥]],[1]!__前投薬リスト[#Data],4,FALSE)&\"\",\"\")","v":""},null,null,null,null,null,null,null,null,null,null,null,{"$f":"IFERROR(VLOOKUP(__レジメンマスタ[[#This Row],[YJコード⑦]],[1]!__前投薬リスト[#Data],4,FALSE)&\"\",\"\")","v":""}]
["GYN0028","DOC単独","  　　　　 W1  　　　　 W2 　　　　  W3～4  \nDOC ↓×××××× ××××××× ×××××××  \n３～４週間毎","21－28日",null,"卵巣癌","産婦人科","ドセタキセル","危〈毒〉80㎎/4mL ﾄﾞｾﾀｷｾﾙ点滴静注「ﾆﾌﾟﾛ」（先:ﾀｷｿﾃｰﾙ）","4240405A4109","注射","１　時間で",70,"㎡","mg",null,"d1",{"$f":"IFERROR(VLOOKUP(__レジメンマスタ[[#This Row],[YJコード①]],[1]!__前投薬リスト[#Data],4,FALSE)&\"\",\"\")","v":""},null,null,null,null,null,null,null,null,null,null,null,{"$f":"IFERROR(VLOOKUP(__レジメンマスタ[[#This Row],[YJコード②]],[1]!__前投薬リスト[#Data],4,FALSE)&\"\",\"\")","v":""},null,null,null,null,null,null,null,null,null,null,null,{"$f":"IFERROR(VLOOKUP(__レジメンマスタ[[#This Row],[YJコード③]],[1]!__前投薬リスト[#Data],4,FALSE)&\"\",\"\")","v":""},null,null,null,null,null,null,null,null,null,null,null,{"$f":"IFERROR(VLOOKUP(__レジメンマスタ[[#This Row],[YJコード④]],[1]!__前投薬リスト[#Data],4,FALSE)&\"\",\"\")","v":""},null,null,null,null,null,null,null,null,null,null,null,{"$f":"IFERROR(VLOOKUP(__レジメンマスタ[[#This Row],[YJコード⑤]],[1]!__前投薬リスト[#Data],4,FALSE)&\"\",\"\")","v":""},null,null,null,null,null,null,null,null,null,null,null,{"$f":"IFERROR(VLOOKUP(__レジメンマスタ[[#This Row],[YJコード⑥]],[1]!__前投薬リスト[#Data],4,FALSE)&\"\",\"\")","v":""},null,null,null,null,null,null,null,null,null,null,null,{"$f":"IFERROR(VLOOKUP(__レジメンマスタ[[#This Row],[YJコード⑦]],[1]!__前投薬リスト[#Data],4,FALSE)&\"\",\"\")","v":""}]
["GYN0030","TC+Bev","              W1             W2             W3   \nPTX  　↓××××××  ×××××××  ×××××××    \nCBDCA　↓××××××  ×××××××  ×××××××  \nBEV    ↓××××××  ×××××××  ×××××××   \n1クール目：術後28日以上経過し、創部が問題無ければ初回よりBeva使用可\n最大6回、BEVのみPDまで継続 TCは6ヶ月以上の間隔をあけて再投与可             \n","21日","6回","卵巣癌","産婦人科","カルボプラチン","危〈毒〉ｶﾙﾎﾞﾌﾟﾗﾁﾝ点滴静注液「NK」150mg/15mL（先:ﾊﾟﾗﾌﾟﾗﾁﾝ）","4291403A2092","注射","１ 時間で",6,"AUC","mg",null,"d1",{"$f":"IFERROR(VLOOKUP(__レジメンマスタ[[#This Row],[YJコード①]],[1]!__前投薬リスト[#Data],4,FALSE)&\"\",\"\")","v":""},"6回","パクリタキセル","危〈毒〉100mg/16.7mL ﾊﾟｸﾘﾀｷｾﾙ注「NK」（希釈液:生食orTZ）（先:ﾀｷｿｰﾙ）","4240406A2046","注射","３ 時間で",175,"㎡","mg",null,"d1",{"$f":"IFERROR(VLOOKUP(__レジメンマスタ[[#This Row],[YJコード②]],[1]!__前投薬リスト[#Data],4,FALSE)&\"\",\"\")","v":"抗ヒス,H2B,ステ"},"6回","ベバシズマブ","危 400mg/16mL ﾍﾞﾊﾞｼｽﾞﾏﾌﾞBS点滴静注「CTNK」（希釈液:生食）（先:ｱﾊﾞｽﾁﾝ）","4291463A2027","注射","初回９０分、２回目６０分、３回目～３０分",15,"kg","mg",null,"d1",{"$f":"IFERROR(VLOOKUP(__レジメンマスタ[[#This Row],[YJコード③]],[1]!__前投薬リスト[#Data],4,FALSE)&\"\",\"\")","v":""},"∞",null,null,null,null,null,null,null,null,null,null,{"$f":"IFERROR(VLOOKUP(__レジメンマスタ[[#This Row],[YJコード④]],[1]!__前投薬リスト[#Data],4,FALSE)&\"\",\"\")","v":""},null,null,null,null,null,null,null,null,null,null,null,{"$f":"IFERROR(VLOOKUP(__レジメンマスタ[[#This Row],[YJコード⑤]],[1]!__前投薬リスト[#Data],4,FALSE)&\"\",\"\")","v":""},null,null,null,null,null,null,null,null,null,null,null,{"$f":"IFERROR(VLOOKUP(__レジメンマスタ[[#This Row],[YJコード⑥]],[1]!__前投薬リスト[#Data],4,FALSE)&\"\",\"\")","v":""},null,null,null,null,null,null,null,null,null,null,null,{"$f":"IFERROR(VLOOKUP(__レジメンマスタ[[#This Row],[YJコード⑦]],[1]!__前投薬リスト[#Data],4,FALSE)&\"\",\"\")","v":""}]
["GYN0032","AP","   　　　　 Ｗ1 　　　　 Ｗ2   　　　　Ｗ3 \nCDDP ↓×××××× ××××××× ×××××××  \nDXR  ↓×××××× ××××××× ×××××××  \nDXR：500mg/㎡以内","21日","8回","子宮体癌","産婦人科","シスプラチン","危〈毒〉50mg/100mL ｼｽﾌﾟﾗﾁﾝ点滴静注「ﾏﾙｺ」（先:ﾗﾝﾀﾞ）","4291401A3111","注射",null,50,"㎡","mg",null,"d1",{"$f":"IFERROR(VLOOKUP(__レジメンマスタ[[#This Row],[YJコード①]],[1]!__前投薬リスト[#Data],4,FALSE)&\"\",\"\")","v":""},null,"ドキソルビシン","危 50mg ﾄﾞｷｿﾙﾋﾞｼﾝ塩酸塩注射用「NK」（溶解液:生食orAq）（先:ｱﾄﾞﾘｱｼﾝ）","4235402D2028","注射",null,60,"㎡","mg",null,"d1",{"$f":"IFERROR(VLOOKUP(__レジメンマスタ[[#This Row],[YJコード②]],[1]!__前投薬リスト[#Data],4,FALSE)&\"\",\"\")","v":""},null,null,null,null,null,null,null,null,null,null,null,{"$f":"IFERROR(VLOOKUP(__レジメンマスタ[[#This Row],[YJコード③]],[1]!__前投薬リスト[#Data],4,FALSE)&\"\",\"\")","v":""},null,null,null,null,null,null,null,null,null,null,null,{"$f":"IFERROR(VLOOKUP(__レジメンマスタ[[#This Row],[YJコード④]],[1]!__前投薬リスト[#Data],4,FALSE)&\"\",\"\")","v":""},null,null,null,null,null,null,null,null,null,null,null,{"$f":"IFERROR(VLOOKUP(__レジメンマスタ[[#This Row],[YJコード⑤]],[1]!__前投薬リスト[#Data],4,FALSE)&\"\",\"\")","v":""},null,null,null,null,null,null,null,null,null,null,null,{"$f":"IFERROR(VLOOKUP(__レジメンマスタ[[#This Row],[YJコード⑥]],[1]!__前投薬リスト[#Data],4,FALSE)&\"\",\"\")","v":""},null,null,null,null,null,null,null,null,null,null,null,{"$f":"IFERROR(VLOOKUP(__レジメンマスタ[[#This Row],[YJコード⑦]],[1]!__前投薬リスト[#Data],4,FALSE)&\"\",\"\")","v":""}]
["GYN0033","ドキシル＋Beva","   　　　　　　　 Ｗ1 　　　　 Ｗ2   　　　　Ｗ3～4 \nドキシル  ↓××××××  ×××××××  ×××××××  \nBEV　　   ↓××××××  ×××××××  ×××××××  \n90㎎未満：5%Tz250ml、90㎎以上：5%Tz500ml\nドキシル：12回まで、BEV：回数制限なし","28日","12回","卵巣癌","産婦人科","ドキシル","ドキシル注２０ｍｇ","4235402A1025","注射",null,40,"㎡","mg",null,"d1",{"$f":"IFERROR(VLOOKUP(__レジメンマスタ[[#This Row],[YJコード①]],[1]!__前投薬リスト[#Data],4,FALSE)&\"\",\"\")","v":""},"12回","ベバシズマブ","危 400mg/16mL ﾍﾞﾊﾞｼｽﾞﾏﾌﾞBS点滴静注「CTNK」（希釈液:生食）（先:ｱﾊﾞｽﾁﾝ）","4291463A2027","注射","初回９０分、２回目６０分、３回目～３０分",15,"kg","mg",null,"d1",{"$f":"IFERROR(VLOOKUP(__レジメンマスタ[[#This Row],[YJコード②]],[1]!__前投薬リスト[#Data],4,FALSE)&\"\",\"\")","v":""},"∞",null,null,null,null,null,null,null,null,null,null,{"$f":"IFERROR(VLOOKUP(__レジメンマスタ[[#This Row],[YJコード③]],[1]!__前投薬リスト[#Data],4,FALSE)&\"\",\"\")","v":""},null,null,null,null,null,null,null,null,null,null,null,{"$f":"IFERROR(VLOOKUP(__レジメンマスタ[[#This Row],[YJコード④]],[1]!__前投薬リスト[#Data],4,FALSE)&\"\",\"\")","v":""},null,null,null,null,null,null,null,null,null,null,null,{"$f":"IFERROR(VLOOKUP(__レジメンマスタ[[#This Row],[YJコード⑤]],[1]!__前投薬リスト[#Data],4,FALSE)&\"\",\"\")","v":""},null,null,null,null,null,null,null,null,null,null,null,{"$f":"IFERROR(VLOOKUP(__レジメンマスタ[[#This Row],[YJコード⑥]],[1]!__前投薬リスト[#Data],4,FALSE)&\"\",\"\")","v":""},null,null,null,null,null,null,null,null,null,null,null,{"$f":"IFERROR(VLOOKUP(__レジメンマスタ[[#This Row],[YJコード⑦]],[1]!__前投薬リスト[#Data],4,FALSE)&\"\",\"\")","v":""}]
["GYN0034","GEM+Bev","   　　　　W1  　　　　　 W2  　　　　 W3  \nGEM ↓×××××× ↓×××××× ×××××××  \nBEV ↓×××××× ××××××× ×××××××  \nGEM:溶解液確認→Tzで行う方針の場合Tzへ変更","21日","∞","卵巣癌","産婦人科","ゲムシタビン","危 1g ｹﾞﾑｼﾀﾋﾞﾝ点滴静注用「ﾔｸﾙﾄ」（溶解液:生食）（先:ｼﾞｪﾑｻﾞｰﾙ）","4224403D2061","注射","３０ 分で",1000,"㎡","mg",null,"d1,8",{"$f":"IFERROR(VLOOKUP(__レジメンマスタ[[#This Row],[YJコード①]],[1]!__前投薬リスト[#Data],4,FALSE)&\"\",\"\")","v":""},null,"ベバシズマブ","危 400mg/16mL ﾍﾞﾊﾞｼｽﾞﾏﾌﾞBS点滴静注「CTNK」（希釈液:生食）（先:ｱﾊﾞｽﾁﾝ）","4291463A2027","注射","初回９０分、２回目６０分、３回目～３０分",15,"kg","mg",null,"d1",{"$f":"IFERROR(VLOOKUP(__レジメンマスタ[[#This Row],[YJコード②]],[1]!__前投薬リスト[#Data],4,FALSE)&\"\",\"\")","v":""},null,null,null,null,null,null,null,null,null,null,null,{"$f":"IFERROR(VLOOKUP(__レジメンマスタ[[#This Row],[YJコード③]],[1]!__前投薬リスト[#Data],4,FALSE)&\"\",\"\")","v":""},null,null,null,null,null,null,null,null,null,null,null,{"$f":"IFERROR(VLOOKUP(__レジメンマスタ[[#This Row],[YJコード④]],[1]!__前投薬リスト[#Data],4,FALSE)&\"\",\"\")","v":""},null,null,null,null,null,null,null,null,null,null,null,{"$f":"IFERROR(VLOOKUP(__レジメンマスタ[[#This Row],[YJコード⑤]],[1]!__前投薬リスト[#Data],4,FALSE)&\"\",\"\")","v":""},null,null,null,null,null,null,null,null,null,null,null,{"$f":"IFERROR(VLOOKUP(__レジメンマスタ[[#This Row],[YJコード⑥]],[1]!__前投薬リスト[#Data],4,FALSE)&\"\",\"\")","v":""},null,null,null,null,null,null,null,null,null,null,null,{"$f":"IFERROR(VLOOKUP(__レジメンマスタ[[#This Row],[YJコード⑦]],[1]!__前投薬リスト[#Data],4,FALSE)&\"\",\"\")","v":""}]
["GYN0035","【適応外】weekly PTX+Beva","  　　　　 W1  　　　　 W2   　　　　　W3  \nBEV ↓×××××× ××××××× ×××××××  \nPTX ↓×××××× ↓×××××× ↓××××××  \n※論文上はPTXは休薬なし","21日","∞","卵巣癌","産婦人科","パクリタキセル","危〈毒〉100mg/16.7mL ﾊﾟｸﾘﾀｷｾﾙ注「NK」（希釈液:生食orTZ）（先:ﾀｷｿｰﾙ）","4240406A2046","注射","１　時間で",80,"㎡","mg",null,"d1,8,15",{"$f":"IFERROR(VLOOKUP(__レジメンマスタ[[#This Row],[YJコード①]],[1]!__前投薬リスト[#Data],4,FALSE)&\"\",\"\")","v":"抗ヒス,H2B,ステ"},null,"ベバシズマブ","危 400mg/16mL ﾍﾞﾊﾞｼｽﾞﾏﾌﾞBS点滴静注「CTNK」（希釈液:生食）（先:ｱﾊﾞｽﾁﾝ）","4291463A2027","注射","初回９０分、２回目６０分、３回目～３０分",15,"kg","mg",null,"d1",{"$f":"IFERROR(VLOOKUP(__レジメンマスタ[[#This Row],[YJコード②]],[1]!__前投薬リスト[#Data],4,FALSE)&\"\",\"\")","v":""},null,null,null,null,null,null,null,null,null,null,null,{"$f":"IFERROR(VLOOKUP(__レジメンマスタ[[#This Row],[YJコード③]],[1]!__前投薬リスト[#Data],4,FALSE)&\"\",\"\")","v":""},null,null,null,null,null,null,null,null,null,null,null,{"$f":"IFERROR(VLOOKUP(__レジメンマスタ[[#This Row],[YJコード④]],[1]!__前投薬リスト[#Data],4,FALSE)&\"\",\"\")","v":""},null,null,null,null,null,null,null,null,null,null,null,{"$f":"IFERROR(VLOOKUP(__レジメンマスタ[[#This Row],[YJコード⑤]],[1]!__前投薬リスト[#Data],4,FALSE)&\"\",\"\")","v":""},null,null,null,null,null,null,null,null,null,null,null,{"$f":"IFERROR(VLOOKUP(__レジメンマスタ[[#This Row],[YJコード⑥]],[1]!__前投薬リスト[#Data],4,FALSE)&\"\",\"\")","v":""},null,null,null,null,null,null,null,null,null,null,null,{"$f":"IFERROR(VLOOKUP(__レジメンマスタ[[#This Row],[YJコード⑦]],[1]!__前投薬リスト[#Data],4,FALSE)&\"\",\"\")","v":""}]
["GYN0037","GC+Bev","  　　　　　 W1   　　　　　W2  　　　　 W3  \nGEM　 ↓×××××× ↓×××××× ×××××××  \nCBDCA ↓×××××× ××××××× ×××××××  \nBEV   ↓×××××× ××××××× ×××××××  \nGEM:溶解液確認→Tzで行う方針の場合Tzへ変更\nGC：10回まで、BEVのみPDまで継続","21日","10回","卵巣癌","産婦人科","ゲムシタビン","危 1g ｹﾞﾑｼﾀﾋﾞﾝ点滴静注用「ﾔｸﾙﾄ」（溶解液:生食）（先:ｼﾞｪﾑｻﾞｰﾙ）","4224403D2061","注射","３０ 分で",1000,"㎡","mg",null,"d1,8",{"$f":"IFERROR(VLOOKUP(__レジメンマスタ[[#This Row],[YJコード①]],[1]!__前投薬リスト[#Data],4,FALSE)&\"\",\"\")","v":""},"10回","カルボプラチン","危〈毒〉ｶﾙﾎﾞﾌﾟﾗﾁﾝ点滴静注液「NK」150mg/15mL（先:ﾊﾟﾗﾌﾟﾗﾁﾝ）","4291403A2092","注射","１ 時間で",4,"AUC","mg",null,"d1",{"$f":"IFERROR(VLOOKUP(__レジメンマスタ[[#This Row],[YJコード②]],[1]!__前投薬リスト[#Data],4,FALSE)&\"\",\"\")","v":""},"10回","ベバシズマブ","危 400mg/16mL ﾍﾞﾊﾞｼｽﾞﾏﾌﾞBS点滴静注「CTNK」（希釈液:生食）（先:ｱﾊﾞｽﾁﾝ）","4291463A2027","注射","初回９０分、２回目６０分、３回目～３０分",15,"kg","mg",null,"d1",{"$f":"IFERROR(VLOOKUP(__レジメンマスタ[[#This Row],[YJコード③]],[1]!__前投薬リスト[#Data],4,FALSE)&\"\",\"\")","v":""},"∞",null,null,null,null,null,null,null,null,null,null,{"$f":"IFERROR(VLOOKUP(__レジメンマスタ[[#This Row],[YJコード④]],[1]!__前投薬リスト[#Data],4,FALSE)&\"\",\"\")","v":""},null,null,null,null,null,null,null,null,null,null,null,{"$f":"IFERROR(VLOOKUP(__レジメンマスタ[[#This Row],[YJコード⑤]],[1]!__前投薬リスト[#Data],4,FALSE)&\"\",\"\")","v":""},null,null,null,null,null,null,null,null,null,null,null,{"$f":"IFERROR(VLOOKUP(__レジメンマスタ[[#This Row],[YJコード⑥]],[1]!__前投薬リスト[#Data],4,FALSE)&\"\",\"\")","v":""},null,null,null,null,null,null,null,null,null,null,null,{"$f":"IFERROR(VLOOKUP(__レジメンマスタ[[#This Row],[YJコード⑦]],[1]!__前投薬リスト[#Data],4,FALSE)&\"\",\"\")","v":""}]
["GYN0038","GC","  　　　　　 W1   　　　　　W2  　　　　 W3  \nGEM　 ↓×××××× ↓×××××× ×××××××  \nCBDCA ↓×××××× ××××××× ×××××××  \nGEM:溶解液確認→Tzで行う方針の場合Tzへ変更\nGC：10回まで","21日","10回","卵巣癌","産婦人科","ゲムシタビン","危 1g ｹﾞﾑｼﾀﾋﾞﾝ点滴静注用「ﾔｸﾙﾄ」（溶解液:生食）（先:ｼﾞｪﾑｻﾞｰﾙ）","4224403D2061","注射","３０ 分で",1000,"㎡","mg",null,"d1,8",{"$f":"IFERROR(VLOOKUP(__レジメンマスタ[[#This Row],[YJコード①]],[1]!__前投薬リスト[#Data],4,FALSE)&\"\",\"\")","v":""},null,"カルボプラチン","危〈毒〉ｶﾙﾎﾞﾌﾟﾗﾁﾝ点滴静注液「NK」150mg/15mL（先:ﾊﾟﾗﾌﾟﾗﾁﾝ）","4291403A2092","注射","１ 時間で",4,"AUC","mg",null,"d1",{"$f":"IFERROR(VLOOKUP(__レジメンマスタ[[#This Row],[YJコード②]],[1]!__前投薬リスト[#Data],4,FALSE)&\"\",\"\")","v":""},"10回",null,null,null,null,null,null,null,null,null,null,{"$f":"IFERROR(VLOOKUP(__レジメンマスタ[[#This Row],[YJコード③]],[1]!__前投薬リスト[#Data],4,FALSE)&\"\",\"\")","v":""},null,null,null,null,null,null,null,null,null,null,null,{"$f":"IFERROR(VLOOKUP(__レジメンマスタ[[#This Row],[YJコード④]],[1]!__前投薬リスト[#Data],4,FALSE)&\"\",\"\")","v":""},null,null,null,null,null,null,null,null,null,null,null,{"$f":"IFERROR(VLOOKUP(__レジメンマスタ[[#This Row],[YJコード⑤]],[1]!__前投薬リスト[#Data],4,FALSE)&\"\",\"\")","v":""},null,null,null,null,null,null,null,null,null,null,null,{"$f":"IFERROR(VLOOKUP(__レジメンマスタ[[#This Row],[YJコード⑥]],[1]!__前投薬リスト[#Data],4,FALSE)&\"\",\"\")","v":""},null,null,null,null,null,null,null,null,null,null,null,{"$f":"IFERROR(VLOOKUP(__レジメンマスタ[[#This Row],[YJコード⑦]],[1]!__前投薬リスト[#Data],4,FALSE)&\"\",\"\")","v":""}]
["GYN0039","TC+Bev（子宮頚癌）","              W1             W2             W3   \nPTX  　↓××××××  ×××××××  ×××××××    \nCBDCA　↓××××××  ×××××××  ×××××××  \nBEV    ↓××××××  ×××××××  ×××××××   \n1クール目：術後28日以上経過し、創部が問題無ければ初回よりBeva使用可\n最大6回、BEVのみPDまで継続              \n","21日","6回","子宮頚癌","産婦人科","カルボプラチン","危〈毒〉ｶﾙﾎﾞﾌﾟﾗﾁﾝ点滴静注液「NK」150mg/15mL（先:ﾊﾟﾗﾌﾟﾗﾁﾝ）","4291403A2092","注射","１ 時間で",5,"AUC","mg",null,"d1",{"$f":"IFERROR(VLOOKUP(__レジメンマスタ[[#This Row],[YJコード①]],[1]!__前投薬リスト[#Data],4,FALSE)&\"\",\"\")","v":""},"6回","パクリタキセル","危〈毒〉100mg/16.7mL ﾊﾟｸﾘﾀｷｾﾙ注「NK」（希釈液:生食orTZ）（先:ﾀｷｿｰﾙ）","4240406A2046","注射","３ 時間で",175,"㎡","mg",null,"d1",{"$f":"IFERROR(VLOOKUP(__レジメンマスタ[[#This Row],[YJコード②]],[1]!__前投薬リスト[#Data],4,FALSE)&\"\",\"\")","v":"抗ヒス,H2B,ステ"},"6回","ベバシズマブ","危 400mg/16mL ﾍﾞﾊﾞｼｽﾞﾏﾌﾞBS点滴静注「CTNK」（希釈液:生食）（先:ｱﾊﾞｽﾁﾝ）","4291463A2027","注射","初回９０分、２回目６０分、３回目～３０分",15,"kg","mg",null,"d1",{"$f":"IFERROR(VLOOKUP(__レジメンマスタ[[#This Row],[YJコード③]],[1]!__前投薬リスト[#Data],4,FALSE)&\"\",\"\")","v":""},"∞",null,null,null,null,null,null,null,null,null,null,{"$f":"IFERROR(VLOOKUP(__レジメンマスタ[[#This Row],[YJコード④]],[1]!__前投薬リスト[#Data],4,FALSE)&\"\",\"\")","v":""},null,null,null,null,null,null,null,null,null,null,null,{"$f":"IFERROR(VLOOKUP(__レジメンマスタ[[#This Row],[YJコード⑤]],[1]!__前投薬リスト[#Data],4,FALSE)&\"\",\"\")","v":""},null,null,null,null,null,null,null,null,null,null,null,{"$f":"IFERROR(VLOOKUP(__レジメンマスタ[[#This Row],[YJコード⑥]],[1]!__前投薬リスト[#Data],4,FALSE)&\"\",\"\")","v":""},null,null,null,null,null,null,null,null,null,null,null,{"$f":"IFERROR(VLOOKUP(__レジメンマスタ[[#This Row],[YJコード⑦]],[1]!__前投薬リスト[#Data],4,FALSE)&\"\",\"\")","v":""}]
["GYN0040","LEN+PEM","  　　　　　　 W1 　　　　  W2～3  \nPmbro  ↓××××××   ×××××××  \n標準的治療に抵抗性の場合\n内服レンバチニブと併用","21日",null,"子宮体癌","産婦人科","キイトルーダ","危 ｷｲﾄﾙｰﾀﾞ点滴静注 100mg/4mL（希釈液:生食orTZ）","4291435A2025","注射","３０ 分で",200,"BODY","mg",null,"d1",{"$f":"IFERROR(VLOOKUP(__レジメンマスタ[[#This Row],[YJコード①]],[1]!__前投薬リスト[#Data],4,FALSE)&\"\",\"\")","v":""},null,"レンビマカプセル",null,"4291039M1020","経口",null,20,"BODY","mg",null,"連日",{"$f":"IFERROR(VLOOKUP(__レジメンマスタ[[#This Row],[YJコード②]],[1]!__前投薬リスト[#Data],4,FALSE)&\"\",\"\")","v":""},null,null,null,null,null,null,null,null,null,null,null,{"$f":"IFERROR(VLOOKUP(__レジメンマスタ[[#This Row],[YJコード③]],[1]!__前投薬リスト[#Data],4,FALSE)&\"\",\"\")","v":""},null,null,null,null,null,null,null,null,null,null,null,{"$f":"IFERROR(VLOOKUP(__レジメンマスタ[[#This Row],[YJコード④]],[1]!__前投薬リスト[#Data],4,FALSE)&\"\",\"\")","v":""},null,null,null,null,null,null,null,null,null,null,null,{"$f":"IFERROR(VLOOKUP(__レジメンマスタ[[#This Row],[YJコード⑤]],[1]!__前投薬リスト[#Data],4,FALSE)&\"\",\"\")","v":""},null,null,null,null,null,null,null,null,null,null,null,{"$f":"IFERROR(VLOOKUP(__レジメンマスタ[[#This Row],[YJコード⑥]],[1]!__前投薬リスト[#Data],4,FALSE)&\"\",\"\")","v":""},null,null,null,null,null,null,null,null,null,null,null,{"$f":"IFERROR(VLOOKUP(__レジメンマスタ[[#This Row],[YJコード⑦]],[1]!__前投薬リスト[#Data],4,FALSE)&\"\",\"\")","v":""}]
["GYN0041-01","Pem+TC+Bev","   　　　　　W1  　　　　 W2  　　　　　 W3  \nPmbro ↓×××××× ××××××× ×××××××  \nBEV   ↓×××××× ××××××× ×××××××  \nCBDCA ↓×××××× ××××××× ×××××××  \nPTX   ↓×××××× ××××××× ×××××××  \n7クール以降はPmbro＋BEVのみ継続","21日","6回","子宮頚癌","産婦人科","キイトルーダ","危 ｷｲﾄﾙｰﾀﾞ点滴静注 100mg/4mL（希釈液:生食orTZ）","4291435A2025","注射","３０ 分で",200,"BODY","mg",null,"d1",{"$f":"IFERROR(VLOOKUP(__レジメンマスタ[[#This Row],[YJコード①]],[1]!__前投薬リスト[#Data],4,FALSE)&\"\",\"\")","v":""},"∞","カルボプラチン","危〈毒〉ｶﾙﾎﾞﾌﾟﾗﾁﾝ点滴静注液「NK」150mg/15mL（先:ﾊﾟﾗﾌﾟﾗﾁﾝ）","4291403A2092","注射","１ 時間で",5,"AUC","mg",null,"d1",{"$f":"IFERROR(VLOOKUP(__レジメンマスタ[[#This Row],[YJコード②]],[1]!__前投薬リスト[#Data],4,FALSE)&\"\",\"\")","v":""},"6回","パクリタキセル","危〈毒〉100mg/16.7mL ﾊﾟｸﾘﾀｷｾﾙ注「NK」（希釈液:生食orTZ）（先:ﾀｷｿｰﾙ）","4240406A2046","注射","３ 時間で",175,"㎡","mg",null,"d1",{"$f":"IFERROR(VLOOKUP(__レジメンマスタ[[#This Row],[YJコード③]],[1]!__前投薬リスト[#Data],4,FALSE)&\"\",\"\")","v":"抗ヒス,H2B,ステ"},"6回","ベバシズマブ","危 400mg/16mL ﾍﾞﾊﾞｼｽﾞﾏﾌﾞBS点滴静注「CTNK」（希釈液:生食）（先:ｱﾊﾞｽﾁﾝ）","4291463A2027","注射","初回９０分、２回目６０分、３回目～３０分",15,"kg","mg",null,"d1",{"$f":"IFERROR(VLOOKUP(__レジメンマスタ[[#This Row],[YJコード④]],[1]!__前投薬リスト[#Data],4,FALSE)&\"\",\"\")","v":""},"∞",null,null,null,null,null,null,null,null,null,null,{"$f":"IFERROR(VLOOKUP(__レジメンマスタ[[#This Row],[YJコード⑤]],[1]!__前投薬リスト[#Data],4,FALSE)&\"\",\"\")","v":""},null,null,null,null,null,null,null,null,null,null,null,{"$f":"IFERROR(VLOOKUP(__レジメンマスタ[[#This Row],[YJコード⑥]],[1]!__前投薬リスト[#Data],4,FALSE)&\"\",\"\")","v":""},null,null,null,null,null,null,null,null,null,null,null,{"$f":"IFERROR(VLOOKUP(__レジメンマスタ[[#This Row],[YJコード⑦]],[1]!__前投薬リスト[#Data],4,FALSE)&\"\",\"\")","v":""}]
["GYN0042-01","Pem+TC","   　　　　　W1  　　　　 W2  　　　　　 W3  \nPmbro ↓×××××× ××××××× ×××××××  \nCBDCA ↓×××××× ××××××× ×××××××  \nPTX   ↓×××××× ××××××× ×××××××  \n7クール以降はPmbroのみ継続","21日","6回","子宮頚癌","産婦人科","キイトルーダ","危 ｷｲﾄﾙｰﾀﾞ点滴静注 100mg/4mL（希釈液:生食orTZ）","4291435A2025","注射","３０ 分で",200,"BODY","mg",null,"d1",{"$f":"IFERROR(VLOOKUP(__レジメンマスタ[[#This Row],[YJコード①]],[1]!__前投薬リスト[#Data],4,FALSE)&\"\",\"\")","v":""},"∞","カルボプラチン","危〈毒〉ｶﾙﾎﾞﾌﾟﾗﾁﾝ点滴静注液「NK」150mg/15mL（先:ﾊﾟﾗﾌﾟﾗﾁﾝ）","4291403A2092","注射","１ 時間で",5,"AUC","mg",null,"d1",{"$f":"IFERROR(VLOOKUP(__レジメンマスタ[[#This Row],[YJコード②]],[1]!__前投薬リスト[#Data],4,FALSE)&\"\",\"\")","v":""},"6回","パクリタキセル","危〈毒〉100mg/16.7mL ﾊﾟｸﾘﾀｷｾﾙ注「NK」（希釈液:生食orTZ）（先:ﾀｷｿｰﾙ）","4240406A2046","注射","３ 時間で",175,"㎡","mg",null,"d1",{"$f":"IFERROR(VLOOKUP(__レジメンマスタ[[#This Row],[YJコード③]],[1]!__前投薬リスト[#Data],4,FALSE)&\"\",\"\")","v":"抗ヒス,H2B,ステ"},"6回",null,null,null,null,null,null,null,null,null,null,{"$f":"IFERROR(VLOOKUP(__レジメンマスタ[[#This Row],[YJコード④]],[1]!__前投薬リスト[#Data],4,FALSE)&\"\",\"\")","v":""},null,null,null,null,null,null,null,null,null,null,null,{"$f":"IFERROR(VLOOKUP(__レジメンマスタ[[#This Row],[YJコード⑤]],[1]!__前投薬リスト[#Data],4,FALSE)&\"\",\"\")","v":""},null,null,null,null,null,null,null,null,null,null,null,{"$f":"IFERROR(VLOOKUP(__レジメンマスタ[[#This Row],[YJコード⑥]],[1]!__前投薬リスト[#Data],4,FALSE)&\"\",\"\")","v":""},null,null,null,null,null,null,null,null,null,null,null,{"$f":"IFERROR(VLOOKUP(__レジメンマスタ[[#This Row],[YJコード⑦]],[1]!__前投薬リスト[#Data],4,FALSE)&\"\",\"\")","v":""}]
["GYN0043","Cemiplimab","  　　　　　　　　 W1　　　　　   W2～3  \nCemiplimab ↓××××××   ×××××××  \n","21日",null,"子宮頚癌","産婦人科","リブタヨ",null,"4291466A1024","注射",null,350,"BODY","mg",null,"d1",{"$f":"IFERROR(VLOOKUP(__レジメンマスタ[[#This Row],[YJコード①]],[1]!__前投薬リスト[#Data],4,FALSE)&\"\",\"\")","v":""},null,null,null,null,null,null,null,null,null,null,null,{"$f":"IFERROR(VLOOKUP(__レジメンマスタ[[#This Row],[YJコード②]],[1]!__前投薬リスト[#Data],4,FALSE)&\"\",\"\")","v":""},null,null,null,null,null,null,null,null,null,null,null,{"$f":"IFERROR(VLOOKUP(__レジメンマスタ[[#This Row],[YJコード③]],[1]!__前投薬リスト[#Data],4,FALSE)&\"\",\"\")","v":""},null,null,null,null,null,null,null,null,null,null,null,{"$f":"IFERROR(VLOOKUP(__レジメンマスタ[[#This Row],[YJコード④]],[1]!__前投薬リスト[#Data],4,FALSE)&\"\",\"\")","v":""},null,null,null,null,null,null,null,null,null,null,null,{"$f":"IFERROR(VLOOKUP(__レジメンマスタ[[#This Row],[YJコード⑤]],[1]!__前投薬リスト[#Data],4,FALSE)&\"\",\"\")","v":""},null,null,null,null,null,null,null,null,null,null,null,{"$f":"IFERROR(VLOOKUP(__レジメンマスタ[[#This Row],[YJコード⑥]],[1]!__前投薬リスト[#Data],4,FALSE)&\"\",\"\")","v":""},null,null,null,null,null,null,null,null,null,null,null,{"$f":"IFERROR(VLOOKUP(__レジメンマスタ[[#This Row],[YJコード⑦]],[1]!__前投薬リスト[#Data],4,FALSE)&\"\",\"\")","v":""}]
["GYN0044-11","TC+ﾃﾞｭﾙﾊﾞﾙﾏﾌﾞ±ｵﾗﾊﾟﾘﾌﾞ","              W1           W2             W3  \nDUR  　↓×××××× ×××××××  ××××××× \nPTX    ↓×××××× ×××××××  ×××××××  \nCBDCA  ↓×××××× ×××××××  ×××××××\n★CBDCAはAUC5～6★\n6クールでTC併用は終了。\n7ｸｰﾙ目以降はDUR±ｵﾗﾊﾟﾘﾌﾞの維持療法へ（レジメン変更へ）","21日","6回","子宮体癌","産婦人科","イミフィンジ","危 500mg/10mL ｲﾐﾌｨﾝｼﾞ点滴静注（希釈液:生食orTZ）","4291443A2020","注射","６０ 分で",1120,"BODY","mg",null,"d1",{"$f":"IFERROR(VLOOKUP(__レジメンマスタ[[#This Row],[YJコード①]],[1]!__前投薬リスト[#Data],4,FALSE)&\"\",\"\")","v":""},null,"カルボプラチン","危〈毒〉ｶﾙﾎﾞﾌﾟﾗﾁﾝ点滴静注液「NK」150mg/15mL（先:ﾊﾟﾗﾌﾟﾗﾁﾝ）","4291403A2092","注射","１ 時間で",6,"AUC","mg",null,"d1",{"$f":"IFERROR(VLOOKUP(__レジメンマスタ[[#This Row],[YJコード②]],[1]!__前投薬リスト[#Data],4,FALSE)&\"\",\"\")","v":""},"6回","パクリタキセル","危〈毒〉100mg/16.7mL ﾊﾟｸﾘﾀｷｾﾙ注「NK」（希釈液:生食orTZ）（先:ﾀｷｿｰﾙ）","4240406A2046","注射","３ 時間で",175,"㎡","mg",null,"d1",{"$f":"IFERROR(VLOOKUP(__レジメンマスタ[[#This Row],[YJコード③]],[1]!__前投薬リスト[#Data],4,FALSE)&\"\",\"\")","v":"抗ヒス,H2B,ステ"},"6回",null,null,null,null,null,null,null,null,null,null,{"$f":"IFERROR(VLOOKUP(__レジメンマスタ[[#This Row],[YJコード④]],[1]!__前投薬リスト[#Data],4,FALSE)&\"\",\"\")","v":""},null,null,null,null,null,null,null,null,null,null,null,{"$f":"IFERROR(VLOOKUP(__レジメンマスタ[[#This Row],[YJコード⑤]],[1]!__前投薬リスト[#Data],4,FALSE)&\"\",\"\")","v":""},null,null,null,null,null,null,null,null,null,null,null,{"$f":"IFERROR(VLOOKUP(__レジメンマスタ[[#This Row],[YJコード⑥]],[1]!__前投薬リスト[#Data],4,FALSE)&\"\",\"\")","v":""},null,null,null,null,null,null,null,null,null,null,null,{"$f":"IFERROR(VLOOKUP(__レジメンマスタ[[#This Row],[YJコード⑦]],[1]!__前投薬リスト[#Data],4,FALSE)&\"\",\"\")","v":""}]
["GYN0044-21","TC+ﾃﾞｭﾙﾊﾞﾙﾏﾌﾞ±ｵﾗﾊﾟﾘﾌﾞ(維持療法)","　　　　　W1　　　    W2～W4\nDur  ↓××××××  ××××××\nOlap ↓↓↓↓↓↓↓ ↓↓↓↓↓↓↓ \n4週間毎\npMMRが確認された場合オラパリブ併用（600mg分2連日投与）","28日","∞","子宮体癌","産婦人科","イミフィンジ","危 500mg/10mL ｲﾐﾌｨﾝｼﾞ点滴静注（希釈液:生食orTZ）","4291443A2020","注射","６０ 分で",1500,"BODY","mg",null,"d1",{"$f":"IFERROR(VLOOKUP(__レジメンマスタ[[#This Row],[YJコード①]],[1]!__前投薬リスト[#Data],4,FALSE)&\"\",\"\")","v":""},null,"リムパーザ",null,"4291052F1027","経口",null,600,"BODY","mg",null,"連日",{"$f":"IFERROR(VLOOKUP(__レジメンマスタ[[#This Row],[YJコード②]],[1]!__前投薬リスト[#Data],4,FALSE)&\"\",\"\")","v":""},null,null,null,null,null,null,null,null,null,null,null,{"$f":"IFERROR(VLOOKUP(__レジメンマスタ[[#This Row],[YJコード③]],[1]!__前投薬リスト[#Data],4,FALSE)&\"\",\"\")","v":""},null,null,null,null,null,null,null,null,null,null,null,{"$f":"IFERROR(VLOOKUP(__レジメンマスタ[[#This Row],[YJコード④]],[1]!__前投薬リスト[#Data],4,FALSE)&\"\",\"\")","v":""},null,null,null,null,null,null,null,null,null,null,null,{"$f":"IFERROR(VLOOKUP(__レジメンマスタ[[#This Row],[YJコード⑤]],[1]!__前投薬リスト[#Data],4,FALSE)&\"\",\"\")","v":""},null,null,null,null,null,null,null,null,null,null,null,{"$f":"IFERROR(VLOOKUP(__レジメンマスタ[[#This Row],[YJコード⑥]],[1]!__前投薬リスト[#Data],4,FALSE)&\"\",\"\")","v":""},null,null,null,null,null,null,null,null,null,null,null,{"$f":"IFERROR(VLOOKUP(__レジメンマスタ[[#This Row],[YJコード⑦]],[1]!__前投薬リスト[#Data],4,FALSE)&\"\",\"\")","v":""}]
["GYN0044-22","TC+ﾃﾞｭﾙﾊﾞﾙﾏﾌﾞ±ｵﾗﾊﾟﾘﾌﾞ(維持療法、BW30kg以下)","　　　　　W1　　　    W2～W4\nDur  ↓××××××  ××××××\nOlap ↓↓↓↓↓↓↓ ↓↓↓↓↓↓↓ \n4週間毎\npMMRが確認された場合オラパリブ併用（600mg分2連日投与）","28日","∞","子宮体癌","産婦人科","イミフィンジ","危 500mg/10mL ｲﾐﾌｨﾝｼﾞ点滴静注（希釈液:生食orTZ）","4291443A2020","注射","６０ 分で",20,"kg","mg",null,"d1",{"$f":"IFERROR(VLOOKUP(__レジメンマスタ[[#This Row],[YJコード①]],[1]!__前投薬リスト[#Data],4,FALSE)&\"\",\"\")","v":""},null,"リムパーザ",null,"4291052F1027","経口",null,600,"BODY","mg",null,"連日",{"$f":"IFERROR(VLOOKUP(__レジメンマスタ[[#This Row],[YJコード②]],[1]!__前投薬リスト[#Data],4,FALSE)&\"\",\"\")","v":""},null,null,null,null,null,null,null,null,null,null,null,{"$f":"IFERROR(VLOOKUP(__レジメンマスタ[[#This Row],[YJコード③]],[1]!__前投薬リスト[#Data],4,FALSE)&\"\",\"\")","v":""},null,null,null,null,null,null,null,null,null,null,null,{"$f":"IFERROR(VLOOKUP(__レジメンマスタ[[#This Row],[YJコード④]],[1]!__前投薬リスト[#Data],4,FALSE)&\"\",\"\")","v":""},null,null,null,null,null,null,null,null,null,null,null,{"$f":"IFERROR(VLOOKUP(__レジメンマスタ[[#This Row],[YJコード⑤]],[1]!__前投薬リスト[#Data],4,FALSE)&\"\",\"\")","v":""},null,null,null,null,null,null,null,null,null,null,null,{"$f":"IFERROR(VLOOKUP(__レジメンマスタ[[#This Row],[YJコード⑥]],[1]!__前投薬リスト[#Data],4,FALSE)&\"\",\"\")","v":""},null,null,null,null,null,null,null,null,null,null,null,{"$f":"IFERROR(VLOOKUP(__レジメンマスタ[[#This Row],[YJコード⑦]],[1]!__前投薬リスト[#Data],4,FALSE)&\"\",\"\")","v":""}]
["GYN0045-1","Pem+TC","   　　　　　W1  　　　　 W2  　　　　　 W3  \nPmbro ↓×××××× ××××××× ×××××××  \nCBDCA ↓×××××× ××××××× ×××××××  \nPTX   ↓×××××× ××××××× ×××××××  \n7クール以降はPem維持療法へ（レジメン変更へ）\n※臨床試験では10クールまで継続可能にしていたようですが、\n7クール以上継続する場合はいったん問い合わせしてください","21日","6回","子宮体癌","産婦人科","キイトルーダ","危 ｷｲﾄﾙｰﾀﾞ点滴静注 100mg/4mL（希釈液:生食orTZ）","4291435A2025","注射","３０ 分で",200,"BODY","mg",null,"d1",{"$f":"IFERROR(VLOOKUP(__レジメンマスタ[[#This Row],[YJコード①]],[1]!__前投薬リスト[#Data],4,FALSE)&\"\",\"\")","v":""},6,"カルボプラチン","危〈毒〉ｶﾙﾎﾞﾌﾟﾗﾁﾝ点滴静注液「NK」150mg/15mL（先:ﾊﾟﾗﾌﾟﾗﾁﾝ）","4291403A2092","注射","１ 時間で",5,"AUC","mg",null,"d1",{"$f":"IFERROR(VLOOKUP(__レジメンマスタ[[#This Row],[YJコード②]],[1]!__前投薬リスト[#Data],4,FALSE)&\"\",\"\")","v":""},"6回","パクリタキセル","危〈毒〉100mg/16.7mL ﾊﾟｸﾘﾀｷｾﾙ注「NK」（希釈液:生食orTZ）（先:ﾀｷｿｰﾙ）","4240406A2046","注射","３ 時間で",175,"㎡","mg",null,"d1",{"$f":"IFERROR(VLOOKUP(__レジメンマスタ[[#This Row],[YJコード③]],[1]!__前投薬リスト[#Data],4,FALSE)&\"\",\"\")","v":"抗ヒス,H2B,ステ"},"6回",null,null,null,null,null,null,null,null,null,null,null,null,null,null,null,null,null,null,null,null,null,null,{"$f":"IFERROR(VLOOKUP(__レジメンマスタ[[#This Row],[YJコード⑤]],[1]!__前投薬リスト[#Data],4,FALSE)&\"\",\"\")","v":""},null,null,null,null,null,null,null,null,null,null,null,{"$f":"IFERROR(VLOOKUP(__レジメンマスタ[[#This Row],[YJコード⑥]],[1]!__前投薬リスト[#Data],4,FALSE)&\"\",\"\")","v":""},null,null,null,null,null,null,null,null,null,null,null,{"$f":"IFERROR(VLOOKUP(__レジメンマスタ[[#This Row],[YJコード⑦]],[1]!__前投薬リスト[#Data],4,FALSE)&\"\",\"\")","v":""}]
["GYN0045-2","Pem維持療法"," ６週間ごとに投与\n              W1　　　　   W2～6   \nPmbro  ↓××××××  ××××××× ","42日","∞","子宮体癌","産婦人科","キイトルーダ（維持期）","危 ｷｲﾄﾙｰﾀﾞ点滴静注 100mg/4mL（希釈液:生食orTZ）","4291435A2025","注射","３０ 分で",400,"BODY","mg",null,"d1",{"$f":"IFERROR(VLOOKUP(__レジメンマスタ[[#This Row],[YJコード④]],[1]!__前投薬リスト[#Data],4,FALSE)&\"\",\"\")","v":""},"∞",null,null,null,null,null,null,null,null,null,null,null,null,null,null,null,null,null,null,null,null,null,null,null,null,null,null,null,null,null,null,null,null,null,null,null,null,null,null,null,null,null,null,null,null,null,null,null,null,null,null,null,null,null,null,null,null,null,null,null,null,null,null,null,null,null,null,null,null,null,null,{"$f":"IFERROR(VLOOKUP(__レジメンマスタ[[#This Row],[YJコード⑦]],[1]!__前投薬リスト[#Data],4,FALSE)&\"\",\"\")","v":""}]
["HEM0001","GML200（70歳未満）寛解導入","　　　 D1   D2　 D3   D4   D5   D6   D7   D8   D9  D10  D11  D12\nBH-AC  ↓   ↓   ↓   ↓   ↓   ↓   ↓   ↓   ↓   ↓   ↓   ↓ \nDNR    ↓   ↓   ↓                       ↓   ↓        ↓   ↓ \nBH-AC:D9-12は状態により追加投与\nDNR :D8,9,11,12は状態により追加投与","14日",null,"白血病（AML)","血液内科","サンラビン",null,"4224402D2032","注射",null,200,"㎡","mg",null,"d1-12",{"$f":"IFERROR(VLOOKUP(__レジメンマスタ[[#This Row],[YJコード①]],[1]!__前投薬リスト[#Data],4,FALSE)&\"\",\"\")","v":""},null,"ダウノマイシン",null,"4235401D1035","注射","３０ 分で",40,"㎡","mg",null,"d1-3,8,9,11,12",{"$f":"IFERROR(VLOOKUP(__レジメンマスタ[[#This Row],[YJコード②]],[1]!__前投薬リスト[#Data],4,FALSE)&\"\",\"\")","v":""},null,null,null,null,null,null,null,null,null,null,null,{"$f":"IFERROR(VLOOKUP(__レジメンマスタ[[#This Row],[YJコード③]],[1]!__前投薬リスト[#Data],4,FALSE)&\"\",\"\")","v":""},null,null,null,null,null,null,null,null,null,null,null,{"$f":"IFERROR(VLOOKUP(__レジメンマスタ[[#This Row],[YJコード④]],[1]!__前投薬リスト[#Data],4,FALSE)&\"\",\"\")","v":""},null,null,null,null,null,null,null,null,null,null,null,{"$f":"IFERROR(VLOOKUP(__レジメンマスタ[[#This Row],[YJコード⑤]],[1]!__前投薬リスト[#Data],4,FALSE)&\"\",\"\")","v":""},null,null,null,null,null,null,null,null,null,null,null,{"$f":"IFERROR(VLOOKUP(__レジメンマスタ[[#This Row],[YJコード⑥]],[1]!__前投薬リスト[#Data],4,FALSE)&\"\",\"\")","v":""},null,null,null,null,null,null,null,null,null,null,null,{"$f":"IFERROR(VLOOKUP(__レジメンマスタ[[#This Row],[YJコード⑦]],[1]!__前投薬リスト[#Data],4,FALSE)&\"\",\"\")","v":""}]
["HEM0001-1","GML200（70歳未満）地固め①","　　　 D1   D2　 D3   D4   D5  \nBH-AC  ↓   ↓   ↓   ↓   ↓   \nMIT    ↓   ↓   ↓\n血球回復次第開始可                  ",null,null,"白血病（AML)","血液内科","サンラビン",null,"4224402D2032","注射",null,200,"㎡","mg",null,"d1-5",{"$f":"IFERROR(VLOOKUP(__レジメンマスタ[[#This Row],[YJコード①]],[1]!__前投薬リスト[#Data],4,FALSE)&\"\",\"\")","v":""},null,"ノバントロン",null,"4291402A1032","注射",null,7,"㎡","mg",null,"d1-3 ",{"$f":"IFERROR(VLOOKUP(__レジメンマスタ[[#This Row],[YJコード②]],[1]!__前投薬リスト[#Data],4,FALSE)&\"\",\"\")","v":""},null,null,null,null,null,null,null,null,null,null,null,{"$f":"IFERROR(VLOOKUP(__レジメンマスタ[[#This Row],[YJコード③]],[1]!__前投薬リスト[#Data],4,FALSE)&\"\",\"\")","v":""},null,null,null,null,null,null,null,null,null,null,null,{"$f":"IFERROR(VLOOKUP(__レジメンマスタ[[#This Row],[YJコード④]],[1]!__前投薬リスト[#Data],4,FALSE)&\"\",\"\")","v":""},null,null,null,null,null,null,null,null,null,null,null,{"$f":"IFERROR(VLOOKUP(__レジメンマスタ[[#This Row],[YJコード⑤]],[1]!__前投薬リスト[#Data],4,FALSE)&\"\",\"\")","v":""},null,null,null,null,null,null,null,null,null,null,null,{"$f":"IFERROR(VLOOKUP(__レジメンマスタ[[#This Row],[YJコード⑥]],[1]!__前投薬リスト[#Data],4,FALSE)&\"\",\"\")","v":""},null,null,null,null,null,null,null,null,null,null,null,{"$f":"IFERROR(VLOOKUP(__レジメンマスタ[[#This Row],[YJコード⑦]],[1]!__前投薬リスト[#Data],4,FALSE)&\"\",\"\")","v":""}]
["HEM0001-2","GML200（70歳未満）地固め②","　　　 D1   D2　 D3   D4   D5  \nBH-AC  ↓   ↓   ↓   ↓   ↓   \nDNR    ↓   ↓                       \nETP    ↓   ↓   ↓\n血球回復次第開始可",null,null,"白血病（AML)","血液内科","サンラビン",null,"4224402D2032","注射",null,200,"㎡","mg",null,"d1-5",{"$f":"IFERROR(VLOOKUP(__レジメンマスタ[[#This Row],[YJコード①]],[1]!__前投薬リスト[#Data],4,FALSE)&\"\",\"\")","v":""},null,"ダウノマイシン",null,"4235401D1035","注射","３０ 分で",30,"㎡","mg",null,"d1,2",{"$f":"IFERROR(VLOOKUP(__レジメンマスタ[[#This Row],[YJコード②]],[1]!__前投薬リスト[#Data],4,FALSE)&\"\",\"\")","v":""},null,"エトポシド","危 ｴﾄﾎﾟｼﾄﾞ点滴静注液「ｻﾝﾄﾞ」100mg/5mL（先:ﾗｽﾃｯﾄ）","4240403A2069","注射","1時間で",100,"㎡","mg",null,"d1-3",{"$f":"IFERROR(VLOOKUP(__レジメンマスタ[[#This Row],[YJコード③]],[1]!__前投薬リスト[#Data],4,FALSE)&\"\",\"\")","v":""},null,null,null,null,null,null,null,null,null,null,null,{"$f":"IFERROR(VLOOKUP(__レジメンマスタ[[#This Row],[YJコード④]],[1]!__前投薬リスト[#Data],4,FALSE)&\"\",\"\")","v":""},null,null,null,null,null,null,null,null,null,null,null,{"$f":"IFERROR(VLOOKUP(__レジメンマスタ[[#This Row],[YJコード⑤]],[1]!__前投薬リスト[#Data],4,FALSE)&\"\",\"\")","v":""},null,null,null,null,null,null,null,null,null,null,null,{"$f":"IFERROR(VLOOKUP(__レジメンマスタ[[#This Row],[YJコード⑥]],[1]!__前投薬リスト[#Data],4,FALSE)&\"\",\"\")","v":""},null,null,null,null,null,null,null,null,null,null,null,{"$f":"IFERROR(VLOOKUP(__レジメンマスタ[[#This Row],[YJコード⑦]],[1]!__前投薬リスト[#Data],4,FALSE)&\"\",\"\")","v":""}]
["HEM0001-3","GML200（70歳未満）地固め③","　　　 D1   D2　 D3   D4   D5  \nBH-AC  ↓   ↓   ↓   ↓   ↓   \nACR    ↓   ↓   ↓   ↓   ↓ \n血球回復次第開始可\n \n地固め療法③コース終了後、血小板10万/μL以上に回復次第\nMTX15mg/BODY＋AraC40mg/BODY＋PSL10mg/BODYの髄腔内投与",null,null,"白血病（AML)","血液内科","サンラビン",null,"4224402D2032","注射",null,200,"㎡","mg",null,"d1-5",{"$f":"IFERROR(VLOOKUP(__レジメンマスタ[[#This Row],[YJコード①]],[1]!__前投薬リスト[#Data],4,FALSE)&\"\",\"\")","v":""},null,"アクラシノン",null,"4235400D1030","注射",null,14,"㎡","mg",null,"d1-5",{"$f":"IFERROR(VLOOKUP(__レジメンマスタ[[#This Row],[YJコード②]],[1]!__前投薬リスト[#Data],4,FALSE)&\"\",\"\")","v":""},null,null,null,null,null,null,null,null,null,null,null,{"$f":"IFERROR(VLOOKUP(__レジメンマスタ[[#This Row],[YJコード③]],[1]!__前投薬リスト[#Data],4,FALSE)&\"\",\"\")","v":""},null,null,null,null,null,null,null,null,null,null,null,{"$f":"IFERROR(VLOOKUP(__レジメンマスタ[[#This Row],[YJコード④]],[1]!__前投薬リスト[#Data],4,FALSE)&\"\",\"\")","v":""},null,null,null,null,null,null,null,null,null,null,null,{"$f":"IFERROR(VLOOKUP(__レジメンマスタ[[#This Row],[YJコード⑤]],[1]!__前投薬リスト[#Data],4,FALSE)&\"\",\"\")","v":""},null,null,null,null,null,null,null,null,null,null,null,{"$f":"IFERROR(VLOOKUP(__レジメンマスタ[[#This Row],[YJコード⑥]],[1]!__前投薬リスト[#Data],4,FALSE)&\"\",\"\")","v":""},null,null,null,null,null,null,null,null,null,null,null,{"$f":"IFERROR(VLOOKUP(__レジメンマスタ[[#This Row],[YJコード⑦]],[1]!__前投薬リスト[#Data],4,FALSE)&\"\",\"\")","v":""}]
["HEM0002","GML200（70-80歳）寛解導入","　　　 D1   D2　 D3   D4   D5   D6   D7   D8   D9  D10  D11  D12\nBH-AC  ↓   ↓   ↓   ↓   ↓   ↓   ↓   ↓   ↓   ↓   ↓   ↓ \nDNR    ↓   ↓   ↓                       ↓   ↓        ↓   ↓ \nBH-AC:D9-12は状態により追加投与\nDNR :D8,9,11,12は状態により追加投与","14日",null,"白血病（AML)","血液内科","サンラビン",null,"4224402D2032","注射",null,200,"㎡","mg",null,"d1-12",{"$f":"IFERROR(VLOOKUP(__レジメンマスタ[[#This Row],[YJコード①]],[1]!__前投薬リスト[#Data],4,FALSE)&\"\",\"\")","v":""},null,"ダウノマイシン",null,"4235401D1035","注射","３０ 分で",30,"㎡","mg",null,"d1-3,8,9,11,12",{"$f":"IFERROR(VLOOKUP(__レジメンマスタ[[#This Row],[YJコード②]],[1]!__前投薬リスト[#Data],4,FALSE)&\"\",\"\")","v":""},null,null,null,null,null,null,null,null,null,null,null,{"$f":"IFERROR(VLOOKUP(__レジメンマスタ[[#This Row],[YJコード③]],[1]!__前投薬リスト[#Data],4,FALSE)&\"\",\"\")","v":""},null,null,null,null,null,null,null,null,null,null,null,{"$f":"IFERROR(VLOOKUP(__レジメンマスタ[[#This Row],[YJコード④]],[1]!__前投薬リスト[#Data],4,FALSE)&\"\",\"\")","v":""},null,null,null,null,null,null,null,null,null,null,null,{"$f":"IFERROR(VLOOKUP(__レジメンマスタ[[#This Row],[YJコード⑤]],[1]!__前投薬リスト[#Data],4,FALSE)&\"\",\"\")","v":""},null,null,null,null,null,null,null,null,null,null,null,{"$f":"IFERROR(VLOOKUP(__レジメンマスタ[[#This Row],[YJコード⑥]],[1]!__前投薬リスト[#Data],4,FALSE)&\"\",\"\")","v":""},null,null,null,null,null,null,null,null,null,null,null,{"$f":"IFERROR(VLOOKUP(__レジメンマスタ[[#This Row],[YJコード⑦]],[1]!__前投薬リスト[#Data],4,FALSE)&\"\",\"\")","v":""}]
["HEM0002-1","GML200（70-80歳）地固め①","　　　 D1   D2　 D3   D4   D5  \nBH-AC  ↓   ↓   ↓   ↓   ↓   \nMIT    ↓   ↓   ↓ \n血球回復次第開始可                    \n",null,null,"白血病（AML)","血液内科","サンラビン",null,"4224402D2032","注射",null,200,"㎡","mg",null,"d1-5",{"$f":"IFERROR(VLOOKUP(__レジメンマスタ[[#This Row],[YJコード①]],[1]!__前投薬リスト[#Data],4,FALSE)&\"\",\"\")","v":""},null,"ノバントロン",null,"4291402A1032","注射",null,5,"㎡","mg",null,"d1-3 ",{"$f":"IFERROR(VLOOKUP(__レジメンマスタ[[#This Row],[YJコード②]],[1]!__前投薬リスト[#Data],4,FALSE)&\"\",\"\")","v":""},null,null,null,null,null,null,null,null,null,null,null,{"$f":"IFERROR(VLOOKUP(__レジメンマスタ[[#This Row],[YJコード③]],[1]!__前投薬リスト[#Data],4,FALSE)&\"\",\"\")","v":""},null,null,null,null,null,null,null,null,null,null,null,{"$f":"IFERROR(VLOOKUP(__レジメンマスタ[[#This Row],[YJコード④]],[1]!__前投薬リスト[#Data],4,FALSE)&\"\",\"\")","v":""},null,null,null,null,null,null,null,null,null,null,null,{"$f":"IFERROR(VLOOKUP(__レジメンマスタ[[#This Row],[YJコード⑤]],[1]!__前投薬リスト[#Data],4,FALSE)&\"\",\"\")","v":""},null,null,null,null,null,null,null,null,null,null,null,{"$f":"IFERROR(VLOOKUP(__レジメンマスタ[[#This Row],[YJコード⑥]],[1]!__前投薬リスト[#Data],4,FALSE)&\"\",\"\")","v":""},null,null,null,null,null,null,null,null,null,null,null,{"$f":"IFERROR(VLOOKUP(__レジメンマスタ[[#This Row],[YJコード⑦]],[1]!__前投薬リスト[#Data],4,FALSE)&\"\",\"\")","v":""}]
["HEM0002-2","GML200（70-80歳）地固め②","　　　 D1   D2　 D3   D4   D5  \nBH-AC  ↓   ↓   ↓   ↓   ↓   \nDNR    ↓   ↓                       \nETP    ↓   ↓   ↓\n血球回復次第開始可",null,null,"白血病（AML)","血液内科","サンラビン",null,"4224402D2032","注射",null,200,"㎡","mg",null,"d1-5",{"$f":"IFERROR(VLOOKUP(__レジメンマスタ[[#This Row],[YJコード①]],[1]!__前投薬リスト[#Data],4,FALSE)&\"\",\"\")","v":""},null,"ダウノマイシン",null,"4235401D1035","注射","３０ 分で",25,"㎡","mg",null,"d1,2",{"$f":"IFERROR(VLOOKUP(__レジメンマスタ[[#This Row],[YJコード②]],[1]!__前投薬リスト[#Data],4,FALSE)&\"\",\"\")","v":""},null,"エトポシド","危 ｴﾄﾎﾟｼﾄﾞ点滴静注液「ｻﾝﾄﾞ」100mg/5mL（先:ﾗｽﾃｯﾄ）","4240403A2069","注射","1時間で",75,"㎡","mg",null,"d1-3",{"$f":"IFERROR(VLOOKUP(__レジメンマスタ[[#This Row],[YJコード③]],[1]!__前投薬リスト[#Data],4,FALSE)&\"\",\"\")","v":""},null,null,null,null,null,null,null,null,null,null,null,{"$f":"IFERROR(VLOOKUP(__レジメンマスタ[[#This Row],[YJコード④]],[1]!__前投薬リスト[#Data],4,FALSE)&\"\",\"\")","v":""},null,null,null,null,null,null,null,null,null,null,null,{"$f":"IFERROR(VLOOKUP(__レジメンマスタ[[#This Row],[YJコード⑤]],[1]!__前投薬リスト[#Data],4,FALSE)&\"\",\"\")","v":""},null,null,null,null,null,null,null,null,null,null,null,{"$f":"IFERROR(VLOOKUP(__レジメンマスタ[[#This Row],[YJコード⑥]],[1]!__前投薬リスト[#Data],4,FALSE)&\"\",\"\")","v":""},null,null,null,null,null,null,null,null,null,null,null,{"$f":"IFERROR(VLOOKUP(__レジメンマスタ[[#This Row],[YJコード⑦]],[1]!__前投薬リスト[#Data],4,FALSE)&\"\",\"\")","v":""}]
["HEM0002-3","GML200（70-80歳）地固め③","　　　 D1   D2　 D3   D4   D5  \nBH-AC  ↓   ↓   ↓   ↓   ↓   \nACR    ↓   ↓   ↓   ↓   ↓\n血球回復次第開始可\n  \n地固め療法③コース終了後、血小板10万/μL以上に回復次第\nMTX15mg/BODY＋AraC40mg/BODY＋PSL10mg/BODYの髄腔内投与",null,null,"白血病（AML)","血液内科","サンラビン",null,"4224402D2032","注射",null,200,"㎡","mg",null,"d1-5",{"$f":"IFERROR(VLOOKUP(__レジメンマスタ[[#This Row],[YJコード①]],[1]!__前投薬リスト[#Data],4,FALSE)&\"\",\"\")","v":""},null,"アクラシノン",null,"4235400D1030","注射",null,10,"㎡","mg",null,"d1-5",{"$f":"IFERROR(VLOOKUP(__レジメンマスタ[[#This Row],[YJコード②]],[1]!__前投薬リスト[#Data],4,FALSE)&\"\",\"\")","v":""},null,null,null,null,null,null,null,null,null,null,null,{"$f":"IFERROR(VLOOKUP(__レジメンマスタ[[#This Row],[YJコード③]],[1]!__前投薬リスト[#Data],4,FALSE)&\"\",\"\")","v":""},null,null,null,null,null,null,null,null,null,null,null,{"$f":"IFERROR(VLOOKUP(__レジメンマスタ[[#This Row],[YJコード④]],[1]!__前投薬リスト[#Data],4,FALSE)&\"\",\"\")","v":""},null,null,null,null,null,null,null,null,null,null,null,{"$f":"IFERROR(VLOOKUP(__レジメンマスタ[[#This Row],[YJコード⑤]],[1]!__前投薬リスト[#Data],4,FALSE)&\"\",\"\")","v":""},null,null,null,null,null,null,null,null,null,null,null,{"$f":"IFERROR(VLOOKUP(__レジメンマスタ[[#This Row],[YJコード⑥]],[1]!__前投薬リスト[#Data],4,FALSE)&\"\",\"\")","v":""},null,null,null,null,null,null,null,null,null,null,null,{"$f":"IFERROR(VLOOKUP(__レジメンマスタ[[#This Row],[YJコード⑦]],[1]!__前投薬リスト[#Data],4,FALSE)&\"\",\"\")","v":""}]
["HEM0003","APL寛解導入(A群→D群）","A群：WBC<3000/μかつAPL細胞(芽球+前骨芽球)<1000/μの時\nベサノイド(ATRA)45mg/㎡分３ 連日内服※(CRまたは60日まで)\n\n→D群（★このレジメンとしてはここから使用されます★）：\nベサノイド内服後に途中でAPL細胞≧1000/μLとなった時、D群として下記を追加\n　　　 D1   D2　 D3   D4   D5   D6   D7　（追加開始日を起点）\nIDR 　 ↓   ↓   ↓    \nAraC   ↓   ↓   ↓   ↓   ↓   ↓   ↓    ",null,null,"白血病（APL)","血液内科","ベサノイド（A群）",null,"4291006M1034","経口",null,45,"㎡","mg",null,"d1-60(事前に開始されている)",{"$f":"IFERROR(VLOOKUP(__レジメンマスタ[[#This Row],[YJコード①]],[1]!__前投薬リスト[#Data],4,FALSE)&\"\",\"\")","v":""},null,"イダマイシン（D群）",null,"4235405D1033","注射",null,12,"㎡","mg",null,"d1-3(D群開始より)",{"$f":"IFERROR(VLOOKUP(__レジメンマスタ[[#This Row],[YJコード②]],[1]!__前投薬リスト[#Data],4,FALSE)&\"\",\"\")","v":""},null,"キロサイド（D群）",null,"4224401A5030","注射",null,100,"㎡","mg",null,"d1-7(D群開始より)",{"$f":"IFERROR(VLOOKUP(__レジメンマスタ[[#This Row],[YJコード③]],[1]!__前投薬リスト[#Data],4,FALSE)&\"\",\"\")","v":""},null,null,null,null,null,null,null,null,null,null,null,{"$f":"IFERROR(VLOOKUP(__レジメンマスタ[[#This Row],[YJコード④]],[1]!__前投薬リスト[#Data],4,FALSE)&\"\",\"\")","v":""},null,null,null,null,null,null,null,null,null,null,null,{"$f":"IFERROR(VLOOKUP(__レジメンマスタ[[#This Row],[YJコード⑤]],[1]!__前投薬リスト[#Data],4,FALSE)&\"\",\"\")","v":""},null,null,null,null,null,null,null,null,null,null,null,{"$f":"IFERROR(VLOOKUP(__レジメンマスタ[[#This Row],[YJコード⑥]],[1]!__前投薬リスト[#Data],4,FALSE)&\"\",\"\")","v":""},null,null,null,null,null,null,null,null,null,null,null,{"$f":"IFERROR(VLOOKUP(__レジメンマスタ[[#This Row],[YJコード⑦]],[1]!__前投薬リスト[#Data],4,FALSE)&\"\",\"\")","v":""}]
["HEM0003-1","APL寛解導入(B群）","B群：3000≦WBC<10000/μLの時あるいはAPL細胞(芽球+前骨芽球)≧1000/μLの時\nベサノイド(ATRA)45mg/㎡分３ 連日内服\n　　　 D1   D2　 D3   D4   D5   D6   D7 \nATRA　 ↓   ↓   ↓   ↓   ↓  ・・・　(CRまたはd60まで)\nIDR 　 ↓   ↓       \nAraC   ↓   ↓   ↓   ↓   ↓  \n\n",null,null,"白血病（APL)","血液内科","ベサノイド",null,"4291006M1034","経口",null,45,"㎡","mg",null,"CRまで又は最長60日",{"$f":"IFERROR(VLOOKUP(__レジメンマスタ[[#This Row],[YJコード①]],[1]!__前投薬リスト[#Data],4,FALSE)&\"\",\"\")","v":""},null,"イダマイシン",null,"4235405D1033","注射",null,12,"㎡","mg",null,"d1-2",{"$f":"IFERROR(VLOOKUP(__レジメンマスタ[[#This Row],[YJコード②]],[1]!__前投薬リスト[#Data],4,FALSE)&\"\",\"\")","v":""},null,"キロサイド",null,"4224401A5030","注射",null,100,"㎡","mg",null,"d1-5",{"$f":"IFERROR(VLOOKUP(__レジメンマスタ[[#This Row],[YJコード③]],[1]!__前投薬リスト[#Data],4,FALSE)&\"\",\"\")","v":""},null,null,null,null,null,null,null,null,null,null,null,{"$f":"IFERROR(VLOOKUP(__レジメンマスタ[[#This Row],[YJコード④]],[1]!__前投薬リスト[#Data],4,FALSE)&\"\",\"\")","v":""},null,null,null,null,null,null,null,null,null,null,null,{"$f":"IFERROR(VLOOKUP(__レジメンマスタ[[#This Row],[YJコード⑤]],[1]!__前投薬リスト[#Data],4,FALSE)&\"\",\"\")","v":""},null,null,null,null,null,null,null,null,null,null,null,{"$f":"IFERROR(VLOOKUP(__レジメンマスタ[[#This Row],[YJコード⑥]],[1]!__前投薬リスト[#Data],4,FALSE)&\"\",\"\")","v":""},null,null,null,null,null,null,null,null,null,null,null,{"$f":"IFERROR(VLOOKUP(__レジメンマスタ[[#This Row],[YJコード⑦]],[1]!__前投薬リスト[#Data],4,FALSE)&\"\",\"\")","v":""}]
["HEM0003-2","APL寛解導入(B→D群）","★B群使用中に下記に該当した時に使用されるレジメンです★\n\nD群：ベサノイド内服後に途中でAPL細胞≧1000/μLとなった時、下記を追加\n　　　 D1   D2　 D3  （追加開始日を起点）\nIDR 　 ↓       \nAraC   ↓   ↓      \n治療開始後(ATRA開始後)60日でCRに達しない場合、寛解導入療法(地固め第1コース) を行う",null,null,"白血病（APL)","血液内科","イダマイシン（D群）",null,"4235405D1033","注射",null,12,"㎡","mg",null,"d1",{"$f":"IFERROR(VLOOKUP(__レジメンマスタ[[#This Row],[YJコード①]],[1]!__前投薬リスト[#Data],4,FALSE)&\"\",\"\")","v":""},null,"キロサイド（D群）",null,"4224401A5030","注射",null,100,"㎡","mg",null,"d1-2",{"$f":"IFERROR(VLOOKUP(__レジメンマスタ[[#This Row],[YJコード②]],[1]!__前投薬リスト[#Data],4,FALSE)&\"\",\"\")","v":""},null,"ベサノイド",null,"4291006M1034","経口",null,45,"㎡","mg",null,"d1-60\nB群より継続中",{"$f":"IFERROR(VLOOKUP(__レジメンマスタ[[#This Row],[YJコード③]],[1]!__前投薬リスト[#Data],4,FALSE)&\"\",\"\")","v":""},null,null,null,null,null,null,null,null,null,null,null,{"$f":"IFERROR(VLOOKUP(__レジメンマスタ[[#This Row],[YJコード④]],[1]!__前投薬リスト[#Data],4,FALSE)&\"\",\"\")","v":""},null,null,null,null,null,null,null,null,null,null,null,{"$f":"IFERROR(VLOOKUP(__レジメンマスタ[[#This Row],[YJコード⑤]],[1]!__前投薬リスト[#Data],4,FALSE)&\"\",\"\")","v":""},null,null,null,null,null,null,null,null,null,null,null,{"$f":"IFERROR(VLOOKUP(__レジメンマスタ[[#This Row],[YJコード⑥]],[1]!__前投薬リスト[#Data],4,FALSE)&\"\",\"\")","v":""},null,null,null,null,null,null,null,null,null,null,null,{"$f":"IFERROR(VLOOKUP(__レジメンマスタ[[#This Row],[YJコード⑦]],[1]!__前投薬リスト[#Data],4,FALSE)&\"\",\"\")","v":""}]
["HEM0003-3","APL寛解導入(C群）","C群：WBC≧10000/μLの時\nベサノイド(ATRA)45mg/㎡分３ 連日内服\n　　　 D1   D2　 D3   D4   D5   D6   D7 \nATRA　 ↓   ↓   ↓   ↓   ↓  ・・・　(CRまたはd60まで)\nIDR 　 ↓   ↓   ↓       \nAraC   ↓   ↓   ↓   ↓   ↓   ↓   ↓\n\n",null,null,"白血病（APL)","血液内科","ベサノイド",null,"4291006M1034","経口",null,45,"㎡","mg",null,"CRまで又は最長60日",{"$f":"IFERROR(VLOOKUP(__レジメンマスタ[[#This Row],[YJコード①]],[1]!__前投薬リスト[#Data],4,FALSE)&\"\",\"\")","v":""},null,"イダマイシン",null,"4235405D1033","注射",null,12,"㎡","mg",null,"d1-3",{"$f":"IFERROR(VLOOKUP(__レジメンマスタ[[#This Row],[YJコード②]],[1]!__前投薬リスト[#Data],4,FALSE)&\"\",\"\")","v":""},null,"キロサイド",null,"4224401A5030","注射",null,100,"㎡","mg",null,"d1-7",{"$f":"IFERROR(VLOOKUP(__レジメンマスタ[[#This Row],[YJコード③]],[1]!__前投薬リスト[#Data],4,FALSE)&\"\",\"\")","v":""},null,null,null,null,null,null,null,null,null,null,null,{"$f":"IFERROR(VLOOKUP(__レジメンマスタ[[#This Row],[YJコード④]],[1]!__前投薬リスト[#Data],4,FALSE)&\"\",\"\")","v":""},null,null,null,null,null,null,null,null,null,null,null,{"$f":"IFERROR(VLOOKUP(__レジメンマスタ[[#This Row],[YJコード⑤]],[1]!__前投薬リスト[#Data],4,FALSE)&\"\",\"\")","v":""},null,null,null,null,null,null,null,null,null,null,null,{"$f":"IFERROR(VLOOKUP(__レジメンマスタ[[#This Row],[YJコード⑥]],[1]!__前投薬リスト[#Data],4,FALSE)&\"\",\"\")","v":""},null,null,null,null,null,null,null,null,null,null,null,{"$f":"IFERROR(VLOOKUP(__レジメンマスタ[[#This Row],[YJコード⑦]],[1]!__前投薬リスト[#Data],4,FALSE)&\"\",\"\")","v":""}]
["HEM0003-4","APL寛解導入(C→D群）","★C群使用中に下記に該当した時に使用されるレジメンです★\n\nD群：ベサノイド内服後に途中でAPL細胞≧1000/μLとなった時、下記を追加\n　　　 D1   D2　 D3  （追加開始日を起点）\nIDR 　 ↓        \n治療開始後(ATRA開始後)60日でCRに達しない場合、寛解導入療法(地固め第1コース) を行う",null,null,"白血病（APL)","血液内科","イダマイシン（D群）",null,"4235405D1033","注射",null,12,"㎡","mg",null,"d1",{"$f":"IFERROR(VLOOKUP(__レジメンマスタ[[#This Row],[YJコード①]],[1]!__前投薬リスト[#Data],4,FALSE)&\"\",\"\")","v":""},null,"ベサノイド",null,"4291006M1034","経口",null,45,"㎡","mg",null,"d1-60\nC群より継続中",{"$f":"IFERROR(VLOOKUP(__レジメンマスタ[[#This Row],[YJコード②]],[1]!__前投薬リスト[#Data],4,FALSE)&\"\",\"\")","v":""},null,null,null,null,null,null,null,null,null,null,null,{"$f":"IFERROR(VLOOKUP(__レジメンマスタ[[#This Row],[YJコード③]],[1]!__前投薬リスト[#Data],4,FALSE)&\"\",\"\")","v":""},null,null,null,null,null,null,null,null,null,null,null,{"$f":"IFERROR(VLOOKUP(__レジメンマスタ[[#This Row],[YJコード④]],[1]!__前投薬リスト[#Data],4,FALSE)&\"\",\"\")","v":""},null,null,null,null,null,null,null,null,null,null,null,{"$f":"IFERROR(VLOOKUP(__レジメンマスタ[[#This Row],[YJコード⑤]],[1]!__前投薬リスト[#Data],4,FALSE)&\"\",\"\")","v":""},null,null,null,null,null,null,null,null,null,null,null,{"$f":"IFERROR(VLOOKUP(__レジメンマスタ[[#This Row],[YJコード⑥]],[1]!__前投薬リスト[#Data],4,FALSE)&\"\",\"\")","v":""},null,null,null,null,null,null,null,null,null,null,null,{"$f":"IFERROR(VLOOKUP(__レジメンマスタ[[#This Row],[YJコード⑦]],[1]!__前投薬リスト[#Data],4,FALSE)&\"\",\"\")","v":""}]
["HEM0004","APL地固め","★寛解導入療法から休薬なしで移行可★地固め療法間は血球回復次第移行可★\n地固め①  D1   D2　 D3   D4   D5  地固め②   D1   D2　 D3   D4   D5 \n　　MIT　 ↓ 　↓　 ↓         　　　  DNR　 ↓ 　↓　 ↓   　　　\n 　AraC   ↓   ↓   ↓   ↓   ↓       AraC  ↓   ↓   ↓   ↓   ↓ \n地固め療法②コース終了後、血小板10万/μL以上に回復次第\nMTX15mg/BODY＋AraC40mg/BODY＋PSL10mg/BODYの髄腔内投与☆\n\n地固め③    D1   D2　 D3   D4   D5   \n　　　IDR　 ↓ 　↓　 ↓   \n   　 AraC  ↓   ↓   ↓   ↓   ↓ ",null,null,"白血病（APL)","血液内科","ノバントロン",null,"4291402A1032","注射",null,7,"㎡","mg",null,"地①d1-3 ",{"$f":"IFERROR(VLOOKUP(__レジメンマスタ[[#This Row],[YJコード①]],[1]!__前投薬リスト[#Data],4,FALSE)&\"\",\"\")","v":""},null,"キロサイド",null,"4224401A5030","注射",null,200,"㎡","mg",null,"地①d1-5",{"$f":"IFERROR(VLOOKUP(__レジメンマスタ[[#This Row],[YJコード②]],[1]!__前投薬リスト[#Data],4,FALSE)&\"\",\"\")","v":""},null,"ダウノマイシン",null,"4235401D1035","注射","３０ 分で",50,"㎡","mg",null,"地②d1-3 ",{"$f":"IFERROR(VLOOKUP(__レジメンマスタ[[#This Row],[YJコード③]],[1]!__前投薬リスト[#Data],4,FALSE)&\"\",\"\")","v":""},null,"キロサイド",null,"4224401A5030","注射",null,200,"㎡","mg",null,"地②d1-5",{"$f":"IFERROR(VLOOKUP(__レジメンマスタ[[#This Row],[YJコード④]],[1]!__前投薬リスト[#Data],4,FALSE)&\"\",\"\")","v":""},null,"イダマイシン",null,"4235405D1033","注射",null,12,"㎡","mg",null,"地③d1-3 ",{"$f":"IFERROR(VLOOKUP(__レジメンマスタ[[#This Row],[YJコード⑤]],[1]!__前投薬リスト[#Data],4,FALSE)&\"\",\"\")","v":""},null,"キロサイド",null,"4224401A5030","注射",null,140,"㎡","mg",null,"地③d1-5",{"$f":"IFERROR(VLOOKUP(__レジメンマスタ[[#This Row],[YJコード⑥]],[1]!__前投薬リスト[#Data],4,FALSE)&\"\",\"\")","v":""},null,null,null,null,null,null,null,null,null,null,null,{"$f":"IFERROR(VLOOKUP(__レジメンマスタ[[#This Row],[YJコード⑦]],[1]!__前投薬リスト[#Data],4,FALSE)&\"\",\"\")","v":""}]
["HEM0004-5","APL　地固め療法（ATO)","           W1             W2～5            　W6\nATO   ↓↓↓↓↓×× ↓↓↓↓↓××   ×××××××  \n原則d1-5施行、d6-7休（5週間の間に1日1回、計25回）\n血球回復次第開始可",null,null,"白血病（APL)","血液内科","トリセノックス",null,"4291409A2022","注射","２ 時間で",0.15,"kg","mg",null,"d1-5,8-12,15-19,22-26,29-33",{"$f":"IFERROR(VLOOKUP(__レジメンマスタ[[#This Row],[YJコード①]],[1]!__前投薬リスト[#Data],4,FALSE)&\"\",\"\")","v":""},null,null,null,null,null,null,null,null,null,null,null,{"$f":"IFERROR(VLOOKUP(__レジメンマスタ[[#This Row],[YJコード②]],[1]!__前投薬リスト[#Data],4,FALSE)&\"\",\"\")","v":""},null,null,null,null,null,null,null,null,null,null,null,{"$f":"IFERROR(VLOOKUP(__レジメンマスタ[[#This Row],[YJコード③]],[1]!__前投薬リスト[#Data],4,FALSE)&\"\",\"\")","v":""},null,null,null,null,null,null,null,null,null,null,null,{"$f":"IFERROR(VLOOKUP(__レジメンマスタ[[#This Row],[YJコード④]],[1]!__前投薬リスト[#Data],4,FALSE)&\"\",\"\")","v":""},null,null,null,null,null,null,null,null,null,null,null,{"$f":"IFERROR(VLOOKUP(__レジメンマスタ[[#This Row],[YJコード⑤]],[1]!__前投薬リスト[#Data],4,FALSE)&\"\",\"\")","v":""},null,null,null,null,null,null,null,null,null,null,null,{"$f":"IFERROR(VLOOKUP(__レジメンマスタ[[#This Row],[YJコード⑥]],[1]!__前投薬リスト[#Data],4,FALSE)&\"\",\"\")","v":""},null,null,null,null,null,null,null,null,null,null,null,{"$f":"IFERROR(VLOOKUP(__レジメンマスタ[[#This Row],[YJコード⑦]],[1]!__前投薬リスト[#Data],4,FALSE)&\"\",\"\")","v":""}]
["HEM0007","ABVD（D:375mg/㎡）","　　　　　　Ｗ1            Ｗ2           Ｗ3           Ｗ4    \nDXR  ↓××××××  ××××××× ↓××××××  ×××××××   \nVLB  ↓××××××  ××××××× ↓××××××  ×××××××   \nDTIC ↓××××××  ××××××× ↓××××××  ××××××× \nBLM　↓××××××  ××××××× ↓××××××  ×××××××   \n★ブレオ：MAX15mg★、★エクザール：MAX10mg★\n1コースは4週間\n4コース終了までにCRとなった場合は6コースまで\n6コース終了までにCR又はPRとなった場合は8コースまで","28日","8コース","リンパ腫","血液内科","ドキソルビシン","危 50mg ﾄﾞｷｿﾙﾋﾞｼﾝ塩酸塩注射用「NK」（溶解液:生食orAq）（先:ｱﾄﾞﾘｱｼﾝ）","4235402D2028","注射","３０ 分で",25,"㎡","mg",null,"d1,15",{"$f":"IFERROR(VLOOKUP(__レジメンマスタ[[#This Row],[YJコード①]],[1]!__前投薬リスト[#Data],4,FALSE)&\"\",\"\")","v":""},null,"ブレオ",null,"4234400D5039","注射",null,10,"㎡","mg",null,"d1,15",{"$f":"IFERROR(VLOOKUP(__レジメンマスタ[[#This Row],[YJコード②]],[1]!__前投薬リスト[#Data],4,FALSE)&\"\",\"\")","v":""},null,"エクザール",null,"4240401D2031","注射",null,6,"㎡","mg",null,"d1,15",{"$f":"IFERROR(VLOOKUP(__レジメンマスタ[[#This Row],[YJコード③]],[1]!__前投薬リスト[#Data],4,FALSE)&\"\",\"\")","v":""},null,"ダカルバジン",null,"4219401D1031","注射",null,375,"㎡","mg",null,"d1,15",{"$f":"IFERROR(VLOOKUP(__レジメンマスタ[[#This Row],[YJコード④]],[1]!__前投薬リスト[#Data],4,FALSE)&\"\",\"\")","v":""},null,null,null,null,null,null,null,null,null,null,null,{"$f":"IFERROR(VLOOKUP(__レジメンマスタ[[#This Row],[YJコード⑤]],[1]!__前投薬リスト[#Data],4,FALSE)&\"\",\"\")","v":""},null,null,null,null,null,null,null,null,null,null,null,{"$f":"IFERROR(VLOOKUP(__レジメンマスタ[[#This Row],[YJコード⑥]],[1]!__前投薬リスト[#Data],4,FALSE)&\"\",\"\")","v":""},null,null,null,null,null,null,null,null,null,null,null,{"$f":"IFERROR(VLOOKUP(__レジメンマスタ[[#This Row],[YJコード⑦]],[1]!__前投薬リスト[#Data],4,FALSE)&\"\",\"\")","v":""}]
["HEM0007-02","ABVd（d:250mg/㎡）","　　　　　　Ｗ1            Ｗ2           Ｗ3           Ｗ4    \nDXR  ↓××××××  ××××××× ↓××××××  ×××××××   \nVLB  ↓××××××  ××××××× ↓××××××  ×××××××   \nDTIC ↓××××××  ××××××× ↓××××××  ××××××× \nBLM　↓××××××  ××××××× ↓××××××  ×××××××   \n★ブレオ：MAX15mg★、★エクザール：MAX10mg★\n1コースは4週間\n4コース終了までにCRとなった場合は6コースまで\n6コース終了までにCR又はPRとなった場合は8コースまで","28日","8コース","リンパ腫","血液内科","ドキソルビシン","危 50mg ﾄﾞｷｿﾙﾋﾞｼﾝ塩酸塩注射用「NK」（溶解液:生食orAq）（先:ｱﾄﾞﾘｱｼﾝ）","4235402D2028","注射","３０ 分で",25,"㎡","mg",null,"d1,15",{"$f":"IFERROR(VLOOKUP(__レジメンマスタ[[#This Row],[YJコード①]],[1]!__前投薬リスト[#Data],4,FALSE)&\"\",\"\")","v":""},null,"ブレオ",null,"4234400D5039","注射",null,10,"㎡","mg",null,"d1,15",{"$f":"IFERROR(VLOOKUP(__レジメンマスタ[[#This Row],[YJコード②]],[1]!__前投薬リスト[#Data],4,FALSE)&\"\",\"\")","v":""},null,"エクザール",null,"4240401D2031","注射",null,6,"㎡","mg",null,"d1,15",{"$f":"IFERROR(VLOOKUP(__レジメンマスタ[[#This Row],[YJコード③]],[1]!__前投薬リスト[#Data],4,FALSE)&\"\",\"\")","v":""},null,"ダカルバジン",null,"4219401D1031","注射",null,250,"㎡","mg",null,"d1,15",{"$f":"IFERROR(VLOOKUP(__レジメンマスタ[[#This Row],[YJコード④]],[1]!__前投薬リスト[#Data],4,FALSE)&\"\",\"\")","v":""},null,null,null,null,null,null,null,null,null,null,null,{"$f":"IFERROR(VLOOKUP(__レジメンマスタ[[#This Row],[YJコード⑤]],[1]!__前投薬リスト[#Data],4,FALSE)&\"\",\"\")","v":""},null,null,null,null,null,null,null,null,null,null,null,{"$f":"IFERROR(VLOOKUP(__レジメンマスタ[[#This Row],[YJコード⑥]],[1]!__前投薬リスト[#Data],4,FALSE)&\"\",\"\")","v":""},null,null,null,null,null,null,null,null,null,null,null,{"$f":"IFERROR(VLOOKUP(__レジメンマスタ[[#This Row],[YJコード⑦]],[1]!__前投薬リスト[#Data],4,FALSE)&\"\",\"\")","v":""}]
["HEM0008","CHOP","　　　　　　Ｗ1            Ｗ2           Ｗ3       \nDXR　↓××××××  ××××××× ××××××× \nCPA  ↓××××××  ××××××× ××××××× \nVCR  ↓××××××  ××××××× ××××××× \nPSL  ↓↓↓↓↓××  ××××××× ×××××××\n★オンコビン：MAX2mg★\n（※R併用の場合はHEM0010のシートを使用する）","21日","8コース","リンパ腫","血液内科","ドキソルビシン","危 50mg ﾄﾞｷｿﾙﾋﾞｼﾝ塩酸塩注射用「NK」（溶解液:生食orAq）（先:ｱﾄﾞﾘｱｼﾝ）","4235402D2028","注射","３０ 分で",50,"㎡","mg",null,"d1",{"$f":"IFERROR(VLOOKUP(__レジメンマスタ[[#This Row],[YJコード①]],[1]!__前投薬リスト[#Data],4,FALSE)&\"\",\"\")","v":""},null,"エンドキサン","危 注射用ｴﾝﾄﾞｷｻﾝ 500㎎","4211401D2021","注射","２ 時間で",750,"㎡","mg",null,"d1",{"$f":"IFERROR(VLOOKUP(__レジメンマスタ[[#This Row],[YJコード②]],[1]!__前投薬リスト[#Data],4,FALSE)&\"\",\"\")","v":""},null,"オンコビン","危 ｵﾝｺﾋﾞﾝ注射用 1㎎","4240400D1030","注射","５～１０分　かけて",1.4,"㎡","mg",null,"d1",{"$f":"IFERROR(VLOOKUP(__レジメンマスタ[[#This Row],[YJコード③]],[1]!__前投薬リスト[#Data],4,FALSE)&\"\",\"\")","v":""},null,"プレドニン",null,"2456001F1310","経口",null,100,"BODY","mg",null,"d1-5",{"$f":"IFERROR(VLOOKUP(__レジメンマスタ[[#This Row],[YJコード④]],[1]!__前投薬リスト[#Data],4,FALSE)&\"\",\"\")","v":""},null,null,null,null,null,null,null,null,null,null,null,{"$f":"IFERROR(VLOOKUP(__レジメンマスタ[[#This Row],[YJコード⑤]],[1]!__前投薬リスト[#Data],4,FALSE)&\"\",\"\")","v":""},null,null,null,null,null,null,null,null,null,null,null,{"$f":"IFERROR(VLOOKUP(__レジメンマスタ[[#This Row],[YJコード⑥]],[1]!__前投薬リスト[#Data],4,FALSE)&\"\",\"\")","v":""},null,null,null,null,null,null,null,null,null,null,null,{"$f":"IFERROR(VLOOKUP(__レジメンマスタ[[#This Row],[YJコード⑦]],[1]!__前投薬リスト[#Data],4,FALSE)&\"\",\"\")","v":""}]
["HEM0009","biweekly CHOP","　　　　　　Ｗ1            Ｗ2       \nDXR　↓××××××  ×××××××\nCPA  ↓××××××  ××××××× \nVCR  ↓××××××  ××××××× \nPSL  ↓↓↓↓↓××  ××××××× \n★オンコビン：MAX2mg★","14日","8コース","リンパ腫","血液内科","ドキソルビシン","危 50mg ﾄﾞｷｿﾙﾋﾞｼﾝ塩酸塩注射用「NK」（溶解液:生食orAq）（先:ｱﾄﾞﾘｱｼﾝ）","4235402D2028","注射","３０ 分で",50,"㎡","mg",null,"d1",{"$f":"IFERROR(VLOOKUP(__レジメンマスタ[[#This Row],[YJコード①]],[1]!__前投薬リスト[#Data],4,FALSE)&\"\",\"\")","v":""},null,"エンドキサン","危 注射用ｴﾝﾄﾞｷｻﾝ 500㎎","4211401D2021","注射","２ 時間で",750,"㎡","mg",null,"d1",{"$f":"IFERROR(VLOOKUP(__レジメンマスタ[[#This Row],[YJコード②]],[1]!__前投薬リスト[#Data],4,FALSE)&\"\",\"\")","v":""},null,"オンコビン","危 ｵﾝｺﾋﾞﾝ注射用 1㎎","4240400D1030","注射","５～１０分　かけて",1.4,"㎡","mg",null,"d1",{"$f":"IFERROR(VLOOKUP(__レジメンマスタ[[#This Row],[YJコード③]],[1]!__前投薬リスト[#Data],4,FALSE)&\"\",\"\")","v":""},null,"プレドニン",null,"2456001F1310","経口",null,50,"㎡","mg",null,"d1-5",{"$f":"IFERROR(VLOOKUP(__レジメンマスタ[[#This Row],[YJコード④]],[1]!__前投薬リスト[#Data],4,FALSE)&\"\",\"\")","v":""},null,null,null,null,null,null,null,null,null,null,null,{"$f":"IFERROR(VLOOKUP(__レジメンマスタ[[#This Row],[YJコード⑤]],[1]!__前投薬リスト[#Data],4,FALSE)&\"\",\"\")","v":""},null,null,null,null,null,null,null,null,null,null,null,{"$f":"IFERROR(VLOOKUP(__レジメンマスタ[[#This Row],[YJコード⑥]],[1]!__前投薬リスト[#Data],4,FALSE)&\"\",\"\")","v":""},null,null,null,null,null,null,null,null,null,null,null,{"$f":"IFERROR(VLOOKUP(__レジメンマスタ[[#This Row],[YJコード⑦]],[1]!__前投薬リスト[#Data],4,FALSE)&\"\",\"\")","v":""}]
["HEM0010","R-CHOP ","　　　　　　Ｗ1            Ｗ2           Ｗ3       \nR　  ↓××××××  ××××××× ××××××× \nDXR　×↓×××××  ××××××× ××××××× \nCPA  ×↓×××××  ××××××× ××××××× \nVCR  ×↓×××××  ××××××× ××××××× \nPSL  ×↓↓↓↓↓×  ××××××× ×××××××\n★オンコビン：MAX2mg★\nRは前後することあり(休薬はR同士で1週以上あいていれば可）\nCHOP終了後、Rのみ維持療法(8週毎、最大12回）で継続することあり","21日（→56日）","8コース","リンパ腫","血液内科","リツキシマブ","危 500㎎/50mL ﾘﾂｷｼﾏﾌﾞBS点滴静注「ﾌｧｲｻﾞｰ」（希釈液:生食orTZ）（先:ﾘﾂｷｻﾝ）","4291451A2024","注射","５０ｍｌ／ｈで開始、ｍａｘ２００ｍＬ／ｈ",375,"㎡","mg",null,"d0",{"$f":"IFERROR(VLOOKUP(__レジメンマスタ[[#This Row],[YJコード①]],[1]!__前投薬リスト[#Data],4,FALSE)&\"\",\"\")","v":"抗ヒス,解,(ステ)"},null,"オンコビン","危 ｵﾝｺﾋﾞﾝ注射用 1㎎","4240400D1030","注射","５～１０分かけて",1.4,"㎡","mg",null,"d1",{"$f":"IFERROR(VLOOKUP(__レジメンマスタ[[#This Row],[YJコード②]],[1]!__前投薬リスト[#Data],4,FALSE)&\"\",\"\")","v":""},null,"ドキソルビシン","危 50mg ﾄﾞｷｿﾙﾋﾞｼﾝ塩酸塩注射用「NK」（溶解液:生食orAq）（先:ｱﾄﾞﾘｱｼﾝ）","4235402D2028","注射","３０ 分で",50,"㎡","mg",null,"d1",{"$f":"IFERROR(VLOOKUP(__レジメンマスタ[[#This Row],[YJコード③]],[1]!__前投薬リスト[#Data],4,FALSE)&\"\",\"\")","v":""},null,"エンドキサン","危 注射用ｴﾝﾄﾞｷｻﾝ 500㎎","4211401D2021","注射","２ 時間で",750,"㎡","mg",null,"d1",{"$f":"IFERROR(VLOOKUP(__レジメンマスタ[[#This Row],[YJコード④]],[1]!__前投薬リスト[#Data],4,FALSE)&\"\",\"\")","v":""},null,"プレドニン",null,"2456001F1310","経口",null,100,"BODY","mg",null,"d1-5",{"$f":"IFERROR(VLOOKUP(__レジメンマスタ[[#This Row],[YJコード⑤]],[1]!__前投薬リスト[#Data],4,FALSE)&\"\",\"\")","v":""},null,null,null,null,null,null,null,null,null,null,null,{"$f":"IFERROR(VLOOKUP(__レジメンマスタ[[#This Row],[YJコード⑥]],[1]!__前投薬リスト[#Data],4,FALSE)&\"\",\"\")","v":""},null,null,null,null,null,null,null,null,null,null,null,{"$f":"IFERROR(VLOOKUP(__レジメンマスタ[[#This Row],[YJコード⑦]],[1]!__前投薬リスト[#Data],4,FALSE)&\"\",\"\")","v":""}]
["HEM0012","Hyper-CVAD","※HyperCVADとMTX-AraC療法を交互に使用することが多い\n【前治療がMTX-AraCのとき】MTX-AraC開始日より3週間を目安に開始\n　　 D1　　D2　　D3　　D4　　D5  ・・・D11・・・D20    \nCPA ↓↓　↓↓　↓↓　　　　 \nVCR 　                ↓    　　　　　↓\nDXR 　                ↓   (↓)※DXRは25mg/㎡でD4.5の場合あり\n★オンコビン：MAX2mg★","21日","6コース","リンパ腫","血液内科","エンドキサン","危 注射用ｴﾝﾄﾞｷｻﾝ 500㎎","4211401D2021","注射","３ 時間で",300,"㎡","mg",null,"d1-3(AM)",{"$f":"IFERROR(VLOOKUP(__レジメンマスタ[[#This Row],[YJコード①]],[1]!__前投薬リスト[#Data],4,FALSE)&\"\",\"\")","v":""},null,"エンドキサン","危 注射用ｴﾝﾄﾞｷｻﾝ 500㎎","4211401D2021","注射","３ 時間で",300,"㎡","mg",null,"d1-3(PM)",{"$f":"IFERROR(VLOOKUP(__レジメンマスタ[[#This Row],[YJコード②]],[1]!__前投薬リスト[#Data],4,FALSE)&\"\",\"\")","v":""},null,"オンコビン","危 ｵﾝｺﾋﾞﾝ注射用 1㎎","4240400D1030","注射","５～１０分かけて",1.4,"㎡","mg",null,"d4,11",{"$f":"IFERROR(VLOOKUP(__レジメンマスタ[[#This Row],[YJコード③]],[1]!__前投薬リスト[#Data],4,FALSE)&\"\",\"\")","v":""},null,"ドキソルビシン","危 50mg ﾄﾞｷｿﾙﾋﾞｼﾝ塩酸塩注射用「NK」（溶解液:生食orAq）（先:ｱﾄﾞﾘｱｼﾝ）","4235402D2028","注射","３０ 分で",50,"㎡","mg",null,"d4",{"$f":"IFERROR(VLOOKUP(__レジメンマスタ[[#This Row],[YJコード④]],[1]!__前投薬リスト[#Data],4,FALSE)&\"\",\"\")","v":""},null,null,null,null,null,null,null,null,null,null,null,{"$f":"IFERROR(VLOOKUP(__レジメンマスタ[[#This Row],[YJコード⑤]],[1]!__前投薬リスト[#Data],4,FALSE)&\"\",\"\")","v":""},null,null,null,null,null,null,null,null,null,null,null,{"$f":"IFERROR(VLOOKUP(__レジメンマスタ[[#This Row],[YJコード⑥]],[1]!__前投薬リスト[#Data],4,FALSE)&\"\",\"\")","v":""},null,null,null,null,null,null,null,null,null,null,null,{"$f":"IFERROR(VLOOKUP(__レジメンマスタ[[#This Row],[YJコード⑦]],[1]!__前投薬リスト[#Data],4,FALSE)&\"\",\"\")","v":""}]
["HEM0012-2","（作成中）Hyper-CVAD髄注","必要時に1日1回　投与回数制限なし\n\n★HyperCVADレジメンに追加して使用する★\n→HyperCVADレジメンの患者特記事項の欄に「髄注併用中」と記載する。\n→本レジメンの患者特記事項の欄に「別レジメン併用中」と記載する。\n→レジメンチェックはそれぞれのシートで行う。",null,null,"リンパ腫","血液内科","メソトレキセート 5mg","危 5mg 注射用ﾒｿﾄﾚｷｾｰﾄ","4222400D1024","髄","髄注、髄注用シリンジで調製",12,"BODY","mg",null,"d1",{"$f":"IFERROR(VLOOKUP(__レジメンマスタ[[#This Row],[YJコード①]],[1]!__前投薬リスト[#Data],4,FALSE)&\"\",\"\")","v":""},null,"プレドニン",null,"2456405D1027","髄",null,10,"BODY","mg",null,"d1",{"$f":"IFERROR(VLOOKUP(__レジメンマスタ[[#This Row],[YJコード③]],[1]!__前投薬リスト[#Data],4,FALSE)&\"\",\"\")","v":""},null,null,null,null,null,null,null,null,null,null,null,null,null,null,null,null,null,null,null,null,null,null,null,null,null,null,null,null,null,null,null,null,null,null,null,null,null,null,null,null,null,null,null,null,null,null,null,null,null,null,null,null,null,null,null,null,null,null,null,{"$f":"IFERROR(VLOOKUP(__レジメンマスタ[[#This Row],[YJコード⑦]],[1]!__前投薬リスト[#Data],4,FALSE)&\"\",\"\")","v":""}]
["HEM0013","大量MTX+AraC療法","※HyperCVADとMTX-AraC療法を交互に使用することが多い\n【前治療がHyperCVADのとき】HyperCVADのD1より3週間を目安に開始\n　　　 　　D1　　D2　　D3　　D4　　D5  ・・・D11・・・D20 \nMTX(急)    ↓    　　　　\nMTX(持)　　↓\nAraC          　↓↓　↓↓　　　　　 ","21日","6コース","リンパ腫","血液内科","メソトレキセート(急速)","危 200mg/8mL ﾒｿﾄﾚｷｾｰﾄ点滴静注液","4222400A1036","注射","１時間厳守、１０時から",200,"㎡","mg",null,"d1",{"$f":"IFERROR(VLOOKUP(__レジメンマスタ[[#This Row],[YJコード①]],[1]!__前投薬リスト[#Data],4,FALSE)&\"\",\"\")","v":""},null,"メソトレキセート(持続)","危 1000mg/40mL ﾒｿﾄﾚｷｾｰﾄ点滴静注液","4222400A2024","注射","２３時間厳守",800,"㎡","mg",null,"d1",{"$f":"IFERROR(VLOOKUP(__レジメンマスタ[[#This Row],[YJコード②]],[1]!__前投薬リスト[#Data],4,FALSE)&\"\",\"\")","v":""},null,"シタラビン「NIG」","危 1g/50mL ｼﾀﾗﾋﾞﾝ点滴静注液「NIG」（希釈液:生食orTZ）（先:ｷﾛｻｲﾄﾞN）","4224401A7041","注射","３時間厳守、１２時間毎に投与",2000,"㎡","mg",null,"d2-3(AM)",{"$f":"IFERROR(VLOOKUP(__レジメンマスタ[[#This Row],[YJコード③]],[1]!__前投薬リスト[#Data],4,FALSE)&\"\",\"\")","v":""},null,"シタラビン「NIG」","危 1g/50mL ｼﾀﾗﾋﾞﾝ点滴静注液「NIG」（希釈液:生食orTZ）（先:ｷﾛｻｲﾄﾞN）","4224401A7041","注射","３時間厳守、１２時間毎に投与",2000,"㎡","mg",null,"d2-3(PM)",{"$f":"IFERROR(VLOOKUP(__レジメンマスタ[[#This Row],[YJコード④]],[1]!__前投薬リスト[#Data],4,FALSE)&\"\",\"\")","v":""},null,null,null,null,null,null,null,null,null,null,null,{"$f":"IFERROR(VLOOKUP(__レジメンマスタ[[#This Row],[YJコード⑤]],[1]!__前投薬リスト[#Data],4,FALSE)&\"\",\"\")","v":""},null,null,null,null,null,null,null,null,null,null,null,{"$f":"IFERROR(VLOOKUP(__レジメンマスタ[[#This Row],[YJコード⑥]],[1]!__前投薬リスト[#Data],4,FALSE)&\"\",\"\")","v":""},null,null,null,null,null,null,null,null,null,null,null,{"$f":"IFERROR(VLOOKUP(__レジメンマスタ[[#This Row],[YJコード⑦]],[1]!__前投薬リスト[#Data],4,FALSE)&\"\",\"\")","v":""}]
["HEM0012+0013","HyperCVAD＋MTX-AraC","【HyperCVAD】                            【MTX-AraC】\n　　 D1 　D2　 D3  D4 D5  ・D11・D20  →　　　D1　　D2　　D3\nCPA ↓↓ ↓↓ ↓↓　　　　　　　　　　MTX(急) ↓\nVCR  　            ↓　　　　↓　 　 MTX(持) ↓\nDXR 　             ↓(↓)※　　　　　　 AraC    　 ↓↓　↓↓　\n※DXRは25mg/㎡でD4.5の場合あり、★オンコビン：MAX2mg★\nHyperCVAD：2C以降開始：MTX-AraC開始日より3週間を目安　　　　 \nMTX-AraC：投与間隔：HyperCVADより継続、D1より21日以上\n【HyperCVAD】＋【MTX-AraC】で1コース　最大6コース","42日","6コース","リンパ腫",null,"エンドキサン","危 注射用ｴﾝﾄﾞｷｻﾝ 500㎎","4211401D2021","注射","３ 時間で",300,"㎡","mg",null,"d1-3(AM)\nd1-3(PM)",{"$f":"IFERROR(VLOOKUP(__レジメンマスタ[[#This Row],[YJコード①]],[1]!__前投薬リスト[#Data],4,FALSE)&\"\",\"\")","v":""},null,"オンコビン","危 ｵﾝｺﾋﾞﾝ注射用 1㎎","4240400D1030","注射","５～１０分かけて",1.4,"㎡","mg",null,"d4,11",{"$f":"IFERROR(VLOOKUP(__レジメンマスタ[[#This Row],[YJコード②]],[1]!__前投薬リスト[#Data],4,FALSE)&\"\",\"\")","v":""},null,"ドキソルビシン","危 50mg ﾄﾞｷｿﾙﾋﾞｼﾝ塩酸塩注射用「NK」（溶解液:生食orAq）（先:ｱﾄﾞﾘｱｼﾝ）","4235402D2028","注射","３０ 分で",50,"㎡","mg",null,"d4",{"$f":"IFERROR(VLOOKUP(__レジメンマスタ[[#This Row],[YJコード③]],[1]!__前投薬リスト[#Data],4,FALSE)&\"\",\"\")","v":""},null,"メソトレキセート(急速)","危 200mg/8mL ﾒｿﾄﾚｷｾｰﾄ点滴静注液","4222400A1036","注射","１時間厳守、１０時から",200,"㎡","mg",null,"d1",{"$f":"IFERROR(VLOOKUP(__レジメンマスタ[[#This Row],[YJコード④]],[1]!__前投薬リスト[#Data],4,FALSE)&\"\",\"\")","v":""},null,"メソトレキセート(持続)","危 1000mg/40mL ﾒｿﾄﾚｷｾｰﾄ点滴静注液","4222400A2024","注射","２３時間厳守",800,"㎡","mg",null,"d1",{"$f":"IFERROR(VLOOKUP(__レジメンマスタ[[#This Row],[YJコード⑤]],[1]!__前投薬リスト[#Data],4,FALSE)&\"\",\"\")","v":""},null,"シタラビン「NIG」","危 1g/50mL ｼﾀﾗﾋﾞﾝ点滴静注液「NIG」（希釈液:生食orTZ）（先:ｷﾛｻｲﾄﾞN）","4224401A7041","注射","３時間厳守、１２時間毎に投与",2000,"㎡","mg",null,"d2-3(AM)\nd2-3(PM)",{"$f":"IFERROR(VLOOKUP(__レジメンマスタ[[#This Row],[YJコード⑥]],[1]!__前投薬リスト[#Data],4,FALSE)&\"\",\"\")","v":""},null,null,null,null,null,null,null,null,null,null,null,{"$f":"IFERROR(VLOOKUP(__レジメンマスタ[[#This Row],[YJコード⑦]],[1]!__前投薬リスト[#Data],4,FALSE)&\"\",\"\")","v":""}]
["HEM0014","R-DHAP","　　 D1　　D2　　D3　・・・　D21 \nR　　↓    　　　　\nCDDP 　　　↓\nAraC         　↓↓※12時間毎\nRは前後することあり(休薬はR同士で1週以上あいていれば可）","21-28日",null,"リンパ腫","血液内科","リツキシマブ","危 500㎎/50mL ﾘﾂｷｼﾏﾌﾞBS点滴静注「ﾌｧｲｻﾞｰ」（希釈液:生食orTZ）（先:ﾘﾂｷｻﾝ）","4291451A2024","注射","５０ｍｌ／ｈで開始、ｍａｘ２００ｍＬ／ｈ",375,"㎡","mg",null,"d1",{"$f":"IFERROR(VLOOKUP(__レジメンマスタ[[#This Row],[YJコード①]],[1]!__前投薬リスト[#Data],4,FALSE)&\"\",\"\")","v":"抗ヒス,解,(ステ)"},null,"シスプラチン","危〈毒〉50mg/100mL ｼｽﾌﾟﾗﾁﾝ点滴静注「ﾏﾙｺ」（先:ﾗﾝﾀﾞ）","4291401A3111","注射","24時間持続",100,"㎡","mg",null,"d2",{"$f":"IFERROR(VLOOKUP(__レジメンマスタ[[#This Row],[YJコード②]],[1]!__前投薬リスト[#Data],4,FALSE)&\"\",\"\")","v":""},null,"シタラビン","危 1g/50mL ｼﾀﾗﾋﾞﾝ点滴静注液「NIG」（希釈液:生食orTZ）（先:ｷﾛｻｲﾄﾞN）","4224401A7041","注射","３時間厳守",2000,"㎡","mg",null,"d3(AM)",{"$f":"IFERROR(VLOOKUP(__レジメンマスタ[[#This Row],[YJコード③]],[1]!__前投薬リスト[#Data],4,FALSE)&\"\",\"\")","v":""},null,"シタラビン","危 1g/50mL ｼﾀﾗﾋﾞﾝ点滴静注液「NIG」（希釈液:生食orTZ）（先:ｷﾛｻｲﾄﾞN）","4224401A7041","注射","３時間厳守",2000,"㎡","mg",null,"d3(PM)",{"$f":"IFERROR(VLOOKUP(__レジメンマスタ[[#This Row],[YJコード④]],[1]!__前投薬リスト[#Data],4,FALSE)&\"\",\"\")","v":""},null,null,null,null,null,null,null,null,null,null,null,{"$f":"IFERROR(VLOOKUP(__レジメンマスタ[[#This Row],[YJコード⑤]],[1]!__前投薬リスト[#Data],4,FALSE)&\"\",\"\")","v":""},null,null,null,null,null,null,null,null,null,null,null,{"$f":"IFERROR(VLOOKUP(__レジメンマスタ[[#This Row],[YJコード⑥]],[1]!__前投薬リスト[#Data],4,FALSE)&\"\",\"\")","v":""},null,null,null,null,null,null,null,null,null,null,null,{"$f":"IFERROR(VLOOKUP(__レジメンマスタ[[#This Row],[YJコード⑦]],[1]!__前投薬リスト[#Data],4,FALSE)&\"\",\"\")","v":""}]
["HEM0015","FND","　　　　　　Ｗ1            Ｗ2           Ｗ3           Ｗ4    \nFLU  ↓↓↓××××  ××××××× ｖ××××××  ×××××××   \nMIT  ↓××××××  ××××××× ×××××××  ×××××××   \n８コースまで","28日","8コース","リンパ腫","血液内科","フルダラ",null,"4229400D1033","注射",null,25,"㎡","mg",null,"d1-3",{"$f":"IFERROR(VLOOKUP(__レジメンマスタ[[#This Row],[YJコード①]],[1]!__前投薬リスト[#Data],4,FALSE)&\"\",\"\")","v":""},null,"ノバントロン",null,"4291402A1032","注射",null,10,"㎡","mg",null,"d1",{"$f":"IFERROR(VLOOKUP(__レジメンマスタ[[#This Row],[YJコード②]],[1]!__前投薬リスト[#Data],4,FALSE)&\"\",\"\")","v":""},null,null,null,null,null,null,null,null,null,null,null,{"$f":"IFERROR(VLOOKUP(__レジメンマスタ[[#This Row],[YJコード③]],[1]!__前投薬リスト[#Data],4,FALSE)&\"\",\"\")","v":""},null,null,null,null,null,null,null,null,null,null,null,{"$f":"IFERROR(VLOOKUP(__レジメンマスタ[[#This Row],[YJコード④]],[1]!__前投薬リスト[#Data],4,FALSE)&\"\",\"\")","v":""},null,null,null,null,null,null,null,null,null,null,null,{"$f":"IFERROR(VLOOKUP(__レジメンマスタ[[#This Row],[YJコード⑤]],[1]!__前投薬リスト[#Data],4,FALSE)&\"\",\"\")","v":""},null,null,null,null,null,null,null,null,null,null,null,{"$f":"IFERROR(VLOOKUP(__レジメンマスタ[[#This Row],[YJコード⑥]],[1]!__前投薬リスト[#Data],4,FALSE)&\"\",\"\")","v":""},null,null,null,null,null,null,null,null,null,null,null,{"$f":"IFERROR(VLOOKUP(__レジメンマスタ[[#This Row],[YJコード⑦]],[1]!__前投薬リスト[#Data],4,FALSE)&\"\",\"\")","v":""}]
["HEM0016-01","ICE（変法）","           W1             W2            　W3\nIFM   ↓↓↓↓↓×× ×××××××  ×××××××  \nCBDCA ↓×××××× ×××××××  ×××××××    \nETP　 ↓↓↓↓↓×× ×××××××  ×××××××   \nMesna ↓↓↓↓↓×× ×××××××  ×××××××     \nウロミテキサンの投与量の欄は（1回量）を記入\nウロミテキサンはイホマイド投与直後、4時間後、8時間後","21日",null,"リンパ腫","血液内科","イホマイド","危 注射用ｲﾎﾏｲﾄﾞ 1g（溶解液:生食orAq）","4211402D1020","注射",null,1200,"㎡","mg",null,"d1-5",{"$f":"IFERROR(VLOOKUP(__レジメンマスタ[[#This Row],[YJコード①]],[1]!__前投薬リスト[#Data],4,FALSE)&\"\",\"\")","v":""},null,"カルボプラチン","危〈毒〉ｶﾙﾎﾞﾌﾟﾗﾁﾝ点滴静注液「NK」150mg/15mL（先:ﾊﾟﾗﾌﾟﾗﾁﾝ）","4291403A2092","注射",null,400,"㎡","mg",null,"d1",{"$f":"IFERROR(VLOOKUP(__レジメンマスタ[[#This Row],[YJコード②]],[1]!__前投薬リスト[#Data],4,FALSE)&\"\",\"\")","v":""},null,"エトポシド","危 ｴﾄﾎﾟｼﾄﾞ点滴静注液「ｻﾝﾄﾞ」100mg/5mL（先:ﾗｽﾃｯﾄ）","4240403A2069","注射",null,100,"㎡","mg",null,"d1-5",{"$f":"IFERROR(VLOOKUP(__レジメンマスタ[[#This Row],[YJコード③]],[1]!__前投薬リスト[#Data],4,FALSE)&\"\",\"\")","v":""},null,"ウロミテキサン×３",null,"3929406A2026","注射",null,400,"㎡","mg",null,"×３\nd1-5",{"$f":"IFERROR(VLOOKUP(__レジメンマスタ[[#This Row],[YJコード④]],[1]!__前投薬リスト[#Data],4,FALSE)&\"\",\"\")","v":""},null,null,null,null,null,null,null,null,null,null,null,{"$f":"IFERROR(VLOOKUP(__レジメンマスタ[[#This Row],[YJコード⑤]],[1]!__前投薬リスト[#Data],4,FALSE)&\"\",\"\")","v":""},null,null,null,null,null,null,null,null,null,null,null,{"$f":"IFERROR(VLOOKUP(__レジメンマスタ[[#This Row],[YJコード⑥]],[1]!__前投薬リスト[#Data],4,FALSE)&\"\",\"\")","v":""},null,null,null,null,null,null,null,null,null,null,null,{"$f":"IFERROR(VLOOKUP(__レジメンマスタ[[#This Row],[YJコード⑦]],[1]!__前投薬リスト[#Data],4,FALSE)&\"\",\"\")","v":""}]
["HEM0016-02","ICE（原法）","★ﾚｼﾞﾒﾝ申請未、申請されたら再チェック★\n           W1             W2            　W3\nIFM   ×→××××× ×××××××  ×××××××  \nCBDCA ×↓××××× ×××××××  ×××××××    \nETP　 ↓↓↓×××× ×××××××  ×××××××   \nMesna ×→××××× ×××××××  ×××××××      \nIFMはd2-3に24時間持続投与\nウロミテキサンはIFMに混注","21日",null,"リンパ腫","血液内科","イホマイド","危 注射用ｲﾎﾏｲﾄﾞ 1g（溶解液:生食orAq）","4211402D1020","注射","24時間持続",5000,"㎡","mg",null,"d2(～d3)",{"$f":"IFERROR(VLOOKUP(__レジメンマスタ[[#This Row],[YJコード①]],[1]!__前投薬リスト[#Data],4,FALSE)&\"\",\"\")","v":""},null,"カルボプラチン","危〈毒〉ｶﾙﾎﾞﾌﾟﾗﾁﾝ点滴静注液「NK」150mg/15mL（先:ﾊﾟﾗﾌﾟﾗﾁﾝ）","4291403A2092","注射","１ 時間で",5,"AUC","mg",null,"d2",{"$f":"IFERROR(VLOOKUP(__レジメンマスタ[[#This Row],[YJコード②]],[1]!__前投薬リスト[#Data],4,FALSE)&\"\",\"\")","v":""},null,"エトポシド","危 ｴﾄﾎﾟｼﾄﾞ点滴静注液「ｻﾝﾄﾞ」100mg/5mL（先:ﾗｽﾃｯﾄ）","4240403A2069","注射","2時間で",100,"㎡","mg",null,"d1-3",{"$f":"IFERROR(VLOOKUP(__レジメンマスタ[[#This Row],[YJコード③]],[1]!__前投薬リスト[#Data],4,FALSE)&\"\",\"\")","v":""},null,"ウロミテキサン",null,"3929406A2026","注射","24時間持続",5000,"㎡","mg",null,"d2(～d3)",{"$f":"IFERROR(VLOOKUP(__レジメンマスタ[[#This Row],[YJコード④]],[1]!__前投薬リスト[#Data],4,FALSE)&\"\",\"\")","v":""},null,null,null,null,null,null,null,null,null,null,null,{"$f":"IFERROR(VLOOKUP(__レジメンマスタ[[#This Row],[YJコード⑤]],[1]!__前投薬リスト[#Data],4,FALSE)&\"\",\"\")","v":""},null,null,null,null,null,null,null,null,null,null,null,{"$f":"IFERROR(VLOOKUP(__レジメンマスタ[[#This Row],[YJコード⑥]],[1]!__前投薬リスト[#Data],4,FALSE)&\"\",\"\")","v":""},null,null,null,null,null,null,null,null,null,null,null,{"$f":"IFERROR(VLOOKUP(__レジメンマスタ[[#This Row],[YJコード⑦]],[1]!__前投薬リスト[#Data],4,FALSE)&\"\",\"\")","v":""}]
["HEM0017-01","LSG15療法 VCAPコース（D1)","　　　　　　 D1　           D8　　           D15 D16 D17・・・D28\n【VCAP】VCR　↓ 【AMP】DXR  ↓　【VECP】VDS　↓  　　　　  \n　　　　CPA　↓  　　　MCNU ↓ 　　　　　ETP ↓  ↓  ↓        \n　　　　DXR  ↓　　　　　　　　　　　　CBDCA ↓ \n　　　　　　　　　　　　　　　　　　　　　　　　　　　　　　　★ \n\n 第1,3,5CのVECP後にPlt7万/μl以上回復後、次CのVCAP1～2日前に髄注施行\n★髄注：AraC40mg＋MTX15mg＋PSL10mg★\n実施カレンダーはコピーして実施日を共有する","28日","7サイクル","リンパ腫","脳神経外科","オンコビン","危 ｵﾝｺﾋﾞﾝ注射用 1㎎","4240400D1030","注射",null,1,"㎡","mg",null,"d1",{"$f":"IFERROR(VLOOKUP(__レジメンマスタ[[#This Row],[YJコード①]],[1]!__前投薬リスト[#Data],4,FALSE)&\"\",\"\")","v":""},null,"エンドキサン","危 注射用ｴﾝﾄﾞｷｻﾝ 500㎎","4211401D2021","注射",null,350,"㎡","mg",null,"d1",{"$f":"IFERROR(VLOOKUP(__レジメンマスタ[[#This Row],[YJコード②]],[1]!__前投薬リスト[#Data],4,FALSE)&\"\",\"\")","v":""},null,"ドキソルビシン","危 50mg ﾄﾞｷｿﾙﾋﾞｼﾝ塩酸塩注射用「NK」（溶解液:生食orAq）（先:ｱﾄﾞﾘｱｼﾝ）","4235402D2028","注射",null,40,"㎡","mg",null,"d1",{"$f":"IFERROR(VLOOKUP(__レジメンマスタ[[#This Row],[YJコード③]],[1]!__前投薬リスト[#Data],4,FALSE)&\"\",\"\")","v":""},null,null,null,null,null,null,null,null,null,null,null,{"$f":"IFERROR(VLOOKUP(__レジメンマスタ[[#This Row],[YJコード④]],[1]!__前投薬リスト[#Data],4,FALSE)&\"\",\"\")","v":""},null,null,null,null,null,null,null,null,null,null,null,{"$f":"IFERROR(VLOOKUP(__レジメンマスタ[[#This Row],[YJコード⑤]],[1]!__前投薬リスト[#Data],4,FALSE)&\"\",\"\")","v":""},null,null,null,null,null,null,null,null,null,null,null,{"$f":"IFERROR(VLOOKUP(__レジメンマスタ[[#This Row],[YJコード⑥]],[1]!__前投薬リスト[#Data],4,FALSE)&\"\",\"\")","v":""},null,null,null,null,null,null,null,null,null,null,null,{"$f":"IFERROR(VLOOKUP(__レジメンマスタ[[#This Row],[YJコード⑦]],[1]!__前投薬リスト[#Data],4,FALSE)&\"\",\"\")","v":""}]
["HEM0017-02","LSG15療法 AMPコース（D8)","　　　　　　 D1　           D8　　           D15 D16 D17・・・D28\n【VCAP】VCR　↓ 【AMP】DXR  ↓　【VECP】VDS　↓  　　　　  \n　　　　CPA　↓  　　　MCNU ↓ 　　　　　ETP ↓  ↓  ↓        \n　　　　DXR  ↓　　　　　　　　　　　　CBDCA ↓ \n　　　　　　　　　　　　　　　　　　　　　　　　　　　　　　　★ \n\n 第1,3,5CのVECP後にPlt7万/μl以上回復後、次CのVCAP1～2日前に髄注施行\n★髄注：AraC40mg＋MTX15mg＋PSL10mg★\n実施カレンダーはコピーして実施日を共有する","28日","7サイクル","リンパ腫","血液内科","ドキソルビシン","危 50mg ﾄﾞｷｿﾙﾋﾞｼﾝ塩酸塩注射用「NK」（溶解液:生食orAq）（先:ｱﾄﾞﾘｱｼﾝ）","4235402D2028","注射",null,30,"㎡","mg",null,"d8",{"$f":"IFERROR(VLOOKUP(__レジメンマスタ[[#This Row],[YJコード①]],[1]!__前投薬リスト[#Data],4,FALSE)&\"\",\"\")","v":""},null,"サイメリン",null,"4219402D1028","注射",null,60,"㎡","mg",null,"d8",{"$f":"IFERROR(VLOOKUP(__レジメンマスタ[[#This Row],[YJコード②]],[1]!__前投薬リスト[#Data],4,FALSE)&\"\",\"\")","v":""},null,null,null,null,null,null,null,null,null,null,null,{"$f":"IFERROR(VLOOKUP(__レジメンマスタ[[#This Row],[YJコード③]],[1]!__前投薬リスト[#Data],4,FALSE)&\"\",\"\")","v":""},null,null,null,null,null,null,null,null,null,null,null,{"$f":"IFERROR(VLOOKUP(__レジメンマスタ[[#This Row],[YJコード④]],[1]!__前投薬リスト[#Data],4,FALSE)&\"\",\"\")","v":""},null,null,null,null,null,null,null,null,null,null,null,{"$f":"IFERROR(VLOOKUP(__レジメンマスタ[[#This Row],[YJコード⑤]],[1]!__前投薬リスト[#Data],4,FALSE)&\"\",\"\")","v":""},null,null,null,null,null,null,null,null,null,null,null,{"$f":"IFERROR(VLOOKUP(__レジメンマスタ[[#This Row],[YJコード⑥]],[1]!__前投薬リスト[#Data],4,FALSE)&\"\",\"\")","v":""},null,null,null,null,null,null,null,null,null,null,null,{"$f":"IFERROR(VLOOKUP(__レジメンマスタ[[#This Row],[YJコード⑦]],[1]!__前投薬リスト[#Data],4,FALSE)&\"\",\"\")","v":""}]
["HEM0017-03","LSG15療法 VECPコース（D15～17)","　　　　　　 D1　           D8　　           D15 D16 D17・・・D28\n【VCAP】VCR　↓ 【AMP】DXR  ↓　【VECP】VDS　↓  　　　　  \n　　　　CPA　↓  　　　MCNU ↓ 　　　　　ETP ↓  ↓  ↓        \n　　　　DXR  ↓　　　　　　　　　　　　CBDCA ↓ \n　　　　　　　　　　　　　　　　　　　　　　　　　　　　　　　★ \n※オンコビン：MAX2mg※\n 第1,3,5CのVECP後にPlt7万/μl以上回復後、次CのVCAP1～2日前に髄注施行\n★髄注：AraC40mg＋MTX15mg＋PSL10mg★\n実施カレンダーはコピーして実施日を共有する","28日","7サイクル","リンパ腫","血液内科","フィルデシン",null,"4240402D2028","注射",null,2.4,"㎡","mg",null,"d15",{"$f":"IFERROR(VLOOKUP(__レジメンマスタ[[#This Row],[YJコード①]],[1]!__前投薬リスト[#Data],4,FALSE)&\"\",\"\")","v":""},null,"エトポシド","危 ｴﾄﾎﾟｼﾄﾞ点滴静注液「ｻﾝﾄﾞ」100mg/5mL（先:ﾗｽﾃｯﾄ）","4240403A2069","注射","2時間で",100,"㎡","mg",null,"d15-17",{"$f":"IFERROR(VLOOKUP(__レジメンマスタ[[#This Row],[YJコード②]],[1]!__前投薬リスト[#Data],4,FALSE)&\"\",\"\")","v":""},null,"カルボプラチン","危〈毒〉ｶﾙﾎﾞﾌﾟﾗﾁﾝ点滴静注液「NK」150mg/15mL（先:ﾊﾟﾗﾌﾟﾗﾁﾝ）","4291403A2092","注射",null,250,"㎡","mg",null,"d15",{"$f":"IFERROR(VLOOKUP(__レジメンマスタ[[#This Row],[YJコード③]],[1]!__前投薬リスト[#Data],4,FALSE)&\"\",\"\")","v":""},null,null,null,null,null,null,null,null,null,null,null,{"$f":"IFERROR(VLOOKUP(__レジメンマスタ[[#This Row],[YJコード④]],[1]!__前投薬リスト[#Data],4,FALSE)&\"\",\"\")","v":""},null,null,null,null,null,null,null,null,null,null,null,{"$f":"IFERROR(VLOOKUP(__レジメンマスタ[[#This Row],[YJコード⑤]],[1]!__前投薬リスト[#Data],4,FALSE)&\"\",\"\")","v":""},null,null,null,null,null,null,null,null,null,null,null,{"$f":"IFERROR(VLOOKUP(__レジメンマスタ[[#This Row],[YJコード⑥]],[1]!__前投薬リスト[#Data],4,FALSE)&\"\",\"\")","v":""},null,null,null,null,null,null,null,null,null,null,null,{"$f":"IFERROR(VLOOKUP(__レジメンマスタ[[#This Row],[YJコード⑦]],[1]!__前投薬リスト[#Data],4,FALSE)&\"\",\"\")","v":""}]
["HEM0021","THP-COP","　　　　　　　　Ｗ1            Ｗ2           Ｗ3       \nTHP-ADR　↓××××××  ××××××× ××××××× \nCPA  　　↓××××××  ××××××× ××××××× \nVCR  　　↓××××××  ××××××× ××××××× \nPLS  　　↓↓↓↓↓××  ××××××× ×××××××\n★オンコビン：MAX2mg★","21日","8コース","リンパ腫","血液内科","エンドキサン","危 注射用ｴﾝﾄﾞｷｻﾝ 500㎎","4211401D2021","注射",null,500,"㎡","mg",null,"d1",{"$f":"IFERROR(VLOOKUP(__レジメンマスタ[[#This Row],[YJコード①]],[1]!__前投薬リスト[#Data],4,FALSE)&\"\",\"\")","v":""},null,"オンコビン","危 ｵﾝｺﾋﾞﾝ注射用 1㎎","4240400D1030","注射",null,1,"㎡","mg",null,"d1",{"$f":"IFERROR(VLOOKUP(__レジメンマスタ[[#This Row],[YJコード②]],[1]!__前投薬リスト[#Data],4,FALSE)&\"\",\"\")","v":""},null,"ピノルビン",null,"4235403D3029","注射",null,30,"㎡","mg",null,"d1",{"$f":"IFERROR(VLOOKUP(__レジメンマスタ[[#This Row],[YJコード③]],[1]!__前投薬リスト[#Data],4,FALSE)&\"\",\"\")","v":""},null,"プレドニン",null,"2456001F1310","経口",null,30,"㎡","mg",null,"d1-5",{"$f":"IFERROR(VLOOKUP(__レジメンマスタ[[#This Row],[YJコード④]],[1]!__前投薬リスト[#Data],4,FALSE)&\"\",\"\")","v":""},null,null,null,null,null,null,null,null,null,null,null,{"$f":"IFERROR(VLOOKUP(__レジメンマスタ[[#This Row],[YJコード⑤]],[1]!__前投薬リスト[#Data],4,FALSE)&\"\",\"\")","v":""},null,null,null,null,null,null,null,null,null,null,null,{"$f":"IFERROR(VLOOKUP(__レジメンマスタ[[#This Row],[YJコード⑥]],[1]!__前投薬リスト[#Data],4,FALSE)&\"\",\"\")","v":""},null,null,null,null,null,null,null,null,null,null,null,{"$f":"IFERROR(VLOOKUP(__レジメンマスタ[[#This Row],[YJコード⑦]],[1]!__前投薬リスト[#Data],4,FALSE)&\"\",\"\")","v":""}]
["HEM0023","リツキシマブ","  　　　  W1  　　\nRit   ↓××××××   \n1週間に1回、8回まで\n\n★他レジメンに追加して使用する場合あり★\n→その場合は併用レジメンの患者特記事項の欄に「R併用中」と記載する。\n→本レジメンの患者特記事項の欄に「別レジメン併用中」と記載する。\n→レジメンチェックはそれぞれのシートで行う。\n","7日","8回","リンパ腫","血液内科","リツキシマブ","危 500㎎/50mL ﾘﾂｷｼﾏﾌﾞBS点滴静注「ﾌｧｲｻﾞｰ」（希釈液:生食orTZ）（先:ﾘﾂｷｻﾝ）","4291451A2024","注射","５０ｍＬ／ｈで開始、ｍａｘ２００ｍＬ／ｈ",375,"㎡","mg",null,"d1",{"$f":"IFERROR(VLOOKUP(__レジメンマスタ[[#This Row],[YJコード①]],[1]!__前投薬リスト[#Data],4,FALSE)&\"\",\"\")","v":"抗ヒス,解,(ステ)"},null,null,null,null,null,null,null,null,null,null,null,{"$f":"IFERROR(VLOOKUP(__レジメンマスタ[[#This Row],[YJコード②]],[1]!__前投薬リスト[#Data],4,FALSE)&\"\",\"\")","v":""},null,null,null,null,null,null,null,null,null,null,null,{"$f":"IFERROR(VLOOKUP(__レジメンマスタ[[#This Row],[YJコード③]],[1]!__前投薬リスト[#Data],4,FALSE)&\"\",\"\")","v":""},null,null,null,null,null,null,null,null,null,null,null,{"$f":"IFERROR(VLOOKUP(__レジメンマスタ[[#This Row],[YJコード④]],[1]!__前投薬リスト[#Data],4,FALSE)&\"\",\"\")","v":""},null,null,null,null,null,null,null,null,null,null,null,{"$f":"IFERROR(VLOOKUP(__レジメンマスタ[[#This Row],[YJコード⑤]],[1]!__前投薬リスト[#Data],4,FALSE)&\"\",\"\")","v":""},null,null,null,null,null,null,null,null,null,null,null,{"$f":"IFERROR(VLOOKUP(__レジメンマスタ[[#This Row],[YJコード⑥]],[1]!__前投薬リスト[#Data],4,FALSE)&\"\",\"\")","v":""},null,null,null,null,null,null,null,null,null,null,null,{"$f":"IFERROR(VLOOKUP(__レジメンマスタ[[#This Row],[YJコード⑦]],[1]!__前投薬リスト[#Data],4,FALSE)&\"\",\"\")","v":""}]
["HEM0023-02","リツキシマブ（ITP）","  　　　  W1  　　\nRit   ↓××××××   \n1週間に1回、4回まで","7日","4回","その他","血液内科","リツキシマブ","危 500㎎/50mL ﾘﾂｷｼﾏﾌﾞBS点滴静注「ﾌｧｲｻﾞｰ」（希釈液:生食orTZ）（先:ﾘﾂｷｻﾝ）","4291451A2024","注射","５０ｍｌ／ｈで開始、ｍａｘ２００ｍＬ／ｈ",375,"㎡","mg",null,"d1",{"$f":"IFERROR(VLOOKUP(__レジメンマスタ[[#This Row],[YJコード①]],[1]!__前投薬リスト[#Data],4,FALSE)&\"\",\"\")","v":"抗ヒス,解,(ステ)"},null,null,null,null,null,null,null,null,null,null,null,{"$f":"IFERROR(VLOOKUP(__レジメンマスタ[[#This Row],[YJコード②]],[1]!__前投薬リスト[#Data],4,FALSE)&\"\",\"\")","v":""},null,null,null,null,null,null,null,null,null,null,null,{"$f":"IFERROR(VLOOKUP(__レジメンマスタ[[#This Row],[YJコード③]],[1]!__前投薬リスト[#Data],4,FALSE)&\"\",\"\")","v":""},null,null,null,null,null,null,null,null,null,null,null,{"$f":"IFERROR(VLOOKUP(__レジメンマスタ[[#This Row],[YJコード④]],[1]!__前投薬リスト[#Data],4,FALSE)&\"\",\"\")","v":""},null,null,null,null,null,null,null,null,null,null,null,{"$f":"IFERROR(VLOOKUP(__レジメンマスタ[[#This Row],[YJコード⑤]],[1]!__前投薬リスト[#Data],4,FALSE)&\"\",\"\")","v":""},null,null,null,null,null,null,null,null,null,null,null,{"$f":"IFERROR(VLOOKUP(__レジメンマスタ[[#This Row],[YJコード⑥]],[1]!__前投薬リスト[#Data],4,FALSE)&\"\",\"\")","v":""},null,null,null,null,null,null,null,null,null,null,null,{"$f":"IFERROR(VLOOKUP(__レジメンマスタ[[#This Row],[YJコード⑦]],[1]!__前投薬リスト[#Data],4,FALSE)&\"\",\"\")","v":""}]
["HEM0024","リツキシマブ＋フルダラ","　　　　　　Ｗ1            Ｗ2           Ｗ3     　　 Ｗ4　  \nR　  ↓××××××  ××××××× ××××××× ××××××× \nFLU　×↓↓↓↓↓×  ××××××× ××××××× ×××××××  \nR：フルダラの前日または前々日に投与\nRは前後することあり(休薬はR同士で1週以上あいていれば可）","28日","8コース","リンパ腫","血液内科","リツキシマブ","危 500㎎/50mL ﾘﾂｷｼﾏﾌﾞBS点滴静注「ﾌｧｲｻﾞｰ」（希釈液:生食orTZ）（先:ﾘﾂｷｻﾝ）","4291451A2024","注射","５０ｍｌ／ｈで開始、ｍａｘ２００ｍＬ／ｈ",375,"㎡","mg",null,"d0",{"$f":"IFERROR(VLOOKUP(__レジメンマスタ[[#This Row],[YJコード①]],[1]!__前投薬リスト[#Data],4,FALSE)&\"\",\"\")","v":"抗ヒス,解,(ステ)"},null,"フルダラ",null,"4229400D1033","注射",null,30,"㎡","mg",null,"d1-5",{"$f":"IFERROR(VLOOKUP(__レジメンマスタ[[#This Row],[YJコード②]],[1]!__前投薬リスト[#Data],4,FALSE)&\"\",\"\")","v":""},null,null,null,null,null,null,null,null,null,null,null,{"$f":"IFERROR(VLOOKUP(__レジメンマスタ[[#This Row],[YJコード③]],[1]!__前投薬リスト[#Data],4,FALSE)&\"\",\"\")","v":""},null,null,null,null,null,null,null,null,null,null,null,{"$f":"IFERROR(VLOOKUP(__レジメンマスタ[[#This Row],[YJコード④]],[1]!__前投薬リスト[#Data],4,FALSE)&\"\",\"\")","v":""},null,null,null,null,null,null,null,null,null,null,null,{"$f":"IFERROR(VLOOKUP(__レジメンマスタ[[#This Row],[YJコード⑤]],[1]!__前投薬リスト[#Data],4,FALSE)&\"\",\"\")","v":""},null,null,null,null,null,null,null,null,null,null,null,{"$f":"IFERROR(VLOOKUP(__レジメンマスタ[[#This Row],[YJコード⑥]],[1]!__前投薬リスト[#Data],4,FALSE)&\"\",\"\")","v":""},null,null,null,null,null,null,null,null,null,null,null,{"$f":"IFERROR(VLOOKUP(__レジメンマスタ[[#This Row],[YJコード⑦]],[1]!__前投薬リスト[#Data],4,FALSE)&\"\",\"\")","v":""}]
["HEM0025","フルダラ","　　　　　　Ｗ1            Ｗ2           Ｗ3     　　 Ｗ4　  \nFLU　↓↓↓↓↓××  ××××××× ××××××× ×××××××  \n","28日",null,"リンパ腫","血液内科","フルダラ",null,"4229400D1033","注射",null,20,"㎡","mg",null,"d1-5",{"$f":"IFERROR(VLOOKUP(__レジメンマスタ[[#This Row],[YJコード①]],[1]!__前投薬リスト[#Data],4,FALSE)&\"\",\"\")","v":""},null,null,null,null,null,null,null,null,null,null,null,{"$f":"IFERROR(VLOOKUP(__レジメンマスタ[[#This Row],[YJコード②]],[1]!__前投薬リスト[#Data],4,FALSE)&\"\",\"\")","v":""},null,null,null,null,null,null,null,null,null,null,null,{"$f":"IFERROR(VLOOKUP(__レジメンマスタ[[#This Row],[YJコード③]],[1]!__前投薬リスト[#Data],4,FALSE)&\"\",\"\")","v":""},null,null,null,null,null,null,null,null,null,null,null,{"$f":"IFERROR(VLOOKUP(__レジメンマスタ[[#This Row],[YJコード④]],[1]!__前投薬リスト[#Data],4,FALSE)&\"\",\"\")","v":""},null,null,null,null,null,null,null,null,null,null,null,{"$f":"IFERROR(VLOOKUP(__レジメンマスタ[[#This Row],[YJコード⑤]],[1]!__前投薬リスト[#Data],4,FALSE)&\"\",\"\")","v":""},null,null,null,null,null,null,null,null,null,null,null,{"$f":"IFERROR(VLOOKUP(__レジメンマスタ[[#This Row],[YJコード⑥]],[1]!__前投薬リスト[#Data],4,FALSE)&\"\",\"\")","v":""},null,null,null,null,null,null,null,null,null,null,null,{"$f":"IFERROR(VLOOKUP(__レジメンマスタ[[#This Row],[YJコード⑦]],[1]!__前投薬リスト[#Data],4,FALSE)&\"\",\"\")","v":""}]
["HEM0026","ROAD","　　　　　　Ｗ1            Ｗ2    　　 　Ｗ3          Ｗ4～5  \nMCNU　↓××××××  ××××××× ××××××× ××××××× \nVCR   ↓××××××  ××××××× ××××××× ××××××× \nL-PAM ↓××××××  ××××××× ××××××× ××××××× \nDEX   ↓↓↓↓×××  ×↓↓↓↓×× ××↓↓↓↓× ×××××××\nDEX：40mg/回でd1-4、9-12、17-20\n★オンコビン：MAX2mg★","35日",null,"骨髄腫","血液内科","オンコビン","危 ｵﾝｺﾋﾞﾝ注射用 1㎎","4240400D1030","注射",null,1.2,"㎡","mg",null,"d1",{"$f":"IFERROR(VLOOKUP(__レジメンマスタ[[#This Row],[YJコード①]],[1]!__前投薬リスト[#Data],4,FALSE)&\"\",\"\")","v":""},null,"サイメリン",null,"4219402D1028","注射",null,40,"㎡","mg",null,"d1",{"$f":"IFERROR(VLOOKUP(__レジメンマスタ[[#This Row],[YJコード②]],[1]!__前投薬リスト[#Data],4,FALSE)&\"\",\"\")","v":""},null,"アルケラン",null,"4219002F1034","経口",null,8,"㎡","mg",null,"d1",{"$f":"IFERROR(VLOOKUP(__レジメンマスタ[[#This Row],[YJコード③]],[1]!__前投薬リスト[#Data],4,FALSE)&\"\",\"\")","v":""},null,"DEX",null,"2454002F3020","経口",null,40,"BODY","mg",null,"d1-4,9-12,17-20",{"$f":"IFERROR(VLOOKUP(__レジメンマスタ[[#This Row],[YJコード④]],[1]!__前投薬リスト[#Data],4,FALSE)&\"\",\"\")","v":""},null,null,null,null,null,null,null,null,null,null,null,{"$f":"IFERROR(VLOOKUP(__レジメンマスタ[[#This Row],[YJコード⑤]],[1]!__前投薬リスト[#Data],4,FALSE)&\"\",\"\")","v":""},null,null,null,null,null,null,null,null,null,null,null,{"$f":"IFERROR(VLOOKUP(__レジメンマスタ[[#This Row],[YJコード⑥]],[1]!__前投薬リスト[#Data],4,FALSE)&\"\",\"\")","v":""},null,null,null,null,null,null,null,null,null,null,null,{"$f":"IFERROR(VLOOKUP(__レジメンマスタ[[#This Row],[YJコード⑦]],[1]!__前投薬リスト[#Data],4,FALSE)&\"\",\"\")","v":""}]
["HEM0027","VAD","　　　　　　Ｗ1            Ｗ2    　　 Ｗ3～4   \nDXR　↓↓↓↓×××  ××××××× ××××××× \nVCR  ↓↓↓↓×××  ××××××× ××××××× \nDXR：500mg/㎡まで→13コースまで","21-28日","13コース","骨髄腫","血液内科","ドキソルビシン","危 10mg ﾄﾞｷｿﾙﾋﾞｼﾝ塩酸塩注射用「NK」（溶解液:生食orAq）（先:ｱﾄﾞﾘｱｼﾝ）","4235402D1048","注射","２４時間持続投与",9,"㎡","mg",null,"d1-4",{"$f":"IFERROR(VLOOKUP(__レジメンマスタ[[#This Row],[YJコード①]],[1]!__前投薬リスト[#Data],4,FALSE)&\"\",\"\")","v":""},null,"オンコビン","危 ｵﾝｺﾋﾞﾝ注射用 1㎎","4240400D1030","注射","２４時間持続投与",0.4,"BODY","mg",null,"d1-4",{"$f":"IFERROR(VLOOKUP(__レジメンマスタ[[#This Row],[YJコード②]],[1]!__前投薬リスト[#Data],4,FALSE)&\"\",\"\")","v":""},null,null,null,null,null,null,null,null,null,null,null,{"$f":"IFERROR(VLOOKUP(__レジメンマスタ[[#This Row],[YJコード③]],[1]!__前投薬リスト[#Data],4,FALSE)&\"\",\"\")","v":""},null,null,null,null,null,null,null,null,null,null,null,{"$f":"IFERROR(VLOOKUP(__レジメンマスタ[[#This Row],[YJコード④]],[1]!__前投薬リスト[#Data],4,FALSE)&\"\",\"\")","v":""},null,null,null,null,null,null,null,null,null,null,null,{"$f":"IFERROR(VLOOKUP(__レジメンマスタ[[#This Row],[YJコード⑤]],[1]!__前投薬リスト[#Data],4,FALSE)&\"\",\"\")","v":""},null,null,null,null,null,null,null,null,null,null,null,{"$f":"IFERROR(VLOOKUP(__レジメンマスタ[[#This Row],[YJコード⑥]],[1]!__前投薬リスト[#Data],4,FALSE)&\"\",\"\")","v":""},null,null,null,null,null,null,null,null,null,null,null,{"$f":"IFERROR(VLOOKUP(__レジメンマスタ[[#This Row],[YJコード⑦]],[1]!__前投薬リスト[#Data],4,FALSE)&\"\",\"\")","v":""}]
["HEM0029","幹細胞採取（ETP）","　　　　　　Ｗ1      \nETP　↓↓↓↓×××  \n希釈濃度注意　！0.4mg/ml以上の濃度では投与しない",null,null,"移植関連","血液内科","エトポシド","危 ｴﾄﾎﾟｼﾄﾞ点滴静注液「ｻﾝﾄﾞ」100mg/5mL（先:ﾗｽﾃｯﾄ）","4240403A2069","注射",null,350,"㎡","mg",null,"d1-4",{"$f":"IFERROR(VLOOKUP(__レジメンマスタ[[#This Row],[YJコード①]],[1]!__前投薬リスト[#Data],4,FALSE)&\"\",\"\")","v":""},null,null,null,null,null,null,null,null,null,null,null,{"$f":"IFERROR(VLOOKUP(__レジメンマスタ[[#This Row],[YJコード②]],[1]!__前投薬リスト[#Data],4,FALSE)&\"\",\"\")","v":""},null,null,null,null,null,null,null,null,null,null,null,{"$f":"IFERROR(VLOOKUP(__レジメンマスタ[[#This Row],[YJコード③]],[1]!__前投薬リスト[#Data],4,FALSE)&\"\",\"\")","v":""},null,null,null,null,null,null,null,null,null,null,null,{"$f":"IFERROR(VLOOKUP(__レジメンマスタ[[#This Row],[YJコード④]],[1]!__前投薬リスト[#Data],4,FALSE)&\"\",\"\")","v":""},null,null,null,null,null,null,null,null,null,null,null,{"$f":"IFERROR(VLOOKUP(__レジメンマスタ[[#This Row],[YJコード⑤]],[1]!__前投薬リスト[#Data],4,FALSE)&\"\",\"\")","v":""},null,null,null,null,null,null,null,null,null,null,null,{"$f":"IFERROR(VLOOKUP(__レジメンマスタ[[#This Row],[YJコード⑥]],[1]!__前投薬リスト[#Data],4,FALSE)&\"\",\"\")","v":""},null,null,null,null,null,null,null,null,null,null,null,{"$f":"IFERROR(VLOOKUP(__レジメンマスタ[[#This Row],[YJコード⑦]],[1]!__前投薬リスト[#Data],4,FALSE)&\"\",\"\")","v":""}]
["HEM0035","C-MOPP","　　　　　　Ｗ1          Ｗ2           Ｗ3     　　 Ｗ4　  \nCPA  ↓×××××× ↓×××××× ××××××× ××××××× \nVCR　↓×××××× ↓×××××× ××××××× ×××××××  \nPCZ　↓↓↓↓↓↓↓ ↓↓↓↓↓↓↓ ××××××× ×××××××  \nPSL　↓↓↓×××× ↓↓↓×××× ××××××× ×××××××  \n★オンコビン：MAX2mg★★プロカルバジン：MAX150mg★","28日","6-8コース","リンパ腫","血液内科","エンドキサン","危 注射用ｴﾝﾄﾞｷｻﾝ 500㎎","4211401D2021","注射",null,650,"㎡","mg",null,"d1,8",{"$f":"IFERROR(VLOOKUP(__レジメンマスタ[[#This Row],[YJコード①]],[1]!__前投薬リスト[#Data],4,FALSE)&\"\",\"\")","v":""},null,"オンコビン","危 ｵﾝｺﾋﾞﾝ注射用 1㎎","4240400D1030","注射",null,1.4,"㎡","mg",null,"d1,8",{"$f":"IFERROR(VLOOKUP(__レジメンマスタ[[#This Row],[YJコード②]],[1]!__前投薬リスト[#Data],4,FALSE)&\"\",\"\")","v":""},null,"プロカルバジン",null,"4291002M1044","経口",null,100,"㎡","mg",null,"d1-14",{"$f":"IFERROR(VLOOKUP(__レジメンマスタ[[#This Row],[YJコード③]],[1]!__前投薬リスト[#Data],4,FALSE)&\"\",\"\")","v":""},null,"プレドニン",null,"2456001F1310","経口",null,40,"㎡","mg",null,"d1-3,8-10",{"$f":"IFERROR(VLOOKUP(__レジメンマスタ[[#This Row],[YJコード④]],[1]!__前投薬リスト[#Data],4,FALSE)&\"\",\"\")","v":""},null,null,null,null,null,null,null,null,null,null,null,{"$f":"IFERROR(VLOOKUP(__レジメンマスタ[[#This Row],[YJコード⑤]],[1]!__前投薬リスト[#Data],4,FALSE)&\"\",\"\")","v":""},null,null,null,null,null,null,null,null,null,null,null,{"$f":"IFERROR(VLOOKUP(__レジメンマスタ[[#This Row],[YJコード⑥]],[1]!__前投薬リスト[#Data],4,FALSE)&\"\",\"\")","v":""},null,null,null,null,null,null,null,null,null,null,null,{"$f":"IFERROR(VLOOKUP(__レジメンマスタ[[#This Row],[YJコード⑦]],[1]!__前投薬リスト[#Data],4,FALSE)&\"\",\"\")","v":""}]
["HEM0037","ESHAP","　　　　 　Ｗ1            Ｗ2           Ｗ3       \nETP　↓↓↓↓×××  ××××××× ××××××× \nCDDP ↓↓↓↓×××  ××××××× ××××××× \nAraC ××××↓××  ××××××× ××××××× \nmPSL ↓↓↓↓↓××  ××××××× ×××××××","21-28日",null,"リンパ腫","血液内科","エトポシド","危 ｴﾄﾎﾟｼﾄﾞ点滴静注液「ｻﾝﾄﾞ」100mg/5mL（先:ﾗｽﾃｯﾄ）","4240403A2069","注射","１ 時間で",40,"㎡","mg",null,"d1-4",{"$f":"IFERROR(VLOOKUP(__レジメンマスタ[[#This Row],[YJコード①]],[1]!__前投薬リスト[#Data],4,FALSE)&\"\",\"\")","v":""},null,"シスプラチン","危〈毒〉50mg/100mL ｼｽﾌﾟﾗﾁﾝ点滴静注「ﾏﾙｺ」（先:ﾗﾝﾀﾞ）","4291401A3111","注射","24時間持続",25,"㎡","mg",null,"d1-4",{"$f":"IFERROR(VLOOKUP(__レジメンマスタ[[#This Row],[YJコード②]],[1]!__前投薬リスト[#Data],4,FALSE)&\"\",\"\")","v":""},null,"シタラビン","危 1g/50mL ｼﾀﾗﾋﾞﾝ点滴静注液「NIG」（希釈液:生食orTZ）（先:ｷﾛｻｲﾄﾞN）","4224401A7041","注射","３時間厳守",2000,"㎡","mg",null,"d5",{"$f":"IFERROR(VLOOKUP(__レジメンマスタ[[#This Row],[YJコード③]],[1]!__前投薬リスト[#Data],4,FALSE)&\"\",\"\")","v":""},null,"ソル・メドロール",null,"2456400D1067","注射",null,500,"BODY","mg",null,"d1-5",{"$f":"IFERROR(VLOOKUP(__レジメンマスタ[[#This Row],[YJコード④]],[1]!__前投薬リスト[#Data],4,FALSE)&\"\",\"\")","v":""},null,null,null,null,null,null,null,null,null,null,null,{"$f":"IFERROR(VLOOKUP(__レジメンマスタ[[#This Row],[YJコード⑤]],[1]!__前投薬リスト[#Data],4,FALSE)&\"\",\"\")","v":""},null,null,null,null,null,null,null,null,null,null,null,{"$f":"IFERROR(VLOOKUP(__レジメンマスタ[[#This Row],[YJコード⑥]],[1]!__前投薬リスト[#Data],4,FALSE)&\"\",\"\")","v":""},null,null,null,null,null,null,null,null,null,null,null,{"$f":"IFERROR(VLOOKUP(__レジメンマスタ[[#This Row],[YJコード⑦]],[1]!__前投薬リスト[#Data],4,FALSE)&\"\",\"\")","v":""}]
["HEM0038","DeVIC","　　　　 　　Ｗ1            Ｗ2           Ｗ3       \nCBDCA　↓××××××  ××××××× ××××××× \nIFM　　↓↓↓××××  ××××××× ××××××× \nETP　　↓↓↓××××  ××××××× ××××××× \nDEX　　↓↓↓××××  ××××××× ×××××××\nMesna　↓↓↓××××  ××××××× ×××××××\nウロミテキサンの投与量の欄は（1回量）を記入\n★70歳以上はDEX以外の各薬剤を30％減量★\n★放射線併用の場合DEX以外の各薬剤を2/3量に減量★","21日",null,"リンパ腫","血液内科","カルボプラチン","危〈毒〉ｶﾙﾎﾞﾌﾟﾗﾁﾝ点滴静注液「NK」150mg/15mL（先:ﾊﾟﾗﾌﾟﾗﾁﾝ）","4291403A2092","注射","１ 時間で",300,"㎡","mg",null,"d1",{"$f":"IFERROR(VLOOKUP(__レジメンマスタ[[#This Row],[YJコード①]],[1]!__前投薬リスト[#Data],4,FALSE)&\"\",\"\")","v":""},null,"エトポシド","危 ｴﾄﾎﾟｼﾄﾞ点滴静注液「ｻﾝﾄﾞ」100mg/5mL（先:ﾗｽﾃｯﾄ）","4240403A2069","注射","２ 時間で",100,"㎡","mg",null,"d1-3",{"$f":"IFERROR(VLOOKUP(__レジメンマスタ[[#This Row],[YJコード②]],[1]!__前投薬リスト[#Data],4,FALSE)&\"\",\"\")","v":""},null,"イホマイド","危 注射用ｲﾎﾏｲﾄﾞ 1g（溶解液:生食orAq）","4211402D1020","注射","２ 時間で",1500,"㎡","mg",null,"d1-3",{"$f":"IFERROR(VLOOKUP(__レジメンマスタ[[#This Row],[YJコード③]],[1]!__前投薬リスト[#Data],4,FALSE)&\"\",\"\")","v":""},null,"ウロミテキサン×３",null,"3929406A2026","注射",null,300,"㎡","mg",null,"×３\nd1-3",{"$f":"IFERROR(VLOOKUP(__レジメンマスタ[[#This Row],[YJコード④]],[1]!__前投薬リスト[#Data],4,FALSE)&\"\",\"\")","v":""},null,"DEX",null,"2454002F3020","注射",null,40,"BODY","mg",null,"d1-3",{"$f":"IFERROR(VLOOKUP(__レジメンマスタ[[#This Row],[YJコード⑤]],[1]!__前投薬リスト[#Data],4,FALSE)&\"\",\"\")","v":""},null,null,null,null,null,null,null,null,null,null,null,{"$f":"IFERROR(VLOOKUP(__レジメンマスタ[[#This Row],[YJコード⑥]],[1]!__前投薬リスト[#Data],4,FALSE)&\"\",\"\")","v":""},null,null,null,null,null,null,null,null,null,null,null,{"$f":"IFERROR(VLOOKUP(__レジメンマスタ[[#This Row],[YJコード⑦]],[1]!__前投薬リスト[#Data],4,FALSE)&\"\",\"\")","v":""}]
["HEM0044","CHASER療法","　　　　 　Ｗ1            Ｗ2           Ｗ3       \nR　  ↓××××××  ××××××× ×××××××\nCPA  ×↓×××××  ××××××× ××××××× \nAraC ××↓↓×××  ××××××× ×××××××\nETP　×↓↓↓×××  ××××××× ××××××× \nDEX  ×↓↓↓×××  ××××××× ×××××××\n4クールで評価　効果により継続使用\nRは前後することあり(休薬はR同士で1週以上あいていれば可）","21日",null,"リンパ腫","血液内科","リツキシマブ","危 500㎎/50mL ﾘﾂｷｼﾏﾌﾞBS点滴静注「ﾌｧｲｻﾞｰ」（希釈液:生食orTZ）（先:ﾘﾂｷｻﾝ）","4291451A2024","注射","５０ｍｌ／ｈで開始、ｍａｘ２００ｍＬ／ｈ",375,"㎡","mg",null,"d0",{"$f":"IFERROR(VLOOKUP(__レジメンマスタ[[#This Row],[YJコード①]],[1]!__前投薬リスト[#Data],4,FALSE)&\"\",\"\")","v":"抗ヒス,解,(ステ)"},null,"エンドキサン","危 注射用ｴﾝﾄﾞｷｻﾝ 500㎎","4211401D2021","注射","２ 時間で",1200,"㎡","mg",null,"d1",{"$f":"IFERROR(VLOOKUP(__レジメンマスタ[[#This Row],[YJコード②]],[1]!__前投薬リスト[#Data],4,FALSE)&\"\",\"\")","v":""},null,"シタラビン","危 1g/50mL ｼﾀﾗﾋﾞﾝ点滴静注液「NIG」（希釈液:生食orTZ）（先:ｷﾛｻｲﾄﾞN）","4224401A7041","注射","３時間厳守",2000,"㎡","mg",null,"d2-3",{"$f":"IFERROR(VLOOKUP(__レジメンマスタ[[#This Row],[YJコード③]],[1]!__前投薬リスト[#Data],4,FALSE)&\"\",\"\")","v":""},null,"エトポシド","危 ｴﾄﾎﾟｼﾄﾞ点滴静注液「ｻﾝﾄﾞ」100mg/5mL（先:ﾗｽﾃｯﾄ）","4240403A2069","注射","２ 時間で",100,"㎡","mg",null,"d1-3",{"$f":"IFERROR(VLOOKUP(__レジメンマスタ[[#This Row],[YJコード④]],[1]!__前投薬リスト[#Data],4,FALSE)&\"\",\"\")","v":""},null,"DEX",null,"2454002F3020","注射",null,40,"BODY","mg",null,"d1-3",{"$f":"IFERROR(VLOOKUP(__レジメンマスタ[[#This Row],[YJコード⑤]],[1]!__前投薬リスト[#Data],4,FALSE)&\"\",\"\")","v":""},null,null,null,null,null,null,null,null,null,null,null,{"$f":"IFERROR(VLOOKUP(__レジメンマスタ[[#This Row],[YJコード⑥]],[1]!__前投薬リスト[#Data],4,FALSE)&\"\",\"\")","v":""},null,null,null,null,null,null,null,null,null,null,null,{"$f":"IFERROR(VLOOKUP(__レジメンマスタ[[#This Row],[YJコード⑦]],[1]!__前投薬リスト[#Data],4,FALSE)&\"\",\"\")","v":""}]
["HEM0045","PBSCTの前処置（l-PAM：多発性骨髄腫）","　　　-3　　-2　　　-1　　　0(移植日)\n\nMel　 ↓ 　 ↓ \n",null,null,"移植関連","血液内科","アルケラン",null,"4219002F1034","注射","静注もしくは３０分で",100,"㎡","mg",null,"-d3,-d2",{"$f":"IFERROR(VLOOKUP(__レジメンマスタ[[#This Row],[YJコード①]],[1]!__前投薬リスト[#Data],4,FALSE)&\"\",\"\")","v":""},null,null,null,null,null,null,null,null,null,null,null,{"$f":"IFERROR(VLOOKUP(__レジメンマスタ[[#This Row],[YJコード②]],[1]!__前投薬リスト[#Data],4,FALSE)&\"\",\"\")","v":""},null,null,null,null,null,null,null,null,null,null,null,{"$f":"IFERROR(VLOOKUP(__レジメンマスタ[[#This Row],[YJコード③]],[1]!__前投薬リスト[#Data],4,FALSE)&\"\",\"\")","v":""},null,null,null,null,null,null,null,null,null,null,null,{"$f":"IFERROR(VLOOKUP(__レジメンマスタ[[#This Row],[YJコード④]],[1]!__前投薬リスト[#Data],4,FALSE)&\"\",\"\")","v":""},null,null,null,null,null,null,null,null,null,null,null,{"$f":"IFERROR(VLOOKUP(__レジメンマスタ[[#This Row],[YJコード⑤]],[1]!__前投薬リスト[#Data],4,FALSE)&\"\",\"\")","v":""},null,null,null,null,null,null,null,null,null,null,null,{"$f":"IFERROR(VLOOKUP(__レジメンマスタ[[#This Row],[YJコード⑥]],[1]!__前投薬リスト[#Data],4,FALSE)&\"\",\"\")","v":""},null,null,null,null,null,null,null,null,null,null,null,{"$f":"IFERROR(VLOOKUP(__レジメンマスタ[[#This Row],[YJコード⑦]],[1]!__前投薬リスト[#Data],4,FALSE)&\"\",\"\")","v":""}]
["HEM0048","CAG（70歳未満）","　　　 D1   D2　 D3   D4   D5   D6   D7   ・・・ D13  D14\nAraC  ↓↓ ↓↓ ↓↓ ↓↓ ↓↓ ↓↓ ↓↓ ↓↓   ↓↓ ↓↓ \nACR    ↓   ↓   ↓   ↓\nAraC:1日2回皮下注射を14日間\nACR:4日間点滴",null,null,"白血病","血液内科","キロサイド(少量）","危 20mg/1mL ｷﾛｻｲﾄﾞ注","4224401A1035","皮下","皮下",10,"㎡","mg",null,"d1-14(AM)",{"$f":"IFERROR(VLOOKUP(__レジメンマスタ[[#This Row],[YJコード①]],[1]!__前投薬リスト[#Data],4,FALSE)&\"\",\"\")","v":""},null,"キロサイド(少量）","危 20mg/1mL ｷﾛｻｲﾄﾞ注","4224401A1035","皮下","皮下",10,"㎡","mg",null,"d1-14(PM)",{"$f":"IFERROR(VLOOKUP(__レジメンマスタ[[#This Row],[YJコード②]],[1]!__前投薬リスト[#Data],4,FALSE)&\"\",\"\")","v":""},null,"アクラシノン",null,"4235400D1030","注射",null,14,"㎡","mg",null,"d1-4",{"$f":"IFERROR(VLOOKUP(__レジメンマスタ[[#This Row],[YJコード③]],[1]!__前投薬リスト[#Data],4,FALSE)&\"\",\"\")","v":""},null,null,null,null,null,null,null,null,null,null,null,{"$f":"IFERROR(VLOOKUP(__レジメンマスタ[[#This Row],[YJコード④]],[1]!__前投薬リスト[#Data],4,FALSE)&\"\",\"\")","v":""},null,null,null,null,null,null,null,null,null,null,null,{"$f":"IFERROR(VLOOKUP(__レジメンマスタ[[#This Row],[YJコード⑤]],[1]!__前投薬リスト[#Data],4,FALSE)&\"\",\"\")","v":""},null,null,null,null,null,null,null,null,null,null,null,{"$f":"IFERROR(VLOOKUP(__レジメンマスタ[[#This Row],[YJコード⑥]],[1]!__前投薬リスト[#Data],4,FALSE)&\"\",\"\")","v":""},null,null,null,null,null,null,null,null,null,null,null,{"$f":"IFERROR(VLOOKUP(__レジメンマスタ[[#This Row],[YJコード⑦]],[1]!__前投薬リスト[#Data],4,FALSE)&\"\",\"\")","v":""}]
["HEM0048-1","CAG（70歳以上）","　　　 D1   D2　 D3   D4   D5   D6   D7   ・・・ D13  D14\nAraC  ↓↓ ↓↓ ↓↓ ↓↓ ↓↓ ↓↓ ↓↓ ↓↓   ↓↓ ↓↓ \nACR    ↓   ↓   ↓   ↓\nAraC:1日2回皮下注射を14日間\nACR:4日間点滴",null,null,"白血病","血液内科","キロサイド(少量）","危 20mg/1mL ｷﾛｻｲﾄﾞ注","4224401A1035","皮下","皮下",10,"㎡","mg",null,"d1-14(AM)",{"$f":"IFERROR(VLOOKUP(__レジメンマスタ[[#This Row],[YJコード①]],[1]!__前投薬リスト[#Data],4,FALSE)&\"\",\"\")","v":""},null,"キロサイド(少量）","危 20mg/1mL ｷﾛｻｲﾄﾞ注","4224401A1035","皮下","皮下",10,"㎡","mg",null,"d1-14(PM)",{"$f":"IFERROR(VLOOKUP(__レジメンマスタ[[#This Row],[YJコード②]],[1]!__前投薬リスト[#Data],4,FALSE)&\"\",\"\")","v":""},null,"アクラシノン",null,"4235400D1030","注射",null,10,"㎡","mg",null,"d1-4",{"$f":"IFERROR(VLOOKUP(__レジメンマスタ[[#This Row],[YJコード③]],[1]!__前投薬リスト[#Data],4,FALSE)&\"\",\"\")","v":""},null,null,null,null,null,null,null,null,null,null,null,{"$f":"IFERROR(VLOOKUP(__レジメンマスタ[[#This Row],[YJコード④]],[1]!__前投薬リスト[#Data],4,FALSE)&\"\",\"\")","v":""},null,null,null,null,null,null,null,null,null,null,null,{"$f":"IFERROR(VLOOKUP(__レジメンマスタ[[#This Row],[YJコード⑤]],[1]!__前投薬リスト[#Data],4,FALSE)&\"\",\"\")","v":""},null,null,null,null,null,null,null,null,null,null,null,{"$f":"IFERROR(VLOOKUP(__レジメンマスタ[[#This Row],[YJコード⑥]],[1]!__前投薬リスト[#Data],4,FALSE)&\"\",\"\")","v":""},null,null,null,null,null,null,null,null,null,null,null,{"$f":"IFERROR(VLOOKUP(__レジメンマスタ[[#This Row],[YJコード⑦]],[1]!__前投薬リスト[#Data],4,FALSE)&\"\",\"\")","v":""}]
["HEM0049","DHAP","　　　 D1   D2　 D3   D4 \nCDDP   ↓ \nAraC 　　  ↓↓ \nCDDP：24時間持続投与\nAraC:12時間毎、3時間厳守\n\n3～4週間：1クール","21-28日",null,"リンパ腫","血液内科","シスプラチン","危〈毒〉50mg/100mL ｼｽﾌﾟﾗﾁﾝ点滴静注「ﾏﾙｺ」（先:ﾗﾝﾀﾞ）","4291401A3111","注射","24時間持続",100,"㎡","mg",null,"d1",{"$f":"IFERROR(VLOOKUP(__レジメンマスタ[[#This Row],[YJコード①]],[1]!__前投薬リスト[#Data],4,FALSE)&\"\",\"\")","v":""},null,"シタラビン","危 1g/50mL ｼﾀﾗﾋﾞﾝ点滴静注液「NIG」（希釈液:生食orTZ）（先:ｷﾛｻｲﾄﾞN）","4224401A7041","注射","３時間厳守",2000,"㎡","mg",null,"d2(AM)",{"$f":"IFERROR(VLOOKUP(__レジメンマスタ[[#This Row],[YJコード②]],[1]!__前投薬リスト[#Data],4,FALSE)&\"\",\"\")","v":""},null,"シタラビン","危 1g/50mL ｼﾀﾗﾋﾞﾝ点滴静注液「NIG」（希釈液:生食orTZ）（先:ｷﾛｻｲﾄﾞN）","4224401A7041","注射","３時間厳守",2000,"㎡","mg",null,"d2(PM)",{"$f":"IFERROR(VLOOKUP(__レジメンマスタ[[#This Row],[YJコード③]],[1]!__前投薬リスト[#Data],4,FALSE)&\"\",\"\")","v":""},null,null,null,null,null,null,null,null,null,null,null,{"$f":"IFERROR(VLOOKUP(__レジメンマスタ[[#This Row],[YJコード④]],[1]!__前投薬リスト[#Data],4,FALSE)&\"\",\"\")","v":""},null,null,null,null,null,null,null,null,null,null,null,{"$f":"IFERROR(VLOOKUP(__レジメンマスタ[[#This Row],[YJコード⑤]],[1]!__前投薬リスト[#Data],4,FALSE)&\"\",\"\")","v":""},null,null,null,null,null,null,null,null,null,null,null,{"$f":"IFERROR(VLOOKUP(__レジメンマスタ[[#This Row],[YJコード⑥]],[1]!__前投薬リスト[#Data],4,FALSE)&\"\",\"\")","v":""},null,null,null,null,null,null,null,null,null,null,null,{"$f":"IFERROR(VLOOKUP(__レジメンマスタ[[#This Row],[YJコード⑦]],[1]!__前投薬リスト[#Data],4,FALSE)&\"\",\"\")","v":""}]
["HEM0052","幹細胞採取（CPA）","　　  D1   D2　\nCPA   ↓   ↓ \n2日間のみ投与",null,null,"移植関連","血液内科","エンドキサン","危 注射用ｴﾝﾄﾞｷｻﾝ 500㎎","4211401D2021","注射",null,2000,"㎡","mg",null,"d1,2",{"$f":"IFERROR(VLOOKUP(__レジメンマスタ[[#This Row],[YJコード①]],[1]!__前投薬リスト[#Data],4,FALSE)&\"\",\"\")","v":""},null,null,null,null,null,null,null,null,null,null,null,{"$f":"IFERROR(VLOOKUP(__レジメンマスタ[[#This Row],[YJコード②]],[1]!__前投薬リスト[#Data],4,FALSE)&\"\",\"\")","v":""},null,null,null,null,null,null,null,null,null,null,null,{"$f":"IFERROR(VLOOKUP(__レジメンマスタ[[#This Row],[YJコード③]],[1]!__前投薬リスト[#Data],4,FALSE)&\"\",\"\")","v":""},null,null,null,null,null,null,null,null,null,null,null,{"$f":"IFERROR(VLOOKUP(__レジメンマスタ[[#This Row],[YJコード④]],[1]!__前投薬リスト[#Data],4,FALSE)&\"\",\"\")","v":""},null,null,null,null,null,null,null,null,null,null,null,{"$f":"IFERROR(VLOOKUP(__レジメンマスタ[[#This Row],[YJコード⑤]],[1]!__前投薬リスト[#Data],4,FALSE)&\"\",\"\")","v":""},null,null,null,null,null,null,null,null,null,null,null,{"$f":"IFERROR(VLOOKUP(__レジメンマスタ[[#This Row],[YJコード⑥]],[1]!__前投薬リスト[#Data],4,FALSE)&\"\",\"\")","v":""},null,null,null,null,null,null,null,null,null,null,null,{"$f":"IFERROR(VLOOKUP(__レジメンマスタ[[#This Row],[YJコード⑦]],[1]!__前投薬リスト[#Data],4,FALSE)&\"\",\"\")","v":""}]
["HEM0053","CHOP変法（VDS)","　　　　　　Ｗ1            Ｗ2           Ｗ3       \nDXR　↓××××××  ××××××× ××××××× \nCPA  ↓××××××  ××××××× ××××××× \nVDS  ↓××××××  ××××××× ××××××× \nPSL  ↓↓↓↓↓××  ××××××× ×××××××\nオンコビン⇒フィルデシン（オンコビンを中止すると治療の強度が低下するため他のビンカアルカロイドに変更）\n★フィルデシン：MAX2mg★\n※フィルデシンの用量は以前在籍していた小倉先生の見解に基づく","21日","8コース","リンパ腫","血液内科","ドキソルビシン","危 50mg ﾄﾞｷｿﾙﾋﾞｼﾝ塩酸塩注射用「NK」（溶解液:生食orAq）（先:ｱﾄﾞﾘｱｼﾝ）","4235402D2028","注射","３０ 分で",50,"㎡","mg",null,"d1",{"$f":"IFERROR(VLOOKUP(__レジメンマスタ[[#This Row],[YJコード①]],[1]!__前投薬リスト[#Data],4,FALSE)&\"\",\"\")","v":""},null,"エンドキサン","危 注射用ｴﾝﾄﾞｷｻﾝ 500㎎","4211401D2021","注射","２ 時間で",750,"㎡","mg",null,"d1",{"$f":"IFERROR(VLOOKUP(__レジメンマスタ[[#This Row],[YJコード②]],[1]!__前投薬リスト[#Data],4,FALSE)&\"\",\"\")","v":""},null,"フィルデシン",null,"4240402D1021","注射","５～１０分　かけて",1.4,"㎡","mg",null,"d1",{"$f":"IFERROR(VLOOKUP(__レジメンマスタ[[#This Row],[YJコード③]],[1]!__前投薬リスト[#Data],4,FALSE)&\"\",\"\")","v":""},null,"プレドニン",null,"2456001F1310","経口",null,100,"BODY","mg",null,"d1-5",{"$f":"IFERROR(VLOOKUP(__レジメンマスタ[[#This Row],[YJコード④]],[1]!__前投薬リスト[#Data],4,FALSE)&\"\",\"\")","v":""},null,null,null,null,null,null,null,null,null,null,null,{"$f":"IFERROR(VLOOKUP(__レジメンマスタ[[#This Row],[YJコード⑤]],[1]!__前投薬リスト[#Data],4,FALSE)&\"\",\"\")","v":""},null,null,null,null,null,null,null,null,null,null,null,{"$f":"IFERROR(VLOOKUP(__レジメンマスタ[[#This Row],[YJコード⑥]],[1]!__前投薬リスト[#Data],4,FALSE)&\"\",\"\")","v":""},null,null,null,null,null,null,null,null,null,null,null,{"$f":"IFERROR(VLOOKUP(__レジメンマスタ[[#This Row],[YJコード⑦]],[1]!__前投薬リスト[#Data],4,FALSE)&\"\",\"\")","v":""}]
["HEM0056","LEED療法","　　  -4　 -3　-2　-1　0(移植日)  【修正理想体重】\nCPA   ↓   ↓　　　　　　　　　　 男性：cibw(kg)=0.9×身長（cm）-88 \nMesna↓*3 ↓*3　　　　　　　　　　女性：cibw(kg)=0.9×身長（cm）-92\nETP　 ↓   ↓  ↓　　　　　 実体重と修正理想体重※の小さい方を用いる。\nMel　　　　 　　   ↓            ※corrected ideal body weight\nDEX　 ↓   ↓  ↓  ↓　※ウロミテキサンの投与量の欄は（1回量）を記入\n エトポシドの濃度に注意！200mg/500ml以上の濃度では使用不可\n幹細胞移植後翌日よりG-CSFをWBC＞5000に達するまで1日1回点滴静注する。\n血小板＜1万あるいは同程度に減少が予測されるときには、血小板輸血を行う\nHb8.0を保つように輸血.予防投与:ダイフェン1T/1×（連日）",null,null,"移植関連","血液内科","エンドキサン","危 注射用ｴﾝﾄﾞｷｻﾝ 500㎎","4211401D2021","注射","２ 時間で",60,"kg","mg",null,"-d4,-d3",{"$f":"IFERROR(VLOOKUP(__レジメンマスタ[[#This Row],[YJコード①]],[1]!__前投薬リスト[#Data],4,FALSE)&\"\",\"\")","v":""},null,"ウロミテキサン×３",null,"3929406A2026","注射",null,24,"kg","mg",null,"×３\n-d4,-d3",{"$f":"IFERROR(VLOOKUP(__レジメンマスタ[[#This Row],[YJコード②]],[1]!__前投薬リスト[#Data],4,FALSE)&\"\",\"\")","v":""},null,"エトポシド","危 ｴﾄﾎﾟｼﾄﾞ点滴静注液「ｻﾝﾄﾞ」100mg/5mL（先:ﾗｽﾃｯﾄ）","4240403A2069","注射","２ 時間で",500,"㎡","mg",null,"-d4,-d3,-d2",{"$f":"IFERROR(VLOOKUP(__レジメンマスタ[[#This Row],[YJコード③]],[1]!__前投薬リスト[#Data],4,FALSE)&\"\",\"\")","v":""},null,"アルケラン",null,"4219002F1034","注射","静注もしくは３０分で",130,"㎡","mg",null,"-d1",{"$f":"IFERROR(VLOOKUP(__レジメンマスタ[[#This Row],[YJコード④]],[1]!__前投薬リスト[#Data],4,FALSE)&\"\",\"\")","v":""},null,"DEX",null,"2454002F3020","注射",null,40,"BODY","mg",null,"-d4,-d3,-d2,-d1",{"$f":"IFERROR(VLOOKUP(__レジメンマスタ[[#This Row],[YJコード⑤]],[1]!__前投薬リスト[#Data],4,FALSE)&\"\",\"\")","v":""},null,null,null,null,null,null,null,null,null,null,null,{"$f":"IFERROR(VLOOKUP(__レジメンマスタ[[#This Row],[YJコード⑥]],[1]!__前投薬リスト[#Data],4,FALSE)&\"\",\"\")","v":""},null,null,null,null,null,null,null,null,null,null,null,{"$f":"IFERROR(VLOOKUP(__レジメンマスタ[[#This Row],[YJコード⑦]],[1]!__前投薬リスト[#Data],4,FALSE)&\"\",\"\")","v":""}]
["HEM0057","DA-EPOCH-R (level 1)","　　　　　  　Ｗ1            Ｗ2           Ｗ3   Rは前後することあり    \nR　      ↓××××××  ××××××× ××××××× \nETP　    ×↓↓↓↓××  ××××××× ××××××× \nDXR/VCR  ×↓↓↓↓××  ××××××× ×××××××  \nCPA      ×××××↓×  ××××××× ××××××× \nPSL      ×↓↓↓↓↓×  ××××××× ×××××××\nNadia:Neu減少500以上、Plt2.5万以上→Level 2へ \nNadia:Neu減少500以下2回、Plt2.5万未満で→CPA600mg/㎡へ減量\n L1～6含めて8Cまで\n(Rの休薬はR同士で1週以上あいていれば可）","21日","8コース","リンパ腫","血液内科","リツキシマブ","危 500㎎/50mL ﾘﾂｷｼﾏﾌﾞBS点滴静注「ﾌｧｲｻﾞｰ」（希釈液:生食orTZ）（先:ﾘﾂｷｻﾝ）","4291451A2024","注射","５０ｍＬ／ｈで開始、ｍａｘ２００ｍＬ／ｈ",375,"㎡","mg",null,"d1",{"$f":"IFERROR(VLOOKUP(__レジメンマスタ[[#This Row],[YJコード①]],[1]!__前投薬リスト[#Data],4,FALSE)&\"\",\"\")","v":"抗ヒス,解,(ステ)"},null,"エトポシド","危 ｴﾄﾎﾟｼﾄﾞ点滴静注液「ｻﾝﾄﾞ」100mg/5mL（先:ﾗｽﾃｯﾄ）","4240403A2069","注射","24時間持続投与",50,"㎡","mg",null,"d2-5",{"$f":"IFERROR(VLOOKUP(__レジメンマスタ[[#This Row],[YJコード②]],[1]!__前投薬リスト[#Data],4,FALSE)&\"\",\"\")","v":""},null,"ドキソルビシン","危 10mg ﾄﾞｷｿﾙﾋﾞｼﾝ塩酸塩注射用「NK」（溶解液:生食orAq）（先:ｱﾄﾞﾘｱｼﾝ）","4235402D1048","注射","メイン、２４時間持続投与",10,"㎡","mg",null,"d2-5",{"$f":"IFERROR(VLOOKUP(__レジメンマスタ[[#This Row],[YJコード③]],[1]!__前投薬リスト[#Data],4,FALSE)&\"\",\"\")","v":""},null,"オンコビン","危 ｵﾝｺﾋﾞﾝ注射用 1㎎","4240400D1030","注射","２４時間持続投与",0.4,"㎡","mg",null,"d2-5",{"$f":"IFERROR(VLOOKUP(__レジメンマスタ[[#This Row],[YJコード④]],[1]!__前投薬リスト[#Data],4,FALSE)&\"\",\"\")","v":""},null,"エンドキサン","危 注射用ｴﾝﾄﾞｷｻﾝ 500㎎","4211401D2021","注射","２ 時間で",750,"㎡","mg",null,"d6",{"$f":"IFERROR(VLOOKUP(__レジメンマスタ[[#This Row],[YJコード⑤]],[1]!__前投薬リスト[#Data],4,FALSE)&\"\",\"\")","v":""},null,"プレドニン",null,"2456001F1310","経口",null,60,"㎡","mg",null,"d2-6",{"$f":"IFERROR(VLOOKUP(__レジメンマスタ[[#This Row],[YJコード⑥]],[1]!__前投薬リスト[#Data],4,FALSE)&\"\",\"\")","v":""},null,null,null,null,null,null,null,null,null,null,null,{"$f":"IFERROR(VLOOKUP(__レジメンマスタ[[#This Row],[YJコード⑦]],[1]!__前投薬リスト[#Data],4,FALSE)&\"\",\"\")","v":""}]
["HEM0057-02","DA-EPOCH-R (level 2)","　　　　　  　Ｗ1            Ｗ2           Ｗ3   Rは前後することあり    \nR　      ↓××××××  ××××××× ××××××× \nETP　    ×↓↓↓↓××  ××××××× ××××××× \nDXR/VCR  ×↓↓↓↓××  ××××××× ×××××××  \nCPA      ×××××↓×  ××××××× ××××××× \nPSL      ×↓↓↓↓↓×  ××××××× ×××××××\nNadia:Neu減少500以上、Plt2.5万以上→Level 3へ\nNadia:Neu減少500以下2回、Plt2.5万未満で→Level 1へ \n L1～6含めて8Cまで\n(Rの休薬はR同士で1週以上あいていれば可）","21日","8コース","リンパ腫","血液内科","リツキシマブ","危 500㎎/50mL ﾘﾂｷｼﾏﾌﾞBS点滴静注「ﾌｧｲｻﾞｰ」（希釈液:生食orTZ）（先:ﾘﾂｷｻﾝ）","4291451A2024","注射","５０ｍＬ／ｈで開始、ｍａｘ２００ｍＬ／ｈ",375,"㎡","mg",null,"d1",{"$f":"IFERROR(VLOOKUP(__レジメンマスタ[[#This Row],[YJコード①]],[1]!__前投薬リスト[#Data],4,FALSE)&\"\",\"\")","v":"抗ヒス,解,(ステ)"},null,"エトポシド","危 ｴﾄﾎﾟｼﾄﾞ点滴静注液「ｻﾝﾄﾞ」100mg/5mL（先:ﾗｽﾃｯﾄ）","4240403A2069","注射","24時間持続投与",60,"㎡","mg",null,"d2-5",{"$f":"IFERROR(VLOOKUP(__レジメンマスタ[[#This Row],[YJコード②]],[1]!__前投薬リスト[#Data],4,FALSE)&\"\",\"\")","v":""},null,"ドキソルビシン","危 10mg ﾄﾞｷｿﾙﾋﾞｼﾝ塩酸塩注射用「NK」（溶解液:生食orAq）（先:ｱﾄﾞﾘｱｼﾝ）","4235402D1048","注射","メイン、２４時間持続投与",12,"㎡","mg",null,"d2-5",{"$f":"IFERROR(VLOOKUP(__レジメンマスタ[[#This Row],[YJコード③]],[1]!__前投薬リスト[#Data],4,FALSE)&\"\",\"\")","v":""},null,"オンコビン","危 ｵﾝｺﾋﾞﾝ注射用 1㎎","4240400D1030","注射","２４時間持続投与",0.4,"㎡","mg",null,"d2-5",{"$f":"IFERROR(VLOOKUP(__レジメンマスタ[[#This Row],[YJコード④]],[1]!__前投薬リスト[#Data],4,FALSE)&\"\",\"\")","v":""},null,"エンドキサン","危 注射用ｴﾝﾄﾞｷｻﾝ 500㎎","4211401D2021","注射","２ 時間で",900,"㎡","mg",null,"d6",{"$f":"IFERROR(VLOOKUP(__レジメンマスタ[[#This Row],[YJコード⑤]],[1]!__前投薬リスト[#Data],4,FALSE)&\"\",\"\")","v":""},null,"プレドニン",null,"2456001F1310","経口",null,60,"㎡","mg",null,"d2-6",{"$f":"IFERROR(VLOOKUP(__レジメンマスタ[[#This Row],[YJコード⑥]],[1]!__前投薬リスト[#Data],4,FALSE)&\"\",\"\")","v":""},null,null,null,null,null,null,null,null,null,null,null,{"$f":"IFERROR(VLOOKUP(__レジメンマスタ[[#This Row],[YJコード⑦]],[1]!__前投薬リスト[#Data],4,FALSE)&\"\",\"\")","v":""}]
["HEM0057-03","DA-EPOCH-R (level 3)","　　　　　  　Ｗ1            Ｗ2           Ｗ3   Rは前後することあり    \nR　      ↓××××××  ××××××× ××××××× \nETP　    ×↓↓↓↓××  ××××××× ××××××× \nDXR/VCR  ×↓↓↓↓××  ××××××× ×××××××  \nCPA      ×××××↓×  ××××××× ××××××× \nPSL      ×↓↓↓↓↓×  ××××××× ×××××××\nNadia:Neu減少500以上、Plt2.5万以上→Level 4 へ\nNadia:Neu減少500以下2回、Plt2.5万未満で→Level 2へ \n L1～6含めて8Cまで\n(Rの休薬はR同士で1週以上あいていれば可）","21日","8コース","リンパ腫","血液内科","リツキシマブ","危 500㎎/50mL ﾘﾂｷｼﾏﾌﾞBS点滴静注「ﾌｧｲｻﾞｰ」（希釈液:生食orTZ）（先:ﾘﾂｷｻﾝ）","4291451A2024","注射","５０ｍＬ／ｈで開始、ｍａｘ２００ｍＬ／ｈ",375,"㎡","mg",null,"d1",{"$f":"IFERROR(VLOOKUP(__レジメンマスタ[[#This Row],[YJコード①]],[1]!__前投薬リスト[#Data],4,FALSE)&\"\",\"\")","v":"抗ヒス,解,(ステ)"},null,"エトポシド","危 ｴﾄﾎﾟｼﾄﾞ点滴静注液「ｻﾝﾄﾞ」100mg/5mL（先:ﾗｽﾃｯﾄ）","4240403A2069","注射","24時間持続投与",72,"㎡","mg",null,"d2-5",{"$f":"IFERROR(VLOOKUP(__レジメンマスタ[[#This Row],[YJコード②]],[1]!__前投薬リスト[#Data],4,FALSE)&\"\",\"\")","v":""},null,"ドキソルビシン","危 10mg ﾄﾞｷｿﾙﾋﾞｼﾝ塩酸塩注射用「NK」（溶解液:生食orAq）（先:ｱﾄﾞﾘｱｼﾝ）","4235402D1048","注射","メイン、２４時間持続投与",14.4,"㎡","mg",null,"d2-5",{"$f":"IFERROR(VLOOKUP(__レジメンマスタ[[#This Row],[YJコード③]],[1]!__前投薬リスト[#Data],4,FALSE)&\"\",\"\")","v":""},null,"オンコビン","危 ｵﾝｺﾋﾞﾝ注射用 1㎎","4240400D1030","注射","２４時間持続投与",0.4,"㎡","mg",null,"d2-5",{"$f":"IFERROR(VLOOKUP(__レジメンマスタ[[#This Row],[YJコード④]],[1]!__前投薬リスト[#Data],4,FALSE)&\"\",\"\")","v":""},null,"エンドキサン","危 注射用ｴﾝﾄﾞｷｻﾝ 500㎎","4211401D2021","注射","２ 時間で",1080,"㎡","mg",null,"d6",{"$f":"IFERROR(VLOOKUP(__レジメンマスタ[[#This Row],[YJコード⑤]],[1]!__前投薬リスト[#Data],4,FALSE)&\"\",\"\")","v":""},null,"プレドニン",null,"2456001F1310","経口",null,60,"㎡","mg",null,"d2-6",{"$f":"IFERROR(VLOOKUP(__レジメンマスタ[[#This Row],[YJコード⑥]],[1]!__前投薬リスト[#Data],4,FALSE)&\"\",\"\")","v":""},null,null,null,null,null,null,null,null,null,null,null,{"$f":"IFERROR(VLOOKUP(__レジメンマスタ[[#This Row],[YJコード⑦]],[1]!__前投薬リスト[#Data],4,FALSE)&\"\",\"\")","v":""}]
["HEM0057-04","DA-EPOCH-R (level 4)","　　　　　  　Ｗ1            Ｗ2           Ｗ3   Rは前後することあり    \nR　      ↓××××××  ××××××× ××××××× \nETP　    ×↓↓↓↓××  ××××××× ××××××× \nDXR/VCR  ×↓↓↓↓××  ××××××× ×××××××  \nCPA      ×××××↓×  ××××××× ××××××× \nPSL      ×↓↓↓↓↓×  ××××××× ×××××××\nNadia:Neu減少500以上、Plt2.5万以上→Level 5 へ\nNadia:Neu減少500以下2回、Plt2.5万未満で→Level 3へ\n L1～5含めて8Cまで\n(Rの休薬はR同士で1週以上あいていれば可）","21日","8コース","リンパ腫","血液内科","リツキシマブ","危 500㎎/50mL ﾘﾂｷｼﾏﾌﾞBS点滴静注「ﾌｧｲｻﾞｰ」（希釈液:生食orTZ）（先:ﾘﾂｷｻﾝ）","4291451A2024","注射","５０ｍＬ／ｈで開始、ｍａｘ２００ｍＬ／ｈ",375,"㎡","mg",null,"d1",{"$f":"IFERROR(VLOOKUP(__レジメンマスタ[[#This Row],[YJコード①]],[1]!__前投薬リスト[#Data],4,FALSE)&\"\",\"\")","v":"抗ヒス,解,(ステ)"},null,"エトポシド","危 ｴﾄﾎﾟｼﾄﾞ点滴静注液「ｻﾝﾄﾞ」100mg/5mL（先:ﾗｽﾃｯﾄ）","4240403A2069","注射","24時間持続投与",86.4,"㎡","mg",null,"d2-5",{"$f":"IFERROR(VLOOKUP(__レジメンマスタ[[#This Row],[YJコード②]],[1]!__前投薬リスト[#Data],4,FALSE)&\"\",\"\")","v":""},null,"ドキソルビシン","危 10mg ﾄﾞｷｿﾙﾋﾞｼﾝ塩酸塩注射用「NK」（溶解液:生食orAq）（先:ｱﾄﾞﾘｱｼﾝ）","4235402D1048","注射","メイン、２４時間持続投与",17.3,"㎡","mg",null,"d2-5",{"$f":"IFERROR(VLOOKUP(__レジメンマスタ[[#This Row],[YJコード③]],[1]!__前投薬リスト[#Data],4,FALSE)&\"\",\"\")","v":""},null,"オンコビン","危 ｵﾝｺﾋﾞﾝ注射用 1㎎","4240400D1030","注射","２４時間持続投与",0.4,"㎡","mg",null,"d2-5",{"$f":"IFERROR(VLOOKUP(__レジメンマスタ[[#This Row],[YJコード④]],[1]!__前投薬リスト[#Data],4,FALSE)&\"\",\"\")","v":""},null,"エンドキサン","危 注射用ｴﾝﾄﾞｷｻﾝ 500㎎","4211401D2021","注射","２ 時間で",1296,"㎡","mg",null,"d6",{"$f":"IFERROR(VLOOKUP(__レジメンマスタ[[#This Row],[YJコード⑤]],[1]!__前投薬リスト[#Data],4,FALSE)&\"\",\"\")","v":""},null,"プレドニン",null,"2456001F1310","経口",null,60,"㎡","mg",null,"d2-6",{"$f":"IFERROR(VLOOKUP(__レジメンマスタ[[#This Row],[YJコード⑥]],[1]!__前投薬リスト[#Data],4,FALSE)&\"\",\"\")","v":""},null,null,null,null,null,null,null,null,null,null,null,{"$f":"IFERROR(VLOOKUP(__レジメンマスタ[[#This Row],[YJコード⑦]],[1]!__前投薬リスト[#Data],4,FALSE)&\"\",\"\")","v":""}]
["HEM0057-05","DA-EPOCH-R (level 5)","　　　　　  　Ｗ1            Ｗ2           Ｗ3   Rは前後することあり    \nR　      ↓××××××  ××××××× ××××××× \nETP　    ×↓↓↓↓××  ××××××× ××××××× \nDXR/VCR  ×↓↓↓↓××  ××××××× ×××××××  \nCPA      ×××××↓×  ××××××× ××××××× \nMes      ×××××↓×  ××××××× ××××××× \nPSL      ×↓↓↓↓↓×  ××××××× ×××××××\nウロミテキサンの投与量の欄は（1回量）を記入\nNadia:Neu減少500以上、Plt2.5万以上→Level 6 へ\nNadia:Neu減少500以下2回、Plt2500未満で→Level 4へ L1～6含めて8Cまで\n(Rの休薬はR同士で1週以上あいていれば可）","21日","8コース","リンパ腫","血液内科","リツキシマブ","危 500㎎/50mL ﾘﾂｷｼﾏﾌﾞBS点滴静注「ﾌｧｲｻﾞｰ」（希釈液:生食orTZ）（先:ﾘﾂｷｻﾝ）","4291451A2024","注射","５０ｍＬ／ｈで開始、ｍａｘ２００ｍＬ／ｈ",375,"㎡","mg",null,"d1",{"$f":"IFERROR(VLOOKUP(__レジメンマスタ[[#This Row],[YJコード①]],[1]!__前投薬リスト[#Data],4,FALSE)&\"\",\"\")","v":"抗ヒス,解,(ステ)"},null,"エトポシド","危 ｴﾄﾎﾟｼﾄﾞ点滴静注液「ｻﾝﾄﾞ」100mg/5mL（先:ﾗｽﾃｯﾄ）","4240403A2069","注射","24時間持続投与",103.7,"㎡","mg",null,"d2-5",{"$f":"IFERROR(VLOOKUP(__レジメンマスタ[[#This Row],[YJコード②]],[1]!__前投薬リスト[#Data],4,FALSE)&\"\",\"\")","v":""},null,"ドキソルビシン","危 10mg ﾄﾞｷｿﾙﾋﾞｼﾝ塩酸塩注射用「NK」（溶解液:生食orAq）（先:ｱﾄﾞﾘｱｼﾝ）","4235402D1048","注射","メイン、２４時間持続投与",20.7,"㎡","mg",null,"d2-5",{"$f":"IFERROR(VLOOKUP(__レジメンマスタ[[#This Row],[YJコード③]],[1]!__前投薬リスト[#Data],4,FALSE)&\"\",\"\")","v":""},null,"オンコビン","危 ｵﾝｺﾋﾞﾝ注射用 1㎎","4240400D1030","注射","２４時間持続投与",0.4,"㎡","mg",null,"d2-5",{"$f":"IFERROR(VLOOKUP(__レジメンマスタ[[#This Row],[YJコード④]],[1]!__前投薬リスト[#Data],4,FALSE)&\"\",\"\")","v":""},null,"エンドキサン","危 注射用ｴﾝﾄﾞｷｻﾝ 500㎎","4211401D2021","注射","２ 時間で",1555,"㎡","mg",null,"d6",{"$f":"IFERROR(VLOOKUP(__レジメンマスタ[[#This Row],[YJコード⑤]],[1]!__前投薬リスト[#Data],4,FALSE)&\"\",\"\")","v":""},null,"プレドニン",null,"2456001F1310","経口",null,60,"㎡","mg",null,"d2-6",{"$f":"IFERROR(VLOOKUP(__レジメンマスタ[[#This Row],[YJコード⑥]],[1]!__前投薬リスト[#Data],4,FALSE)&\"\",\"\")","v":""},null,"ウロミテキサン×３",null,"3929406A2026","注射",null,622,"㎡","mg",null,"×３\nd6",{"$f":"IFERROR(VLOOKUP(__レジメンマスタ[[#This Row],[YJコード⑦]],[1]!__前投薬リスト[#Data],4,FALSE)&\"\",\"\")","v":""}]
["HEM0057-06","DA-EPOCH-R (level 6)","　　　　　  　Ｗ1            Ｗ2           Ｗ3   Rは前後することあり    \nR　      ↓××××××  ××××××× ××××××× \nETP　    ×↓↓↓↓××  ××××××× ××××××× \nDXR/VCR  ×↓↓↓↓××  ××××××× ×××××××  \nCPA      ×××××↓×  ××××××× ××××××× \nMes      ×××××↓×  ××××××× ××××××× \nPSL      ×↓↓↓↓↓×  ××××××× ×××××××\nウロミテキサンの投与量の欄は（1回量）を記入\nNadia:Neu減少500以下2回、Plt2.5万未満で→Level 5へ L1～6含めて8Cまで\n(Rの休薬はR同士で1週以上あいていれば可）","21日","8コース","リンパ腫","血液内科","リツキシマブ","危 500㎎/50mL ﾘﾂｷｼﾏﾌﾞBS点滴静注「ﾌｧｲｻﾞｰ」（希釈液:生食orTZ）（先:ﾘﾂｷｻﾝ）","4291451A2024","注射","５０ｍＬ／ｈで開始、ｍａｘ２００ｍＬ／ｈ",375,"㎡","mg",null,"d1",{"$f":"IFERROR(VLOOKUP(__レジメンマスタ[[#This Row],[YJコード①]],[1]!__前投薬リスト[#Data],4,FALSE)&\"\",\"\")","v":"抗ヒス,解,(ステ)"},null,"エトポシド","危 ｴﾄﾎﾟｼﾄﾞ点滴静注液「ｻﾝﾄﾞ」100mg/5mL（先:ﾗｽﾃｯﾄ）","4240403A2069","注射","24時間持続投与",124.4,"㎡","mg",null,"d2-5",{"$f":"IFERROR(VLOOKUP(__レジメンマスタ[[#This Row],[YJコード②]],[1]!__前投薬リスト[#Data],4,FALSE)&\"\",\"\")","v":""},null,"ドキソルビシン","危 10mg ﾄﾞｷｿﾙﾋﾞｼﾝ塩酸塩注射用「NK」（溶解液:生食orAq）（先:ｱﾄﾞﾘｱｼﾝ）","4235402D1048","注射","メイン、２４時間持続投与",24.8,"㎡","mg",null,"d2-5",{"$f":"IFERROR(VLOOKUP(__レジメンマスタ[[#This Row],[YJコード③]],[1]!__前投薬リスト[#Data],4,FALSE)&\"\",\"\")","v":""},null,"オンコビン","危 ｵﾝｺﾋﾞﾝ注射用 1㎎","4240400D1030","注射","２４時間持続投与",0.4,"㎡","mg",null,"d2-5",{"$f":"IFERROR(VLOOKUP(__レジメンマスタ[[#This Row],[YJコード④]],[1]!__前投薬リスト[#Data],4,FALSE)&\"\",\"\")","v":""},null,"エンドキサン","危 注射用ｴﾝﾄﾞｷｻﾝ 500㎎","4211401D2021","注射","２ 時間で",1866,"㎡","mg",null,"d6",{"$f":"IFERROR(VLOOKUP(__レジメンマスタ[[#This Row],[YJコード⑤]],[1]!__前投薬リスト[#Data],4,FALSE)&\"\",\"\")","v":""},null,"プレドニン",null,"2456001F1310","経口",null,60,"㎡","mg",null,"d2-6",{"$f":"IFERROR(VLOOKUP(__レジメンマスタ[[#This Row],[YJコード⑥]],[1]!__前投薬リスト[#Data],4,FALSE)&\"\",\"\")","v":""},null,"ウロミテキサン×３",null,"3929406A2026","注射",null,746.4,"㎡","mg",null,"×３\nd6",{"$f":"IFERROR(VLOOKUP(__レジメンマスタ[[#This Row],[YJコード⑦]],[1]!__前投薬リスト[#Data],4,FALSE)&\"\",\"\")","v":""}]
["HEM0063-01","BOR（点滴）","点滴は副作用が増えるので通常皮下投与する。",null,null,"骨髄腫","血液内科",null,null,null,"注射",null,null,null,null,null,null,{"$f":"IFERROR(VLOOKUP(__レジメンマスタ[[#This Row],[YJコード①]],[1]!__前投薬リスト[#Data],4,FALSE)&\"\",\"\")","v":""},null,null,null,null,null,null,null,null,null,null,null,{"$f":"IFERROR(VLOOKUP(__レジメンマスタ[[#This Row],[YJコード②]],[1]!__前投薬リスト[#Data],4,FALSE)&\"\",\"\")","v":""},null,null,null,null,null,null,null,null,null,null,null,{"$f":"IFERROR(VLOOKUP(__レジメンマスタ[[#This Row],[YJコード③]],[1]!__前投薬リスト[#Data],4,FALSE)&\"\",\"\")","v":""},null,null,null,null,null,null,null,null,null,null,null,{"$f":"IFERROR(VLOOKUP(__レジメンマスタ[[#This Row],[YJコード④]],[1]!__前投薬リスト[#Data],4,FALSE)&\"\",\"\")","v":""},null,null,null,null,null,null,null,null,null,null,null,{"$f":"IFERROR(VLOOKUP(__レジメンマスタ[[#This Row],[YJコード⑤]],[1]!__前投薬リスト[#Data],4,FALSE)&\"\",\"\")","v":""},null,null,null,null,null,null,null,null,null,null,null,{"$f":"IFERROR(VLOOKUP(__レジメンマスタ[[#This Row],[YJコード⑥]],[1]!__前投薬リスト[#Data],4,FALSE)&\"\",\"\")","v":""},null,null,null,null,null,null,null,null,null,null,null,{"$f":"IFERROR(VLOOKUP(__レジメンマスタ[[#This Row],[YJコード⑦]],[1]!__前投薬リスト[#Data],4,FALSE)&\"\",\"\")","v":""}]
["HEM0063-02","BOR（皮下）","  　　　　　 W1  　　 W2～4　　　　   W5  \nBor ↓×××××× ↓×××××× ×××××××  \n1週間に1回、4回投与で1回休み\n\n★レブラミドを追加する場合あり★\n→その場合は併用レジメンの患者特記事項の欄に「Bor併用中」と記載する。\n→本レジメンの患者特記事項の欄に「レブラミド併用中」と記載する。\n→レジメンチェックはそれぞれのシートで行う。","35日",null,"骨髄腫","血液内科","ボルテゾミブ","危 ﾎﾞﾙﾃｿﾞﾐﾌﾞ注射用 3mg「NK」（溶解液:生食）（先:ﾍﾞﾙｹｲﾄﾞ）","4291412D1040","皮下","皮下投与",1.3,"㎡","mg",null,"d1,8,15,22",{"$f":"IFERROR(VLOOKUP(__レジメンマスタ[[#This Row],[YJコード①]],[1]!__前投薬リスト[#Data],4,FALSE)&\"\",\"\")","v":""},null,null,null,null,null,null,null,null,null,null,null,{"$f":"IFERROR(VLOOKUP(__レジメンマスタ[[#This Row],[YJコード②]],[1]!__前投薬リスト[#Data],4,FALSE)&\"\",\"\")","v":""},null,null,null,null,null,null,null,null,null,null,null,{"$f":"IFERROR(VLOOKUP(__レジメンマスタ[[#This Row],[YJコード③]],[1]!__前投薬リスト[#Data],4,FALSE)&\"\",\"\")","v":""},null,null,null,null,null,null,null,null,null,null,null,{"$f":"IFERROR(VLOOKUP(__レジメンマスタ[[#This Row],[YJコード④]],[1]!__前投薬リスト[#Data],4,FALSE)&\"\",\"\")","v":""},null,null,null,null,null,null,null,null,null,null,null,{"$f":"IFERROR(VLOOKUP(__レジメンマスタ[[#This Row],[YJコード⑤]],[1]!__前投薬リスト[#Data],4,FALSE)&\"\",\"\")","v":""},null,null,null,null,null,null,null,null,null,null,null,{"$f":"IFERROR(VLOOKUP(__レジメンマスタ[[#This Row],[YJコード⑥]],[1]!__前投薬リスト[#Data],4,FALSE)&\"\",\"\")","v":""},null,null,null,null,null,null,null,null,null,null,null,{"$f":"IFERROR(VLOOKUP(__レジメンマスタ[[#This Row],[YJコード⑦]],[1]!__前投薬リスト[#Data],4,FALSE)&\"\",\"\")","v":""}]
["HEM0063-03","BOR（twice weekly:点滴）","点滴は副作用が増えるので通常皮下投与する。",null,null,"骨髄腫","血液内科","ボルテゾミブ","危 ﾎﾞﾙﾃｿﾞﾐﾌﾞ注射用 3mg「NK」（溶解液:生食）（先:ﾍﾞﾙｹｲﾄﾞ）","4291412D1040","注射",null,1.3,"㎡","mg",null,"d1,4,8,11",{"$f":"IFERROR(VLOOKUP(__レジメンマスタ[[#This Row],[YJコード①]],[1]!__前投薬リスト[#Data],4,FALSE)&\"\",\"\")","v":""},null,null,null,null,null,null,null,null,null,null,null,{"$f":"IFERROR(VLOOKUP(__レジメンマスタ[[#This Row],[YJコード②]],[1]!__前投薬リスト[#Data],4,FALSE)&\"\",\"\")","v":""},null,null,null,null,null,null,null,null,null,null,null,{"$f":"IFERROR(VLOOKUP(__レジメンマスタ[[#This Row],[YJコード③]],[1]!__前投薬リスト[#Data],4,FALSE)&\"\",\"\")","v":""},null,null,null,null,null,null,null,null,null,null,null,{"$f":"IFERROR(VLOOKUP(__レジメンマスタ[[#This Row],[YJコード④]],[1]!__前投薬リスト[#Data],4,FALSE)&\"\",\"\")","v":""},null,null,null,null,null,null,null,null,null,null,null,{"$f":"IFERROR(VLOOKUP(__レジメンマスタ[[#This Row],[YJコード⑤]],[1]!__前投薬リスト[#Data],4,FALSE)&\"\",\"\")","v":""},null,null,null,null,null,null,null,null,null,null,null,{"$f":"IFERROR(VLOOKUP(__レジメンマスタ[[#This Row],[YJコード⑥]],[1]!__前投薬リスト[#Data],4,FALSE)&\"\",\"\")","v":""},null,null,null,null,null,null,null,null,null,null,null,{"$f":"IFERROR(VLOOKUP(__レジメンマスタ[[#This Row],[YJコード⑦]],[1]!__前投薬リスト[#Data],4,FALSE)&\"\",\"\")","v":""}]
["HEM0063-04","BOR（twice weekly:皮下）","  　　　　　 W1  　　 　　W2　　　　   W3  \nBor ↓××↓××× ↓××↓××× ×××××××  \nd1、4、8、11を3週間毎に投与\n\n★レブラミドを追加する場合あり★\n→その場合は併用レジメンの患者特記事項の欄に「Bor併用中」と記載する。\n→本レジメンの患者特記事項の欄に「レブラミド併用中」と記載する。\n→レジメンチェックはそれぞれのシートで行う。","21日",null,"骨髄腫","血液内科","ボルテゾミブ","危 ﾎﾞﾙﾃｿﾞﾐﾌﾞ注射用 3mg「NK」（溶解液:生食）（先:ﾍﾞﾙｹｲﾄﾞ）","4291412D1040","皮下","皮下投与",1.3,"㎡","mg",null,"d1,4,8,11",{"$f":"IFERROR(VLOOKUP(__レジメンマスタ[[#This Row],[YJコード①]],[1]!__前投薬リスト[#Data],4,FALSE)&\"\",\"\")","v":""},null,null,null,null,null,null,null,null,null,null,null,{"$f":"IFERROR(VLOOKUP(__レジメンマスタ[[#This Row],[YJコード②]],[1]!__前投薬リスト[#Data],4,FALSE)&\"\",\"\")","v":""},null,null,null,null,null,null,null,null,null,null,null,{"$f":"IFERROR(VLOOKUP(__レジメンマスタ[[#This Row],[YJコード③]],[1]!__前投薬リスト[#Data],4,FALSE)&\"\",\"\")","v":""},null,null,null,null,null,null,null,null,null,null,null,{"$f":"IFERROR(VLOOKUP(__レジメンマスタ[[#This Row],[YJコード④]],[1]!__前投薬リスト[#Data],4,FALSE)&\"\",\"\")","v":""},null,null,null,null,null,null,null,null,null,null,null,{"$f":"IFERROR(VLOOKUP(__レジメンマスタ[[#This Row],[YJコード⑤]],[1]!__前投薬リスト[#Data],4,FALSE)&\"\",\"\")","v":""},null,null,null,null,null,null,null,null,null,null,null,{"$f":"IFERROR(VLOOKUP(__レジメンマスタ[[#This Row],[YJコード⑥]],[1]!__前投薬リスト[#Data],4,FALSE)&\"\",\"\")","v":""},null,null,null,null,null,null,null,null,null,null,null,{"$f":"IFERROR(VLOOKUP(__レジメンマスタ[[#This Row],[YJコード⑦]],[1]!__前投薬リスト[#Data],4,FALSE)&\"\",\"\")","v":""}]
["HEM0065","C-MOPP変法（VDS）","  　　　　 W1  　　 　　W2　　　　   　W3  　　　　　　W4\nCPA ↓×××××× ↓×××××× ×××××××  ××××××× \nVDS ↓×××××× ↓×××××× ×××××××  ×××××××  \n６～８コース\n※エビデンス不十分のためレジメンマスターの有効期限を切った\n（そのためこのチェック表は作成不十分）","28日","8コース","リンパ腫","血液内科","エンドキサン","危 注射用ｴﾝﾄﾞｷｻﾝ 500㎎","4211401D2021","注射",null,650,"㎡","mg",null,"d1,8",{"$f":"IFERROR(VLOOKUP(__レジメンマスタ[[#This Row],[YJコード①]],[1]!__前投薬リスト[#Data],4,FALSE)&\"\",\"\")","v":""},null,"フィルデシン",null,"4240402D1021","注射",null,2,"BODY","mg",null,"d1,8",{"$f":"IFERROR(VLOOKUP(__レジメンマスタ[[#This Row],[YJコード②]],[1]!__前投薬リスト[#Data],4,FALSE)&\"\",\"\")","v":""},null,null,null,null,null,null,null,null,null,null,null,{"$f":"IFERROR(VLOOKUP(__レジメンマスタ[[#This Row],[YJコード③]],[1]!__前投薬リスト[#Data],4,FALSE)&\"\",\"\")","v":""},null,null,null,null,null,null,null,null,null,null,null,{"$f":"IFERROR(VLOOKUP(__レジメンマスタ[[#This Row],[YJコード④]],[1]!__前投薬リスト[#Data],4,FALSE)&\"\",\"\")","v":""},null,null,null,null,null,null,null,null,null,null,null,{"$f":"IFERROR(VLOOKUP(__レジメンマスタ[[#This Row],[YJコード⑤]],[1]!__前投薬リスト[#Data],4,FALSE)&\"\",\"\")","v":""},null,null,null,null,null,null,null,null,null,null,null,{"$f":"IFERROR(VLOOKUP(__レジメンマスタ[[#This Row],[YJコード⑥]],[1]!__前投薬リスト[#Data],4,FALSE)&\"\",\"\")","v":""},null,null,null,null,null,null,null,null,null,null,null,{"$f":"IFERROR(VLOOKUP(__レジメンマスタ[[#This Row],[YJコード⑦]],[1]!__前投薬リスト[#Data],4,FALSE)&\"\",\"\")","v":""}]
["HEM0066","MTX大量療法","             W1　　　　   W2～4   \nMTX  ↓××××××  ××××××× \n★MTXは3000～3500mg/㎡★\n１～４週間空ける\n\n【このレジメンの場合の腎機能に応じた減量基準】\nCCr80-60:80%,　60-50:60%,　<50:禁忌","7-28日",null,"リンパ腫","血液内科","メソトレキセート","危 1000mg/40mL ﾒｿﾄﾚｷｾｰﾄ点滴静注液","4222400A2024","注射","３時間厳守、１０時開始",3500,"㎡","mg",null,"d1",{"$f":"IFERROR(VLOOKUP(__レジメンマスタ[[#This Row],[YJコード①]],[1]!__前投薬リスト[#Data],4,FALSE)&\"\",\"\")","v":""},null,null,null,null,null,null,null,null,null,null,null,{"$f":"IFERROR(VLOOKUP(__レジメンマスタ[[#This Row],[YJコード②]],[1]!__前投薬リスト[#Data],4,FALSE)&\"\",\"\")","v":""},null,null,null,null,null,null,null,null,null,null,null,{"$f":"IFERROR(VLOOKUP(__レジメンマスタ[[#This Row],[YJコード③]],[1]!__前投薬リスト[#Data],4,FALSE)&\"\",\"\")","v":""},null,null,null,null,null,null,null,null,null,null,null,{"$f":"IFERROR(VLOOKUP(__レジメンマスタ[[#This Row],[YJコード④]],[1]!__前投薬リスト[#Data],4,FALSE)&\"\",\"\")","v":""},null,null,null,null,null,null,null,null,null,null,null,{"$f":"IFERROR(VLOOKUP(__レジメンマスタ[[#This Row],[YJコード⑤]],[1]!__前投薬リスト[#Data],4,FALSE)&\"\",\"\")","v":""},null,null,null,null,null,null,null,null,null,null,null,{"$f":"IFERROR(VLOOKUP(__レジメンマスタ[[#This Row],[YJコード⑥]],[1]!__前投薬リスト[#Data],4,FALSE)&\"\",\"\")","v":""},null,null,null,null,null,null,null,null,null,null,null,{"$f":"IFERROR(VLOOKUP(__レジメンマスタ[[#This Row],[YJコード⑦]],[1]!__前投薬リスト[#Data],4,FALSE)&\"\",\"\")","v":""}]
["HEM0067","HAM","　　　 D1   D2　 D3   D4   D5 \nAraC  ↓↓ ↓↓ ↓↓ ↓↓ \nｍPSL ↓↓ ↓↓ ↓↓ ↓↓ 　AraC症候群予防\nMIT    ↓   ↓   \nシタラビンの投与量の欄は（1回量）を記入  \n再発や寛解導入困難例に使用\n60歳以上ではAraC:1500mg/㎡へ減量することあり",null,null,"白血病（AML)","血液内科","シタラビン","危 1g/50mL ｼﾀﾗﾋﾞﾝ点滴静注液「NIG」（希釈液:生食orTZ）（先:ｷﾛｻｲﾄﾞN）","4224401A7041","注射",null,2000,"㎡","mg",null,"d1-4×2",{"$f":"IFERROR(VLOOKUP(__レジメンマスタ[[#This Row],[YJコード①]],[1]!__前投薬リスト[#Data],4,FALSE)&\"\",\"\")","v":""},null,"ソル・メドロール",null,"2456400D1067","注射",null,40,"BODY","mg",null,"d1-4×2",{"$f":"IFERROR(VLOOKUP(__レジメンマスタ[[#This Row],[YJコード②]],[1]!__前投薬リスト[#Data],4,FALSE)&\"\",\"\")","v":""},null,"ノバントロン",null,"4291402A1032","注射",null,10,"㎡","mg",null,"d1,2",{"$f":"IFERROR(VLOOKUP(__レジメンマスタ[[#This Row],[YJコード③]],[1]!__前投薬リスト[#Data],4,FALSE)&\"\",\"\")","v":""},null,null,null,null,null,null,null,null,null,null,null,{"$f":"IFERROR(VLOOKUP(__レジメンマスタ[[#This Row],[YJコード④]],[1]!__前投薬リスト[#Data],4,FALSE)&\"\",\"\")","v":""},null,null,null,null,null,null,null,null,null,null,null,{"$f":"IFERROR(VLOOKUP(__レジメンマスタ[[#This Row],[YJコード⑤]],[1]!__前投薬リスト[#Data],4,FALSE)&\"\",\"\")","v":""},null,null,null,null,null,null,null,null,null,null,null,{"$f":"IFERROR(VLOOKUP(__レジメンマスタ[[#This Row],[YJコード⑥]],[1]!__前投薬リスト[#Data],4,FALSE)&\"\",\"\")","v":""},null,null,null,null,null,null,null,null,null,null,null,{"$f":"IFERROR(VLOOKUP(__レジメンマスタ[[#This Row],[YJコード⑦]],[1]!__前投薬リスト[#Data],4,FALSE)&\"\",\"\")","v":""}]
["HEM0068-1","JALSG　AML201寛解導入（IDR)","　　　 D1   D2　 D3   D4   D5   D6   D7 \nIDR 　 ↓   ↓   ↓         \nAraC   ↓   ↓   ↓   ↓   ↓   ↓   ↓   \n（1ｺｰｽでCR達成できなかった場合、もう1ｺｰｽ投与可）\nCR後、原則的に、好中球1500/μL、白血球3000/μL、血小板10万/μL以上になったら地固め療法開始",null,"2コース","白血病（AML)","血液内科","イダマイシン",null,"4235405D1033","注射",null,12,"㎡","mg",null,"d1-3",{"$f":"IFERROR(VLOOKUP(__レジメンマスタ[[#This Row],[YJコード①]],[1]!__前投薬リスト[#Data],4,FALSE)&\"\",\"\")","v":""},null,"キロサイド",null,"4224401A5030","注射",null,100,"㎡","mg",null,"d1-7",{"$f":"IFERROR(VLOOKUP(__レジメンマスタ[[#This Row],[YJコード②]],[1]!__前投薬リスト[#Data],4,FALSE)&\"\",\"\")","v":""},null,null,null,null,null,null,null,null,null,null,null,{"$f":"IFERROR(VLOOKUP(__レジメンマスタ[[#This Row],[YJコード③]],[1]!__前投薬リスト[#Data],4,FALSE)&\"\",\"\")","v":""},null,null,null,null,null,null,null,null,null,null,null,{"$f":"IFERROR(VLOOKUP(__レジメンマスタ[[#This Row],[YJコード④]],[1]!__前投薬リスト[#Data],4,FALSE)&\"\",\"\")","v":""},null,null,null,null,null,null,null,null,null,null,null,{"$f":"IFERROR(VLOOKUP(__レジメンマスタ[[#This Row],[YJコード⑤]],[1]!__前投薬リスト[#Data],4,FALSE)&\"\",\"\")","v":""},null,null,null,null,null,null,null,null,null,null,null,{"$f":"IFERROR(VLOOKUP(__レジメンマスタ[[#This Row],[YJコード⑥]],[1]!__前投薬リスト[#Data],4,FALSE)&\"\",\"\")","v":""},null,null,null,null,null,null,null,null,null,null,null,{"$f":"IFERROR(VLOOKUP(__レジメンマスタ[[#This Row],[YJコード⑦]],[1]!__前投薬リスト[#Data],4,FALSE)&\"\",\"\")","v":""}]
["HEM0068-11","JALSG　AML201寛解導入（DNR)","　　　 D1   D2　 D3   D4   D5   D6   D7 \nDNR 　 ↓   ↓   ↓   ↓   ↓         \nAraC   ↓   ↓   ↓   ↓   ↓   ↓   ↓    \n（1ｺｰｽでCR達成できなかった場合、もう1ｺｰｽ投与可）\nCR後、原則的に、好中球1500/μL、白血球3000/μL、血小板10万/μL以上になったら地固め療法開始",null,"2コース","白血病（AML)","血液内科","ダウノマイシン",null,"4235401D1035","注射","３０ 分で",50,"㎡","mg",null,"d1-5",{"$f":"IFERROR(VLOOKUP(__レジメンマスタ[[#This Row],[YJコード①]],[1]!__前投薬リスト[#Data],4,FALSE)&\"\",\"\")","v":""},null,"キロサイド",null,"4224401A5030","注射",null,100,"㎡","mg",null,"d1-7",{"$f":"IFERROR(VLOOKUP(__レジメンマスタ[[#This Row],[YJコード②]],[1]!__前投薬リスト[#Data],4,FALSE)&\"\",\"\")","v":""},null,null,null,null,null,null,null,null,null,null,null,{"$f":"IFERROR(VLOOKUP(__レジメンマスタ[[#This Row],[YJコード③]],[1]!__前投薬リスト[#Data],4,FALSE)&\"\",\"\")","v":""},null,null,null,null,null,null,null,null,null,null,null,{"$f":"IFERROR(VLOOKUP(__レジメンマスタ[[#This Row],[YJコード④]],[1]!__前投薬リスト[#Data],4,FALSE)&\"\",\"\")","v":""},null,null,null,null,null,null,null,null,null,null,null,{"$f":"IFERROR(VLOOKUP(__レジメンマスタ[[#This Row],[YJコード⑤]],[1]!__前投薬リスト[#Data],4,FALSE)&\"\",\"\")","v":""},null,null,null,null,null,null,null,null,null,null,null,{"$f":"IFERROR(VLOOKUP(__レジメンマスタ[[#This Row],[YJコード⑥]],[1]!__前投薬リスト[#Data],4,FALSE)&\"\",\"\")","v":""},null,null,null,null,null,null,null,null,null,null,null,{"$f":"IFERROR(VLOOKUP(__レジメンマスタ[[#This Row],[YJコード⑦]],[1]!__前投薬リスト[#Data],4,FALSE)&\"\",\"\")","v":""}]
["HEM0068-2","JALSG　AML201地固め（大量Ara-C）","　　　 D1   D2　 D3   D4   D5 \nAraC  ↓↓ ↓↓ ↓↓ ↓↓ ↓↓ \n★60歳以上の場合1回1500mg/㎡への減量を考慮 \n\n1ｺｰｽ目は原則的に、好中球1500/μL、白血球3000/μL、血小板10万/μL以上になったら開始\n2ｺｰｽ目以降は好中球1500/μL、血小板10万/μL以上に回復後”1週間経過したのち”に開始",null,"3コース","白血病（AML)","血液内科","シタラビン","危 1g/50mL ｼﾀﾗﾋﾞﾝ点滴静注液「NIG」（希釈液:生食orTZ）（先:ｷﾛｻｲﾄﾞN）","4224401A7041","注射","３時間厳守、１２時間毎に投与",2000,"㎡","mg",null,"d1-5(AM)",{"$f":"IFERROR(VLOOKUP(__レジメンマスタ[[#This Row],[YJコード①]],[1]!__前投薬リスト[#Data],4,FALSE)&\"\",\"\")","v":""},null,"シタラビン","危 1g/50mL ｼﾀﾗﾋﾞﾝ点滴静注液「NIG」（希釈液:生食orTZ）（先:ｷﾛｻｲﾄﾞN）","4224401A7041","注射","３時間厳守、１２時間毎に投与",2000,"㎡","mg",null,"d1-5(PM)",{"$f":"IFERROR(VLOOKUP(__レジメンマスタ[[#This Row],[YJコード②]],[1]!__前投薬リスト[#Data],4,FALSE)&\"\",\"\")","v":""},null,null,null,null,null,null,null,null,null,null,null,{"$f":"IFERROR(VLOOKUP(__レジメンマスタ[[#This Row],[YJコード③]],[1]!__前投薬リスト[#Data],4,FALSE)&\"\",\"\")","v":""},null,null,null,null,null,null,null,null,null,null,null,{"$f":"IFERROR(VLOOKUP(__レジメンマスタ[[#This Row],[YJコード④]],[1]!__前投薬リスト[#Data],4,FALSE)&\"\",\"\")","v":""},null,null,null,null,null,null,null,null,null,null,null,{"$f":"IFERROR(VLOOKUP(__レジメンマスタ[[#This Row],[YJコード⑤]],[1]!__前投薬リスト[#Data],4,FALSE)&\"\",\"\")","v":""},null,null,null,null,null,null,null,null,null,null,null,{"$f":"IFERROR(VLOOKUP(__レジメンマスタ[[#This Row],[YJコード⑥]],[1]!__前投薬リスト[#Data],4,FALSE)&\"\",\"\")","v":""},null,null,null,null,null,null,null,null,null,null,null,{"$f":"IFERROR(VLOOKUP(__レジメンマスタ[[#This Row],[YJコード⑦]],[1]!__前投薬リスト[#Data],4,FALSE)&\"\",\"\")","v":""}]
["HEM0068-3","JALSG　AML201地固め①","地固め①  D1   D2　 D3   D4   D5\n　　MIT　 ↓ 　↓　 ↓         　　　　 \n 　AraC   ↓   ↓   ↓   ↓   ↓ \n好中球1500/μL、白血球3000/μL、血小板10万/μL以上になったら開始",null,"1コースのみ","白血病（AML)","血液内科","ノバントロン",null,"4291402A1032","注射",null,7,"㎡","mg",null,"地①d1-3 ",{"$f":"IFERROR(VLOOKUP(__レジメンマスタ[[#This Row],[YJコード①]],[1]!__前投薬リスト[#Data],4,FALSE)&\"\",\"\")","v":""},null,"キロサイド",null,"4224401A5030","注射",null,200,"㎡","mg",null,"地①d1-5",{"$f":"IFERROR(VLOOKUP(__レジメンマスタ[[#This Row],[YJコード②]],[1]!__前投薬リスト[#Data],4,FALSE)&\"\",\"\")","v":""},null,null,null,null,null,null,null,null,null,null,null,{"$f":"IFERROR(VLOOKUP(__レジメンマスタ[[#This Row],[YJコード③]],[1]!__前投薬リスト[#Data],4,FALSE)&\"\",\"\")","v":""},null,null,null,null,null,null,null,null,null,null,null,{"$f":"IFERROR(VLOOKUP(__レジメンマスタ[[#This Row],[YJコード④]],[1]!__前投薬リスト[#Data],4,FALSE)&\"\",\"\")","v":""},null,null,null,null,null,null,null,null,null,null,null,{"$f":"IFERROR(VLOOKUP(__レジメンマスタ[[#This Row],[YJコード⑤]],[1]!__前投薬リスト[#Data],4,FALSE)&\"\",\"\")","v":""},null,null,null,null,null,null,null,null,null,null,null,{"$f":"IFERROR(VLOOKUP(__レジメンマスタ[[#This Row],[YJコード⑥]],[1]!__前投薬リスト[#Data],4,FALSE)&\"\",\"\")","v":""},null,null,null,null,null,null,null,null,null,null,null,{"$f":"IFERROR(VLOOKUP(__レジメンマスタ[[#This Row],[YJコード⑦]],[1]!__前投薬リスト[#Data],4,FALSE)&\"\",\"\")","v":""}]
["HEM0068-4","JALSG　AML201地固め②"," 地固め②   D1   D2　 D3   D4   D5 \n  　  DNR　 ↓ 　↓　 ↓   　　　\n　    AraC  ↓   ↓   ↓   ↓   ↓ \n好中球1500/μL、白血球3000/μL、血小板10万/μL以上になったら開始\n\n地固め療法②コース終了後、血小板10万/μL以上に回復次第\nMTX15mg/BODY＋AraC40mg/BODY＋PSL10mg/BODYの髄腔内投与☆\n",null,"1コースのみ","白血病（AML)","血液内科","ダウノマイシン",null,"4235401D1035","注射","３０ 分で",50,"㎡","mg",null,"地②d1-3",{"$f":"IFERROR(VLOOKUP(__レジメンマスタ[[#This Row],[YJコード①]],[1]!__前投薬リスト[#Data],4,FALSE)&\"\",\"\")","v":""},null,"キロサイド",null,"4224401A5030","注射",null,200,"㎡","mg",null,"地②d1-5",{"$f":"IFERROR(VLOOKUP(__レジメンマスタ[[#This Row],[YJコード②]],[1]!__前投薬リスト[#Data],4,FALSE)&\"\",\"\")","v":""},null,null,null,null,null,null,null,null,null,null,null,{"$f":"IFERROR(VLOOKUP(__レジメンマスタ[[#This Row],[YJコード③]],[1]!__前投薬リスト[#Data],4,FALSE)&\"\",\"\")","v":""},null,null,null,null,null,null,null,null,null,null,null,{"$f":"IFERROR(VLOOKUP(__レジメンマスタ[[#This Row],[YJコード④]],[1]!__前投薬リスト[#Data],4,FALSE)&\"\",\"\")","v":""},null,null,null,null,null,null,null,null,null,null,null,{"$f":"IFERROR(VLOOKUP(__レジメンマスタ[[#This Row],[YJコード⑤]],[1]!__前投薬リスト[#Data],4,FALSE)&\"\",\"\")","v":""},null,null,null,null,null,null,null,null,null,null,null,{"$f":"IFERROR(VLOOKUP(__レジメンマスタ[[#This Row],[YJコード⑥]],[1]!__前投薬リスト[#Data],4,FALSE)&\"\",\"\")","v":""},null,null,null,null,null,null,null,null,null,null,null,{"$f":"IFERROR(VLOOKUP(__レジメンマスタ[[#This Row],[YJコード⑦]],[1]!__前投薬リスト[#Data],4,FALSE)&\"\",\"\")","v":""}]
["HEM0068-5","JALSG　AML201地固め②後　髄注","必要時に1日1回　投与回数制限なし\n\n★他レジメンに追加して使用する場合あり★\n→その場合は併用レジメンの患者特記事項の欄に「髄注併用中」と記載する。\n→本レジメンの患者特記事項の欄に「別レジメン併用中」と記載する。\n→レジメンチェックはそれぞれのシートで行う。",null,null,"白血病（AML)","血液内科","メソトレキセート 5mg","危 5mg 注射用ﾒｿﾄﾚｷｾｰﾄ","4222400D1024","髄","髄注、髄注用シリンジで調製",15,"BODY","mg",null,"d1",{"$f":"IFERROR(VLOOKUP(__レジメンマスタ[[#This Row],[YJコード①]],[1]!__前投薬リスト[#Data],4,FALSE)&\"\",\"\")","v":""},null,"キロサイド(少量）","危 20mg/1mL ｷﾛｻｲﾄﾞ注","4224401A1035","髄","髄注、髄注用シリンジで調製",40,"BODY","mg",null,"d1",{"$f":"IFERROR(VLOOKUP(__レジメンマスタ[[#This Row],[YJコード②]],[1]!__前投薬リスト[#Data],4,FALSE)&\"\",\"\")","v":""},null,"プレドニン",null,"2456405D1027","髄",null,10,"BODY","mg",null,"d1",{"$f":"IFERROR(VLOOKUP(__レジメンマスタ[[#This Row],[YJコード③]],[1]!__前投薬リスト[#Data],4,FALSE)&\"\",\"\")","v":""},null,null,null,null,null,null,null,null,null,null,null,{"$f":"IFERROR(VLOOKUP(__レジメンマスタ[[#This Row],[YJコード④]],[1]!__前投薬リスト[#Data],4,FALSE)&\"\",\"\")","v":""},null,null,null,null,null,null,null,null,null,null,null,{"$f":"IFERROR(VLOOKUP(__レジメンマスタ[[#This Row],[YJコード⑤]],[1]!__前投薬リスト[#Data],4,FALSE)&\"\",\"\")","v":""},null,null,null,null,null,null,null,null,null,null,null,{"$f":"IFERROR(VLOOKUP(__レジメンマスタ[[#This Row],[YJコード⑥]],[1]!__前投薬リスト[#Data],4,FALSE)&\"\",\"\")","v":""},null,null,null,null,null,null,null,null,null,null,null,{"$f":"IFERROR(VLOOKUP(__レジメンマスタ[[#This Row],[YJコード⑦]],[1]!__前投薬リスト[#Data],4,FALSE)&\"\",\"\")","v":""}]
["HEM0068-52","JALSG　AML201地固め②後　髄注（AraC,PSL無し）","必要時に1日1回　投与回数制限なし\n\n★他レジメンに追加して使用する場合あり★\n→その場合は併用レジメンの患者特記事項の欄に「髄注併用中」と記載する。\n→本レジメンの患者特記事項の欄に「別レジメン併用中」と記載する。\n→レジメンチェックはそれぞれのシートで行う。",null,null,"白血病（AML)","血液内科","メソトレキセート 5mg","危 5mg 注射用ﾒｿﾄﾚｷｾｰﾄ","4222400D1024","髄","髄注、髄注用シリンジで調製",15,"BODY","mg",null,"d1",{"$f":"IFERROR(VLOOKUP(__レジメンマスタ[[#This Row],[YJコード①]],[1]!__前投薬リスト[#Data],4,FALSE)&\"\",\"\")","v":""},null,null,null,null,null,null,null,null,null,null,null,{"$f":"IFERROR(VLOOKUP(__レジメンマスタ[[#This Row],[YJコード②]],[1]!__前投薬リスト[#Data],4,FALSE)&\"\",\"\")","v":""},null,null,null,null,null,null,null,null,null,null,null,{"$f":"IFERROR(VLOOKUP(__レジメンマスタ[[#This Row],[YJコード③]],[1]!__前投薬リスト[#Data],4,FALSE)&\"\",\"\")","v":""},null,null,null,null,null,null,null,null,null,null,null,{"$f":"IFERROR(VLOOKUP(__レジメンマスタ[[#This Row],[YJコード④]],[1]!__前投薬リスト[#Data],4,FALSE)&\"\",\"\")","v":""},null,null,null,null,null,null,null,null,null,null,null,{"$f":"IFERROR(VLOOKUP(__レジメンマスタ[[#This Row],[YJコード⑤]],[1]!__前投薬リスト[#Data],4,FALSE)&\"\",\"\")","v":""},null,null,null,null,null,null,null,null,null,null,null,{"$f":"IFERROR(VLOOKUP(__レジメンマスタ[[#This Row],[YJコード⑥]],[1]!__前投薬リスト[#Data],4,FALSE)&\"\",\"\")","v":""},null,null,null,null,null,null,null,null,null,null,null,{"$f":"IFERROR(VLOOKUP(__レジメンマスタ[[#This Row],[YJコード⑦]],[1]!__前投薬リスト[#Data],4,FALSE)&\"\",\"\")","v":""}]
["HEM0068-6","JALSG　AML201地固め③","地固め③  D1   D2　 D3   D4   D5\n　　ACR　 ↓ 　↓　 ↓ 　↓　 ↓         　　　　 \n 　AraC   ↓ 　↓　 ↓ 　↓　 ↓ \n好中球1500/μL、白血球3000/μL、血小板10万/μL以上になったら開始",null,"1コースのみ","白血病（AML)","血液内科","アクラシノン",null,"4235400D1030","注射",null,20,"㎡","mg",null,"地③d1-5",{"$f":"IFERROR(VLOOKUP(__レジメンマスタ[[#This Row],[YJコード①]],[1]!__前投薬リスト[#Data],4,FALSE)&\"\",\"\")","v":""},null,"キロサイド",null,"4224401A5030","注射",null,200,"㎡","mg",null,"地③d1-5",{"$f":"IFERROR(VLOOKUP(__レジメンマスタ[[#This Row],[YJコード②]],[1]!__前投薬リスト[#Data],4,FALSE)&\"\",\"\")","v":""},null,null,null,null,null,null,null,null,null,null,null,{"$f":"IFERROR(VLOOKUP(__レジメンマスタ[[#This Row],[YJコード③]],[1]!__前投薬リスト[#Data],4,FALSE)&\"\",\"\")","v":""},null,null,null,null,null,null,null,null,null,null,null,{"$f":"IFERROR(VLOOKUP(__レジメンマスタ[[#This Row],[YJコード④]],[1]!__前投薬リスト[#Data],4,FALSE)&\"\",\"\")","v":""},null,null,null,null,null,null,null,null,null,null,null,{"$f":"IFERROR(VLOOKUP(__レジメンマスタ[[#This Row],[YJコード⑤]],[1]!__前投薬リスト[#Data],4,FALSE)&\"\",\"\")","v":""},null,null,null,null,null,null,null,null,null,null,null,{"$f":"IFERROR(VLOOKUP(__レジメンマスタ[[#This Row],[YJコード⑥]],[1]!__前投薬リスト[#Data],4,FALSE)&\"\",\"\")","v":""},null,null,null,null,null,null,null,null,null,null,null,{"$f":"IFERROR(VLOOKUP(__レジメンマスタ[[#This Row],[YJコード⑦]],[1]!__前投薬リスト[#Data],4,FALSE)&\"\",\"\")","v":""}]
["HEM0068-7","JALSG　AML201地固め④","地固め④  D1   D2　 D3   D4   D5・・D8・D10 \n　　ETP　 ↓ 　↓　 ↓   ↓   ↓          　　　　 \n 　AraC   ↓   ↓   ↓   ↓   ↓ \n　　VCR　　　　　　　　　　　　　   ↓ \n　　VDS    　　　　　　　　　　　　　   ↓ \n好中球1500/μL、白血球3000/μL、血小板10万/μL以上になったら開始",null,"1コースのみ","白血病（AML)","血液内科","エトポシド","危 ｴﾄﾎﾟｼﾄﾞ点滴静注液「ｻﾝﾄﾞ」100mg/5mL（先:ﾗｽﾃｯﾄ）","4240403A2069","注射","１時間で",100,"㎡","mg",null,"地④d1-5",{"$f":"IFERROR(VLOOKUP(__レジメンマスタ[[#This Row],[YJコード①]],[1]!__前投薬リスト[#Data],4,FALSE)&\"\",\"\")","v":""},null,"キロサイド",null,"4224401A5030","注射",null,200,"㎡","mg",null,"地④d1-5",{"$f":"IFERROR(VLOOKUP(__レジメンマスタ[[#This Row],[YJコード②]],[1]!__前投薬リスト[#Data],4,FALSE)&\"\",\"\")","v":""},null,"オンコビン","危 ｵﾝｺﾋﾞﾝ注射用 1㎎","4240400D1030","注射",null,0.8,"㎡","mg",null,"地④d8",{"$f":"IFERROR(VLOOKUP(__レジメンマスタ[[#This Row],[YJコード③]],[1]!__前投薬リスト[#Data],4,FALSE)&\"\",\"\")","v":""},null,"フィルデシン",null,"4240402D2028","注射",null,2,"㎡","mg",null,"地④d10",{"$f":"IFERROR(VLOOKUP(__レジメンマスタ[[#This Row],[YJコード④]],[1]!__前投薬リスト[#Data],4,FALSE)&\"\",\"\")","v":""},null,null,null,null,null,null,null,null,null,null,null,{"$f":"IFERROR(VLOOKUP(__レジメンマスタ[[#This Row],[YJコード⑤]],[1]!__前投薬リスト[#Data],4,FALSE)&\"\",\"\")","v":""},null,null,null,null,null,null,null,null,null,null,null,{"$f":"IFERROR(VLOOKUP(__レジメンマスタ[[#This Row],[YJコード⑥]],[1]!__前投薬リスト[#Data],4,FALSE)&\"\",\"\")","v":""},null,null,null,null,null,null,null,null,null,null,null,{"$f":"IFERROR(VLOOKUP(__レジメンマスタ[[#This Row],[YJコード⑦]],[1]!__前投薬リスト[#Data],4,FALSE)&\"\",\"\")","v":""}]
["HEM0069","アザシチジン（皮下）","　　　 D1   D2　 D3   D4   D5   D6   D7   ・・・ D27  D28\nAZA    ↓   ↓   ↓   ↓   ↓   ↓   ↓\n1日1回7日間（28日ごと）皮下注または点滴静注\n外来で施行する場合は、休日をとばす","28日","∞","白血病","血液内科","アザシチジン","危 ｱｻﾞｼﾁｼﾞﾝ注射用「ｻﾜｲ」100mg（溶解液:Aq）（先:ﾋﾞﾀﾞｰｻﾞ）","4291419D1050","皮下","皮下投与、安定性注意！！",75,"㎡","mg",null,"d1-7",{"$f":"IFERROR(VLOOKUP(__レジメンマスタ[[#This Row],[YJコード①]],[1]!__前投薬リスト[#Data],4,FALSE)&\"\",\"\")","v":""},null,null,null,null,null,null,null,null,null,null,null,{"$f":"IFERROR(VLOOKUP(__レジメンマスタ[[#This Row],[YJコード②]],[1]!__前投薬リスト[#Data],4,FALSE)&\"\",\"\")","v":""},null,null,null,null,null,null,null,null,null,null,null,{"$f":"IFERROR(VLOOKUP(__レジメンマスタ[[#This Row],[YJコード③]],[1]!__前投薬リスト[#Data],4,FALSE)&\"\",\"\")","v":""},null,null,null,null,null,null,null,null,null,null,null,{"$f":"IFERROR(VLOOKUP(__レジメンマスタ[[#This Row],[YJコード④]],[1]!__前投薬リスト[#Data],4,FALSE)&\"\",\"\")","v":""},null,null,null,null,null,null,null,null,null,null,null,{"$f":"IFERROR(VLOOKUP(__レジメンマスタ[[#This Row],[YJコード⑤]],[1]!__前投薬リスト[#Data],4,FALSE)&\"\",\"\")","v":""},null,null,null,null,null,null,null,null,null,null,null,{"$f":"IFERROR(VLOOKUP(__レジメンマスタ[[#This Row],[YJコード⑥]],[1]!__前投薬リスト[#Data],4,FALSE)&\"\",\"\")","v":""},null,null,null,null,null,null,null,null,null,null,null,{"$f":"IFERROR(VLOOKUP(__レジメンマスタ[[#This Row],[YJコード⑦]],[1]!__前投薬リスト[#Data],4,FALSE)&\"\",\"\")","v":""}]
["HEM0069-2","アザシチジン（点滴）","　　　 D1   D2　 D3   D4   D5   D6   D7   ・・・ D27  D28\nAZA    ↓   ↓   ↓   ↓   ↓   ↓   ↓\n1日1回7日間（28日ごと）皮下注または点滴静注\n外来で施行する場合は、休日をとばす","28日","∞","白血病","血液内科","アザシチジン","危 ｱｻﾞｼﾁｼﾞﾝ注射用「ｻﾜｲ」100mg（溶解液:Aq）（先:ﾋﾞﾀﾞｰｻﾞ）","4291419D1050","注射",null,75,"㎡","mg",null,"d1-7",{"$f":"IFERROR(VLOOKUP(__レジメンマスタ[[#This Row],[YJコード①]],[1]!__前投薬リスト[#Data],4,FALSE)&\"\",\"\")","v":""},null,null,null,null,null,null,null,null,null,null,null,{"$f":"IFERROR(VLOOKUP(__レジメンマスタ[[#This Row],[YJコード②]],[1]!__前投薬リスト[#Data],4,FALSE)&\"\",\"\")","v":""},null,null,null,null,null,null,null,null,null,null,null,{"$f":"IFERROR(VLOOKUP(__レジメンマスタ[[#This Row],[YJコード③]],[1]!__前投薬リスト[#Data],4,FALSE)&\"\",\"\")","v":""},null,null,null,null,null,null,null,null,null,null,null,{"$f":"IFERROR(VLOOKUP(__レジメンマスタ[[#This Row],[YJコード④]],[1]!__前投薬リスト[#Data],4,FALSE)&\"\",\"\")","v":""},null,null,null,null,null,null,null,null,null,null,null,{"$f":"IFERROR(VLOOKUP(__レジメンマスタ[[#This Row],[YJコード⑤]],[1]!__前投薬リスト[#Data],4,FALSE)&\"\",\"\")","v":""},null,null,null,null,null,null,null,null,null,null,null,{"$f":"IFERROR(VLOOKUP(__レジメンマスタ[[#This Row],[YJコード⑥]],[1]!__前投薬リスト[#Data],4,FALSE)&\"\",\"\")","v":""},null,null,null,null,null,null,null,null,null,null,null,{"$f":"IFERROR(VLOOKUP(__レジメンマスタ[[#This Row],[YJコード⑦]],[1]!__前投薬リスト[#Data],4,FALSE)&\"\",\"\")","v":""}]
["HEM0070","【適応外】血球貪食症候群（ETP）","HEM00128へ",null,null,"その他","血液内科",null,null,null,"注射",null,null,null,null,null,null,{"$f":"IFERROR(VLOOKUP(__レジメンマスタ[[#This Row],[YJコード①]],[1]!__前投薬リスト[#Data],4,FALSE)&\"\",\"\")","v":""},null,null,null,null,null,null,null,null,null,null,null,{"$f":"IFERROR(VLOOKUP(__レジメンマスタ[[#This Row],[YJコード②]],[1]!__前投薬リスト[#Data],4,FALSE)&\"\",\"\")","v":""},null,null,null,null,null,null,null,null,null,null,null,{"$f":"IFERROR(VLOOKUP(__レジメンマスタ[[#This Row],[YJコード③]],[1]!__前投薬リスト[#Data],4,FALSE)&\"\",\"\")","v":""},null,null,null,null,null,null,null,null,null,null,null,{"$f":"IFERROR(VLOOKUP(__レジメンマスタ[[#This Row],[YJコード④]],[1]!__前投薬リスト[#Data],4,FALSE)&\"\",\"\")","v":""},null,null,null,null,null,null,null,null,null,null,null,{"$f":"IFERROR(VLOOKUP(__レジメンマスタ[[#This Row],[YJコード⑤]],[1]!__前投薬リスト[#Data],4,FALSE)&\"\",\"\")","v":""},null,null,null,null,null,null,null,null,null,null,null,{"$f":"IFERROR(VLOOKUP(__レジメンマスタ[[#This Row],[YJコード⑥]],[1]!__前投薬リスト[#Data],4,FALSE)&\"\",\"\")","v":""},null,null,null,null,null,null,null,null,null,null,null,{"$f":"IFERROR(VLOOKUP(__レジメンマスタ[[#This Row],[YJコード⑦]],[1]!__前投薬リスト[#Data],4,FALSE)&\"\",\"\")","v":""}]
["HEM0071","RB（B:90mg/㎡）","　　　　　  　Ｗ1            Ｗ2           Ｗ3～4   \nR　      ↓××××××  ××××××× ××××××× \nBenda    ×↓↓××××  ××××××× ××××××× \n  Rは前後することあり(休薬はR同士で1週以上あいていれば可）  \n【低悪性度B細胞性非ホジキンリンパ腫】4週間毎\n【未治療マントル細胞リンパ腫】4週間毎\n【DLBCL】3週間毎（原則HEM0114のレジメンを使用）","21-28日","4～6コース","リンパ腫","血液内科","リツキシマブ","危 500㎎/50mL ﾘﾂｷｼﾏﾌﾞBS点滴静注「ﾌｧｲｻﾞｰ」（希釈液:生食orTZ）（先:ﾘﾂｷｻﾝ）","4291451A2024","注射","５０ｍＬ／ｈで開始、ｍａｘ２００ｍＬ／ｈ",375,"㎡","mg",null,"d1",{"$f":"IFERROR(VLOOKUP(__レジメンマスタ[[#This Row],[YJコード①]],[1]!__前投薬リスト[#Data],4,FALSE)&\"\",\"\")","v":"抗ヒス,解,(ステ)"},null,"ベンダムスチン","危 100mg/4mL ﾍﾞﾝﾀﾞﾑｽﾁﾝ塩酸塩点滴静注液「ﾄｰﾜ」（希釈液:生食）（先:ﾄﾚｱｷｼﾝ）","4219405A1033","注射","１ 時間で",90,"㎡","mg",null,"d2,3",{"$f":"IFERROR(VLOOKUP(__レジメンマスタ[[#This Row],[YJコード②]],[1]!__前投薬リスト[#Data],4,FALSE)&\"\",\"\")","v":""},null,null,null,null,null,null,null,null,null,null,null,{"$f":"IFERROR(VLOOKUP(__レジメンマスタ[[#This Row],[YJコード③]],[1]!__前投薬リスト[#Data],4,FALSE)&\"\",\"\")","v":""},null,null,null,null,null,null,null,null,null,null,null,{"$f":"IFERROR(VLOOKUP(__レジメンマスタ[[#This Row],[YJコード④]],[1]!__前投薬リスト[#Data],4,FALSE)&\"\",\"\")","v":""},null,null,null,null,null,null,null,null,null,null,null,{"$f":"IFERROR(VLOOKUP(__レジメンマスタ[[#This Row],[YJコード⑤]],[1]!__前投薬リスト[#Data],4,FALSE)&\"\",\"\")","v":""},null,null,null,null,null,null,null,null,null,null,null,{"$f":"IFERROR(VLOOKUP(__レジメンマスタ[[#This Row],[YJコード⑥]],[1]!__前投薬リスト[#Data],4,FALSE)&\"\",\"\")","v":""},null,null,null,null,null,null,null,null,null,null,null,{"$f":"IFERROR(VLOOKUP(__レジメンマスタ[[#This Row],[YJコード⑦]],[1]!__前投薬リスト[#Data],4,FALSE)&\"\",\"\")","v":""}]
["HEM0072","Benda単剤（90mg/㎡）","　　　　　  　Ｗ1            Ｗ2           Ｗ3～4   \nBenda    ↓↓×××××  ××××××× ××××××× \n\n（※R併用の場合はHEM0071、ｶﾞｻﾞｲﾊﾞ併用の場合はHEM0097のシートを使用する）\n","21日","4～6コース","リンパ腫","血液内科","ベンダムスチン","危 100mg/4mL ﾍﾞﾝﾀﾞﾑｽﾁﾝ塩酸塩点滴静注液「ﾄｰﾜ」（希釈液:生食）（先:ﾄﾚｱｷｼﾝ）","4219405A1033","注射","１ 時間で",90,"㎡","mg",null,"d1,2",{"$f":"IFERROR(VLOOKUP(__レジメンマスタ[[#This Row],[YJコード①]],[1]!__前投薬リスト[#Data],4,FALSE)&\"\",\"\")","v":""},null,null,null,null,null,null,null,null,null,null,null,{"$f":"IFERROR(VLOOKUP(__レジメンマスタ[[#This Row],[YJコード②]],[1]!__前投薬リスト[#Data],4,FALSE)&\"\",\"\")","v":""},null,null,null,null,null,null,null,null,null,null,null,{"$f":"IFERROR(VLOOKUP(__レジメンマスタ[[#This Row],[YJコード③]],[1]!__前投薬リスト[#Data],4,FALSE)&\"\",\"\")","v":""},null,null,null,null,null,null,null,null,null,null,null,{"$f":"IFERROR(VLOOKUP(__レジメンマスタ[[#This Row],[YJコード④]],[1]!__前投薬リスト[#Data],4,FALSE)&\"\",\"\")","v":""},null,null,null,null,null,null,null,null,null,null,null,{"$f":"IFERROR(VLOOKUP(__レジメンマスタ[[#This Row],[YJコード⑤]],[1]!__前投薬リスト[#Data],4,FALSE)&\"\",\"\")","v":""},null,null,null,null,null,null,null,null,null,null,null,{"$f":"IFERROR(VLOOKUP(__レジメンマスタ[[#This Row],[YJコード⑥]],[1]!__前投薬リスト[#Data],4,FALSE)&\"\",\"\")","v":""},null,null,null,null,null,null,null,null,null,null,null,{"$f":"IFERROR(VLOOKUP(__レジメンマスタ[[#This Row],[YJコード⑦]],[1]!__前投薬リスト[#Data],4,FALSE)&\"\",\"\")","v":""}]
["HEM0073","CODOX-M","　　　 D1 D2 D3 D4 D5 ・・ D8 ・D10・D12  D13 ・D15・D17　→I-VACへ\nVCR    ↓ 　　　　　　　　 ↓　　　　　　　　　（↓）2CにPNなければ\nCPA    ↓ ↓ ↓ ↓ ↓\nDXR    ↓ \nMTX    　　　　　　　　　　　　 ↓→ \nﾛｲｺﾎﾞﾘﾝ　　　　　　　　　　　　　　   ↓   ↓   \n髄注　 ☆    ☆    (☆) ※()1コース目のみ         ★　★\n☆：AraC40mg＋PSL20　★：MTX15mg＋PSL10mg\n中枢神経系浸潤を認めた症例のみ髄注\n★オンコビンmax2mg★2CのD15はPNなければ施行\nCODOX-M→I-VAC→CODOX-M→I-VACと施行（血球回復次第、次レジメンへ）",null,"2コース","リンパ腫","血液内科","オンコビン","危 ｵﾝｺﾋﾞﾝ注射用 1㎎","4240400D1030","注射",null,1.5,"㎡","mg",null,"d1,8",{"$f":"IFERROR(VLOOKUP(__レジメンマスタ[[#This Row],[YJコード①]],[1]!__前投薬リスト[#Data],4,FALSE)&\"\",\"\")","v":""},null,"エンドキサン","危 注射用ｴﾝﾄﾞｷｻﾝ 500㎎","4211401D2021","注射",null,800,"㎡","mg",null,"d1",{"$f":"IFERROR(VLOOKUP(__レジメンマスタ[[#This Row],[YJコード②]],[1]!__前投薬リスト[#Data],4,FALSE)&\"\",\"\")","v":""},null,"エンドキサン","危 注射用ｴﾝﾄﾞｷｻﾝ 500㎎","4211401D2021","注射",null,200,"㎡","mg",null,"d2-5",{"$f":"IFERROR(VLOOKUP(__レジメンマスタ[[#This Row],[YJコード③]],[1]!__前投薬リスト[#Data],4,FALSE)&\"\",\"\")","v":""},null,"ドキソルビシン","危 10mg ﾄﾞｷｿﾙﾋﾞｼﾝ塩酸塩注射用「NK」（溶解液:生食orAq）（先:ｱﾄﾞﾘｱｼﾝ）","4235402D1048","注射","３０ 分で",40,"㎡","mg",null,"d1",{"$f":"IFERROR(VLOOKUP(__レジメンマスタ[[#This Row],[YJコード④]],[1]!__前投薬リスト[#Data],4,FALSE)&\"\",\"\")","v":""},null,"メソトレキセート(急速)","危 200mg/8mL ﾒｿﾄﾚｷｾｰﾄ点滴静注液","4222400A1036","注射","１時間厳守、１０時から",536,"㎡","mg",null,"d10",{"$f":"IFERROR(VLOOKUP(__レジメンマスタ[[#This Row],[YJコード⑤]],[1]!__前投薬リスト[#Data],4,FALSE)&\"\",\"\")","v":""},null,"メソトレキセート(持続)","危 1000mg/40mL ﾒｿﾄﾚｷｾｰﾄ点滴静注液","4222400A2024","注射","２３時間厳守",2461,"㎡","mg",null,"d10",{"$f":"IFERROR(VLOOKUP(__レジメンマスタ[[#This Row],[YJコード⑥]],[1]!__前投薬リスト[#Data],4,FALSE)&\"\",\"\")","v":""},null,null,null,null,null,null,null,null,null,null,null,{"$f":"IFERROR(VLOOKUP(__レジメンマスタ[[#This Row],[YJコード⑦]],[1]!__前投薬リスト[#Data],4,FALSE)&\"\",\"\")","v":""}]
["HEM0074","I-VAC","　　　 D1  D2  D3  D4  D5 ・D7・D9 \nIFM    ↓  ↓  ↓  ↓  ↓\nMes    ↓  ↓  ↓  ↓  ↓\nETP    ↓  ↓  ↓  ↓  ↓\nAraC  ↓↓↓↓  \n髄注　                 ★  (★)(★)※()1コース目のみ\n★：MTX15mg＋PSL10mg\n中枢神経系浸潤を認めた症例のみ髄注\nウロミテキサンの投与量の欄は（1回量）を記入\nCODOX-M→I-VAC→CODOX-M→I-VACと施行（血球回復次第、次レジメンへ）",null,"2コース","リンパ腫","血液内科","イホマイド","危 注射用ｲﾎﾏｲﾄﾞ 1g（溶解液:生食orAq）","4211402D1020","注射","２ 時間で",1500,"㎡","mg",null,"d1-4",{"$f":"IFERROR(VLOOKUP(__レジメンマスタ[[#This Row],[YJコード①]],[1]!__前投薬リスト[#Data],4,FALSE)&\"\",\"\")","v":""},null,"ウロミテキサン×３",null,"3929406A2026","注射",null,300,"㎡","mg",null,"×３\nd1-5",{"$f":"IFERROR(VLOOKUP(__レジメンマスタ[[#This Row],[YJコード②]],[1]!__前投薬リスト[#Data],4,FALSE)&\"\",\"\")","v":""},null,"エトポシド","危 ｴﾄﾎﾟｼﾄﾞ点滴静注液「ｻﾝﾄﾞ」100mg/5mL（先:ﾗｽﾃｯﾄ）","4240403A2069","注射","２時間で",60,"㎡","mg",null,"d1-5",{"$f":"IFERROR(VLOOKUP(__レジメンマスタ[[#This Row],[YJコード③]],[1]!__前投薬リスト[#Data],4,FALSE)&\"\",\"\")","v":""},null,"シタラビン","危 1g/50mL ｼﾀﾗﾋﾞﾝ点滴静注液「NIG」（希釈液:生食orTZ）（先:ｷﾛｻｲﾄﾞN）","4224401A7041","注射","２時間で",2000,"㎡","mg",null,"d1-2(AM)",{"$f":"IFERROR(VLOOKUP(__レジメンマスタ[[#This Row],[YJコード④]],[1]!__前投薬リスト[#Data],4,FALSE)&\"\",\"\")","v":""},null,"シタラビン","危 1g/50mL ｼﾀﾗﾋﾞﾝ点滴静注液「NIG」（希釈液:生食orTZ）（先:ｷﾛｻｲﾄﾞN）","4224401A7041","注射","２時間で",2000,"㎡","mg",null,"d1-2(PM)",{"$f":"IFERROR(VLOOKUP(__レジメンマスタ[[#This Row],[YJコード⑤]],[1]!__前投薬リスト[#Data],4,FALSE)&\"\",\"\")","v":""},null,null,null,null,null,null,null,null,null,null,null,{"$f":"IFERROR(VLOOKUP(__レジメンマスタ[[#This Row],[YJコード⑥]],[1]!__前投薬リスト[#Data],4,FALSE)&\"\",\"\")","v":""},null,null,null,null,null,null,null,null,null,null,null,{"$f":"IFERROR(VLOOKUP(__レジメンマスタ[[#This Row],[YJコード⑦]],[1]!__前投薬リスト[#Data],4,FALSE)&\"\",\"\")","v":""}]
["HEM0076-01","VMP（点滴）","　　　　　　Ｗ1          Ｗ2～4　　　　　Ｗ5       \nBor  ↓××××××  ↓××××××  ××××××× \nMel  ↓↓↓↓×××  ×××××××  ××××××× \nPSL  ↓↓↓↓×××  ×××××××  ××××××× \nMel：6～8mg/㎡\nPSL：40～60mg/㎡","35日","∞","骨髄腫","血液内科","ボルテゾミブ","危 ﾎﾞﾙﾃｿﾞﾐﾌﾞ注射用 3mg「NK」（溶解液:生食）（先:ﾍﾞﾙｹｲﾄﾞ）","4291412D1040","注射",null,1.3,"㎡","mg",null,"d1,8,15,22",{"$f":"IFERROR(VLOOKUP(__レジメンマスタ[[#This Row],[YJコード①]],[1]!__前投薬リスト[#Data],4,FALSE)&\"\",\"\")","v":""},null,"アルケラン",null,"4219002F1034","経口",null,8,"㎡","mg",null,"d1-4",{"$f":"IFERROR(VLOOKUP(__レジメンマスタ[[#This Row],[YJコード②]],[1]!__前投薬リスト[#Data],4,FALSE)&\"\",\"\")","v":""},null,"プレドニン",null,"2456001F1310","経口",null,60,"BODY","mg",null,"d1-4",{"$f":"IFERROR(VLOOKUP(__レジメンマスタ[[#This Row],[YJコード③]],[1]!__前投薬リスト[#Data],4,FALSE)&\"\",\"\")","v":""},null,null,null,null,null,null,null,null,null,null,null,{"$f":"IFERROR(VLOOKUP(__レジメンマスタ[[#This Row],[YJコード④]],[1]!__前投薬リスト[#Data],4,FALSE)&\"\",\"\")","v":""},null,null,null,null,null,null,null,null,null,null,null,{"$f":"IFERROR(VLOOKUP(__レジメンマスタ[[#This Row],[YJコード⑤]],[1]!__前投薬リスト[#Data],4,FALSE)&\"\",\"\")","v":""},null,null,null,null,null,null,null,null,null,null,null,{"$f":"IFERROR(VLOOKUP(__レジメンマスタ[[#This Row],[YJコード⑥]],[1]!__前投薬リスト[#Data],4,FALSE)&\"\",\"\")","v":""},null,null,null,null,null,null,null,null,null,null,null,{"$f":"IFERROR(VLOOKUP(__レジメンマスタ[[#This Row],[YJコード⑦]],[1]!__前投薬リスト[#Data],4,FALSE)&\"\",\"\")","v":""}]
["HEM0076-02","VMP（皮下）","　　　　　　Ｗ1          Ｗ2～4　　　　　Ｗ5       \nBor  ↓××××××  ↓××××××  ××××××× \nMel  ↓↓↓↓×××  ×××××××  ××××××× \nPSL  ↓↓↓↓×××  ×××××××  ××××××× \nMel：6～8mg/㎡\nPSL：40～60mg/㎡","35日","∞","骨髄腫","血液内科","ボルテゾミブ","危 ﾎﾞﾙﾃｿﾞﾐﾌﾞ注射用 3mg「NK」（溶解液:生食）（先:ﾍﾞﾙｹｲﾄﾞ）","4291412D1040","皮下","皮下投与",1.3,"㎡","mg",null,"d1,8,15,22",{"$f":"IFERROR(VLOOKUP(__レジメンマスタ[[#This Row],[YJコード①]],[1]!__前投薬リスト[#Data],4,FALSE)&\"\",\"\")","v":""},null,"アルケラン",null,"4219002F1034","経口",null,8,"㎡","mg",null,"d1-4",{"$f":"IFERROR(VLOOKUP(__レジメンマスタ[[#This Row],[YJコード②]],[1]!__前投薬リスト[#Data],4,FALSE)&\"\",\"\")","v":""},null,"プレドニン",null,"2456001F1310","経口",null,60,"BODY","mg",null,"d1-4",{"$f":"IFERROR(VLOOKUP(__レジメンマスタ[[#This Row],[YJコード③]],[1]!__前投薬リスト[#Data],4,FALSE)&\"\",\"\")","v":""},null,null,null,null,null,null,null,null,null,null,null,{"$f":"IFERROR(VLOOKUP(__レジメンマスタ[[#This Row],[YJコード④]],[1]!__前投薬リスト[#Data],4,FALSE)&\"\",\"\")","v":""},null,null,null,null,null,null,null,null,null,null,null,{"$f":"IFERROR(VLOOKUP(__レジメンマスタ[[#This Row],[YJコード⑤]],[1]!__前投薬リスト[#Data],4,FALSE)&\"\",\"\")","v":""},null,null,null,null,null,null,null,null,null,null,null,{"$f":"IFERROR(VLOOKUP(__レジメンマスタ[[#This Row],[YJコード⑥]],[1]!__前投薬リスト[#Data],4,FALSE)&\"\",\"\")","v":""},null,null,null,null,null,null,null,null,null,null,null,{"$f":"IFERROR(VLOOKUP(__レジメンマスタ[[#This Row],[YJコード⑦]],[1]!__前投薬リスト[#Data],4,FALSE)&\"\",\"\")","v":""}]
["HEM0076-03","VMP（twice weekly 点滴）","　　　　　　Ｗ1          Ｗ2      　　Ｗ3             Ｗ4- 　\nBor  ↓××↓××× ↓××↓××× ××××××× ↓××↓×××  \nMel  ↓↓↓↓××× ××××××× ××××××× ×××××××\nPSL  ↓↓↓↓××× ××××××× ××××××× ×××××××\nBor:D1,4,8,11,22,25,29,32\nMel：6～8mg/㎡\nPSL：40～60mg/㎡","42日","∞","骨髄腫","血液内科","ボルテゾミブ","危 ﾎﾞﾙﾃｿﾞﾐﾌﾞ注射用 3mg「NK」（溶解液:生食）（先:ﾍﾞﾙｹｲﾄﾞ）","4291412D1040","注射",null,1.3,"㎡","mg",null,"d1,4,8,11,22,25,29,32",{"$f":"IFERROR(VLOOKUP(__レジメンマスタ[[#This Row],[YJコード①]],[1]!__前投薬リスト[#Data],4,FALSE)&\"\",\"\")","v":""},null,"アルケラン",null,"4219002F1034","経口",null,8,"㎡","mg",null,"d1-4",{"$f":"IFERROR(VLOOKUP(__レジメンマスタ[[#This Row],[YJコード②]],[1]!__前投薬リスト[#Data],4,FALSE)&\"\",\"\")","v":""},null,"プレドニン",null,"2456001F1310","経口",null,60,"BODY","mg",null,"d1-4",{"$f":"IFERROR(VLOOKUP(__レジメンマスタ[[#This Row],[YJコード③]],[1]!__前投薬リスト[#Data],4,FALSE)&\"\",\"\")","v":""},null,null,null,null,null,null,null,null,null,null,null,{"$f":"IFERROR(VLOOKUP(__レジメンマスタ[[#This Row],[YJコード④]],[1]!__前投薬リスト[#Data],4,FALSE)&\"\",\"\")","v":""},null,null,null,null,null,null,null,null,null,null,null,{"$f":"IFERROR(VLOOKUP(__レジメンマスタ[[#This Row],[YJコード⑤]],[1]!__前投薬リスト[#Data],4,FALSE)&\"\",\"\")","v":""},null,null,null,null,null,null,null,null,null,null,null,{"$f":"IFERROR(VLOOKUP(__レジメンマスタ[[#This Row],[YJコード⑥]],[1]!__前投薬リスト[#Data],4,FALSE)&\"\",\"\")","v":""},null,null,null,null,null,null,null,null,null,null,null,{"$f":"IFERROR(VLOOKUP(__レジメンマスタ[[#This Row],[YJコード⑦]],[1]!__前投薬リスト[#Data],4,FALSE)&\"\",\"\")","v":""}]
["HEM0076-04","VMP（twice weekly 皮下）","　　　　　　Ｗ1          Ｗ2      　　Ｗ3             Ｗ4- 　\nBor  ↓××↓××× ↓××↓××× ××××××× ↓××↓×××  \nMel  ↓↓↓↓××× ××××××× ××××××× ×××××××\nPSL  ↓↓↓↓××× ××××××× ××××××× ×××××××\nBor:D1,4,8,11,22,25,29,32\nMel：6～8mg/㎡\nPSL：40～60mg/㎡","42日","∞","骨髄腫","血液内科","ボルテゾミブ","危 ﾎﾞﾙﾃｿﾞﾐﾌﾞ注射用 3mg「NK」（溶解液:生食）（先:ﾍﾞﾙｹｲﾄﾞ）","4291412D1040","皮下","皮下投与",1.3,"㎡","mg",null,"d1,4,8,11,22,25,29,32",{"$f":"IFERROR(VLOOKUP(__レジメンマスタ[[#This Row],[YJコード①]],[1]!__前投薬リスト[#Data],4,FALSE)&\"\",\"\")","v":""},null,"アルケラン",null,"4219002F1034","経口",null,8,"㎡","mg",null,"d1-4",{"$f":"IFERROR(VLOOKUP(__レジメンマスタ[[#This Row],[YJコード②]],[1]!__前投薬リスト[#Data],4,FALSE)&\"\",\"\")","v":""},null,"プレドニン",null,"2456001F1310","経口",null,60,"BODY","mg",null,"d1-4",{"$f":"IFERROR(VLOOKUP(__レジメンマスタ[[#This Row],[YJコード③]],[1]!__前投薬リスト[#Data],4,FALSE)&\"\",\"\")","v":""},null,null,null,null,null,null,null,null,null,null,null,{"$f":"IFERROR(VLOOKUP(__レジメンマスタ[[#This Row],[YJコード④]],[1]!__前投薬リスト[#Data],4,FALSE)&\"\",\"\")","v":""},null,null,null,null,null,null,null,null,null,null,null,{"$f":"IFERROR(VLOOKUP(__レジメンマスタ[[#This Row],[YJコード⑤]],[1]!__前投薬リスト[#Data],4,FALSE)&\"\",\"\")","v":""},null,null,null,null,null,null,null,null,null,null,null,{"$f":"IFERROR(VLOOKUP(__レジメンマスタ[[#This Row],[YJコード⑥]],[1]!__前投薬リスト[#Data],4,FALSE)&\"\",\"\")","v":""},null,null,null,null,null,null,null,null,null,null,null,{"$f":"IFERROR(VLOOKUP(__レジメンマスタ[[#This Row],[YJコード⑦]],[1]!__前投薬リスト[#Data],4,FALSE)&\"\",\"\")","v":""}]
["HEM0078","GDP±R","　　　　　Ｗ1          Ｗ2      　　Ｗ3        \nCDDP ↓×××××× ××××××× ××××××× \nGEM  ↓×××××× ↓×××××× ×××××××\nDEX  ↓↓↓↓××× ××××××× ××××××× \nR　  ↓×××××× ××××××× ×××××××\n※Rは前後することあり(休薬はR同士で1週以上あいていれば可）\nDEXは注射または内服\nGEM：溶解液確認→Tzで行う方針の場合Tzへ変更","21日","4～6コース","リンパ腫","血液内科","シスプラチン","危〈毒〉50mg/100mL ｼｽﾌﾟﾗﾁﾝ点滴静注「ﾏﾙｺ」（先:ﾗﾝﾀﾞ）","4291401A3111","注射",null,75,"㎡","mg",null,"d1",{"$f":"IFERROR(VLOOKUP(__レジメンマスタ[[#This Row],[YJコード①]],[1]!__前投薬リスト[#Data],4,FALSE)&\"\",\"\")","v":""},null,"ゲムシタビン","危 1g ｹﾞﾑｼﾀﾋﾞﾝ点滴静注用「ﾔｸﾙﾄ」（溶解液:生食）（先:ｼﾞｪﾑｻﾞｰﾙ）","4224403D2061","注射","３０ 分で",1000,"㎡","mg",null,"d1,8",{"$f":"IFERROR(VLOOKUP(__レジメンマスタ[[#This Row],[YJコード②]],[1]!__前投薬リスト[#Data],4,FALSE)&\"\",\"\")","v":""},null,"DEX",null,"2454002F3020","注射",null,40,"BODY","mg",null,"d1-4",{"$f":"IFERROR(VLOOKUP(__レジメンマスタ[[#This Row],[YJコード③]],[1]!__前投薬リスト[#Data],4,FALSE)&\"\",\"\")","v":""},null,"リツキシマブ","危 500㎎/50mL ﾘﾂｷｼﾏﾌﾞBS点滴静注「ﾌｧｲｻﾞｰ」（希釈液:生食orTZ）（先:ﾘﾂｷｻﾝ）","4291451A2024","注射","５０ｍＬ／ｈで開始、ｍａｘ２００ｍＬ／ｈ",375,"㎡","mg",null,"d0",{"$f":"IFERROR(VLOOKUP(__レジメンマスタ[[#This Row],[YJコード④]],[1]!__前投薬リスト[#Data],4,FALSE)&\"\",\"\")","v":"抗ヒス,解,(ステ)"},null,null,null,null,null,null,null,null,null,null,null,{"$f":"IFERROR(VLOOKUP(__レジメンマスタ[[#This Row],[YJコード⑤]],[1]!__前投薬リスト[#Data],4,FALSE)&\"\",\"\")","v":""},null,null,null,null,null,null,null,null,null,null,null,{"$f":"IFERROR(VLOOKUP(__レジメンマスタ[[#This Row],[YJコード⑥]],[1]!__前投薬リスト[#Data],4,FALSE)&\"\",\"\")","v":""},null,null,null,null,null,null,null,null,null,null,null,{"$f":"IFERROR(VLOOKUP(__レジメンマスタ[[#This Row],[YJコード⑦]],[1]!__前投薬リスト[#Data],4,FALSE)&\"\",\"\")","v":""}]
["HEM0079","GCD±R","　　　　　Ｗ1          Ｗ2      　　Ｗ3        \nCBDCA ↓×××××× ××××××× ××××××× \nGEM   ↓×××××× ↓×××××× ×××××××\nDEX   ↓↓↓↓××× ××××××× ××××××× \nR　   ↓×××××× ××××××× ×××××××\n※Rは前後することあり(休薬はR同士で1週以上あいていれば可）\nDEXは注射または内服\nGEM：溶解液確認→Tzで行う方針の場合Tzへ変更","21日","4～6コース","リンパ腫","血液内科","リツキシマブ","危 500㎎/50mL ﾘﾂｷｼﾏﾌﾞBS点滴静注「ﾌｧｲｻﾞｰ」（希釈液:生食orTZ）（先:ﾘﾂｷｻﾝ）","4291451A2024","注射","５０ｍＬ／ｈで開始、ｍａｘ２００ｍＬ／ｈ",375,"㎡","mg",null,"d0",{"$f":"IFERROR(VLOOKUP(__レジメンマスタ[[#This Row],[YJコード①]],[1]!__前投薬リスト[#Data],4,FALSE)&\"\",\"\")","v":"抗ヒス,解,(ステ)"},null,"カルボプラチン","危〈毒〉ｶﾙﾎﾞﾌﾟﾗﾁﾝ点滴静注液「NK」150mg/15mL（先:ﾊﾟﾗﾌﾟﾗﾁﾝ）","4291403A2092","注射","１ 時間で",5,"AUC","mg",null,"d1",{"$f":"IFERROR(VLOOKUP(__レジメンマスタ[[#This Row],[YJコード②]],[1]!__前投薬リスト[#Data],4,FALSE)&\"\",\"\")","v":""},null,"ゲムシタビン","危 1g ｹﾞﾑｼﾀﾋﾞﾝ点滴静注用「ﾔｸﾙﾄ」（溶解液:生食）（先:ｼﾞｪﾑｻﾞｰﾙ）","4224403D2061","注射","３０ 分で",1000,"㎡","mg",null,"d1,8",{"$f":"IFERROR(VLOOKUP(__レジメンマスタ[[#This Row],[YJコード③]],[1]!__前投薬リスト[#Data],4,FALSE)&\"\",\"\")","v":""},null,"DEX",null,"2454002F3020","注射",null,40,"BODY","mg",null,"d1-4",{"$f":"IFERROR(VLOOKUP(__レジメンマスタ[[#This Row],[YJコード④]],[1]!__前投薬リスト[#Data],4,FALSE)&\"\",\"\")","v":""},null,null,null,null,null,null,null,null,null,null,null,{"$f":"IFERROR(VLOOKUP(__レジメンマスタ[[#This Row],[YJコード⑤]],[1]!__前投薬リスト[#Data],4,FALSE)&\"\",\"\")","v":""},null,null,null,null,null,null,null,null,null,null,null,{"$f":"IFERROR(VLOOKUP(__レジメンマスタ[[#This Row],[YJコード⑥]],[1]!__前投薬リスト[#Data],4,FALSE)&\"\",\"\")","v":""},null,null,null,null,null,null,null,null,null,null,null,{"$f":"IFERROR(VLOOKUP(__レジメンマスタ[[#This Row],[YJコード⑦]],[1]!__前投薬リスト[#Data],4,FALSE)&\"\",\"\")","v":""}]
["HEM0080-01","SMILE","　　　 D1  D2  D3  D4  ・・ D8・D10・D12・D14・D16・D18・D20\nMTX    ↓ \nIFM    　　↓  ↓  ↓\nETP   　　 ↓  ↓  ↓\nDEX   　　 ↓  ↓  ↓   　　　　　　　　　　　\nMesna　　  ↓  ↓  ↓\nL-ASP　　　　　　　　　     ↓   ↓   ↓   ↓   ↓   ↓   ↓ \n70歳以上は各薬剤を30％減量\nウロミテキサンの投与量の欄は（1回量）を記入","28日",null,"リンパ腫","血液内科","メソトレキセート","危 1000mg/40mL ﾒｿﾄﾚｷｾｰﾄ点滴静注液","4222400A2024","注射","３時間厳守、１０時開始",2000,"㎡","mg",null,"d1",{"$f":"IFERROR(VLOOKUP(__レジメンマスタ[[#This Row],[YJコード①]],[1]!__前投薬リスト[#Data],4,FALSE)&\"\",\"\")","v":""},null,"イホマイド","危 注射用ｲﾎﾏｲﾄﾞ 1g（溶解液:生食orAq）","4211402D1020","注射","２ 時間で",1500,"㎡","mg",null,"d2-4",{"$f":"IFERROR(VLOOKUP(__レジメンマスタ[[#This Row],[YJコード②]],[1]!__前投薬リスト[#Data],4,FALSE)&\"\",\"\")","v":""},null,"ウロミテキサン×３",null,"3929406A2026","注射",null,300,"㎡","mg",null,"×３\nd2-4",{"$f":"IFERROR(VLOOKUP(__レジメンマスタ[[#This Row],[YJコード③]],[1]!__前投薬リスト[#Data],4,FALSE)&\"\",\"\")","v":""},null,"エトポシド","危 ｴﾄﾎﾟｼﾄﾞ点滴静注液「ｻﾝﾄﾞ」100mg/5mL（先:ﾗｽﾃｯﾄ）","4240403A2069","注射","２時間で",100,"㎡","mg",null,"d2-4",{"$f":"IFERROR(VLOOKUP(__レジメンマスタ[[#This Row],[YJコード④]],[1]!__前投薬リスト[#Data],4,FALSE)&\"\",\"\")","v":""},null,"DEX",null,"2454002F3020","注射",null,40,"BODY","mg",null,"d2-4",{"$f":"IFERROR(VLOOKUP(__レジメンマスタ[[#This Row],[YJコード⑤]],[1]!__前投薬リスト[#Data],4,FALSE)&\"\",\"\")","v":""},null,"ロイナーゼ",null,"4291400A1033","注射",null,6000,"㎡","IU",null,"d8,10,12,14,16,18,20",{"$f":"IFERROR(VLOOKUP(__レジメンマスタ[[#This Row],[YJコード⑥]],[1]!__前投薬リスト[#Data],4,FALSE)&\"\",\"\")","v":""},null,null,null,null,null,null,null,null,null,null,null,{"$f":"IFERROR(VLOOKUP(__レジメンマスタ[[#This Row],[YJコード⑦]],[1]!__前投薬リスト[#Data],4,FALSE)&\"\",\"\")","v":""}]
["HEM0081","MINE","　　　 D1  D2  D3  D4 ・・・・・・・・D21 \nMIT    ↓ \nIFM　　↓  ↓  ↓\nETP　  ↓  ↓  ↓　　　　　　　　　　　\nMesna　↓  ↓  ↓\nウロミテキサンの投与量の欄は（1回量）を記入","21日",null,"リンパ腫","血液内科","ノバントロン",null,"4291402A1032","注射",null,8,"㎡","mg",null,"d1",{"$f":"IFERROR(VLOOKUP(__レジメンマスタ[[#This Row],[YJコード①]],[1]!__前投薬リスト[#Data],4,FALSE)&\"\",\"\")","v":""},null,"イホマイド","危 注射用ｲﾎﾏｲﾄﾞ 1g（溶解液:生食orAq）","4211402D1020","注射","２ 時間で",1330,"㎡","mg",null,"d1-3",{"$f":"IFERROR(VLOOKUP(__レジメンマスタ[[#This Row],[YJコード②]],[1]!__前投薬リスト[#Data],4,FALSE)&\"\",\"\")","v":""},null,"ウロミテキサン×３",null,"3929406A2026","注射",null,266,"㎡","mg",null,"×３\nd1-3",{"$f":"IFERROR(VLOOKUP(__レジメンマスタ[[#This Row],[YJコード③]],[1]!__前投薬リスト[#Data],4,FALSE)&\"\",\"\")","v":""},null,"エトポシド","危 ｴﾄﾎﾟｼﾄﾞ点滴静注液「ｻﾝﾄﾞ」100mg/5mL（先:ﾗｽﾃｯﾄ）","4240403A2069","注射","２時間で",65,"㎡","mg",null,"d1-3",{"$f":"IFERROR(VLOOKUP(__レジメンマスタ[[#This Row],[YJコード④]],[1]!__前投薬リスト[#Data],4,FALSE)&\"\",\"\")","v":""},null,null,null,null,null,null,null,null,null,null,null,{"$f":"IFERROR(VLOOKUP(__レジメンマスタ[[#This Row],[YJコード⑤]],[1]!__前投薬リスト[#Data],4,FALSE)&\"\",\"\")","v":""},null,null,null,null,null,null,null,null,null,null,null,{"$f":"IFERROR(VLOOKUP(__レジメンマスタ[[#This Row],[YJコード⑥]],[1]!__前投薬リスト[#Data],4,FALSE)&\"\",\"\")","v":""},null,null,null,null,null,null,null,null,null,null,null,{"$f":"IFERROR(VLOOKUP(__レジメンマスタ[[#This Row],[YJコード⑦]],[1]!__前投薬リスト[#Data],4,FALSE)&\"\",\"\")","v":""}]
["HEM0083","VR-CAP","　　　　　　Ｗ1          Ｗ2      　　Ｗ3 \nR    ↓×××××× ××××××× ××××××× \nBor  ××↓××↓× ××↓××↓× ××××××× \nCPA  ××↓×××× ××××××× ×××××××\nDXR  ××↓×××× ××××××× ××××××× \nPSL  ××↓↓↓↓↓ ××××××× ×××××××\nR:原則CAP療法の2日前（前後することあり、休薬はR同士で1週以上あいていれば可）","21日","8コース","リンパ腫","血液内科","リツキシマブ","危 500㎎/50mL ﾘﾂｷｼﾏﾌﾞBS点滴静注「ﾌｧｲｻﾞｰ」（希釈液:生食orTZ）（先:ﾘﾂｷｻﾝ）","4291451A2024","注射","５０ｍＬ／ｈで開始、ｍａｘ２００ｍＬ／ｈ",375,"㎡","mg",null,"d1",{"$f":"IFERROR(VLOOKUP(__レジメンマスタ[[#This Row],[YJコード①]],[1]!__前投薬リスト[#Data],4,FALSE)&\"\",\"\")","v":"抗ヒス,解,(ステ)"},null,"ベルケイド（先発品）","危 ﾍﾞﾙｹｲﾄﾞ注射用 3mg（溶解液:生食）","4291412D1024","皮下","皮下投与",1.3,"㎡","mg",null,"d3,6,10,13",{"$f":"IFERROR(VLOOKUP(__レジメンマスタ[[#This Row],[YJコード②]],[1]!__前投薬リスト[#Data],4,FALSE)&\"\",\"\")","v":""},null,"エンドキサン","危 注射用ｴﾝﾄﾞｷｻﾝ 500㎎","4211401D2021","注射",null,750,"㎡","mg",null,"d3",{"$f":"IFERROR(VLOOKUP(__レジメンマスタ[[#This Row],[YJコード③]],[1]!__前投薬リスト[#Data],4,FALSE)&\"\",\"\")","v":""},null,"ドキソルビシン","危 10mg ﾄﾞｷｿﾙﾋﾞｼﾝ塩酸塩注射用「NK」（溶解液:生食orAq）（先:ｱﾄﾞﾘｱｼﾝ）","4235402D1048","注射","３０ 分で",50,"㎡","mg",null,"d3",{"$f":"IFERROR(VLOOKUP(__レジメンマスタ[[#This Row],[YJコード④]],[1]!__前投薬リスト[#Data],4,FALSE)&\"\",\"\")","v":""},null,"プレドニン",null,"2456001F1310","経口",null,100,"BODY","mg",null,"d3-7",{"$f":"IFERROR(VLOOKUP(__レジメンマスタ[[#This Row],[YJコード⑤]],[1]!__前投薬リスト[#Data],4,FALSE)&\"\",\"\")","v":""},null,null,null,null,null,null,null,null,null,null,null,{"$f":"IFERROR(VLOOKUP(__レジメンマスタ[[#This Row],[YJコード⑥]],[1]!__前投薬リスト[#Data],4,FALSE)&\"\",\"\")","v":""},null,null,null,null,null,null,null,null,null,null,null,{"$f":"IFERROR(VLOOKUP(__レジメンマスタ[[#This Row],[YJコード⑦]],[1]!__前投薬リスト[#Data],4,FALSE)&\"\",\"\")","v":""}]
["HEM0085-1","MILD(60歳未満)","　　　 D1  D2  D3  D4  D5・D7・D9・・・・・D21\nIFM    ↓  ↓  ↓\nMesna　↓  ↓  ↓\nDEX  　↓  ↓  ↓\nMTX　　       　　 ↓ \nL-ASP　　　　　　      ↓  ↓  ↓ \nウロミテキサンの投与量の欄は（1回量）を記入","14-21日",null,"リンパ腫","血液内科","イホマイド","危 注射用ｲﾎﾏｲﾄﾞ 1g（溶解液:生食orAq）","4211402D1020","注射","２ 時間で",1000,"㎡","mg",null,"d1-3",{"$f":"IFERROR(VLOOKUP(__レジメンマスタ[[#This Row],[YJコード①]],[1]!__前投薬リスト[#Data],4,FALSE)&\"\",\"\")","v":""},null,"ウロミテキサン×３",null,"3929406A2026","注射",null,200,"㎡","mg",null,"×３\nd1-3",{"$f":"IFERROR(VLOOKUP(__レジメンマスタ[[#This Row],[YJコード②]],[1]!__前投薬リスト[#Data],4,FALSE)&\"\",\"\")","v":""},null,"メソトレキセート","危 1000mg/40mL ﾒｿﾄﾚｷｾｰﾄ点滴静注液","4222400A2024","注射","３時間厳守、１０時開始",2000,"㎡","mg",null,"d4 ",{"$f":"IFERROR(VLOOKUP(__レジメンマスタ[[#This Row],[YJコード③]],[1]!__前投薬リスト[#Data],4,FALSE)&\"\",\"\")","v":""},null,"ロイナーゼ",null,"4291400A1033","注射",null,6000,"㎡","IU",null,"d5,7,9",{"$f":"IFERROR(VLOOKUP(__レジメンマスタ[[#This Row],[YJコード④]],[1]!__前投薬リスト[#Data],4,FALSE)&\"\",\"\")","v":""},null,"DEX",null,"2454002F3020","注射",null,20,"BODY","mg",null,"d1-3",{"$f":"IFERROR(VLOOKUP(__レジメンマスタ[[#This Row],[YJコード⑤]],[1]!__前投薬リスト[#Data],4,FALSE)&\"\",\"\")","v":""},null,null,null,null,null,null,null,null,null,null,null,{"$f":"IFERROR(VLOOKUP(__レジメンマスタ[[#This Row],[YJコード⑥]],[1]!__前投薬リスト[#Data],4,FALSE)&\"\",\"\")","v":""},null,null,null,null,null,null,null,null,null,null,null,{"$f":"IFERROR(VLOOKUP(__レジメンマスタ[[#This Row],[YJコード⑦]],[1]!__前投薬リスト[#Data],4,FALSE)&\"\",\"\")","v":""}]
["HEM0085-2","MILD(60歳以上)","　　　 D1  D2  D3  D4  D5・D7・D9・・・・・D21\nIFM    ↓  ↓  ↓\nMesna　↓  ↓  ↓\nDEX  　↓  ↓  ↓\nMTX　　       　　 ↓ \nL-ASP　　　　　　      ↓  ↓  ↓ \nウロミテキサンの投与量の欄は（1回量）を記入","14-21日",null,"リンパ腫","血液内科","イホマイド","危 注射用ｲﾎﾏｲﾄﾞ 1g（溶解液:生食orAq）","4211402D1020","注射","２ 時間で",800,"㎡","mg",null,"d1-3",{"$f":"IFERROR(VLOOKUP(__レジメンマスタ[[#This Row],[YJコード①]],[1]!__前投薬リスト[#Data],4,FALSE)&\"\",\"\")","v":""},null,"ウロミテキサン×３",null,"3929406A2026","注射",null,160,"㎡","mg",null,"×３\nd1-3",{"$f":"IFERROR(VLOOKUP(__レジメンマスタ[[#This Row],[YJコード②]],[1]!__前投薬リスト[#Data],4,FALSE)&\"\",\"\")","v":""},null,"メソトレキセート","危 1000mg/40mL ﾒｿﾄﾚｷｾｰﾄ点滴静注液","4222400A2024","注射","３時間厳守、１０時開始",1500,"㎡","mg",null,"d4 ",{"$f":"IFERROR(VLOOKUP(__レジメンマスタ[[#This Row],[YJコード③]],[1]!__前投薬リスト[#Data],4,FALSE)&\"\",\"\")","v":""},null,"ロイナーゼ",null,"4291400A1033","注射",null,6000,"㎡","IU",null,"d5,7,9",{"$f":"IFERROR(VLOOKUP(__レジメンマスタ[[#This Row],[YJコード④]],[1]!__前投薬リスト[#Data],4,FALSE)&\"\",\"\")","v":""},null,"DEX",null,"2454002F3020","注射",null,20,"BODY","mg",null,"d1-3",{"$f":"IFERROR(VLOOKUP(__レジメンマスタ[[#This Row],[YJコード⑤]],[1]!__前投薬リスト[#Data],4,FALSE)&\"\",\"\")","v":""},null,null,null,null,null,null,null,null,null,null,null,{"$f":"IFERROR(VLOOKUP(__レジメンマスタ[[#This Row],[YJコード⑥]],[1]!__前投薬リスト[#Data],4,FALSE)&\"\",\"\")","v":""},null,null,null,null,null,null,null,null,null,null,null,{"$f":"IFERROR(VLOOKUP(__レジメンマスタ[[#This Row],[YJコード⑦]],[1]!__前投薬リスト[#Data],4,FALSE)&\"\",\"\")","v":""}]
["HEM0086","ポテリジオ","  　　　  　　　　W1  　　\nポテリジオ   ↓××××××   \n1週間に1回、8回まで","7日","8回","リンパ腫","血液内科","ポテリジオ",null,"4291422A1021","注射","２ 時間で",1,"kg","mg",null,"d1",{"$f":"IFERROR(VLOOKUP(__レジメンマスタ[[#This Row],[YJコード①]],[1]!__前投薬リスト[#Data],4,FALSE)&\"\",\"\")","v":"抗ヒス,解,ステ"},null,null,null,null,null,null,null,null,null,null,null,{"$f":"IFERROR(VLOOKUP(__レジメンマスタ[[#This Row],[YJコード②]],[1]!__前投薬リスト[#Data],4,FALSE)&\"\",\"\")","v":""},null,null,null,null,null,null,null,null,null,null,null,{"$f":"IFERROR(VLOOKUP(__レジメンマスタ[[#This Row],[YJコード③]],[1]!__前投薬リスト[#Data],4,FALSE)&\"\",\"\")","v":""},null,null,null,null,null,null,null,null,null,null,null,{"$f":"IFERROR(VLOOKUP(__レジメンマスタ[[#This Row],[YJコード④]],[1]!__前投薬リスト[#Data],4,FALSE)&\"\",\"\")","v":""},null,null,null,null,null,null,null,null,null,null,null,{"$f":"IFERROR(VLOOKUP(__レジメンマスタ[[#This Row],[YJコード⑤]],[1]!__前投薬リスト[#Data],4,FALSE)&\"\",\"\")","v":""},null,null,null,null,null,null,null,null,null,null,null,{"$f":"IFERROR(VLOOKUP(__レジメンマスタ[[#This Row],[YJコード⑥]],[1]!__前投薬リスト[#Data],4,FALSE)&\"\",\"\")","v":""},null,null,null,null,null,null,null,null,null,null,null,{"$f":"IFERROR(VLOOKUP(__レジメンマスタ[[#This Row],[YJコード⑦]],[1]!__前投薬リスト[#Data],4,FALSE)&\"\",\"\")","v":""}]
["HEM0087-01","JALSG　ALL202-U寛解導入(W1-5)","　　　　　　Ｗ1            Ｗ2           Ｗ3            Ｗ4      Ｗ5 \nPSL    ↓↓↓↓↓↓↓ ××××××× ↓↓↓↓↓↓↓ ↓↓↓↓↓↓↓ 漸減 \nDEX    ××××××× ↓↓↓↓↓↓↓ ××××××× ××××××× ×\n髄注   ☆×××××× ★×××××× ××××××× ★×××××× ×\nVCR    ××××××× ↓×××××× ↓×××××× ↓×××××× ↓\nTHP-ADR××××××× ↓↓××××× ××××××× ××××××× ×\nCPA　  ××××××× ××↓×××× ××××××× ××××××× ×\nL-ASP  ××××××× ××××××× ↓×↓×↓×↓ ×↓×↓×↓× ↓\n☆MTX12mg/body,★MTX12mg＋AraC30mg＋ﾋﾄﾞﾛｺﾙﾁｿﾞﾝ25mg\n初診時中枢神経病変を認める例には★をd11,15にも追加する\n※オンコビンmax2mg※","35日",null,"白血病（ALL)","血液内科","プレドニン",null,"2456405D2023","経口",null,60,"㎡","mg",null,"d1-7",{"$f":"IFERROR(VLOOKUP(__レジメンマスタ[[#This Row],[YJコード①]],[1]!__前投薬リスト[#Data],4,FALSE)&\"\",\"\")","v":""},null,"DEX",null,"2454002F3020","注射",null,10,"㎡","mg",null,"d8-14",{"$f":"IFERROR(VLOOKUP(__レジメンマスタ[[#This Row],[YJコード②]],[1]!__前投薬リスト[#Data],4,FALSE)&\"\",\"\")","v":""},null,"オンコビン","危 ｵﾝｺﾋﾞﾝ注射用 1㎎","4240400D1030","注射",null,1.5,"㎡","mg",null,"d8,15,22,29",{"$f":"IFERROR(VLOOKUP(__レジメンマスタ[[#This Row],[YJコード③]],[1]!__前投薬リスト[#Data],4,FALSE)&\"\",\"\")","v":""},null,"ピノルビン",null,"4235403D3029","注射",null,25,"㎡","mg",null,"d8,9",{"$f":"IFERROR(VLOOKUP(__レジメンマスタ[[#This Row],[YJコード④]],[1]!__前投薬リスト[#Data],4,FALSE)&\"\",\"\")","v":""},null,"エンドキサン","危 注射用ｴﾝﾄﾞｷｻﾝ 500㎎","4211401D2021","注射",null,1200,"㎡","mg",null,"d10",{"$f":"IFERROR(VLOOKUP(__レジメンマスタ[[#This Row],[YJコード⑤]],[1]!__前投薬リスト[#Data],4,FALSE)&\"\",\"\")","v":""},null,"ロイナーゼ",null,"4291400A1033","注射",null,6000,"㎡","IU",null,"d15,17,19,21,23,25,27,29",{"$f":"IFERROR(VLOOKUP(__レジメンマスタ[[#This Row],[YJコード⑥]],[1]!__前投薬リスト[#Data],4,FALSE)&\"\",\"\")","v":""},null,"プレドニン",null,"2456405D2023","経口",null,40,"㎡","mg",null,"d15-28",{"$f":"IFERROR(VLOOKUP(__レジメンマスタ[[#This Row],[YJコード⑦]],[1]!__前投薬リスト[#Data],4,FALSE)&\"\",\"\")","v":""}]
["HEM0087-02","JALSG　ALL202-U(W6-9)","　　　　　　Ｗ6            Ｗ7           Ｗ8            Ｗ9       \n髄注   ★×××××× ★×××××× ××××××× ×××××××\nCPA　  ↓×××××× ↓×××××× ××××××× ×××××××\nTHP-ADR↓↓××××× ××××××× ××××××× ×××××××\nAraC   ↓↓↓↓↓↓× ↓↓↓↓↓↓× ××××××× ×××××××\n6MP    ↓↓↓↓↓↓↓ ↓↓↓↓↓↓↓ ××××××× ×××××××\n★MTX12mg＋AraC30mg＋ﾋﾄﾞﾛｺﾙﾁｿﾞﾝ25mg","28日",null,"白血病（ALL)","血液内科","エンドキサン","危 注射用ｴﾝﾄﾞｷｻﾝ 500㎎","4211401D2021","注射",null,750,"㎡","mg",null,"d1,8",{"$f":"IFERROR(VLOOKUP(__レジメンマスタ[[#This Row],[YJコード①]],[1]!__前投薬リスト[#Data],4,FALSE)&\"\",\"\")","v":""},null,"ピノルビン",null,"4235403D3029","注射",null,25,"㎡","mg",null,"d1,2",{"$f":"IFERROR(VLOOKUP(__レジメンマスタ[[#This Row],[YJコード②]],[1]!__前投薬リスト[#Data],4,FALSE)&\"\",\"\")","v":""},null,"キロサイド",null,"4224401A5030","注射",null,75,"㎡","mg",null,"d1-6(W6)\nd8-13(W7)",{"$f":"IFERROR(VLOOKUP(__レジメンマスタ[[#This Row],[YJコード③]],[1]!__前投薬リスト[#Data],4,FALSE)&\"\",\"\")","v":""},null,"ロイケリン散",null,"4221001B1052","経口",null,50,"㎡","mg",null,"d1-14",{"$f":"IFERROR(VLOOKUP(__レジメンマスタ[[#This Row],[YJコード④]],[1]!__前投薬リスト[#Data],4,FALSE)&\"\",\"\")","v":""},null,null,null,null,null,null,null,null,null,null,null,{"$f":"IFERROR(VLOOKUP(__レジメンマスタ[[#This Row],[YJコード⑤]],[1]!__前投薬リスト[#Data],4,FALSE)&\"\",\"\")","v":""},null,null,null,null,null,null,null,null,null,null,null,{"$f":"IFERROR(VLOOKUP(__レジメンマスタ[[#This Row],[YJコード⑥]],[1]!__前投薬リスト[#Data],4,FALSE)&\"\",\"\")","v":""},null,null,null,null,null,null,null,null,null,null,null,{"$f":"IFERROR(VLOOKUP(__レジメンマスタ[[#This Row],[YJコード⑦]],[1]!__前投薬リスト[#Data],4,FALSE)&\"\",\"\")","v":""}]
["HEM0087-03","JALSG　ALL202-U(W10-11)","　　　　　　Ｗ10            Ｗ11            \n髄注   ×★××××× ×★××××× \nMTX　  ↓×××××× ↓×××××× \n★MTX12mg＋AraC30mg＋ﾋﾄﾞﾛｺﾙﾁｿﾞﾝ25mg\n\n※大量MTXは、CRTN1.5～2.0mg/dLで75%doseへ減量、CRTN2.0mg/dL以上で中止\nd1後にGrade3以上の腎障害が起きた場合は、d8のMTXを25～50%doseへ減量\nd1後に高度な粘膜傷害が起きた場合は、d8のMTXを50%doseへ減量","14日",null,"白血病（ALL)","血液内科","メソトレキセート","危 1000mg/40mL ﾒｿﾄﾚｷｾｰﾄ点滴静注液","4222400A2024","注射","24時間持続",3000,"㎡","mg",null,"d1,8",{"$f":"IFERROR(VLOOKUP(__レジメンマスタ[[#This Row],[YJコード①]],[1]!__前投薬リスト[#Data],4,FALSE)&\"\",\"\")","v":""},null,null,null,null,null,null,null,null,null,null,null,{"$f":"IFERROR(VLOOKUP(__レジメンマスタ[[#This Row],[YJコード②]],[1]!__前投薬リスト[#Data],4,FALSE)&\"\",\"\")","v":""},null,null,null,null,null,null,null,null,null,null,null,{"$f":"IFERROR(VLOOKUP(__レジメンマスタ[[#This Row],[YJコード③]],[1]!__前投薬リスト[#Data],4,FALSE)&\"\",\"\")","v":""},null,null,null,null,null,null,null,null,null,null,null,{"$f":"IFERROR(VLOOKUP(__レジメンマスタ[[#This Row],[YJコード④]],[1]!__前投薬リスト[#Data],4,FALSE)&\"\",\"\")","v":""},null,null,null,null,null,null,null,null,null,null,null,{"$f":"IFERROR(VLOOKUP(__レジメンマスタ[[#This Row],[YJコード⑤]],[1]!__前投薬リスト[#Data],4,FALSE)&\"\",\"\")","v":""},null,null,null,null,null,null,null,null,null,null,null,{"$f":"IFERROR(VLOOKUP(__レジメンマスタ[[#This Row],[YJコード⑥]],[1]!__前投薬リスト[#Data],4,FALSE)&\"\",\"\")","v":""},null,null,null,null,null,null,null,null,null,null,null,{"$f":"IFERROR(VLOOKUP(__レジメンマスタ[[#This Row],[YJコード⑦]],[1]!__前投薬リスト[#Data],4,FALSE)&\"\",\"\")","v":""}]
["HEM0087-04","JALSG　ALL202-U(W12-15)","　　　　　　Ｗ12           Ｗ13           Ｗ14          Ｗ15\n髄注   ★×××××× ×××～　　★MTX12mg＋AraC30mg＋ﾋﾄﾞﾛｺﾙﾁｿﾞﾝ25mg\nVCR    ↓×××××× ↓×××××× ↓×××××× ×××××××\nTHP-ADR↓×××××× ↓×××××× ××××××× ××××××× \nCPA　  ↓×××××× ↓×××××× ××××××× ××××××× \nL-ASP  ×↓×↓×↓× ×↓×↓×↓× ××××××× ××××××× \nPSL    ↓↓↓↓↓↓↓ ↓↓↓↓↓↓↓ Tapered\n（※プロトコール上、d1のVCRとL-ASPは同日投与だが、12-24時間空ける必要があるためL-ASPはd2からになっている）\n※オンコビンmax2mg\n","28日",null,"白血病（ALL)","血液内科","オンコビン","危 ｵﾝｺﾋﾞﾝ注射用 1㎎","4240400D1030","注射",null,1.5,"㎡","mg",null,"d1,8,15",{"$f":"IFERROR(VLOOKUP(__レジメンマスタ[[#This Row],[YJコード①]],[1]!__前投薬リスト[#Data],4,FALSE)&\"\",\"\")","v":""},null,"ピノルビン",null,"4235403D3029","注射",null,25,"㎡","mg",null,"d1,8",{"$f":"IFERROR(VLOOKUP(__レジメンマスタ[[#This Row],[YJコード②]],[1]!__前投薬リスト[#Data],4,FALSE)&\"\",\"\")","v":""},null,"エンドキサン","危 注射用ｴﾝﾄﾞｷｻﾝ 500㎎","4211401D2021","注射",null,500,"㎡","mg",null,"d1,8",{"$f":"IFERROR(VLOOKUP(__レジメンマスタ[[#This Row],[YJコード③]],[1]!__前投薬リスト[#Data],4,FALSE)&\"\",\"\")","v":""},null,"ロイナーゼ",null,"4291400A1033","注射",null,6000,"㎡","IU",null,"d2,4,6,8,10,12",{"$f":"IFERROR(VLOOKUP(__レジメンマスタ[[#This Row],[YJコード④]],[1]!__前投薬リスト[#Data],4,FALSE)&\"\",\"\")","v":""},null,"プレドニン",null,"2456001F1310","経口",null,40,"㎡","mg",null,"d1-14その後斬減",{"$f":"IFERROR(VLOOKUP(__レジメンマスタ[[#This Row],[YJコード⑤]],[1]!__前投薬リスト[#Data],4,FALSE)&\"\",\"\")","v":""},null,null,null,null,null,null,null,null,null,null,null,{"$f":"IFERROR(VLOOKUP(__レジメンマスタ[[#This Row],[YJコード⑥]],[1]!__前投薬リスト[#Data],4,FALSE)&\"\",\"\")","v":""},null,null,null,null,null,null,null,null,null,null,null,{"$f":"IFERROR(VLOOKUP(__レジメンマスタ[[#This Row],[YJコード⑦]],[1]!__前投薬リスト[#Data],4,FALSE)&\"\",\"\")","v":""}]
["HEM0087-05","JALSG　ALL202-U(W16-19)","　　　　　　Ｗ16            Ｗ17          Ｗ18          Ｗ19       \n髄注   ★×××××× ★×××××× ××××××× ×××××××\nCPA　  ↓×××××× ↓×××××× ××××××× ×××××××\nTHP-ADR↓↓××××× ××××××× ××××××× ×××××××\nAraC   ↓↓↓↓↓↓× ↓↓↓↓↓↓× ××××××× ×××××××\n6MP    ↓↓↓↓↓↓↓ ↓↓↓↓↓↓↓ ××××××× ×××××××\n★MTX12mg＋AraC30mg＋ﾋﾄﾞﾛｺﾙﾁｿﾞﾝ25mg","28日",null,"白血病（ALL)","血液内科","エンドキサン","危 注射用ｴﾝﾄﾞｷｻﾝ 500㎎","4211401D2021","注射",null,750,"㎡","mg",null,"d1,8",{"$f":"IFERROR(VLOOKUP(__レジメンマスタ[[#This Row],[YJコード①]],[1]!__前投薬リスト[#Data],4,FALSE)&\"\",\"\")","v":""},null,"ピノルビン",null,"4235403D3029","注射",null,25,"㎡","mg",null,"d1,2",{"$f":"IFERROR(VLOOKUP(__レジメンマスタ[[#This Row],[YJコード②]],[1]!__前投薬リスト[#Data],4,FALSE)&\"\",\"\")","v":""},null,"キロサイド",null,"4224401A5030","注射",null,75,"㎡","mg",null,"d1-6(W6)\nd8-13(W7)",{"$f":"IFERROR(VLOOKUP(__レジメンマスタ[[#This Row],[YJコード③]],[1]!__前投薬リスト[#Data],4,FALSE)&\"\",\"\")","v":""},null,"ロイケリン散",null,"4221001B1052","経口",null,50,"㎡","mg",null,"d1-14",{"$f":"IFERROR(VLOOKUP(__レジメンマスタ[[#This Row],[YJコード④]],[1]!__前投薬リスト[#Data],4,FALSE)&\"\",\"\")","v":""},null,null,null,null,null,null,null,null,null,null,null,{"$f":"IFERROR(VLOOKUP(__レジメンマスタ[[#This Row],[YJコード⑤]],[1]!__前投薬リスト[#Data],4,FALSE)&\"\",\"\")","v":""},null,null,null,null,null,null,null,null,null,null,null,{"$f":"IFERROR(VLOOKUP(__レジメンマスタ[[#This Row],[YJコード⑥]],[1]!__前投薬リスト[#Data],4,FALSE)&\"\",\"\")","v":""},null,null,null,null,null,null,null,null,null,null,null,{"$f":"IFERROR(VLOOKUP(__レジメンマスタ[[#This Row],[YJコード⑦]],[1]!__前投薬リスト[#Data],4,FALSE)&\"\",\"\")","v":""}]
["HEM0087-06","JALSG　ALL202-U(W20-25)","　　　　　Ｗ20          Ｗ21         　Ｗ22          Ｗ23      Ｗ24  \n髄注 ××××××× ××××××× ××××××× ××××××× ★ \nMTX　↓×××××× ××××××× ↓×××××× ××××××× ↓\n6MP  ↓↓↓↓↓↓↓ ↓↓↓↓↓↓↓ ↓↓↓↓↓↓↓ ↓↓↓↓↓↓↓ ×\n★MTX12mg＋AraC30mg＋ﾋﾄﾞﾛｺﾙﾁｿﾞﾝ25mg（１～３サイクル目は実施、４サイクル目は行わない）\n\n（W20-25)→維持①→維持②→維持③を４サイクル（計１６コース）行う。\n！初診時中枢神経病変陽性例の最初の（W20-25)は別レジメンを使用する（２サイクル目以降は、こちらの内容から髄注を中止して使用する）！","42日","3～4サイクル","白血病（ALL)","血液内科","メソトレキセート","危 1000mg/40mL ﾒｿﾄﾚｷｾｰﾄ点滴静注液","4222400A2024","注射",null,150,"㎡","mg",null,"d1,15,29",{"$f":"IFERROR(VLOOKUP(__レジメンマスタ[[#This Row],[YJコード①]],[1]!__前投薬リスト[#Data],4,FALSE)&\"\",\"\")","v":""},null,"ロイケリン散",null,"4221001B1052","経口",null,50,"㎡","mg",null,"d1-28",{"$f":"IFERROR(VLOOKUP(__レジメンマスタ[[#This Row],[YJコード②]],[1]!__前投薬リスト[#Data],4,FALSE)&\"\",\"\")","v":""},null,null,null,null,null,null,null,null,null,null,null,{"$f":"IFERROR(VLOOKUP(__レジメンマスタ[[#This Row],[YJコード③]],[1]!__前投薬リスト[#Data],4,FALSE)&\"\",\"\")","v":""},null,null,null,null,null,null,null,null,null,null,null,{"$f":"IFERROR(VLOOKUP(__レジメンマスタ[[#This Row],[YJコード④]],[1]!__前投薬リスト[#Data],4,FALSE)&\"\",\"\")","v":""},null,null,null,null,null,null,null,null,null,null,null,{"$f":"IFERROR(VLOOKUP(__レジメンマスタ[[#This Row],[YJコード⑤]],[1]!__前投薬リスト[#Data],4,FALSE)&\"\",\"\")","v":""},null,null,null,null,null,null,null,null,null,null,null,{"$f":"IFERROR(VLOOKUP(__レジメンマスタ[[#This Row],[YJコード⑥]],[1]!__前投薬リスト[#Data],4,FALSE)&\"\",\"\")","v":""},null,null,null,null,null,null,null,null,null,null,null,{"$f":"IFERROR(VLOOKUP(__レジメンマスタ[[#This Row],[YJコード⑦]],[1]!__前投薬リスト[#Data],4,FALSE)&\"\",\"\")","v":""}]
["HEM0087-07","JALSG　ALL202-U(W20-25)初診時：中枢神経病変あり","　　　　　Ｗ20          Ｗ21         　Ｗ22          Ｗ23      Ｗ24  \n髄注 ★×××××× ★×××××× ××××××× ××××××× × \nMTX　××××××× ××××××× ××××××× ××××××× ↓\n6MP  ↓↓↓↓↓↓↓ ↓↓↓↓↓↓↓ ↓↓↓↓↓↓↓ ↓↓↓↓↓↓↓ ×\n★MTX12mg＋AraC30mg＋ﾋﾄﾞﾛｺﾙﾁｿﾞﾝ25mg\nd1-12に放射線併用\n\n（W20-25)→維持①→維持②→維持③を４サイクル（計１６コース）行う。\n！初診時中枢神経病変陽性例の最初の（W20-25)はこちらのレジメンを使用する（２サイクル目以降は別レジメン）！","42日","１サイクル","白血病（ALL)","血液内科","メソトレキセート","危 1000mg/40mL ﾒｿﾄﾚｷｾｰﾄ点滴静注液","4222400A2024","注射",null,150,"㎡","mg",null,"d29",{"$f":"IFERROR(VLOOKUP(__レジメンマスタ[[#This Row],[YJコード①]],[1]!__前投薬リスト[#Data],4,FALSE)&\"\",\"\")","v":""},null,"ロイケリン散",null,"4221001B1052","経口",null,50,"㎡","mg",null,"d1-28",{"$f":"IFERROR(VLOOKUP(__レジメンマスタ[[#This Row],[YJコード②]],[1]!__前投薬リスト[#Data],4,FALSE)&\"\",\"\")","v":""},null,null,null,null,null,null,null,null,null,null,null,{"$f":"IFERROR(VLOOKUP(__レジメンマスタ[[#This Row],[YJコード③]],[1]!__前投薬リスト[#Data],4,FALSE)&\"\",\"\")","v":""},null,null,null,null,null,null,null,null,null,null,null,{"$f":"IFERROR(VLOOKUP(__レジメンマスタ[[#This Row],[YJコード④]],[1]!__前投薬リスト[#Data],4,FALSE)&\"\",\"\")","v":""},null,null,null,null,null,null,null,null,null,null,null,{"$f":"IFERROR(VLOOKUP(__レジメンマスタ[[#This Row],[YJコード⑤]],[1]!__前投薬リスト[#Data],4,FALSE)&\"\",\"\")","v":""},null,null,null,null,null,null,null,null,null,null,null,{"$f":"IFERROR(VLOOKUP(__レジメンマスタ[[#This Row],[YJコード⑥]],[1]!__前投薬リスト[#Data],4,FALSE)&\"\",\"\")","v":""},null,null,null,null,null,null,null,null,null,null,null,{"$f":"IFERROR(VLOOKUP(__レジメンマスタ[[#This Row],[YJコード⑦]],[1]!__前投薬リスト[#Data],4,FALSE)&\"\",\"\")","v":""}]
["HEM0087-08","JALSG　ALL202-U維持療法①","　　　　　　Ｗ26          Ｗ27           Ｗ28          Ｗ29\nVCR    ↓×××××× ↓×××××× ↓×××××× ×××××××\nCPA　  ××××××× ↓×××××× ××××××× ××××××× \nL-ASP  ↓×××××× ↓×××××× ↓×××××× ××××××× \nPSL    ↓↓↓↓↓↓↓ ↓↓↓↓↓↓↓ Tapered\n※VCRとL-ASPは12時間空ける\n※オンコビンmax2mg※\nL-ASPは筋肉注射\n\n（W20-25)→維持①→維持②→維持③を４サイクル（計１６コース）行う。","35日","4サイクル","白血病（ALL)","血液内科","オンコビン","危 ｵﾝｺﾋﾞﾝ注射用 1㎎","4240400D1030","注射",null,1.5,"㎡","mg",null,"d1,8,15",{"$f":"IFERROR(VLOOKUP(__レジメンマスタ[[#This Row],[YJコード①]],[1]!__前投薬リスト[#Data],4,FALSE)&\"\",\"\")","v":""},null,"エンドキサン","危 注射用ｴﾝﾄﾞｷｻﾝ 500㎎","4211401D2021","注射",null,600,"㎡","mg",null,"d8",{"$f":"IFERROR(VLOOKUP(__レジメンマスタ[[#This Row],[YJコード②]],[1]!__前投薬リスト[#Data],4,FALSE)&\"\",\"\")","v":""},null,"ロイナーゼ",null,"4291400A1033","他",null,10000,"㎡","IU",null,"d1,8,15",{"$f":"IFERROR(VLOOKUP(__レジメンマスタ[[#This Row],[YJコード③]],[1]!__前投薬リスト[#Data],4,FALSE)&\"\",\"\")","v":""},null,"プレドニン",null,"2456001F1310","経口",null,40,"㎡","mg",null,"d1-14その後斬減",{"$f":"IFERROR(VLOOKUP(__レジメンマスタ[[#This Row],[YJコード④]],[1]!__前投薬リスト[#Data],4,FALSE)&\"\",\"\")","v":""},null,null,null,null,null,null,null,null,null,null,null,{"$f":"IFERROR(VLOOKUP(__レジメンマスタ[[#This Row],[YJコード⑤]],[1]!__前投薬リスト[#Data],4,FALSE)&\"\",\"\")","v":""},null,null,null,null,null,null,null,null,null,null,null,{"$f":"IFERROR(VLOOKUP(__レジメンマスタ[[#This Row],[YJコード⑥]],[1]!__前投薬リスト[#Data],4,FALSE)&\"\",\"\")","v":""},null,null,null,null,null,null,null,null,null,null,null,{"$f":"IFERROR(VLOOKUP(__レジメンマスタ[[#This Row],[YJコード⑦]],[1]!__前投薬リスト[#Data],4,FALSE)&\"\",\"\")","v":""}]
["HEM0087-09","JALSG　ALL202-U維持療法②","　　　　　Ｗ30          Ｗ31         　Ｗ32          Ｗ33      Ｗ34  \n髄注 ××××××× ××××××× ××××××× ××××××× ★ \nMTX　↓×××××× ××××××× ↓×××××× ××××××× ↓\n6MP  ↓↓↓↓↓↓↓ ↓↓↓↓↓↓↓ ↓↓↓↓↓↓↓ ↓↓↓↓↓↓↓ ×\n★MTX12mg＋AraC30mg＋ﾋﾄﾞﾛｺﾙﾁｿﾞﾝ25mg\n（W20-25)→維持①→維持②→維持③を４サイクル（計１６コース）行う。\n\n【髄注】\n初診時中枢神経病変陽性例：髄注は行わない\n陰性例：１～２サイクル目は実施、３～４サイクル目は行わない\n","42日","4サイクル","白血病（ALL)","血液内科","メソトレキセート","危 1000mg/40mL ﾒｿﾄﾚｷｾｰﾄ点滴静注液","4222400A2024","注射",null,150,"㎡","mg",null,"d1,15,29",{"$f":"IFERROR(VLOOKUP(__レジメンマスタ[[#This Row],[YJコード①]],[1]!__前投薬リスト[#Data],4,FALSE)&\"\",\"\")","v":""},null,"ロイケリン散",null,"4221001B1052","経口",null,50,"㎡","mg",null,"d1-28",{"$f":"IFERROR(VLOOKUP(__レジメンマスタ[[#This Row],[YJコード②]],[1]!__前投薬リスト[#Data],4,FALSE)&\"\",\"\")","v":""},null,null,null,null,null,null,null,null,null,null,null,{"$f":"IFERROR(VLOOKUP(__レジメンマスタ[[#This Row],[YJコード③]],[1]!__前投薬リスト[#Data],4,FALSE)&\"\",\"\")","v":""},null,null,null,null,null,null,null,null,null,null,null,{"$f":"IFERROR(VLOOKUP(__レジメンマスタ[[#This Row],[YJコード④]],[1]!__前投薬リスト[#Data],4,FALSE)&\"\",\"\")","v":""},null,null,null,null,null,null,null,null,null,null,null,{"$f":"IFERROR(VLOOKUP(__レジメンマスタ[[#This Row],[YJコード⑤]],[1]!__前投薬リスト[#Data],4,FALSE)&\"\",\"\")","v":""},null,null,null,null,null,null,null,null,null,null,null,{"$f":"IFERROR(VLOOKUP(__レジメンマスタ[[#This Row],[YJコード⑥]],[1]!__前投薬リスト[#Data],4,FALSE)&\"\",\"\")","v":""},null,null,null,null,null,null,null,null,null,null,null,{"$f":"IFERROR(VLOOKUP(__レジメンマスタ[[#This Row],[YJコード⑦]],[1]!__前投薬リスト[#Data],4,FALSE)&\"\",\"\")","v":""}]
["HEM0087-10","JALSG　ALL202-U維持療法③","　　　　　　Ｗ36          Ｗ37           Ｗ38          Ｗ39\nVCR    ↓×××××× ↓×××××× ↓×××××× ×××××××\nTHP-ADR××××××× ↓×××××× ××××××× ××××××× \nL-ASP  ↓×××××× ↓×××××× ↓×××××× ××××××× \nPSL    ↓↓↓↓↓↓↓ ↓↓↓↓↓↓↓ Tapered\n※VCRとL-ASPは12時間空ける\n※オンコビンmax2mg※\nL-ASPは筋肉注射\n\n（W20-25)→維持①→維持②→維持③を４サイクル（計１６コース）行う。","35日","4サイクル","白血病（ALL)","血液内科","オンコビン","危 ｵﾝｺﾋﾞﾝ注射用 1㎎","4240400D1030","注射",null,1.5,"㎡","mg",null,"d1,8,15",{"$f":"IFERROR(VLOOKUP(__レジメンマスタ[[#This Row],[YJコード①]],[1]!__前投薬リスト[#Data],4,FALSE)&\"\",\"\")","v":""},null,"ピノルビン",null,"4235403D3029","注射",null,25,"㎡","mg",null,"d8",{"$f":"IFERROR(VLOOKUP(__レジメンマスタ[[#This Row],[YJコード②]],[1]!__前投薬リスト[#Data],4,FALSE)&\"\",\"\")","v":""},null,"ロイナーゼ",null,"4291400A1033","他",null,10000,"㎡","IU",null,"d1,8,15",{"$f":"IFERROR(VLOOKUP(__レジメンマスタ[[#This Row],[YJコード③]],[1]!__前投薬リスト[#Data],4,FALSE)&\"\",\"\")","v":""},null,"プレドニン",null,"2456001F1310","経口",null,40,"㎡","mg",null,"d1-14その後斬減",{"$f":"IFERROR(VLOOKUP(__レジメンマスタ[[#This Row],[YJコード④]],[1]!__前投薬リスト[#Data],4,FALSE)&\"\",\"\")","v":""},null,null,null,null,null,null,null,null,null,null,null,{"$f":"IFERROR(VLOOKUP(__レジメンマスタ[[#This Row],[YJコード⑤]],[1]!__前投薬リスト[#Data],4,FALSE)&\"\",\"\")","v":""},null,null,null,null,null,null,null,null,null,null,null,{"$f":"IFERROR(VLOOKUP(__レジメンマスタ[[#This Row],[YJコード⑥]],[1]!__前投薬リスト[#Data],4,FALSE)&\"\",\"\")","v":""},null,null,null,null,null,null,null,null,null,null,null,{"$f":"IFERROR(VLOOKUP(__レジメンマスタ[[#This Row],[YJコード⑦]],[1]!__前投薬リスト[#Data],4,FALSE)&\"\",\"\")","v":""}]
["HEM0089","アドセトリス","　　　　　　Ｗ1          Ｗ2      　　Ｗ3 \nBV  ↓×××××× ××××××× ××××××× \n\nアドセトリス：適正希釈量\n50mg未満：50mL、50～150mg:100mL、150mg以上：250mL\n（★デフォルトは100mLなので、50mg未満・150mg以上は変更する★）","21日",null,"リンパ腫","血液内科","アドセトリス",null,"4291425D1021","注射",null,1.8,"kg","mg",null,"d1",{"$f":"IFERROR(VLOOKUP(__レジメンマスタ[[#This Row],[YJコード①]],[1]!__前投薬リスト[#Data],4,FALSE)&\"\",\"\")","v":""},null,null,null,null,null,null,null,null,null,null,null,{"$f":"IFERROR(VLOOKUP(__レジメンマスタ[[#This Row],[YJコード②]],[1]!__前投薬リスト[#Data],4,FALSE)&\"\",\"\")","v":""},null,null,null,null,null,null,null,null,null,null,null,{"$f":"IFERROR(VLOOKUP(__レジメンマスタ[[#This Row],[YJコード③]],[1]!__前投薬リスト[#Data],4,FALSE)&\"\",\"\")","v":""},null,null,null,null,null,null,null,null,null,null,null,{"$f":"IFERROR(VLOOKUP(__レジメンマスタ[[#This Row],[YJコード④]],[1]!__前投薬リスト[#Data],4,FALSE)&\"\",\"\")","v":""},null,null,null,null,null,null,null,null,null,null,null,{"$f":"IFERROR(VLOOKUP(__レジメンマスタ[[#This Row],[YJコード⑤]],[1]!__前投薬リスト[#Data],4,FALSE)&\"\",\"\")","v":""},null,null,null,null,null,null,null,null,null,null,null,{"$f":"IFERROR(VLOOKUP(__レジメンマスタ[[#This Row],[YJコード⑥]],[1]!__前投薬リスト[#Data],4,FALSE)&\"\",\"\")","v":""},null,null,null,null,null,null,null,null,null,null,null,{"$f":"IFERROR(VLOOKUP(__レジメンマスタ[[#This Row],[YJコード⑦]],[1]!__前投薬リスト[#Data],4,FALSE)&\"\",\"\")","v":""}]
["HEM0090-1","JALSG　ALL202-O寛解導入(25歳以上60才未満)","　　　　　　Ｗ1          Ｗ2           Ｗ3          Ｗ4\nCPA　↓×××××× ××××××× ××××××× ×××××××\nDNR　↓↓↓×××× ××××××× ××××××× ×××××××\nVCR  ↓×××××× ↓×××××× ↓×××××× ↓××××××\nL-ASP××××××× ×↓×↓×↓× ×↓×↓×↓× ××××××× \nPSL  ↓↓↓↓↓↓↓ ↓↓↓↓↓↓↓ ↓↓↓↓↓↓↓ Tapered in 1W\n※オンコビンmax2mg※",null,null,"白血病（ALL)","血液内科","エンドキサン","危 注射用ｴﾝﾄﾞｷｻﾝ 500㎎","4211401D2021","注射",null,1200,"㎡","mg",null,"d1",{"$f":"IFERROR(VLOOKUP(__レジメンマスタ[[#This Row],[YJコード①]],[1]!__前投薬リスト[#Data],4,FALSE)&\"\",\"\")","v":""},null,"ダウノマイシン",null,"4235401D1035","注射","１時間で",60,"㎡","mg",null,"d1-3",{"$f":"IFERROR(VLOOKUP(__レジメンマスタ[[#This Row],[YJコード②]],[1]!__前投薬リスト[#Data],4,FALSE)&\"\",\"\")","v":""},null,"オンコビン","危 ｵﾝｺﾋﾞﾝ注射用 1㎎","4240400D1030","注射",null,1.3,"㎡","mg",null,"d1,8,15,22",{"$f":"IFERROR(VLOOKUP(__レジメンマスタ[[#This Row],[YJコード③]],[1]!__前投薬リスト[#Data],4,FALSE)&\"\",\"\")","v":""},null,"ロイナーゼ",null,"4291400A1033","注射",null,3000,"㎡","IU",null,"d9,11,13,16,18,20",{"$f":"IFERROR(VLOOKUP(__レジメンマスタ[[#This Row],[YJコード④]],[1]!__前投薬リスト[#Data],4,FALSE)&\"\",\"\")","v":""},null,"プレドニン",null,"2456001F1310","経口",null,60,"㎡","mg",null,"d1-14その後\n1Wで斬減",{"$f":"IFERROR(VLOOKUP(__レジメンマスタ[[#This Row],[YJコード⑤]],[1]!__前投薬リスト[#Data],4,FALSE)&\"\",\"\")","v":""},null,null,null,null,null,null,null,null,null,null,null,{"$f":"IFERROR(VLOOKUP(__レジメンマスタ[[#This Row],[YJコード⑥]],[1]!__前投薬リスト[#Data],4,FALSE)&\"\",\"\")","v":""},null,null,null,null,null,null,null,null,null,null,null,{"$f":"IFERROR(VLOOKUP(__レジメンマスタ[[#This Row],[YJコード⑦]],[1]!__前投薬リスト[#Data],4,FALSE)&\"\",\"\")","v":""}]
["HEM0090-2","JALSG　ALL202-O地固めC1：HdAC","      D1   D2   D3\nAraC ↓↓ ↓↓ ↓↓\nDEX　 ↓   ↓   ↓\nETP　 ↓   ↓   ↓\n髄注  ★ \n★MTX15mg＋DEX4mg\n\n好中球1500/μL、白血球3000/μL、血小板10万/μL以上になったら開始\nC1→C2→C3→C1→C2の順に行う",null,"2サイクル","白血病（ALL)","血液内科","シタラビン","危 1g/50mL ｼﾀﾗﾋﾞﾝ点滴静注液「NIG」（希釈液:生食orTZ）（先:ｷﾛｻｲﾄﾞN）","4224401A7041","注射","３時間厳守、１２時間毎に投与",2000,"㎡","mg",null,"d1-3(AM)",{"$f":"IFERROR(VLOOKUP(__レジメンマスタ[[#This Row],[YJコード①]],[1]!__前投薬リスト[#Data],4,FALSE)&\"\",\"\")","v":""},null,"シタラビン","危 1g/50mL ｼﾀﾗﾋﾞﾝ点滴静注液「NIG」（希釈液:生食orTZ）（先:ｷﾛｻｲﾄﾞN）","4224401A7041","注射","３時間厳守、１２時間毎に投与",2000,"㎡","mg",null,"d1-3(PM)",{"$f":"IFERROR(VLOOKUP(__レジメンマスタ[[#This Row],[YJコード②]],[1]!__前投薬リスト[#Data],4,FALSE)&\"\",\"\")","v":""},null,"エトポシド","危 ｴﾄﾎﾟｼﾄﾞ点滴静注液「ｻﾝﾄﾞ」100mg/5mL（先:ﾗｽﾃｯﾄ）","4240403A2069","注射","１時間で",100,"㎡","mg",null,"d1-3",{"$f":"IFERROR(VLOOKUP(__レジメンマスタ[[#This Row],[YJコード③]],[1]!__前投薬リスト[#Data],4,FALSE)&\"\",\"\")","v":""},null,null,null,null,null,null,null,null,null,null,null,{"$f":"IFERROR(VLOOKUP(__レジメンマスタ[[#This Row],[YJコード④]],[1]!__前投薬リスト[#Data],4,FALSE)&\"\",\"\")","v":""},null,"DEX",null,"2454002F3020","注射",null,40,"BODY","mg",null,"d1-3",{"$f":"IFERROR(VLOOKUP(__レジメンマスタ[[#This Row],[YJコード⑤]],[1]!__前投薬リスト[#Data],4,FALSE)&\"\",\"\")","v":""},null,null,null,null,null,null,null,null,null,null,null,{"$f":"IFERROR(VLOOKUP(__レジメンマスタ[[#This Row],[YJコード⑥]],[1]!__前投薬リスト[#Data],4,FALSE)&\"\",\"\")","v":""},null,null,null,null,null,null,null,null,null,null,null,{"$f":"IFERROR(VLOOKUP(__レジメンマスタ[[#This Row],[YJコード⑦]],[1]!__前投薬リスト[#Data],4,FALSE)&\"\",\"\")","v":""}]
["HEM0090-3","JALSG　ALL202-O地固め C2：MTX","　　　　　Ｗ1          Ｗ2         　Ｗ3  \nVCR　↓×××××× ××××××× ↓××××××　※オンコビンmax2mg※             \nMTX　↓×××××× ××××××× ↓×××××× \n6MP  ↓↓↓↓↓↓↓ ↓↓↓↓↓↓↓ ↓↓↓↓↓↓↓\n髄注★（d1,15にMTX15mg＋DEX4mg）\n好中球1000/μL、白血球3000/μL、血小板8万/μL以上になったら開始\nC1→C2→C3→C1→C2の順に行う\n※以下、大量MTX（※50歳以上は1500mg/㎡へ減量）について\n　CRTN1.5～2.0mg/dLで75%doseへ減量、CRTN2.0mg/dL以上で中止\n　Grade3以上の腎障害が起きた場合は25～50%doseへ減量\n　高度な粘膜傷害が起きた場合は50%doseへ減量\n",null,"2サイクル","白血病（ALL)","血液内科","オンコビン","危 ｵﾝｺﾋﾞﾝ注射用 1㎎","4240400D1030","注射",null,1.3,"㎡","mg",null,"d1,15",{"$f":"IFERROR(VLOOKUP(__レジメンマスタ[[#This Row],[YJコード①]],[1]!__前投薬リスト[#Data],4,FALSE)&\"\",\"\")","v":""},null,"メソトレキセート","危 1000mg/40mL ﾒｿﾄﾚｷｾｰﾄ点滴静注液","4222400A2024","注射","24時間持続",3000,"㎡","mg",null,"d1,15",{"$f":"IFERROR(VLOOKUP(__レジメンマスタ[[#This Row],[YJコード②]],[1]!__前投薬リスト[#Data],4,FALSE)&\"\",\"\")","v":""},null,"ロイケリン散（眠前）",null,"4221001B1052","経口",null,25,"㎡","mg",null,"d1-21",{"$f":"IFERROR(VLOOKUP(__レジメンマスタ[[#This Row],[YJコード③]],[1]!__前投薬リスト[#Data],4,FALSE)&\"\",\"\")","v":""},null,null,null,null,null,null,null,null,null,null,null,{"$f":"IFERROR(VLOOKUP(__レジメンマスタ[[#This Row],[YJコード④]],[1]!__前投薬リスト[#Data],4,FALSE)&\"\",\"\")","v":""},null,null,null,null,null,null,null,null,null,null,null,{"$f":"IFERROR(VLOOKUP(__レジメンマスタ[[#This Row],[YJコード⑤]],[1]!__前投薬リスト[#Data],4,FALSE)&\"\",\"\")","v":""},null,null,null,null,null,null,null,null,null,null,null,{"$f":"IFERROR(VLOOKUP(__レジメンマスタ[[#This Row],[YJコード⑥]],[1]!__前投薬リスト[#Data],4,FALSE)&\"\",\"\")","v":""},null,null,null,null,null,null,null,null,null,null,null,{"$f":"IFERROR(VLOOKUP(__レジメンマスタ[[#This Row],[YJコード⑦]],[1]!__前投薬リスト[#Data],4,FALSE)&\"\",\"\")","v":""}]
["HEM0090-4","JALSG　ALL202-O地固め C3","　　D1   D8   D15  D22  D29   D33    D36    D40  D42\nVCR ↓   ↓   ↓            \nDXR ↓   ↓   ↓\nDEX ←---→　 ←---→(ﾚｼﾞﾒﾝ上はD1,8,15は注射にしている) \nCPA                     ↓ \nAraC                    ↓↓↓↓↓××↓↓↓↓↓××\n6MP                     ←------------------------→\n髄注★                  ★  (D1と29にMTX15mg＋AraC40mg＋DEX4mg)\n\n好中球1000/μL、白血球3000/μL、血小板8万/μL以上になったら開始\nC1→C2→C3→C1→C2の順に行う　※オンコビンmax2mg※\n\n（変更前）\n　　      Ｗ1    (Ｗ2)     Ｗ3    (Ｗ4)     Ｗ5         　Ｗ6\nVCR ↓×××××× × ↓×××××× × ××××××× ×××××××             \nDXR ↓×××××× × ↓×××××× × ××××××× ×××××××\nDEX ×↓↓↓↓↓↓ × ×↓↓↓↓↓↓ × ××××××× ××××××× \nCPA ××××××× × ××××××× × ↓×××××× ××××××× \nAraC××××××× × ××××××× × ↓↓↓↓↓×× ↓↓↓↓↓××\n6MP ××××××× × ××××××× × ↓↓↓↓↓↓↓ ↓↓↓↓↓↓↓\n髄注★d1、d29: MTX15mg＋AraC40mg＋DEX4mg　　※オンコビンmax2mg※\n好中球1000/μL、白血球3000/μL、血小板8万/μL以上になったら開始\nC1→C2→C3→C1→C2の順に行う","42日","1サイクル","白血病（ALL)","血液内科","オンコビン","危 ｵﾝｺﾋﾞﾝ注射用 1㎎","4240400D1030","注射",null,1.3,"㎡","mg",null,"d1,8,15",{"$f":"IFERROR(VLOOKUP(__レジメンマスタ[[#This Row],[YJコード①]],[1]!__前投薬リスト[#Data],4,FALSE)&\"\",\"\")","v":""},null,"ドキソルビシン","危 10mg ﾄﾞｷｿﾙﾋﾞｼﾝ塩酸塩注射用「NK」（溶解液:生食orAq）（先:ｱﾄﾞﾘｱｼﾝ）","4235402D1048","注射","１時間で",30,"㎡","mg",null,"d1,8,15",{"$f":"IFERROR(VLOOKUP(__レジメンマスタ[[#This Row],[YJコード②]],[1]!__前投薬リスト[#Data],4,FALSE)&\"\",\"\")","v":""},null,"DEX",null,"2454002F3020","経口",null,10,"㎡","mg",null,"d1-8,15-22",{"$f":"IFERROR(VLOOKUP(__レジメンマスタ[[#This Row],[YJコード③]],[1]!__前投薬リスト[#Data],4,FALSE)&\"\",\"\")","v":""},null,"エンドキサン","危 注射用ｴﾝﾄﾞｷｻﾝ 500㎎","4211401D2021","注射",null,1000,"㎡","mg",null,"d29",{"$f":"IFERROR(VLOOKUP(__レジメンマスタ[[#This Row],[YJコード④]],[1]!__前投薬リスト[#Data],4,FALSE)&\"\",\"\")","v":""},null,"ロイケリン散（眠前）",null,"4221001B1052","経口",null,60,"㎡","mg",null,"d29-42",{"$f":"IFERROR(VLOOKUP(__レジメンマスタ[[#This Row],[YJコード⑤]],[1]!__前投薬リスト[#Data],4,FALSE)&\"\",\"\")","v":""},null,"キロサイド",null,"4224401A5030","注射","１時間で",75,"㎡","mg",null,"d29-33,36-40",{"$f":"IFERROR(VLOOKUP(__レジメンマスタ[[#This Row],[YJコード⑥]],[1]!__前投薬リスト[#Data],4,FALSE)&\"\",\"\")","v":""},null,null,null,null,null,null,null,null,null,null,null,{"$f":"IFERROR(VLOOKUP(__レジメンマスタ[[#This Row],[YJコード⑦]],[1]!__前投薬リスト[#Data],4,FALSE)&\"\",\"\")","v":""}]
["HEM0090-5","JALSG　ALL202-O維持療法","　　      Ｗ1           Ｗ2           Ｗ3           Ｗ4     \nVCR ↓×××××× ××××××× ××××××× ×××××××             \nPSL ↓↓↓↓↓×× ××××××× ××××××× ××××××× \nMTX ↓×××××× ↓×××××× ↓×××××× ↓××××××  \n6MP ↓↓↓↓↓↓↓ ↓↓↓↓↓↓↓ ↓↓↓↓↓↓↓ ↓↓↓↓↓↓↓\n※オンコビンmax2mg※\n白血球3000/μL、血小板8万/μL以上になったら開始\n\n投与期間：寛解導入療法開始日より2年間まで\n→制限年月日を患者特記事項に記載","28日",null,"白血病（ALL)","血液内科","オンコビン","危 ｵﾝｺﾋﾞﾝ注射用 1㎎","4240400D1030","注射",null,1.3,"㎡","mg",null,"d1",{"$f":"IFERROR(VLOOKUP(__レジメンマスタ[[#This Row],[YJコード①]],[1]!__前投薬リスト[#Data],4,FALSE)&\"\",\"\")","v":""},null,"プレドニン",null,"2456001F1310","経口",null,60,"㎡","mg",null,"d1-5",{"$f":"IFERROR(VLOOKUP(__レジメンマスタ[[#This Row],[YJコード②]],[1]!__前投薬リスト[#Data],4,FALSE)&\"\",\"\")","v":""},null,"メソトレキセート",null,"4222001F1027","経口",null,20,"㎡","mg",null,"d1,8,15,22",{"$f":"IFERROR(VLOOKUP(__レジメンマスタ[[#This Row],[YJコード③]],[1]!__前投薬リスト[#Data],4,FALSE)&\"\",\"\")","v":""},null,"ロイケリン散",null,"4221001B1052","経口",null,60,"㎡","mg",null,"d1-28",{"$f":"IFERROR(VLOOKUP(__レジメンマスタ[[#This Row],[YJコード④]],[1]!__前投薬リスト[#Data],4,FALSE)&\"\",\"\")","v":""},null,null,null,null,null,null,null,null,null,null,null,{"$f":"IFERROR(VLOOKUP(__レジメンマスタ[[#This Row],[YJコード⑤]],[1]!__前投薬リスト[#Data],4,FALSE)&\"\",\"\")","v":""},null,null,null,null,null,null,null,null,null,null,null,{"$f":"IFERROR(VLOOKUP(__レジメンマスタ[[#This Row],[YJコード⑥]],[1]!__前投薬リスト[#Data],4,FALSE)&\"\",\"\")","v":""},null,null,null,null,null,null,null,null,null,null,null,{"$f":"IFERROR(VLOOKUP(__レジメンマスタ[[#This Row],[YJコード⑦]],[1]!__前投薬リスト[#Data],4,FALSE)&\"\",\"\")","v":""}]
["HEM0092","Kd（週2回）","　　　　　　Ｗ1            Ｗ2           Ｗ3           Ｗ4    \nCarf  ↓↓×××××  ↓↓××××× ↓↓×××××  ××××××× \nDEX   ↓↓×××××  ↓↓××××× ↓↓×××××  ↓↓××××× \nDEX：40mg/週。75歳以上または過小体重（BMI：18.5kg/㎡未満）20mg/週に適宜減量","28日","∞","骨髄腫","血液内科","カイプロリス(1C,d1-2のみ)","危〈毒〉40mg ｶｲﾌﾟﾛﾘｽ点滴静注用（溶解液:Aq、希釈液:TZ）","4291433D2022","注射","３０ 分で",20,"㎡","mg",null,"d1,2(1C目)",{"$f":"IFERROR(VLOOKUP(__レジメンマスタ[[#This Row],[YJコード①]],[1]!__前投薬リスト[#Data],4,FALSE)&\"\",\"\")","v":"(ステ)"},null,"カイプロリス(上記以降)","危〈毒〉40mg ｶｲﾌﾟﾛﾘｽ点滴静注用（溶解液:Aq、希釈液:TZ）","4291433D2022","注射","３０ 分で",56,"㎡","mg",null,"d1,2,8,9,15,16",{"$f":"IFERROR(VLOOKUP(__レジメンマスタ[[#This Row],[YJコード②]],[1]!__前投薬リスト[#Data],4,FALSE)&\"\",\"\")","v":"(ステ)"},null,"DEX",null,"2454002F3020","経口",null,20,"BODY","mg",null,"d1,2,8,9,15,16,22,23",{"$f":"IFERROR(VLOOKUP(__レジメンマスタ[[#This Row],[YJコード③]],[1]!__前投薬リスト[#Data],4,FALSE)&\"\",\"\")","v":""},null,null,null,null,null,null,null,null,null,null,null,{"$f":"IFERROR(VLOOKUP(__レジメンマスタ[[#This Row],[YJコード④]],[1]!__前投薬リスト[#Data],4,FALSE)&\"\",\"\")","v":""},null,null,null,null,null,null,null,null,null,null,null,{"$f":"IFERROR(VLOOKUP(__レジメンマスタ[[#This Row],[YJコード⑤]],[1]!__前投薬リスト[#Data],4,FALSE)&\"\",\"\")","v":""},null,null,null,null,null,null,null,null,null,null,null,{"$f":"IFERROR(VLOOKUP(__レジメンマスタ[[#This Row],[YJコード⑥]],[1]!__前投薬リスト[#Data],4,FALSE)&\"\",\"\")","v":""},null,null,null,null,null,null,null,null,null,null,null,{"$f":"IFERROR(VLOOKUP(__レジメンマスタ[[#This Row],[YJコード⑦]],[1]!__前投薬リスト[#Data],4,FALSE)&\"\",\"\")","v":""}]
["HEM0093","KRd","　　　　　　Ｗ1            Ｗ2           Ｗ3           Ｗ4    \nCarf  ↓↓×××××  (↓↓)××××× ↓↓×××××  ××××××× \nDEX   ↓××××××   ↓××××××  ↓××××××  ↓×××××× \nLEN　 ↓↓↓↓↓↓↓   ↓↓↓↓↓↓↓  ↓↓↓↓↓↓↓  ××××××× \nDEX：40mg/週。75歳以上または過小体重（BMI：18.5kg/㎡未満）20mg/週に適宜減量\n※13クール以降のカイプロリスd8,9はお休み","28日","12コース→∞","骨髄腫","血液内科","カイプロリス(1C,d1-2のみ)","危〈毒〉40mg ｶｲﾌﾟﾛﾘｽ点滴静注用（溶解液:Aq、希釈液:TZ）","4291433D2022","注射","３０ 分で",20,"㎡","mg",null,"d1,2(1C目)",{"$f":"IFERROR(VLOOKUP(__レジメンマスタ[[#This Row],[YJコード①]],[1]!__前投薬リスト[#Data],4,FALSE)&\"\",\"\")","v":"(ステ)"},null,"カイプロリス(上記以降)","危〈毒〉40mg ｶｲﾌﾟﾛﾘｽ点滴静注用（溶解液:Aq、希釈液:TZ）","4291433D2022","注射","３０ 分で",27,"㎡","mg",null,"d1,2,(8,9,)15,16",{"$f":"IFERROR(VLOOKUP(__レジメンマスタ[[#This Row],[YJコード②]],[1]!__前投薬リスト[#Data],4,FALSE)&\"\",\"\")","v":"(ステ)"},null,"レナリドミド",null,"4291024M1024","経口",null,25,"BODY","mg",null,"d1-21",{"$f":"IFERROR(VLOOKUP(__レジメンマスタ[[#This Row],[YJコード③]],[1]!__前投薬リスト[#Data],4,FALSE)&\"\",\"\")","v":""},null,"DEX",null,"2454002F3020","経口",null,40,"BODY","mg",null,"d1,8,15,22",{"$f":"IFERROR(VLOOKUP(__レジメンマスタ[[#This Row],[YJコード④]],[1]!__前投薬リスト[#Data],4,FALSE)&\"\",\"\")","v":""},null,null,null,null,null,null,null,null,null,null,null,{"$f":"IFERROR(VLOOKUP(__レジメンマスタ[[#This Row],[YJコード⑤]],[1]!__前投薬リスト[#Data],4,FALSE)&\"\",\"\")","v":""},null,null,null,null,null,null,null,null,null,null,null,{"$f":"IFERROR(VLOOKUP(__レジメンマスタ[[#This Row],[YJコード⑥]],[1]!__前投薬リスト[#Data],4,FALSE)&\"\",\"\")","v":""},null,null,null,null,null,null,null,null,null,null,null,{"$f":"IFERROR(VLOOKUP(__レジメンマスタ[[#This Row],[YJコード⑦]],[1]!__前投薬リスト[#Data],4,FALSE)&\"\",\"\")","v":""}]
["HEM0094","ジフォルタ","　　　　　　　　Ｗ1           Ｗ2          Ｗ3～6　　　　Ｗ7       \nｼﾞﾌｫﾙﾀ　↓×××××× ↓×××××× ↓×××××× ××××××× \n週1回を6回投与、1週休薬\nｼｱﾉｺﾊﾞﾗﾐﾝ：ｼﾞﾌｫﾙﾀ投与開始10日以上前から投与、8～10週間毎（ｼﾞﾌｫﾙﾀ投与中は投与継続）\nﾊﾟﾝﾋﾞﾀﾝ：ｼﾞﾌｫﾙﾀ投与開始10日以上前からﾊﾟﾝﾋﾞﾀﾝ2g1×を連日内服（ｼﾞﾌｫﾙﾀ最終より30日は継続）","49日","∞","リンパ腫","血液内科","ジフォルタ",null,"4229404A1027","注射",null,30,"㎡","mg",null,"d1,8,15,22,29,36",{"$f":"IFERROR(VLOOKUP(__レジメンマスタ[[#This Row],[YJコード①]],[1]!__前投薬リスト[#Data],4,FALSE)&\"\",\"\")","v":""},null,null,null,null,null,null,null,null,null,null,null,{"$f":"IFERROR(VLOOKUP(__レジメンマスタ[[#This Row],[YJコード②]],[1]!__前投薬リスト[#Data],4,FALSE)&\"\",\"\")","v":""},null,null,null,null,null,null,null,null,null,null,null,{"$f":"IFERROR(VLOOKUP(__レジメンマスタ[[#This Row],[YJコード③]],[1]!__前投薬リスト[#Data],4,FALSE)&\"\",\"\")","v":""},null,null,null,null,null,null,null,null,null,null,null,{"$f":"IFERROR(VLOOKUP(__レジメンマスタ[[#This Row],[YJコード④]],[1]!__前投薬リスト[#Data],4,FALSE)&\"\",\"\")","v":""},null,null,null,null,null,null,null,null,null,null,null,{"$f":"IFERROR(VLOOKUP(__レジメンマスタ[[#This Row],[YJコード⑤]],[1]!__前投薬リスト[#Data],4,FALSE)&\"\",\"\")","v":""},null,null,null,null,null,null,null,null,null,null,null,{"$f":"IFERROR(VLOOKUP(__レジメンマスタ[[#This Row],[YJコード⑥]],[1]!__前投薬リスト[#Data],4,FALSE)&\"\",\"\")","v":""},null,null,null,null,null,null,null,null,null,null,null,{"$f":"IFERROR(VLOOKUP(__レジメンマスタ[[#This Row],[YJコード⑦]],[1]!__前投薬リスト[#Data],4,FALSE)&\"\",\"\")","v":""}]
["HEM0095","R-BAC500","　　　　  Ｗ1            Ｗ2           Ｗ3～4   \nR　   ↓××××××  ××××××× ××××××× \nBenda ×↓↓××××  ××××××× ××××××× \nAraC  ×↓↓↓×××  ××××××× ×××××××\n※Rは前後することあり(休薬はR同士で1週以上あいていれば可） ","28日","6コース","リンパ腫","血液内科","リツキシマブ","危 500㎎/50mL ﾘﾂｷｼﾏﾌﾞBS点滴静注「ﾌｧｲｻﾞｰ」（希釈液:生食orTZ）（先:ﾘﾂｷｻﾝ）","4291451A2024","注射","５０ｍＬ／ｈで開始、ｍａｘ２００ｍＬ／ｈ",375,"㎡","mg",null,"d1",{"$f":"IFERROR(VLOOKUP(__レジメンマスタ[[#This Row],[YJコード①]],[1]!__前投薬リスト[#Data],4,FALSE)&\"\",\"\")","v":"抗ヒス,解,(ステ)"},null,"ベンダムスチン","危 100mg/4mL ﾍﾞﾝﾀﾞﾑｽﾁﾝ塩酸塩点滴静注液「ﾄｰﾜ」（希釈液:生食）（先:ﾄﾚｱｷｼﾝ）","4219405A1033","注射","１ 時間で",70,"㎡","mg",null,"d2,3",{"$f":"IFERROR(VLOOKUP(__レジメンマスタ[[#This Row],[YJコード②]],[1]!__前投薬リスト[#Data],4,FALSE)&\"\",\"\")","v":""},null,"シタラビン","危 1g/50mL ｼﾀﾗﾋﾞﾝ点滴静注液「NIG」（希釈液:生食orTZ）（先:ｷﾛｻｲﾄﾞN）","4224401A7041","注射","２時間で",500,"㎡","mg",null,"d2-4",{"$f":"IFERROR(VLOOKUP(__レジメンマスタ[[#This Row],[YJコード③]],[1]!__前投薬リスト[#Data],4,FALSE)&\"\",\"\")","v":""},null,null,null,null,null,null,null,null,null,null,null,{"$f":"IFERROR(VLOOKUP(__レジメンマスタ[[#This Row],[YJコード④]],[1]!__前投薬リスト[#Data],4,FALSE)&\"\",\"\")","v":""},null,null,null,null,null,null,null,null,null,null,null,{"$f":"IFERROR(VLOOKUP(__レジメンマスタ[[#This Row],[YJコード⑤]],[1]!__前投薬リスト[#Data],4,FALSE)&\"\",\"\")","v":""},null,null,null,null,null,null,null,null,null,null,null,{"$f":"IFERROR(VLOOKUP(__レジメンマスタ[[#This Row],[YJコード⑥]],[1]!__前投薬リスト[#Data],4,FALSE)&\"\",\"\")","v":""},null,null,null,null,null,null,null,null,null,null,null,{"$f":"IFERROR(VLOOKUP(__レジメンマスタ[[#This Row],[YJコード⑦]],[1]!__前投薬リスト[#Data],4,FALSE)&\"\",\"\")","v":""}]
["HEM0096","DBd(点滴)","ダラザレックスは使わないはず（皮下のダラキューロを使うはず）\n\n  　　　　　 W1  　　 　　W2　　　　   W3  \nDmab ↓×××××× ↓×××××× ↓××××××  \nBor  ↓××↓××× ↓××↓××× ×××××××  ※24週まで\nDEX  ↓↓×↓↓×× ↓↓×↓↓×× ↓×××××× \nDEX：40mg/週（75歳以上または過小体重（BMI：18.5kg/㎡未満）20mg/週に適宜減量）。病勢によりさらに減量可。\n医師の判断で投与状況が変更することがある                \nDmab：1～9週(1-3C)　毎週投与、10～24週(4-8C)3週毎、\n25週目以降(9C-)Dmabのみ　4週毎:DEXもd1のみ20mg            ","21→28日","∞","骨髄腫","血液内科",null,null,null,"注射",null,null,null,null,null,null,{"$f":"IFERROR(VLOOKUP(__レジメンマスタ[[#This Row],[YJコード①]],[1]!__前投薬リスト[#Data],4,FALSE)&\"\",\"\")","v":""},null,null,null,null,null,null,null,null,null,null,null,{"$f":"IFERROR(VLOOKUP(__レジメンマスタ[[#This Row],[YJコード②]],[1]!__前投薬リスト[#Data],4,FALSE)&\"\",\"\")","v":""},null,null,null,null,null,null,null,null,null,null,null,{"$f":"IFERROR(VLOOKUP(__レジメンマスタ[[#This Row],[YJコード③]],[1]!__前投薬リスト[#Data],4,FALSE)&\"\",\"\")","v":""},null,null,null,null,null,null,null,null,null,null,null,{"$f":"IFERROR(VLOOKUP(__レジメンマスタ[[#This Row],[YJコード④]],[1]!__前投薬リスト[#Data],4,FALSE)&\"\",\"\")","v":""},null,null,null,null,null,null,null,null,null,null,null,{"$f":"IFERROR(VLOOKUP(__レジメンマスタ[[#This Row],[YJコード⑤]],[1]!__前投薬リスト[#Data],4,FALSE)&\"\",\"\")","v":""},null,null,null,null,null,null,null,null,null,null,null,{"$f":"IFERROR(VLOOKUP(__レジメンマスタ[[#This Row],[YJコード⑥]],[1]!__前投薬リスト[#Data],4,FALSE)&\"\",\"\")","v":""},null,null,null,null,null,null,null,null,null,null,null,{"$f":"IFERROR(VLOOKUP(__レジメンマスタ[[#This Row],[YJコード⑦]],[1]!__前投薬リスト[#Data],4,FALSE)&\"\",\"\")","v":""}]
["HEM0096-2","DBd(皮下)","  　　　　　 W1  　　 　　W2　　　　   W3  \nDmab ↓×××××× ↓×××××× ↓××××××  \nBor  ↓××↓××× ↓××↓××× ×××××××  ※24週(8C)まで\nDEX  ↓↓×↓↓×× ↓↓×↓↓×× ↓×××××× \nDEX：40－80mg/週。75歳以上または過小体重（BMI：18.5kg/㎡未満）40-20mg/週に適宜減量\n医師の判断で投与状況が変更することがある                \nDmab：1～9週(1-3C)毎週投与、10～24週(4-8C)3週毎、\n25週目以降(9C-)Dmabのみ　4週毎:DEXもd1のみ20mg            ","21→28日","∞","骨髄腫","血液内科","ダラキューロ","危 ﾀﾞﾗｷｭｰﾛ配合皮下注 1800mg/15mL","4291500A1023","皮下","３～５分かけて皮下注射",1800,"BODY","mg",null,"特記事項参照",{"$f":"IFERROR(VLOOKUP(__レジメンマスタ[[#This Row],[YJコード①]],[1]!__前投薬リスト[#Data],4,FALSE)&\"\",\"\")","v":"抗ヒス,ステ,解"},null,"ボルテゾミブ","危 ﾎﾞﾙﾃｿﾞﾐﾌﾞ注射用 3mg「NK」（溶解液:生食）（先:ﾍﾞﾙｹｲﾄﾞ）","4291412D1040","皮下","皮下投与",1.3,"㎡","mg",null,"d1,4,8,11",{"$f":"IFERROR(VLOOKUP(__レジメンマスタ[[#This Row],[YJコード②]],[1]!__前投薬リスト[#Data],4,FALSE)&\"\",\"\")","v":""},"8コース","DEX",null,"2454002F3020","経口",null,20,"BODY","mg",null,"d1,2,4,5,8,9,11,12,15",{"$f":"IFERROR(VLOOKUP(__レジメンマスタ[[#This Row],[YJコード③]],[1]!__前投薬リスト[#Data],4,FALSE)&\"\",\"\")","v":""},null,null,null,null,null,null,null,null,null,null,null,{"$f":"IFERROR(VLOOKUP(__レジメンマスタ[[#This Row],[YJコード④]],[1]!__前投薬リスト[#Data],4,FALSE)&\"\",\"\")","v":""},null,null,null,null,null,null,null,null,null,null,null,{"$f":"IFERROR(VLOOKUP(__レジメンマスタ[[#This Row],[YJコード⑤]],[1]!__前投薬リスト[#Data],4,FALSE)&\"\",\"\")","v":""},null,null,null,null,null,null,null,null,null,null,null,{"$f":"IFERROR(VLOOKUP(__レジメンマスタ[[#This Row],[YJコード⑥]],[1]!__前投薬リスト[#Data],4,FALSE)&\"\",\"\")","v":""},null,null,null,null,null,null,null,null,null,null,null,{"$f":"IFERROR(VLOOKUP(__レジメンマスタ[[#This Row],[YJコード⑦]],[1]!__前投薬リスト[#Data],4,FALSE)&\"\",\"\")","v":""}]
["HEM0096-A1","DLd(初発：点滴)",null,null,null,"骨髄腫","血液内科",null,null,null,"注射",null,null,null,null,null,null,{"$f":"IFERROR(VLOOKUP(__レジメンマスタ[[#This Row],[YJコード①]],[1]!__前投薬リスト[#Data],4,FALSE)&\"\",\"\")","v":""},null,null,null,null,null,null,null,null,null,null,null,{"$f":"IFERROR(VLOOKUP(__レジメンマスタ[[#This Row],[YJコード②]],[1]!__前投薬リスト[#Data],4,FALSE)&\"\",\"\")","v":""},null,null,null,null,null,null,null,null,null,null,null,{"$f":"IFERROR(VLOOKUP(__レジメンマスタ[[#This Row],[YJコード③]],[1]!__前投薬リスト[#Data],4,FALSE)&\"\",\"\")","v":""},null,null,null,null,null,null,null,null,null,null,null,{"$f":"IFERROR(VLOOKUP(__レジメンマスタ[[#This Row],[YJコード④]],[1]!__前投薬リスト[#Data],4,FALSE)&\"\",\"\")","v":""},null,null,null,null,null,null,null,null,null,null,null,{"$f":"IFERROR(VLOOKUP(__レジメンマスタ[[#This Row],[YJコード⑤]],[1]!__前投薬リスト[#Data],4,FALSE)&\"\",\"\")","v":""},null,null,null,null,null,null,null,null,null,null,null,{"$f":"IFERROR(VLOOKUP(__レジメンマスタ[[#This Row],[YJコード⑥]],[1]!__前投薬リスト[#Data],4,FALSE)&\"\",\"\")","v":""},null,null,null,null,null,null,null,null,null,null,null,{"$f":"IFERROR(VLOOKUP(__レジメンマスタ[[#This Row],[YJコード⑦]],[1]!__前投薬リスト[#Data],4,FALSE)&\"\",\"\")","v":""}]
["HEM0096-B1","DLd(再発：点滴）",null,null,null,"骨髄腫","血液内科",null,null,null,"注射",null,null,null,null,null,null,{"$f":"IFERROR(VLOOKUP(__レジメンマスタ[[#This Row],[YJコード①]],[1]!__前投薬リスト[#Data],4,FALSE)&\"\",\"\")","v":""},null,null,null,null,null,null,null,null,null,null,null,{"$f":"IFERROR(VLOOKUP(__レジメンマスタ[[#This Row],[YJコード②]],[1]!__前投薬リスト[#Data],4,FALSE)&\"\",\"\")","v":""},null,null,null,null,null,null,null,null,null,null,null,{"$f":"IFERROR(VLOOKUP(__レジメンマスタ[[#This Row],[YJコード③]],[1]!__前投薬リスト[#Data],4,FALSE)&\"\",\"\")","v":""},null,null,null,null,null,null,null,null,null,null,null,{"$f":"IFERROR(VLOOKUP(__レジメンマスタ[[#This Row],[YJコード④]],[1]!__前投薬リスト[#Data],4,FALSE)&\"\",\"\")","v":""},null,null,null,null,null,null,null,null,null,null,null,{"$f":"IFERROR(VLOOKUP(__レジメンマスタ[[#This Row],[YJコード⑤]],[1]!__前投薬リスト[#Data],4,FALSE)&\"\",\"\")","v":""},null,null,null,null,null,null,null,null,null,null,null,{"$f":"IFERROR(VLOOKUP(__レジメンマスタ[[#This Row],[YJコード⑥]],[1]!__前投薬リスト[#Data],4,FALSE)&\"\",\"\")","v":""},null,null,null,null,null,null,null,null,null,null,null,{"$f":"IFERROR(VLOOKUP(__レジメンマスタ[[#This Row],[YJコード⑦]],[1]!__前投薬リスト[#Data],4,FALSE)&\"\",\"\")","v":""}]
["HEM0096-C1","DLd(初発：皮下)","DEX：40mg/週（75歳以上または過小体重（BMI：18.5kg/㎡未満）20mg/週に適宜減量）。病勢によりさらに減量可。\n医師の判断で投与状況が変更することがある                \nDmab：1-2ｺｰｽ目(d1,8,15,22)毎週投与、3-6ｺｰｽ目(d1,15)2週毎、\n7ｺｰｽ目以降(d1のみ)4週毎                \nLEN：25mg/日　d1～21　4週間毎                \n","28日","∞","骨髄腫","血液内科","ダラキューロ","危 ﾀﾞﾗｷｭｰﾛ配合皮下注 1800mg/15mL","4291500A1023","皮下","３～５分かけて皮下注射",1800,"BODY","mg",null,"特記事項参照",{"$f":"IFERROR(VLOOKUP(__レジメンマスタ[[#This Row],[YJコード①]],[1]!__前投薬リスト[#Data],4,FALSE)&\"\",\"\")","v":"抗ヒス,ステ,解"},null,"レナリドミド",null,"4291024M1024","経口",null,25,"BODY","mg",null,"d1-21",{"$f":"IFERROR(VLOOKUP(__レジメンマスタ[[#This Row],[YJコード②]],[1]!__前投薬リスト[#Data],4,FALSE)&\"\",\"\")","v":""},null,"DEX",null,"2454002F3020","経口",null,20,"BODY","mg",null,"d1,8,15,22",{"$f":"IFERROR(VLOOKUP(__レジメンマスタ[[#This Row],[YJコード③]],[1]!__前投薬リスト[#Data],4,FALSE)&\"\",\"\")","v":""},null,null,null,null,null,null,null,null,null,null,null,{"$f":"IFERROR(VLOOKUP(__レジメンマスタ[[#This Row],[YJコード④]],[1]!__前投薬リスト[#Data],4,FALSE)&\"\",\"\")","v":""},null,null,null,null,null,null,null,null,null,null,null,{"$f":"IFERROR(VLOOKUP(__レジメンマスタ[[#This Row],[YJコード⑤]],[1]!__前投薬リスト[#Data],4,FALSE)&\"\",\"\")","v":""},null,null,null,null,null,null,null,null,null,null,null,{"$f":"IFERROR(VLOOKUP(__レジメンマスタ[[#This Row],[YJコード⑥]],[1]!__前投薬リスト[#Data],4,FALSE)&\"\",\"\")","v":""},null,null,null,null,null,null,null,null,null,null,null,{"$f":"IFERROR(VLOOKUP(__レジメンマスタ[[#This Row],[YJコード⑦]],[1]!__前投薬リスト[#Data],4,FALSE)&\"\",\"\")","v":""}]
["HEM0096-D1","DLd(再発：皮下)","DEX：40mg/週（75歳以上または過小体重（BMI：18.5kg/㎡未満）20mg/週に適宜減量）。病勢によりさらに減量可。\nDEXはDmab投与日＋投与翌日に内服。Dmabない週は1日処方\n医師の判断で投与状況が変更することがある                \nDmab：1-2ｺｰｽ目(d1,8,15,22)毎週投与、3-6ｺｰｽ目(d1,15)2週毎、\n7ｺｰｽ目以降(d1のみ)4週毎                \nLEN：25mg/日　d1～21　4週間毎     ","28日","∞","骨髄腫","血液内科","ダラキューロ","危 ﾀﾞﾗｷｭｰﾛ配合皮下注 1800mg/15mL","4291500A1023","注射","３～５分かけて皮下注射",1800,"BODY","mg",null,"特記事項参照",{"$f":"IFERROR(VLOOKUP(__レジメンマスタ[[#This Row],[YJコード①]],[1]!__前投薬リスト[#Data],4,FALSE)&\"\",\"\")","v":"抗ヒス,ステ,解"},null,"レナリドミド",null,"4291024M1024","経口",null,25,"BODY","mg",null,"d1-21",{"$f":"IFERROR(VLOOKUP(__レジメンマスタ[[#This Row],[YJコード②]],[1]!__前投薬リスト[#Data],4,FALSE)&\"\",\"\")","v":""},null,"DEX",null,"2454002F3020","経口",null,20,"BODY","mg",null,"d1,2,8,9,15,16,22,23",{"$f":"IFERROR(VLOOKUP(__レジメンマスタ[[#This Row],[YJコード③]],[1]!__前投薬リスト[#Data],4,FALSE)&\"\",\"\")","v":""},null,null,null,null,null,null,null,null,null,null,null,{"$f":"IFERROR(VLOOKUP(__レジメンマスタ[[#This Row],[YJコード④]],[1]!__前投薬リスト[#Data],4,FALSE)&\"\",\"\")","v":""},null,null,null,null,null,null,null,null,null,null,null,{"$f":"IFERROR(VLOOKUP(__レジメンマスタ[[#This Row],[YJコード⑤]],[1]!__前投薬リスト[#Data],4,FALSE)&\"\",\"\")","v":""},null,null,null,null,null,null,null,null,null,null,null,{"$f":"IFERROR(VLOOKUP(__レジメンマスタ[[#This Row],[YJコード⑥]],[1]!__前投薬リスト[#Data],4,FALSE)&\"\",\"\")","v":""},null,null,null,null,null,null,null,null,null,null,null,{"$f":"IFERROR(VLOOKUP(__レジメンマスタ[[#This Row],[YJコード⑦]],[1]!__前投薬リスト[#Data],4,FALSE)&\"\",\"\")","v":""}]
["HEM0097","ガザイバ＋ベンダムスチン","　　　　  Ｗ1           　 Ｗ2          　 Ｗ3　　　　　　Ｗ4   \nOmab  ↓××××××  (↓)×××××× (↓)×××××× ××××××× \nBenda ×↓↓××××   ×××××××   ×××××××  ××××××× \n※()1コース目のみ\nBenda：6コースまで\nOmabは前後することあり(Omab同士は1週以上あける）\n\nその後Omab維持療法として2ヶ月毎に投与\n（維持療法開始より2年間→制限年月日を患者特記事項に記載）","28→56日","6コース","リンパ腫","血液内科","ガザイバ","危 ｶﾞｻﾞｲﾊﾞ点滴静注 1000mg/40mL（希釈液:生食）","4291444A1028","注射","２５→５０→７５→１００ｍＬ／ｈ",1000,"BODY","mg",null,"d1,8,15(1C目),d1(2C目以降)",{"$f":"IFERROR(VLOOKUP(__レジメンマスタ[[#This Row],[YJコード①]],[1]!__前投薬リスト[#Data],4,FALSE)&\"\",\"\")","v":"抗ヒス,解,(ステ)"},null,"ベンダムスチン","危 100mg/4mL ﾍﾞﾝﾀﾞﾑｽﾁﾝ塩酸塩点滴静注液「ﾄｰﾜ」（希釈液:生食）（先:ﾄﾚｱｷｼﾝ）","4219405A1033","注射","１ 時間で",90,"㎡","mg",null,"d2,3",{"$f":"IFERROR(VLOOKUP(__レジメンマスタ[[#This Row],[YJコード②]],[1]!__前投薬リスト[#Data],4,FALSE)&\"\",\"\")","v":""},"6コース",null,null,null,null,null,null,null,null,null,null,{"$f":"IFERROR(VLOOKUP(__レジメンマスタ[[#This Row],[YJコード③]],[1]!__前投薬リスト[#Data],4,FALSE)&\"\",\"\")","v":""},null,null,null,null,null,null,null,null,null,null,null,{"$f":"IFERROR(VLOOKUP(__レジメンマスタ[[#This Row],[YJコード④]],[1]!__前投薬リスト[#Data],4,FALSE)&\"\",\"\")","v":""},null,null,null,null,null,null,null,null,null,null,null,{"$f":"IFERROR(VLOOKUP(__レジメンマスタ[[#This Row],[YJコード⑤]],[1]!__前投薬リスト[#Data],4,FALSE)&\"\",\"\")","v":""},null,null,null,null,null,null,null,null,null,null,null,{"$f":"IFERROR(VLOOKUP(__レジメンマスタ[[#This Row],[YJコード⑥]],[1]!__前投薬リスト[#Data],4,FALSE)&\"\",\"\")","v":""},null,null,null,null,null,null,null,null,null,null,null,{"$f":"IFERROR(VLOOKUP(__レジメンマスタ[[#This Row],[YJコード⑦]],[1]!__前投薬リスト[#Data],4,FALSE)&\"\",\"\")","v":""}]
["HEM0098","ガザイバ＋CHOP","　　　　　　Ｗ1            Ｗ2           Ｗ3       \nOmab  ↓×××××× (↓)×××××× (↓)××××××\nDXR　 ×↓×××××  × ××××××  × ×××××× \nCPA   ×↓×××××  × ××××××  × ×××××× \nVCR   ×↓×××××  × ××××××  × ×××××× \nPSL   ×↓↓↓↓↓×  × ××××××  × ××××××\n★オンコビン：MAX2mg★　　※()1コース目のみ\nOmabは前後することあり(Omab同士は1週以上あける）\n\nその後Omab維持療法として2ヶ月毎に投与\n（維持療法開始より2年間→制限年月日を患者特記事項に記載）","21日","8コース","リンパ腫","血液内科","ガザイバ","危 ｶﾞｻﾞｲﾊﾞ点滴静注 1000mg/40mL（希釈液:生食）","4291444A1028","注射","２５→５０→７５→１００ｍＬ／ｈ",1000,"BODY","mg",null,"d1,8,15(1C目),d1(2C目以降)",{"$f":"IFERROR(VLOOKUP(__レジメンマスタ[[#This Row],[YJコード①]],[1]!__前投薬リスト[#Data],4,FALSE)&\"\",\"\")","v":"抗ヒス,解,(ステ)"},null,"ドキソルビシン","危 50mg ﾄﾞｷｿﾙﾋﾞｼﾝ塩酸塩注射用「NK」（溶解液:生食orAq）（先:ｱﾄﾞﾘｱｼﾝ）","4235402D2028","注射","３０ 分で",50,"㎡","mg",null,"d2",{"$f":"IFERROR(VLOOKUP(__レジメンマスタ[[#This Row],[YJコード②]],[1]!__前投薬リスト[#Data],4,FALSE)&\"\",\"\")","v":""},null,"エンドキサン","危 注射用ｴﾝﾄﾞｷｻﾝ 500㎎","4211401D2021","注射","２ 時間で",750,"㎡","mg",null,"d2",{"$f":"IFERROR(VLOOKUP(__レジメンマスタ[[#This Row],[YJコード③]],[1]!__前投薬リスト[#Data],4,FALSE)&\"\",\"\")","v":""},null,"オンコビン","危 ｵﾝｺﾋﾞﾝ注射用 1㎎","4240400D1030","注射","５～１０分　かけて",1.4,"㎡","mg",null,"d2",{"$f":"IFERROR(VLOOKUP(__レジメンマスタ[[#This Row],[YJコード④]],[1]!__前投薬リスト[#Data],4,FALSE)&\"\",\"\")","v":""},null,"プレドニン",null,"2456001F1310","経口",null,100,"BODY","mg",null,"d2-6",{"$f":"IFERROR(VLOOKUP(__レジメンマスタ[[#This Row],[YJコード⑤]],[1]!__前投薬リスト[#Data],4,FALSE)&\"\",\"\")","v":""},null,null,null,null,null,null,null,null,null,null,null,{"$f":"IFERROR(VLOOKUP(__レジメンマスタ[[#This Row],[YJコード⑥]],[1]!__前投薬リスト[#Data],4,FALSE)&\"\",\"\")","v":""},null,null,null,null,null,null,null,null,null,null,null,{"$f":"IFERROR(VLOOKUP(__レジメンマスタ[[#This Row],[YJコード⑦]],[1]!__前投薬リスト[#Data],4,FALSE)&\"\",\"\")","v":""}]
["HEM0099","ニボルマブ","　　　　　　　　　W1  　　　　　 W2 \nオプジーボ  ↓××××××  ××××××\n 2週間ごとに投与","14日","∞","リンパ腫","血液内科","オプジーボ","危 240mg/24mL ｵﾌﾟｼﾞｰﾎﾞ点滴静注（希釈液:生食orTZ）","4291427A3027","注射","３０ 分で",240,"BODY","mg",null,"d1",{"$f":"IFERROR(VLOOKUP(__レジメンマスタ[[#This Row],[YJコード①]],[1]!__前投薬リスト[#Data],4,FALSE)&\"\",\"\")","v":""},null,null,null,null,null,null,null,null,null,null,null,{"$f":"IFERROR(VLOOKUP(__レジメンマスタ[[#This Row],[YJコード②]],[1]!__前投薬リスト[#Data],4,FALSE)&\"\",\"\")","v":""},null,null,null,null,null,null,null,null,null,null,null,{"$f":"IFERROR(VLOOKUP(__レジメンマスタ[[#This Row],[YJコード③]],[1]!__前投薬リスト[#Data],4,FALSE)&\"\",\"\")","v":""},null,null,null,null,null,null,null,null,null,null,null,{"$f":"IFERROR(VLOOKUP(__レジメンマスタ[[#This Row],[YJコード④]],[1]!__前投薬リスト[#Data],4,FALSE)&\"\",\"\")","v":""},null,null,null,null,null,null,null,null,null,null,null,{"$f":"IFERROR(VLOOKUP(__レジメンマスタ[[#This Row],[YJコード⑤]],[1]!__前投薬リスト[#Data],4,FALSE)&\"\",\"\")","v":""},null,null,null,null,null,null,null,null,null,null,null,{"$f":"IFERROR(VLOOKUP(__レジメンマスタ[[#This Row],[YJコード⑥]],[1]!__前投薬リスト[#Data],4,FALSE)&\"\",\"\")","v":""},null,null,null,null,null,null,null,null,null,null,null,{"$f":"IFERROR(VLOOKUP(__レジメンマスタ[[#This Row],[YJコード⑦]],[1]!__前投薬リスト[#Data],4,FALSE)&\"\",\"\")","v":""}]
["HEM0100","ペムブロリズマブ","  　　　　 W1  　　　　　　 W2～3  \nPmbro ↓××××××   ×××××××  \n３週間ごとに投与","21日","∞","リンパ腫","血液内科","キイトルーダ","危 ｷｲﾄﾙｰﾀﾞ点滴静注 100mg/4mL（希釈液:生食orTZ）","4291435A2025","注射","３０ 分で",200,"BODY","mg",null,"d1",{"$f":"IFERROR(VLOOKUP(__レジメンマスタ[[#This Row],[YJコード①]],[1]!__前投薬リスト[#Data],4,FALSE)&\"\",\"\")","v":""},null,null,null,null,null,null,null,null,null,null,null,{"$f":"IFERROR(VLOOKUP(__レジメンマスタ[[#This Row],[YJコード②]],[1]!__前投薬リスト[#Data],4,FALSE)&\"\",\"\")","v":""},null,null,null,null,null,null,null,null,null,null,null,{"$f":"IFERROR(VLOOKUP(__レジメンマスタ[[#This Row],[YJコード③]],[1]!__前投薬リスト[#Data],4,FALSE)&\"\",\"\")","v":""},null,null,null,null,null,null,null,null,null,null,null,{"$f":"IFERROR(VLOOKUP(__レジメンマスタ[[#This Row],[YJコード④]],[1]!__前投薬リスト[#Data],4,FALSE)&\"\",\"\")","v":""},null,null,null,null,null,null,null,null,null,null,null,{"$f":"IFERROR(VLOOKUP(__レジメンマスタ[[#This Row],[YJコード⑤]],[1]!__前投薬リスト[#Data],4,FALSE)&\"\",\"\")","v":""},null,null,null,null,null,null,null,null,null,null,null,{"$f":"IFERROR(VLOOKUP(__レジメンマスタ[[#This Row],[YJコード⑥]],[1]!__前投薬リスト[#Data],4,FALSE)&\"\",\"\")","v":""},null,null,null,null,null,null,null,null,null,null,null,{"$f":"IFERROR(VLOOKUP(__レジメンマスタ[[#This Row],[YJコード⑦]],[1]!__前投薬リスト[#Data],4,FALSE)&\"\",\"\")","v":""}]
["HEM0101","MEEM療法","　　　-6　　-5　　-4　　-3　　-2　　　-1　　　0(移植日)\nRani  ↓  \nAraC  　　 ↓↓　↓↓　↓↓　↓↓ \nETP　 　　 ↓↓　↓↓　↓↓　↓↓ \nMel　　　　　　　　　　　　　　　　　 ↓ \nAraCとETPの投与量の欄は（1回量）を記入\n エトポシドの濃度に注意！\n200mg/500ml以上の濃度では使用不可",null,null,"移植関連","血液内科","サイメリン",null,"4219402D1028","注射",null,300,"㎡","mg",null,"-d6",{"$f":"IFERROR(VLOOKUP(__レジメンマスタ[[#This Row],[YJコード①]],[1]!__前投薬リスト[#Data],4,FALSE)&\"\",\"\")","v":""},null,"シタラビン","危 1g/50mL ｼﾀﾗﾋﾞﾝ点滴静注液「NIG」（希釈液:生食orTZ）（先:ｷﾛｻｲﾄﾞN）","4224401A7041","注射","１ 時間で",200,"㎡","mg",null,"×２\n-d5～-d2",{"$f":"IFERROR(VLOOKUP(__レジメンマスタ[[#This Row],[YJコード②]],[1]!__前投薬リスト[#Data],4,FALSE)&\"\",\"\")","v":""},null,"エトポシド","危 ｴﾄﾎﾟｼﾄﾞ点滴静注液「ｻﾝﾄﾞ」100mg/5mL（先:ﾗｽﾃｯﾄ）","4240403A2069","注射","４時間で",100,"㎡","mg",null,"×２\n-d5～-d2",{"$f":"IFERROR(VLOOKUP(__レジメンマスタ[[#This Row],[YJコード③]],[1]!__前投薬リスト[#Data],4,FALSE)&\"\",\"\")","v":""},null,"アルケラン",null,"4219002F1034","注射","静注もしくは３０分で",140,"㎡","mg",null,"-d1",{"$f":"IFERROR(VLOOKUP(__レジメンマスタ[[#This Row],[YJコード④]],[1]!__前投薬リスト[#Data],4,FALSE)&\"\",\"\")","v":""},null,null,null,null,null,null,null,null,null,null,null,{"$f":"IFERROR(VLOOKUP(__レジメンマスタ[[#This Row],[YJコード⑤]],[1]!__前投薬リスト[#Data],4,FALSE)&\"\",\"\")","v":""},null,null,null,null,null,null,null,null,null,null,null,{"$f":"IFERROR(VLOOKUP(__レジメンマスタ[[#This Row],[YJコード⑥]],[1]!__前投薬リスト[#Data],4,FALSE)&\"\",\"\")","v":""},null,null,null,null,null,null,null,null,null,null,null,{"$f":"IFERROR(VLOOKUP(__レジメンマスタ[[#This Row],[YJコード⑦]],[1]!__前投薬リスト[#Data],4,FALSE)&\"\",\"\")","v":""}]
["HEM0102-01","JALSG　T-ALL213-O寛解導入",null,null,null,"白血病（ALL)","血液内科",null,null,null,"注射",null,null,null,null,null,null,{"$f":"IFERROR(VLOOKUP(__レジメンマスタ[[#This Row],[YJコード①]],[1]!__前投薬リスト[#Data],4,FALSE)&\"\",\"\")","v":""},null,null,null,null,null,null,null,null,null,null,null,{"$f":"IFERROR(VLOOKUP(__レジメンマスタ[[#This Row],[YJコード②]],[1]!__前投薬リスト[#Data],4,FALSE)&\"\",\"\")","v":""},null,null,null,null,null,null,null,null,null,null,null,{"$f":"IFERROR(VLOOKUP(__レジメンマスタ[[#This Row],[YJコード③]],[1]!__前投薬リスト[#Data],4,FALSE)&\"\",\"\")","v":""},null,null,null,null,null,null,null,null,null,null,null,{"$f":"IFERROR(VLOOKUP(__レジメンマスタ[[#This Row],[YJコード④]],[1]!__前投薬リスト[#Data],4,FALSE)&\"\",\"\")","v":""},null,null,null,null,null,null,null,null,null,null,null,{"$f":"IFERROR(VLOOKUP(__レジメンマスタ[[#This Row],[YJコード⑤]],[1]!__前投薬リスト[#Data],4,FALSE)&\"\",\"\")","v":""},null,null,null,null,null,null,null,null,null,null,null,{"$f":"IFERROR(VLOOKUP(__レジメンマスタ[[#This Row],[YJコード⑥]],[1]!__前投薬リスト[#Data],4,FALSE)&\"\",\"\")","v":""},null,null,null,null,null,null,null,null,null,null,null,{"$f":"IFERROR(VLOOKUP(__レジメンマスタ[[#This Row],[YJコード⑦]],[1]!__前投薬リスト[#Data],4,FALSE)&\"\",\"\")","v":""}]
["HEM0102-02","JALSG　T-ALL213-O寛解導入②",null,null,null,"白血病（ALL)","血液内科",null,null,null,"注射",null,null,null,null,null,null,{"$f":"IFERROR(VLOOKUP(__レジメンマスタ[[#This Row],[YJコード①]],[1]!__前投薬リスト[#Data],4,FALSE)&\"\",\"\")","v":""},null,null,null,null,null,null,null,null,null,null,null,{"$f":"IFERROR(VLOOKUP(__レジメンマスタ[[#This Row],[YJコード②]],[1]!__前投薬リスト[#Data],4,FALSE)&\"\",\"\")","v":""},null,null,null,null,null,null,null,null,null,null,null,{"$f":"IFERROR(VLOOKUP(__レジメンマスタ[[#This Row],[YJコード③]],[1]!__前投薬リスト[#Data],4,FALSE)&\"\",\"\")","v":""},null,null,null,null,null,null,null,null,null,null,null,{"$f":"IFERROR(VLOOKUP(__レジメンマスタ[[#This Row],[YJコード④]],[1]!__前投薬リスト[#Data],4,FALSE)&\"\",\"\")","v":""},null,null,null,null,null,null,null,null,null,null,null,{"$f":"IFERROR(VLOOKUP(__レジメンマスタ[[#This Row],[YJコード⑤]],[1]!__前投薬リスト[#Data],4,FALSE)&\"\",\"\")","v":""},null,null,null,null,null,null,null,null,null,null,null,{"$f":"IFERROR(VLOOKUP(__レジメンマスタ[[#This Row],[YJコード⑥]],[1]!__前投薬リスト[#Data],4,FALSE)&\"\",\"\")","v":""},null,null,null,null,null,null,null,null,null,null,null,{"$f":"IFERROR(VLOOKUP(__レジメンマスタ[[#This Row],[YJコード⑦]],[1]!__前投薬リスト[#Data],4,FALSE)&\"\",\"\")","v":""}]
["HEM0102-03","JALSG　T-ALL213-O地固め療法C1",null,null,null,"白血病（ALL)","血液内科",null,null,null,"注射",null,null,null,null,null,null,{"$f":"IFERROR(VLOOKUP(__レジメンマスタ[[#This Row],[YJコード①]],[1]!__前投薬リスト[#Data],4,FALSE)&\"\",\"\")","v":""},null,null,null,null,null,null,null,null,null,null,null,{"$f":"IFERROR(VLOOKUP(__レジメンマスタ[[#This Row],[YJコード②]],[1]!__前投薬リスト[#Data],4,FALSE)&\"\",\"\")","v":""},null,null,null,null,null,null,null,null,null,null,null,{"$f":"IFERROR(VLOOKUP(__レジメンマスタ[[#This Row],[YJコード③]],[1]!__前投薬リスト[#Data],4,FALSE)&\"\",\"\")","v":""},null,null,null,null,null,null,null,null,null,null,null,{"$f":"IFERROR(VLOOKUP(__レジメンマスタ[[#This Row],[YJコード④]],[1]!__前投薬リスト[#Data],4,FALSE)&\"\",\"\")","v":""},null,null,null,null,null,null,null,null,null,null,null,{"$f":"IFERROR(VLOOKUP(__レジメンマスタ[[#This Row],[YJコード⑤]],[1]!__前投薬リスト[#Data],4,FALSE)&\"\",\"\")","v":""},null,null,null,null,null,null,null,null,null,null,null,{"$f":"IFERROR(VLOOKUP(__レジメンマスタ[[#This Row],[YJコード⑥]],[1]!__前投薬リスト[#Data],4,FALSE)&\"\",\"\")","v":""},null,null,null,null,null,null,null,null,null,null,null,{"$f":"IFERROR(VLOOKUP(__レジメンマスタ[[#This Row],[YJコード⑦]],[1]!__前投薬リスト[#Data],4,FALSE)&\"\",\"\")","v":""}]
["HEM0102-04","JALSG　T-ALL213-O地固め療法C2",null,null,null,"白血病（ALL)","血液内科",null,null,null,"注射",null,null,null,null,null,null,{"$f":"IFERROR(VLOOKUP(__レジメンマスタ[[#This Row],[YJコード①]],[1]!__前投薬リスト[#Data],4,FALSE)&\"\",\"\")","v":""},null,null,null,null,null,null,null,null,null,null,null,{"$f":"IFERROR(VLOOKUP(__レジメンマスタ[[#This Row],[YJコード②]],[1]!__前投薬リスト[#Data],4,FALSE)&\"\",\"\")","v":""},null,null,null,null,null,null,null,null,null,null,null,{"$f":"IFERROR(VLOOKUP(__レジメンマスタ[[#This Row],[YJコード③]],[1]!__前投薬リスト[#Data],4,FALSE)&\"\",\"\")","v":""},null,null,null,null,null,null,null,null,null,null,null,{"$f":"IFERROR(VLOOKUP(__レジメンマスタ[[#This Row],[YJコード④]],[1]!__前投薬リスト[#Data],4,FALSE)&\"\",\"\")","v":""},null,null,null,null,null,null,null,null,null,null,null,{"$f":"IFERROR(VLOOKUP(__レジメンマスタ[[#This Row],[YJコード⑤]],[1]!__前投薬リスト[#Data],4,FALSE)&\"\",\"\")","v":""},null,null,null,null,null,null,null,null,null,null,null,{"$f":"IFERROR(VLOOKUP(__レジメンマスタ[[#This Row],[YJコード⑥]],[1]!__前投薬リスト[#Data],4,FALSE)&\"\",\"\")","v":""},null,null,null,null,null,null,null,null,null,null,null,{"$f":"IFERROR(VLOOKUP(__レジメンマスタ[[#This Row],[YJコード⑦]],[1]!__前投薬リスト[#Data],4,FALSE)&\"\",\"\")","v":""}]
["HEM0103","A+AVD","　　　　　　Ｗ1            Ｗ2           Ｗ3           Ｗ4    \nDXR  ↓××××××  ××××××× ↓××××××  ×××××××   \nVLB  ↓××××××  ××××××× ↓××××××  ×××××××   \nDTIC ↓××××××  ××××××× ↓××××××  ××××××× \nBV   ↓××××××  ××××××× ↓××××××  ×××××××   \n★エクザール：MAX10mg★\nアドセトリス：適正希釈量\n50mg未満：50mL、50～150mg:100mL、150mg以上：250mL\n（★デフォルトは100mLなので、50mg未満・150mg以上は変更する★）","28日","6コース","リンパ腫","血液内科","ドキソルビシン","危 50mg ﾄﾞｷｿﾙﾋﾞｼﾝ塩酸塩注射用「NK」（溶解液:生食orAq）（先:ｱﾄﾞﾘｱｼﾝ）","4235402D2028","注射","３０ 分で",25,"㎡","mg",null,"d1,15",{"$f":"IFERROR(VLOOKUP(__レジメンマスタ[[#This Row],[YJコード①]],[1]!__前投薬リスト[#Data],4,FALSE)&\"\",\"\")","v":""},null,"エクザール",null,"4240401D2031","注射",null,6,"㎡","mg",null,"d1,15",{"$f":"IFERROR(VLOOKUP(__レジメンマスタ[[#This Row],[YJコード②]],[1]!__前投薬リスト[#Data],4,FALSE)&\"\",\"\")","v":""},null,"ダカルバジン",null,"4219401D1031","注射","3時間で",375,"㎡","mg",null,"d1,15",{"$f":"IFERROR(VLOOKUP(__レジメンマスタ[[#This Row],[YJコード③]],[1]!__前投薬リスト[#Data],4,FALSE)&\"\",\"\")","v":""},null,"アドセトリス",null,"4291425D1021","注射",null,1.2,"kg","mg",null,"d1,15",{"$f":"IFERROR(VLOOKUP(__レジメンマスタ[[#This Row],[YJコード④]],[1]!__前投薬リスト[#Data],4,FALSE)&\"\",\"\")","v":""},null,null,null,null,null,null,null,null,null,null,null,{"$f":"IFERROR(VLOOKUP(__レジメンマスタ[[#This Row],[YJコード⑤]],[1]!__前投薬リスト[#Data],4,FALSE)&\"\",\"\")","v":""},null,null,null,null,null,null,null,null,null,null,null,{"$f":"IFERROR(VLOOKUP(__レジメンマスタ[[#This Row],[YJコード⑥]],[1]!__前投薬リスト[#Data],4,FALSE)&\"\",\"\")","v":""},null,null,null,null,null,null,null,null,null,null,null,{"$f":"IFERROR(VLOOKUP(__レジメンマスタ[[#This Row],[YJコード⑦]],[1]!__前投薬リスト[#Data],4,FALSE)&\"\",\"\")","v":""}]
["HEM0104-1","Kd（週1回）","　　　　　　Ｗ1            Ｗ2           Ｗ3           Ｗ4    \nCarf  ↓××××××  ↓×××××× ↓××××××  ××××××× \nDEX   ↓××××××  ↓×××××× ↓××××××  ↓××××××   \nDEX：40mg/週。75歳以上または過小体重（BMI：18.5kg/㎡未満）20mg/週に適宜減量","28日","∞","骨髄腫","血液内科","カイプロリス(1C,d1のみ)","危〈毒〉40mg ｶｲﾌﾟﾛﾘｽ点滴静注用（溶解液:Aq、希釈液:TZ）","4291433D2022","注射","３０ 分で",20,"㎡","mg",null,"d1(1C目)",{"$f":"IFERROR(VLOOKUP(__レジメンマスタ[[#This Row],[YJコード①]],[1]!__前投薬リスト[#Data],4,FALSE)&\"\",\"\")","v":"(ステ)"},null,"カイプロリス(上記以降)","危〈毒〉40mg ｶｲﾌﾟﾛﾘｽ点滴静注用（溶解液:Aq、希釈液:TZ）","4291433D2022","注射","３０ 分で",70,"㎡","mg",null,"d1,8,15",{"$f":"IFERROR(VLOOKUP(__レジメンマスタ[[#This Row],[YJコード②]],[1]!__前投薬リスト[#Data],4,FALSE)&\"\",\"\")","v":"(ステ)"},null,"DEX",null,"2454002F3020","他",null,40,"BODY","mg",null,"d1,8,15,22",{"$f":"IFERROR(VLOOKUP(__レジメンマスタ[[#This Row],[YJコード③]],[1]!__前投薬リスト[#Data],4,FALSE)&\"\",\"\")","v":""},null,null,null,null,null,null,null,null,null,null,null,{"$f":"IFERROR(VLOOKUP(__レジメンマスタ[[#This Row],[YJコード④]],[1]!__前投薬リスト[#Data],4,FALSE)&\"\",\"\")","v":""},null,null,null,null,null,null,null,null,null,null,null,{"$f":"IFERROR(VLOOKUP(__レジメンマスタ[[#This Row],[YJコード⑤]],[1]!__前投薬リスト[#Data],4,FALSE)&\"\",\"\")","v":""},null,null,null,null,null,null,null,null,null,null,null,{"$f":"IFERROR(VLOOKUP(__レジメンマスタ[[#This Row],[YJコード⑥]],[1]!__前投薬リスト[#Data],4,FALSE)&\"\",\"\")","v":""},null,null,null,null,null,null,null,null,null,null,null,{"$f":"IFERROR(VLOOKUP(__レジメンマスタ[[#This Row],[YJコード⑦]],[1]!__前投薬リスト[#Data],4,FALSE)&\"\",\"\")","v":""}]
["HEM0105","Special C","　　　　　　Ｗ1            Ｗ2           Ｗ3           Ｗ4      \nVLB  ↓××××××  ××××××× ×××××××  ×××××××   \nPSL  ↓↓↓↓↓××  ××××××× ×××××××  ××××××× \n6-MP ↓↓↓↓↓↓↓  ↓↓↓↓↓↓↓ ↓↓↓↓↓↓↓  ↓↓↓↓↓↓↓\nMTX  ↓××××××  ××××××× ↓××××××  ××××××× \n","28日",null,"その他","血液内科","エクザール",null,"4240401D2031","注射",null,6,"㎡","mg",null,"d1",{"$f":"IFERROR(VLOOKUP(__レジメンマスタ[[#This Row],[YJコード①]],[1]!__前投薬リスト[#Data],4,FALSE)&\"\",\"\")","v":""},null,"プレドニン",null,"2456001F1310","経口",null,2,"kg","mg",null,"d1-5",{"$f":"IFERROR(VLOOKUP(__レジメンマスタ[[#This Row],[YJコード②]],[1]!__前投薬リスト[#Data],4,FALSE)&\"\",\"\")","v":""},null,null,null,null,null,null,null,null,null,null,null,{"$f":"IFERROR(VLOOKUP(__レジメンマスタ[[#This Row],[YJコード③]],[1]!__前投薬リスト[#Data],4,FALSE)&\"\",\"\")","v":""},null,null,null,null,null,null,null,null,null,null,null,{"$f":"IFERROR(VLOOKUP(__レジメンマスタ[[#This Row],[YJコード④]],[1]!__前投薬リスト[#Data],4,FALSE)&\"\",\"\")","v":""},null,null,null,null,null,null,null,null,null,null,null,{"$f":"IFERROR(VLOOKUP(__レジメンマスタ[[#This Row],[YJコード⑤]],[1]!__前投薬リスト[#Data],4,FALSE)&\"\",\"\")","v":""},null,null,null,null,null,null,null,null,null,null,null,{"$f":"IFERROR(VLOOKUP(__レジメンマスタ[[#This Row],[YJコード⑥]],[1]!__前投薬リスト[#Data],4,FALSE)&\"\",\"\")","v":""},null,null,null,null,null,null,null,null,null,null,null,{"$f":"IFERROR(VLOOKUP(__レジメンマスタ[[#This Row],[YJコード⑦]],[1]!__前投薬リスト[#Data],4,FALSE)&\"\",\"\")","v":""}]
["HEM0106","R2（リツキシマブ＋レブラミド）","　　　　　　Ｗ1          Ｗ2           Ｗ3               Ｗ4    \nR   ↓×××××× (↓)×××××  (↓)××××× (↓)××××××\nLEN ↓↓↓↓↓↓↓  ↓↓↓↓↓↓↓  ↓↓↓↓↓↓↓  ×××××××\nLEN:d1～21\nR:1クール目：D1,8,15,22　2～5クール目d1のみ","28日","5クール","リンパ腫","血液内科","リツキシマブ","危 500㎎/50mL ﾘﾂｷｼﾏﾌﾞBS点滴静注「ﾌｧｲｻﾞｰ」（希釈液:生食orTZ）（先:ﾘﾂｷｻﾝ）","4291451A2024","注射","５０ｍＬ／ｈで開始、ｍａｘ２００ｍＬ／ｈ",375,"㎡","mg",null,"d1(,8,15,22)",{"$f":"IFERROR(VLOOKUP(__レジメンマスタ[[#This Row],[YJコード①]],[1]!__前投薬リスト[#Data],4,FALSE)&\"\",\"\")","v":"抗ヒス,解,(ステ)"},null,"レブラミド",null,"4291024M1024","経口",null,20,"BODY","mg",null,"d1-21",{"$f":"IFERROR(VLOOKUP(__レジメンマスタ[[#This Row],[YJコード②]],[1]!__前投薬リスト[#Data],4,FALSE)&\"\",\"\")","v":""},null,null,null,null,null,null,null,null,null,null,null,{"$f":"IFERROR(VLOOKUP(__レジメンマスタ[[#This Row],[YJコード③]],[1]!__前投薬リスト[#Data],4,FALSE)&\"\",\"\")","v":""},null,null,null,null,null,null,null,null,null,null,null,{"$f":"IFERROR(VLOOKUP(__レジメンマスタ[[#This Row],[YJコード④]],[1]!__前投薬リスト[#Data],4,FALSE)&\"\",\"\")","v":""},null,null,null,null,null,null,null,null,null,null,null,{"$f":"IFERROR(VLOOKUP(__レジメンマスタ[[#This Row],[YJコード⑤]],[1]!__前投薬リスト[#Data],4,FALSE)&\"\",\"\")","v":""},null,null,null,null,null,null,null,null,null,null,null,{"$f":"IFERROR(VLOOKUP(__レジメンマスタ[[#This Row],[YJコード⑥]],[1]!__前投薬リスト[#Data],4,FALSE)&\"\",\"\")","v":""},null,null,null,null,null,null,null,null,null,null,null,{"$f":"IFERROR(VLOOKUP(__レジメンマスタ[[#This Row],[YJコード⑦]],[1]!__前投薬リスト[#Data],4,FALSE)&\"\",\"\")","v":""}]
["HEM0107-01","DMPB（点滴）","ダラザレックスは使わないはず（皮下のダラキューロを使うはず）\n\n1クール：６週間　　MP：1～9クール目　d1～4               \n1クール目：Dmab　毎週投与、Bor　d1，4，8，11，22，25，29，32　　                \n2～9クール目：Dmab　3週毎、Bor：d1，8，22，29                \n10クール目以降：Dmab単剤で4週毎               \n","42日","∞","骨髄腫","血液内科","ダラザレックス",null,"4291437A2024","注射",null,16,"kg","mg",null,"特記事項参照",{"$f":"IFERROR(VLOOKUP(__レジメンマスタ[[#This Row],[YJコード①]],[1]!__前投薬リスト[#Data],4,FALSE)&\"\",\"\")","v":"抗ヒス,ステ,解"},null,"ボルテゾミブ","危 ﾍﾞﾙｹｲﾄﾞ注射用 3mg（溶解液:生食）","4291412D1024","皮下","皮下投与",1.3,"㎡","mg",null,"d1,(4),8,(11),22,(25),29,(32)",{"$f":"IFERROR(VLOOKUP(__レジメンマスタ[[#This Row],[YJコード②]],[1]!__前投薬リスト[#Data],4,FALSE)&\"\",\"\")","v":""},null,"アルケラン",null,"4219002F1034","経口",null,9,"㎡","mg",null,"1-9C\nd1-4",{"$f":"IFERROR(VLOOKUP(__レジメンマスタ[[#This Row],[YJコード③]],[1]!__前投薬リスト[#Data],4,FALSE)&\"\",\"\")","v":""},null,"プレドニン",null,"2456001F1310","経口",null,60,"㎡","mg",null,"1-9C\nd1-4",{"$f":"IFERROR(VLOOKUP(__レジメンマスタ[[#This Row],[YJコード④]],[1]!__前投薬リスト[#Data],4,FALSE)&\"\",\"\")","v":""},null,null,null,null,null,null,null,null,null,null,null,{"$f":"IFERROR(VLOOKUP(__レジメンマスタ[[#This Row],[YJコード⑤]],[1]!__前投薬リスト[#Data],4,FALSE)&\"\",\"\")","v":""},null,null,null,null,null,null,null,null,null,null,null,{"$f":"IFERROR(VLOOKUP(__レジメンマスタ[[#This Row],[YJコード⑥]],[1]!__前投薬リスト[#Data],4,FALSE)&\"\",\"\")","v":""},null,null,null,null,null,null,null,null,null,null,null,{"$f":"IFERROR(VLOOKUP(__レジメンマスタ[[#This Row],[YJコード⑦]],[1]!__前投薬リスト[#Data],4,FALSE)&\"\",\"\")","v":""}]
["HEM0107-11","DMPB（皮下）","9クール目までは1クール：６週間　　\nアルケラン・プレドニン：1～9クール目　d1～4               \n1クール目：Dmab　毎週投与、Bor　d1，4，8，11，22，25，29，32　　                \n2～9クール目：Dmab(d1)3週毎、Bor：d1，8，22，29                \n\n10クール目以降：d1にDmab単剤で4週毎               \n","42→28日","∞","骨髄腫","血液内科","ダラキューロ","危 ﾀﾞﾗｷｭｰﾛ配合皮下注 1800mg/15mL","4291500A1023","皮下","３～５分かけて皮下注射",1800,"BODY","mg",null,"特記事項参照",{"$f":"IFERROR(VLOOKUP(__レジメンマスタ[[#This Row],[YJコード①]],[1]!__前投薬リスト[#Data],4,FALSE)&\"\",\"\")","v":"抗ヒス,ステ,解"},null,"ボルテゾミブ","危 ﾍﾞﾙｹｲﾄﾞ注射用 3mg（溶解液:生食）","4291412D1024","皮下","皮下投与",1.3,"㎡","mg",null,"d1,(4),8,(11),22,(25),29,(32)",{"$f":"IFERROR(VLOOKUP(__レジメンマスタ[[#This Row],[YJコード②]],[1]!__前投薬リスト[#Data],4,FALSE)&\"\",\"\")","v":""},null,"アルケラン",null,"4219002F1034","経口",null,9,"㎡","mg",null,"1-9C\nd1-4",{"$f":"IFERROR(VLOOKUP(__レジメンマスタ[[#This Row],[YJコード③]],[1]!__前投薬リスト[#Data],4,FALSE)&\"\",\"\")","v":""},null,"プレドニン",null,"2456001F1310","経口",null,60,"㎡","mg",null,"1-9C\nd1-4",{"$f":"IFERROR(VLOOKUP(__レジメンマスタ[[#This Row],[YJコード④]],[1]!__前投薬リスト[#Data],4,FALSE)&\"\",\"\")","v":""},null,null,null,null,null,null,null,null,null,null,null,{"$f":"IFERROR(VLOOKUP(__レジメンマスタ[[#This Row],[YJコード⑤]],[1]!__前投薬リスト[#Data],4,FALSE)&\"\",\"\")","v":""},null,null,null,null,null,null,null,null,null,null,null,{"$f":"IFERROR(VLOOKUP(__レジメンマスタ[[#This Row],[YJコード⑥]],[1]!__前投薬リスト[#Data],4,FALSE)&\"\",\"\")","v":""},null,null,null,null,null,null,null,null,null,null,null,{"$f":"IFERROR(VLOOKUP(__レジメンマスタ[[#This Row],[YJコード⑦]],[1]!__前投薬リスト[#Data],4,FALSE)&\"\",\"\")","v":""}]
["HEM0108","EPd"," １コース：４週間　　POM：d1～21               \nELO：１～２コース 毎週投与、3コース以降：　4週毎                \n\nDEXはエムプリシティ投与前に経口　28mg、注射：6.6mg\n（DEX経口は75歳以上には8mg／日へ減量）          \n","28日",null,"骨髄腫","血液内科","エムプリシティ(1～2コース)",null,"4291434D2027","注射",null,10,"kg","mg",null,"d1,8,15,22",{"$f":"IFERROR(VLOOKUP(__レジメンマスタ[[#This Row],[YJコード①]],[1]!__前投薬リスト[#Data],4,FALSE)&\"\",\"\")","v":"抗ヒス,H2B,ステ,解"},null,"エムプリシティ(3コース～)",null,"4291434D2027","注射",null,20,"kg","mg",null,"d1",{"$f":"IFERROR(VLOOKUP(__レジメンマスタ[[#This Row],[YJコード②]],[1]!__前投薬リスト[#Data],4,FALSE)&\"\",\"\")","v":"抗ヒス,H2B,ステ,解"},null,"ポマリスト",null,"4291038M4025","経口",null,4,"BODY","mg",null,"d1-21",{"$f":"IFERROR(VLOOKUP(__レジメンマスタ[[#This Row],[YJコード③]],[1]!__前投薬リスト[#Data],4,FALSE)&\"\",\"\")","v":""},null,"DEX",null,"2454002F3020","経口",null,28,"BODY","mg",null,"d1,8,15,22",{"$f":"IFERROR(VLOOKUP(__レジメンマスタ[[#This Row],[YJコード④]],[1]!__前投薬リスト[#Data],4,FALSE)&\"\",\"\")","v":""},null,null,null,null,null,null,null,null,null,null,null,{"$f":"IFERROR(VLOOKUP(__レジメンマスタ[[#This Row],[YJコード⑤]],[1]!__前投薬リスト[#Data],4,FALSE)&\"\",\"\")","v":""},null,null,null,null,null,null,null,null,null,null,null,{"$f":"IFERROR(VLOOKUP(__レジメンマスタ[[#This Row],[YJコード⑥]],[1]!__前投薬リスト[#Data],4,FALSE)&\"\",\"\")","v":""},null,null,null,null,null,null,null,null,null,null,null,{"$f":"IFERROR(VLOOKUP(__レジメンマスタ[[#This Row],[YJコード⑦]],[1]!__前投薬リスト[#Data],4,FALSE)&\"\",\"\")","v":""}]
["HEM0109","CEOP","　　　　　　Ｗ1            Ｗ2           Ｗ3           \nCPA  　↓××××××  ××××××× ×××××××    \nETP　　↓××××××  ××××××× ××××××× \nETP(PO)×↓↓××××  ××××××× ××××××× \nVCR　　↓××××××  ××××××× ×××××××  \nPSL 　 ↓↓↓↓↓××  ××××××× ×××××××\n★オンコビンmax2mg★ ","21日","6コース","リンパ腫","血液内科","エンドキサン","危 注射用ｴﾝﾄﾞｷｻﾝ 500㎎","4211401D2021","注射","２ 時間で",750,"㎡","mg",null,"d1",{"$f":"IFERROR(VLOOKUP(__レジメンマスタ[[#This Row],[YJコード①]],[1]!__前投薬リスト[#Data],4,FALSE)&\"\",\"\")","v":""},null,"エトポシド","危 ｴﾄﾎﾟｼﾄﾞ点滴静注液「ｻﾝﾄﾞ」100mg/5mL（先:ﾗｽﾃｯﾄ）","4240403A2069","注射","３０ 分で",50,"㎡","mg",null,"d1",{"$f":"IFERROR(VLOOKUP(__レジメンマスタ[[#This Row],[YJコード②]],[1]!__前投薬リスト[#Data],4,FALSE)&\"\",\"\")","v":""},null,"ラステットS",null,"4240001M1067","経口",null,100,"㎡","mg",null,"d2,3",{"$f":"IFERROR(VLOOKUP(__レジメンマスタ[[#This Row],[YJコード③]],[1]!__前投薬リスト[#Data],4,FALSE)&\"\",\"\")","v":""},null,"オンコビン","危 ｵﾝｺﾋﾞﾝ注射用 1㎎","4240400D1030","注射","５～１０分　かけて",1.4,"㎡","mg",null,"d1",{"$f":"IFERROR(VLOOKUP(__レジメンマスタ[[#This Row],[YJコード④]],[1]!__前投薬リスト[#Data],4,FALSE)&\"\",\"\")","v":""},null,"プレドニン",null,"2456001F1310","経口",null,100,"BODY","mg",null,"d1-5",{"$f":"IFERROR(VLOOKUP(__レジメンマスタ[[#This Row],[YJコード⑤]],[1]!__前投薬リスト[#Data],4,FALSE)&\"\",\"\")","v":""},null,null,null,null,null,null,null,null,null,null,null,{"$f":"IFERROR(VLOOKUP(__レジメンマスタ[[#This Row],[YJコード⑥]],[1]!__前投薬リスト[#Data],4,FALSE)&\"\",\"\")","v":""},null,null,null,null,null,null,null,null,null,null,null,{"$f":"IFERROR(VLOOKUP(__レジメンマスタ[[#This Row],[YJコード⑦]],[1]!__前投薬リスト[#Data],4,FALSE)&\"\",\"\")","v":""}]
["HEM0110","GCVP+R","　　　　　　Ｗ1            Ｗ2           Ｗ3           \nCPA  　↓××××××  ××××××× ×××××××    \nGEM　　↓××××××  ↓×××××× ××××××× \nVCR　　↓××××××  ××××××× ×××××××  \nPSL 　 ↓↓↓↓↓××  ××××××× ×××××××\n★オンコビンmax2mg★ \nGEM：2ｺｰｽ目以降875mg/㎡、3ｺｰｽ目以降1000mg/㎡に増量可能\nR:d0またはd8に施行\n※前後することあり(休薬はR同士で1週以上あいていれば可）","21日","6コース","リンパ腫","血液内科","ゲムシタビン(初回)","危 1g ｹﾞﾑｼﾀﾋﾞﾝ点滴静注用「ﾔｸﾙﾄ」（溶解液:生食）（先:ｼﾞｪﾑｻﾞｰﾙ）","4224403D2061","注射","３０ 分で",750,"㎡","mg",null,"d1,8",{"$f":"IFERROR(VLOOKUP(__レジメンマスタ[[#This Row],[YJコード①]],[1]!__前投薬リスト[#Data],4,FALSE)&\"\",\"\")","v":""},null,"ゲムシタビン(2ｺｰｽ目以降)","危 1g ｹﾞﾑｼﾀﾋﾞﾝ点滴静注用「ﾔｸﾙﾄ」（溶解液:生食）（先:ｼﾞｪﾑｻﾞｰﾙ）","4224403D2061","注射","３０ 分で",875,"㎡","mg",null,"d1,8",{"$f":"IFERROR(VLOOKUP(__レジメンマスタ[[#This Row],[YJコード②]],[1]!__前投薬リスト[#Data],4,FALSE)&\"\",\"\")","v":""},null,"ゲムシタビン(3ｺｰｽ目以降)","危 1g ｹﾞﾑｼﾀﾋﾞﾝ点滴静注用「ﾔｸﾙﾄ」（溶解液:生食）（先:ｼﾞｪﾑｻﾞｰﾙ）","4224403D2061","注射","３０ 分で",1000,"㎡","mg",null,"d1,8",{"$f":"IFERROR(VLOOKUP(__レジメンマスタ[[#This Row],[YJコード③]],[1]!__前投薬リスト[#Data],4,FALSE)&\"\",\"\")","v":""},null,"エンドキサン","危 注射用ｴﾝﾄﾞｷｻﾝ 500㎎","4211401D2021","注射","２ 時間で",750,"㎡","mg",null,"d1",{"$f":"IFERROR(VLOOKUP(__レジメンマスタ[[#This Row],[YJコード④]],[1]!__前投薬リスト[#Data],4,FALSE)&\"\",\"\")","v":""},null,"オンコビン","危 ｵﾝｺﾋﾞﾝ注射用 1㎎","4240400D1030","注射","５～１０分で",1.4,"㎡","mg",null,"d1",{"$f":"IFERROR(VLOOKUP(__レジメンマスタ[[#This Row],[YJコード⑤]],[1]!__前投薬リスト[#Data],4,FALSE)&\"\",\"\")","v":""},null,"リツキシマブ","危 500㎎/50mL ﾘﾂｷｼﾏﾌﾞBS点滴静注「ﾌｧｲｻﾞｰ」（希釈液:生食orTZ）（先:ﾘﾂｷｻﾝ）","4291451A2024","注射","５０ｍｌ／ｈで開始、ｍａｘ２００ｍＬ／ｈ",375,"㎡","mg",null,"d0",{"$f":"IFERROR(VLOOKUP(__レジメンマスタ[[#This Row],[YJコード⑥]],[1]!__前投薬リスト[#Data],4,FALSE)&\"\",\"\")","v":"抗ヒス,解,(ステ)"},null,"プレドニゾロン",null,"2456001F1310","経口",null,100,"BODY","mg",null,"d1-5",{"$f":"IFERROR(VLOOKUP(__レジメンマスタ[[#This Row],[YJコード⑦]],[1]!__前投薬リスト[#Data],4,FALSE)&\"\",\"\")","v":""}]
["HEM0111-1","R-MPV療法","　　　　　　Ｗ1            Ｗ2            \nR 　 ↓××××××  ×××××××    \nMTX　×↓×××××  ××××××× \nVCR　×↓×××××  ×××××××  \nProc ×↓↓↓↓↓↓  ↓×××××× \n※プロカルバジン：奇数コースのみ（7日間内服）\n★オンコビンmax2mg★\n※Rは前後することあり(休薬はR同士で1週以上あいていれば可）\n7ｺｰｽ終了後、大量AraC療法へ（レジメン変更へ）\n【腎機能に応じた減量は下記の大量MTXの基準を参考にしている】\nCCr80-60:80%,　60-50:60%,　<50:禁忌","14日","7コース","リンパ腫","血液内科","リツキシマブ","危 500㎎/50mL ﾘﾂｷｼﾏﾌﾞBS点滴静注「ﾌｧｲｻﾞｰ」（希釈液:生食orTZ）（先:ﾘﾂｷｻﾝ）","4291451A2024","注射","５０ｍｌ／ｈで開始、ｍａｘ２００ｍＬ／ｈ",375,"㎡","mg",null,"d1",{"$f":"IFERROR(VLOOKUP(__レジメンマスタ[[#This Row],[YJコード①]],[1]!__前投薬リスト[#Data],4,FALSE)&\"\",\"\")","v":"抗ヒス,解,(ステ)"},null,"メソトレキセート注（大量）","危 1000mg/40mL ﾒｿﾄﾚｷｾｰﾄ点滴静注液","4222400A2024","注射",null,3500,"㎡","mg",null,"d2",{"$f":"IFERROR(VLOOKUP(__レジメンマスタ[[#This Row],[YJコード②]],[1]!__前投薬リスト[#Data],4,FALSE)&\"\",\"\")","v":""},null,"オンコビン","危 ｵﾝｺﾋﾞﾝ注射用 1㎎","4240400D1030","注射","５～１０分　かけて",1.4,"㎡","mg",null,"d2",{"$f":"IFERROR(VLOOKUP(__レジメンマスタ[[#This Row],[YJコード③]],[1]!__前投薬リスト[#Data],4,FALSE)&\"\",\"\")","v":""},null,"プロカルバジン",null,"4291002M1044","経口",null,100,"㎡","mg",null,"d2-8",{"$f":"IFERROR(VLOOKUP(__レジメンマスタ[[#This Row],[YJコード④]],[1]!__前投薬リスト[#Data],4,FALSE)&\"\",\"\")","v":""},null,null,null,null,null,null,null,null,null,null,null,{"$f":"IFERROR(VLOOKUP(__レジメンマスタ[[#This Row],[YJコード⑤]],[1]!__前投薬リスト[#Data],4,FALSE)&\"\",\"\")","v":""},null,null,null,null,null,null,null,null,null,null,null,{"$f":"IFERROR(VLOOKUP(__レジメンマスタ[[#This Row],[YJコード⑥]],[1]!__前投薬リスト[#Data],4,FALSE)&\"\",\"\")","v":""},null,null,null,null,null,null,null,null,null,null,null,{"$f":"IFERROR(VLOOKUP(__レジメンマスタ[[#This Row],[YJコード⑦]],[1]!__前投薬リスト[#Data],4,FALSE)&\"\",\"\")","v":""}]
["HEM0111-2","大量AraC療法","　　　　　　Ｗ1            Ｗ2           Ｗ3            W4       \nAraC ↓↓×××××  ××××××× ××××××× ××××××× \n2コースまで","28日","2コース","リンパ腫","血液内科","シタラビン","危 1g/50mL ｼﾀﾗﾋﾞﾝ点滴静注液「NIG」（希釈液:生食orTZ）（先:ｷﾛｻｲﾄﾞN）","4224401A7041","注射",null,3000,"㎡","mg",null,"d1,2",{"$f":"IFERROR(VLOOKUP(__レジメンマスタ[[#This Row],[YJコード①]],[1]!__前投薬リスト[#Data],4,FALSE)&\"\",\"\")","v":""},null,null,null,null,null,null,null,null,null,null,null,{"$f":"IFERROR(VLOOKUP(__レジメンマスタ[[#This Row],[YJコード②]],[1]!__前投薬リスト[#Data],4,FALSE)&\"\",\"\")","v":""},null,null,null,null,null,null,null,null,null,null,null,{"$f":"IFERROR(VLOOKUP(__レジメンマスタ[[#This Row],[YJコード③]],[1]!__前投薬リスト[#Data],4,FALSE)&\"\",\"\")","v":""},null,null,null,null,null,null,null,null,null,null,null,{"$f":"IFERROR(VLOOKUP(__レジメンマスタ[[#This Row],[YJコード④]],[1]!__前投薬リスト[#Data],4,FALSE)&\"\",\"\")","v":""},null,null,null,null,null,null,null,null,null,null,null,{"$f":"IFERROR(VLOOKUP(__レジメンマスタ[[#This Row],[YJコード⑤]],[1]!__前投薬リスト[#Data],4,FALSE)&\"\",\"\")","v":""},null,null,null,null,null,null,null,null,null,null,null,{"$f":"IFERROR(VLOOKUP(__レジメンマスタ[[#This Row],[YJコード⑥]],[1]!__前投薬リスト[#Data],4,FALSE)&\"\",\"\")","v":""},null,null,null,null,null,null,null,null,null,null,null,{"$f":"IFERROR(VLOOKUP(__レジメンマスタ[[#This Row],[YJコード⑦]],[1]!__前投薬リスト[#Data],4,FALSE)&\"\",\"\")","v":""}]
["HEM0112-01","JALSG　Ph(+)ALL208寛解導入","　　　　Ｗ1              Ｗ2      Ｗ3  Ｗ4  Ｗ5  Ｗ6\nCPA ↓××××××  ××××××× ×× ×× ×× ××      \nDXR ↓↓↓××××  ××××××× ×× ×× ×× ××\nVCR ↓××××××  ↓×××××× ↓× ↓× ×× ××\n髄注(d29)(MTX15mg＋AraC40mg＋DEX4mg)       ★\nPSL ↓↓↓↓↓↓↓ (↓↓↓↓↓↓↓ ↓↓)その後斬減\nIM  ×××××××  ↓↓↓↓↓↓↓～ D42まで連日\nPSL：15～59歳d1-21(その後1週で漸減）、60～64歳d1-7(その後1週で漸減）\n60～64歳：CPA800mg/㎡、DNR30mg/㎡へ減量\n※オンコビンmax2mg※","42日",null,"白血病（ALL)","血液内科","エンドキサン","危 注射用ｴﾝﾄﾞｷｻﾝ 500㎎","4211401D2021","注射","３ 時間で",1200,"㎡","mg",null,"d1",{"$f":"IFERROR(VLOOKUP(__レジメンマスタ[[#This Row],[YJコード①]],[1]!__前投薬リスト[#Data],4,FALSE)&\"\",\"\")","v":""},null,"ダウノマイシン",null,"4235401D1035","注射","１時間で",60,"㎡","mg",null,"d1-3",{"$f":"IFERROR(VLOOKUP(__レジメンマスタ[[#This Row],[YJコード②]],[1]!__前投薬リスト[#Data],4,FALSE)&\"\",\"\")","v":""},null,"オンコビン","危 ｵﾝｺﾋﾞﾝ注射用 1㎎","4240400D1030","注射","５～１０分　かけて",1.3,"㎡","mg",null,"d1,8,15,22",{"$f":"IFERROR(VLOOKUP(__レジメンマスタ[[#This Row],[YJコード③]],[1]!__前投薬リスト[#Data],4,FALSE)&\"\",\"\")","v":""},null,"プレドニン",null,"2456001F1310","経口",null,60,"㎡","mg",null,"d1-21(1-7)",{"$f":"IFERROR(VLOOKUP(__レジメンマスタ[[#This Row],[YJコード④]],[1]!__前投薬リスト[#Data],4,FALSE)&\"\",\"\")","v":""},null,"イマチニブ",null,"4291011F1052","経口",null,600,"BODY","mg",null,"d8-42",{"$f":"IFERROR(VLOOKUP(__レジメンマスタ[[#This Row],[YJコード⑤]],[1]!__前投薬リスト[#Data],4,FALSE)&\"\",\"\")","v":""},null,null,null,null,null,null,null,null,null,null,null,{"$f":"IFERROR(VLOOKUP(__レジメンマスタ[[#This Row],[YJコード⑥]],[1]!__前投薬リスト[#Data],4,FALSE)&\"\",\"\")","v":""},null,null,null,null,null,null,null,null,null,null,null,{"$f":"IFERROR(VLOOKUP(__レジメンマスタ[[#This Row],[YJコード⑦]],[1]!__前投薬リスト[#Data],4,FALSE)&\"\",\"\")","v":""}]
["HEM0112-04","JALSG　Ph(+)ALL208維持療法","　　　　Ｗ1              Ｗ2       　　Ｗ3   　　　Ｗ4  \nVCR ↓×××××× ××××××× ××××××× ×××××××\nPSL ↓↓↓↓↓×× ××××××× ××××××× ××××××× \nIMは連日\n※オンコビンmax2mg※\n\n好中球1000/μL、血小板8万/μL以上になったら開始\n投与期間：寛解到達後2年目まで\n→制限年月日を患者特記事項に記載","28日",null,"白血病（ALL)","血液内科","オンコビン","危 ｵﾝｺﾋﾞﾝ注射用 1㎎","4240400D1030","注射","５～１０分　かけて",1.3,"㎡","mg",null,"d1",{"$f":"IFERROR(VLOOKUP(__レジメンマスタ[[#This Row],[YJコード①]],[1]!__前投薬リスト[#Data],4,FALSE)&\"\",\"\")","v":""},null,"プレドニン",null,"2456001F1310","経口",null,60,"㎡","mg",null,"d1-5",{"$f":"IFERROR(VLOOKUP(__レジメンマスタ[[#This Row],[YJコード②]],[1]!__前投薬リスト[#Data],4,FALSE)&\"\",\"\")","v":""},null,"イマチニブ",null,"4291011F1052","経口",null,600,"BODY","mg",null,"連日",{"$f":"IFERROR(VLOOKUP(__レジメンマスタ[[#This Row],[YJコード③]],[1]!__前投薬リスト[#Data],4,FALSE)&\"\",\"\")","v":""},null,null,null,null,null,null,null,null,null,null,null,{"$f":"IFERROR(VLOOKUP(__レジメンマスタ[[#This Row],[YJコード④]],[1]!__前投薬リスト[#Data],4,FALSE)&\"\",\"\")","v":""},null,null,null,null,null,null,null,null,null,null,null,{"$f":"IFERROR(VLOOKUP(__レジメンマスタ[[#This Row],[YJコード⑤]],[1]!__前投薬リスト[#Data],4,FALSE)&\"\",\"\")","v":""},null,null,null,null,null,null,null,null,null,null,null,{"$f":"IFERROR(VLOOKUP(__レジメンマスタ[[#This Row],[YJコード⑥]],[1]!__前投薬リスト[#Data],4,FALSE)&\"\",\"\")","v":""},null,null,null,null,null,null,null,null,null,null,null,{"$f":"IFERROR(VLOOKUP(__レジメンマスタ[[#This Row],[YJコード⑦]],[1]!__前投薬リスト[#Data],4,FALSE)&\"\",\"\")","v":""}]
["HEM0112-21","JALSG　Ph(+)ALL208地固めC2","　　　　　Ｗ1          Ｗ2            Ｗ3           Ｗ4\nCPA ↓×××××× ××××××× ××××××× ×××××××\nDNR ↓×××××× ××××××× ××××××× ×××××××\nVCR ↓×××××× ××××××× ××××××× ×××××××\nIM  ×↓↓↓↓↓↓ ↓↓↓↓↓↓↓ ↓↓↓↓↓↓↓ ×××××××\nPSL ↓↓↓↓↓↓↓ 1週間かけて斬減\n髄注★　（d1にMTX15mg＋AraC40mg＋DEX4mg）\n※オンコビンmax2mg※","28日",null,"白血病（ALL)","血液内科","エンドキサン","危 注射用ｴﾝﾄﾞｷｻﾝ 500㎎","4211401D2021","注射","３ 時間で",1200,"㎡","mg",null,"d1",{"$f":"IFERROR(VLOOKUP(__レジメンマスタ[[#This Row],[YJコード①]],[1]!__前投薬リスト[#Data],4,FALSE)&\"\",\"\")","v":""},null,"ダウノマイシン",null,"4235401D1035","注射","１時間で",60,"㎡","mg",null,"d1",{"$f":"IFERROR(VLOOKUP(__レジメンマスタ[[#This Row],[YJコード②]],[1]!__前投薬リスト[#Data],4,FALSE)&\"\",\"\")","v":""},null,"オンコビン","危 ｵﾝｺﾋﾞﾝ注射用 1㎎","4240400D1030","注射","５～１０分　かけて",1.3,"㎡","mg",null,"d1",{"$f":"IFERROR(VLOOKUP(__レジメンマスタ[[#This Row],[YJコード③]],[1]!__前投薬リスト[#Data],4,FALSE)&\"\",\"\")","v":""},null,"プレドニン",null,"2456001F1310","経口",null,60,"㎡","mg",null,"d1-7",{"$f":"IFERROR(VLOOKUP(__レジメンマスタ[[#This Row],[YJコード④]],[1]!__前投薬リスト[#Data],4,FALSE)&\"\",\"\")","v":""},null,"イマチニブ",null,"4291011F1052","経口",null,600,"BODY","mg",null,"d2-21",{"$f":"IFERROR(VLOOKUP(__レジメンマスタ[[#This Row],[YJコード⑤]],[1]!__前投薬リスト[#Data],4,FALSE)&\"\",\"\")","v":""},null,null,null,null,null,null,null,null,null,null,null,{"$f":"IFERROR(VLOOKUP(__レジメンマスタ[[#This Row],[YJコード⑥]],[1]!__前投薬リスト[#Data],4,FALSE)&\"\",\"\")","v":""},null,null,null,null,null,null,null,null,null,null,null,{"$f":"IFERROR(VLOOKUP(__レジメンマスタ[[#This Row],[YJコード⑦]],[1]!__前投薬リスト[#Data],4,FALSE)&\"\",\"\")","v":""}]
["HEM0113-11","DKd（点滴：75歳以下）","　　　　　　Ｗ1               Ｗ2             Ｗ3            Ｗ4    \nCarf  ↓ ↓ ×××××  ↓↓××××× ↓↓×××××  ××××××× \nDEX   ↓ × ×××××  ↓×××××× ↓××××××  ↓×××××× \nDmab  ↓(↓)×××××  ↓×××××× ↓××××××  ↓××××××   \nDmab:1～2クール：毎週投与　（）：1クールのみ\n　　3～6クール：2週間毎、7クール以降：4週間毎\nDEX：40mg/週（75歳以上または過小体重（BMI：18.5kg/㎡未満）20mg/週に適宜減量）。病勢によりさらに減量可。","28日","∞","骨髄腫","血液内科","ダラザレックス",null,"4291437A2024","注射",null,8,"kg","mg",null,"1C目d1,2",{"$f":"IFERROR(VLOOKUP(__レジメンマスタ[[#This Row],[YJコード①]],[1]!__前投薬リスト[#Data],4,FALSE)&\"\",\"\")","v":"抗ヒス,ステ,解"},null,"ダラザレックス",null,"4291437A2024","注射",null,16,"kg","mg",null,"特記事項参照",{"$f":"IFERROR(VLOOKUP(__レジメンマスタ[[#This Row],[YJコード②]],[1]!__前投薬リスト[#Data],4,FALSE)&\"\",\"\")","v":"抗ヒス,ステ,解"},null,"カイプロリス(1C,d1-2のみ)","危〈毒〉40mg ｶｲﾌﾟﾛﾘｽ点滴静注用（溶解液:Aq、希釈液:TZ）","4291433D2022","注射","３０ 分で",20,"㎡","mg",null,"d1,2(1C目)",{"$f":"IFERROR(VLOOKUP(__レジメンマスタ[[#This Row],[YJコード③]],[1]!__前投薬リスト[#Data],4,FALSE)&\"\",\"\")","v":"(ステ)"},null,"カイプロリス（上記以降）","危〈毒〉40mg ｶｲﾌﾟﾛﾘｽ点滴静注用（溶解液:Aq、希釈液:TZ）","4291433D2022","注射","３０ 分で",56,"㎡","mg",null,"d1,2,8,9,15,16",{"$f":"IFERROR(VLOOKUP(__レジメンマスタ[[#This Row],[YJコード④]],[1]!__前投薬リスト[#Data],4,FALSE)&\"\",\"\")","v":"(ステ)"},null,"DEX",null,"2454002F3020","他",null,40,"BODY","mg",null,"d1,2,8,9,15,16,22",{"$f":"IFERROR(VLOOKUP(__レジメンマスタ[[#This Row],[YJコード⑤]],[1]!__前投薬リスト[#Data],4,FALSE)&\"\",\"\")","v":""},null,null,null,null,null,null,null,null,null,null,null,{"$f":"IFERROR(VLOOKUP(__レジメンマスタ[[#This Row],[YJコード⑥]],[1]!__前投薬リスト[#Data],4,FALSE)&\"\",\"\")","v":""},null,null,null,null,null,null,null,null,null,null,null,{"$f":"IFERROR(VLOOKUP(__レジメンマスタ[[#This Row],[YJコード⑦]],[1]!__前投薬リスト[#Data],4,FALSE)&\"\",\"\")","v":""}]
["HEM0113-21","DKd（点滴：76歳以上）","　　　　　　Ｗ1            Ｗ2           Ｗ3           Ｗ4    \nCarf  ↓ ↓ ×××××  ↓↓××××× ↓↓×××××  ××××××× \nDEX   ↓ × ×××××  ↓×××××× ↓××××××  ↓×××××× \nDmab  ↓(↓)×××××  ↓×××××× ↓××××××  ↓××××××   \nDmab:1～2クール：毎週投与　（）：1クールのみ\n　　3～6クール：2週間毎、7クール以降：4週間毎\nDEX：40mg/週（75歳以上または過小体重（BMI：18.5kg/㎡未満）20mg/週に適宜減量）。病勢によりさらに減量可。","28日","∞","骨髄腫","血液内科","ダラザレックス",null,"4291437A2024","注射",null,8,"kg","mg",null,"1C目d1,2",{"$f":"IFERROR(VLOOKUP(__レジメンマスタ[[#This Row],[YJコード①]],[1]!__前投薬リスト[#Data],4,FALSE)&\"\",\"\")","v":"抗ヒス,ステ,解"},null,null,null,null,null,null,null,null,null,null,null,{"$f":"IFERROR(VLOOKUP(__レジメンマスタ[[#This Row],[YJコード②]],[1]!__前投薬リスト[#Data],4,FALSE)&\"\",\"\")","v":""},null,null,null,null,null,null,null,null,null,null,null,{"$f":"IFERROR(VLOOKUP(__レジメンマスタ[[#This Row],[YJコード③]],[1]!__前投薬リスト[#Data],4,FALSE)&\"\",\"\")","v":""},null,null,null,null,null,null,null,null,null,null,null,{"$f":"IFERROR(VLOOKUP(__レジメンマスタ[[#This Row],[YJコード④]],[1]!__前投薬リスト[#Data],4,FALSE)&\"\",\"\")","v":""},null,"DEX",null,"2454002F3020","他",null,20,"BODY","mg",null,"d1,2,8,9,15,16,22",{"$f":"IFERROR(VLOOKUP(__レジメンマスタ[[#This Row],[YJコード⑤]],[1]!__前投薬リスト[#Data],4,FALSE)&\"\",\"\")","v":""},null,null,null,null,null,null,null,null,null,null,null,{"$f":"IFERROR(VLOOKUP(__レジメンマスタ[[#This Row],[YJコード⑥]],[1]!__前投薬リスト[#Data],4,FALSE)&\"\",\"\")","v":""},null,null,null,null,null,null,null,null,null,null,null,{"$f":"IFERROR(VLOOKUP(__レジメンマスタ[[#This Row],[YJコード⑦]],[1]!__前投薬リスト[#Data],4,FALSE)&\"\",\"\")","v":""}]
["HEM0113-31","DKd（皮下：75歳以下）","　　　　　　Ｗ1            Ｗ2           Ｗ3           Ｗ4    \nCarf  ↓↓×××××  ↓↓××××× ↓↓×××××  ××××××× \nDEX   ↓↓×××××  ↓↓××××× ↓↓×××××  ↓×××××× \nDmab  ↓××××××  ↓×××××× ↓××××××  ↓××××××   \nDmab：1-2ｺｰｽ目(d1,8,15,22)毎週投与、3-6ｺｰｽ目(d1,15)2週毎、\n7ｺｰｽ目以降(d1のみ)4週毎 \nDEX：40mg/週（過小体重（BMI：18.5kg/㎡未満）20mg/週に適宜減量）。病勢によりさらに減量可。","28日","∞","骨髄腫","血液内科","ダラキューロ","危 ﾀﾞﾗｷｭｰﾛ配合皮下注 1800mg/15mL","4291500A1023","皮下","３～５分かけて皮下注射",1800,"BODY","mg",null,"特記事項参照",{"$f":"IFERROR(VLOOKUP(__レジメンマスタ[[#This Row],[YJコード①]],[1]!__前投薬リスト[#Data],4,FALSE)&\"\",\"\")","v":"抗ヒス,ステ,解"},null,"カイプロリス(1C,d1-2のみ)","危〈毒〉40mg ｶｲﾌﾟﾛﾘｽ点滴静注用（溶解液:Aq、希釈液:TZ）","4291433D2022","注射","３０ 分で",20,"㎡","mg",null,"d1,2(1C目)",{"$f":"IFERROR(VLOOKUP(__レジメンマスタ[[#This Row],[YJコード②]],[1]!__前投薬リスト[#Data],4,FALSE)&\"\",\"\")","v":"(ステ)"},null,"カイプロリス（上記以降）","危〈毒〉40mg ｶｲﾌﾟﾛﾘｽ点滴静注用（溶解液:Aq、希釈液:TZ）","4291433D2022","注射","３０ 分で",56,"㎡","mg",null,"d1,2,8,9,15,16",{"$f":"IFERROR(VLOOKUP(__レジメンマスタ[[#This Row],[YJコード③]],[1]!__前投薬リスト[#Data],4,FALSE)&\"\",\"\")","v":"(ステ)"},null,"DEX",null,"2454002F3020","他",null,20,"BODY","mg",null,"d1,2,8,9,15,16,22",{"$f":"IFERROR(VLOOKUP(__レジメンマスタ[[#This Row],[YJコード④]],[1]!__前投薬リスト[#Data],4,FALSE)&\"\",\"\")","v":""},null,null,null,null,null,null,null,null,null,null,null,{"$f":"IFERROR(VLOOKUP(__レジメンマスタ[[#This Row],[YJコード⑤]],[1]!__前投薬リスト[#Data],4,FALSE)&\"\",\"\")","v":""},null,null,null,null,null,null,null,null,null,null,null,{"$f":"IFERROR(VLOOKUP(__レジメンマスタ[[#This Row],[YJコード⑥]],[1]!__前投薬リスト[#Data],4,FALSE)&\"\",\"\")","v":""},null,null,null,null,null,null,null,null,null,null,null,{"$f":"IFERROR(VLOOKUP(__レジメンマスタ[[#This Row],[YJコード⑦]],[1]!__前投薬リスト[#Data],4,FALSE)&\"\",\"\")","v":""}]
["HEM0113-41","DKd（皮下：76歳以上）","　　　　　　Ｗ1            Ｗ2           Ｗ3           Ｗ4    \nCarf  ↓↓×××××  ↓↓××××× ↓↓×××××  ××××××× \nDEX   ↓↓×××××  ↓↓××××× ↓↓×××××  ↓×××××× \nDmab  ↓××××××  ↓×××××× ↓××××××  ↓××××××   \nDmab：1-2ｺｰｽ目(d1,8,15,22)毎週投与、3-6ｺｰｽ目(d1,15)2週毎、\n7ｺｰｽ目以降(d1のみ)4週毎 \nDEX：40mg/週（75歳以上または過小体重（BMI：18.5kg/㎡未満）20mg/週に適宜減量）。病勢によりさらに減量可。","28日","∞","骨髄腫","血液内科","ダラキューロ","危 ﾀﾞﾗｷｭｰﾛ配合皮下注 1800mg/15mL","4291500A1023","皮下","３～５分かけて皮下注射",1800,"BODY","mg",null,"特記事項参照",{"$f":"IFERROR(VLOOKUP(__レジメンマスタ[[#This Row],[YJコード①]],[1]!__前投薬リスト[#Data],4,FALSE)&\"\",\"\")","v":"抗ヒス,ステ,解"},null,"カイプロリス(1C,d1-2のみ)","危〈毒〉40mg ｶｲﾌﾟﾛﾘｽ点滴静注用（溶解液:Aq、希釈液:TZ）","4291433D2022","注射","３０ 分で",20,"㎡","mg",null,"d1,2(1C目)",{"$f":"IFERROR(VLOOKUP(__レジメンマスタ[[#This Row],[YJコード②]],[1]!__前投薬リスト[#Data],4,FALSE)&\"\",\"\")","v":"(ステ)"},null,"カイプロリス（上記以降）","危〈毒〉40mg ｶｲﾌﾟﾛﾘｽ点滴静注用（溶解液:Aq、希釈液:TZ）","4291433D2022","注射","３０ 分で",56,"㎡","mg",null,"d1,2,8,9,15,16",{"$f":"IFERROR(VLOOKUP(__レジメンマスタ[[#This Row],[YJコード③]],[1]!__前投薬リスト[#Data],4,FALSE)&\"\",\"\")","v":"(ステ)"},null,"DEX",null,"2454002F3020","他",null,20,"BODY","mg",null,"d1,2,8,9,15,16,22",{"$f":"IFERROR(VLOOKUP(__レジメンマスタ[[#This Row],[YJコード④]],[1]!__前投薬リスト[#Data],4,FALSE)&\"\",\"\")","v":""},null,null,null,null,null,null,null,null,null,null,null,{"$f":"IFERROR(VLOOKUP(__レジメンマスタ[[#This Row],[YJコード⑤]],[1]!__前投薬リスト[#Data],4,FALSE)&\"\",\"\")","v":""},null,null,null,null,null,null,null,null,null,null,null,{"$f":"IFERROR(VLOOKUP(__レジメンマスタ[[#This Row],[YJコード⑥]],[1]!__前投薬リスト[#Data],4,FALSE)&\"\",\"\")","v":""},null,null,null,null,null,null,null,null,null,null,null,{"$f":"IFERROR(VLOOKUP(__レジメンマスタ[[#This Row],[YJコード⑦]],[1]!__前投薬リスト[#Data],4,FALSE)&\"\",\"\")","v":""}]
["HEM0114","RB（B:120mg/㎡）","　　　　　　Ｗ1            Ｗ2           Ｗ3           \nR  　↓××××××  ××××××× ×××××××    \nB　　×↓↓××××  ××××××× ×××××××\n※Rは前後することあり(休薬はR同士で1週以上あいていれば可） ","21日","6コース","リンパ腫","血液内科","リツキシマブ","危 500㎎/50mL ﾘﾂｷｼﾏﾌﾞBS点滴静注「ﾌｧｲｻﾞｰ」（希釈液:生食orTZ）（先:ﾘﾂｷｻﾝ）","4291451A2024","注射","５０ｍＬ／ｈで開始、ｍａｘ２００ｍＬ／ｈ",375,"㎡","mg",null,"d1",{"$f":"IFERROR(VLOOKUP(__レジメンマスタ[[#This Row],[YJコード①]],[1]!__前投薬リスト[#Data],4,FALSE)&\"\",\"\")","v":"抗ヒス,解,(ステ)"},null,"ベンダムスチン","危 100mg/4mL ﾍﾞﾝﾀﾞﾑｽﾁﾝ塩酸塩点滴静注液「ﾄｰﾜ」（希釈液:生食）（先:ﾄﾚｱｷｼﾝ）","4219405A1033","注射","１ 時間で",120,"㎡","mg",null,"d2,3",{"$f":"IFERROR(VLOOKUP(__レジメンマスタ[[#This Row],[YJコード②]],[1]!__前投薬リスト[#Data],4,FALSE)&\"\",\"\")","v":""},null,null,null,null,null,null,null,null,null,null,null,{"$f":"IFERROR(VLOOKUP(__レジメンマスタ[[#This Row],[YJコード③]],[1]!__前投薬リスト[#Data],4,FALSE)&\"\",\"\")","v":""},null,null,null,null,null,null,null,null,null,null,null,{"$f":"IFERROR(VLOOKUP(__レジメンマスタ[[#This Row],[YJコード④]],[1]!__前投薬リスト[#Data],4,FALSE)&\"\",\"\")","v":""},null,null,null,null,null,null,null,null,null,null,null,{"$f":"IFERROR(VLOOKUP(__レジメンマスタ[[#This Row],[YJコード⑤]],[1]!__前投薬リスト[#Data],4,FALSE)&\"\",\"\")","v":""},null,null,null,null,null,null,null,null,null,null,null,{"$f":"IFERROR(VLOOKUP(__レジメンマスタ[[#This Row],[YJコード⑥]],[1]!__前投薬リスト[#Data],4,FALSE)&\"\",\"\")","v":""},null,null,null,null,null,null,null,null,null,null,null,{"$f":"IFERROR(VLOOKUP(__レジメンマスタ[[#This Row],[YJコード⑦]],[1]!__前投薬リスト[#Data],4,FALSE)&\"\",\"\")","v":""}]
["HEM0115","pola-BR","　　　　　　Ｗ1            Ｗ2           Ｗ3           \nR  　↓××××××  ××××××× ×××××××    \nPola ×↓×××××  ××××××× ××××××× \nB　　×↓↓××××  ××××××× ××××××× \n※Rは前後することあり(休薬はR同士で1週以上あいていれば可）","21日","6コース","リンパ腫","血液内科","リツキシマブ","危 500㎎/50mL ﾘﾂｷｼﾏﾌﾞBS点滴静注「ﾌｧｲｻﾞｰ」（希釈液:生食orTZ）（先:ﾘﾂｷｻﾝ）","4291451A2024","注射","５０ｍＬ／ｈで開始、ｍａｘ２００ｍＬ／ｈ",375,"㎡","mg",null,"d1",{"$f":"IFERROR(VLOOKUP(__レジメンマスタ[[#This Row],[YJコード①]],[1]!__前投薬リスト[#Data],4,FALSE)&\"\",\"\")","v":"抗ヒス,解,(ステ)"},null,"ポライビー","危 30mg ﾎﾟﾗｲﾋﾞｰ点滴静注用（溶解液:Aq、希釈液:生食orTz）","4291455D1022","注射","初回９０分、２回目～３０分まで短縮可",1.8,"kg","mg",null,"d2",{"$f":"IFERROR(VLOOKUP(__レジメンマスタ[[#This Row],[YJコード②]],[1]!__前投薬リスト[#Data],4,FALSE)&\"\",\"\")","v":"(抗ヒス,ステ,解)"},null,"ベンダムスチン","危 100mg/4mL ﾍﾞﾝﾀﾞﾑｽﾁﾝ塩酸塩点滴静注液「ﾄｰﾜ」（希釈液:生食）（先:ﾄﾚｱｷｼﾝ）","4219405A1033","注射","１ 時間で",90,"㎡","mg",null,"d2,3",{"$f":"IFERROR(VLOOKUP(__レジメンマスタ[[#This Row],[YJコード③]],[1]!__前投薬リスト[#Data],4,FALSE)&\"\",\"\")","v":""},null,null,null,null,null,null,null,null,null,null,null,{"$f":"IFERROR(VLOOKUP(__レジメンマスタ[[#This Row],[YJコード④]],[1]!__前投薬リスト[#Data],4,FALSE)&\"\",\"\")","v":""},null,null,null,null,null,null,null,null,null,null,null,{"$f":"IFERROR(VLOOKUP(__レジメンマスタ[[#This Row],[YJコード⑤]],[1]!__前投薬リスト[#Data],4,FALSE)&\"\",\"\")","v":""},null,null,null,null,null,null,null,null,null,null,null,{"$f":"IFERROR(VLOOKUP(__レジメンマスタ[[#This Row],[YJコード⑥]],[1]!__前投薬リスト[#Data],4,FALSE)&\"\",\"\")","v":""},null,null,null,null,null,null,null,null,null,null,null,{"$f":"IFERROR(VLOOKUP(__レジメンマスタ[[#This Row],[YJコード⑦]],[1]!__前投薬リスト[#Data],4,FALSE)&\"\",\"\")","v":""}]
["HEM0116","DCyBorD(Cy内服)","　　　　　　Ｗ1            Ｗ2           Ｗ3           Ｗ4    \nBor   ↓××××××  ↓×××××× ↓××××××  ↓×××××× \nCPA   ↓××××××  ↓×××××× ↓××××××  ↓×××××× \nDEX   ↓↓×××××  ↓↓××××× ↓↓×××××  ↓↓××××× \nDmab  ↓××××××  ↓×××××× ↓××××××  ↓××××××   \nDmab：1-2ｺｰｽ目(d1,8,15,22)毎週投与、3-6ｺｰｽ目(d1,15)2週毎、\n7ｺｰｽ目以降(d1のみ)4週毎 \n★7クール以降はDmabのみ★　★ｴﾝﾄﾞｷｻﾝmax500mg★\nDEX：40mg/週（75歳以上または過小体重（BMI：18.5kg/㎡未満）20mg/週に適宜減量）。病勢によりさらに減量可。","28日","∞","ALアミロイドーシス","血液内科","ダラキューロ","危 ﾀﾞﾗｷｭｰﾛ配合皮下注 1800mg/15mL","4291500A1023","皮下","３～５分かけて皮下注射",1800,"BODY","mg",null,"特記事項参照",{"$f":"IFERROR(VLOOKUP(__レジメンマスタ[[#This Row],[YJコード①]],[1]!__前投薬リスト[#Data],4,FALSE)&\"\",\"\")","v":"抗ヒス,ステ,解"},null,"ベルケイド（先発品）","危 ﾍﾞﾙｹｲﾄﾞ注射用 3mg（溶解液:生食）","4291412D1024","皮下","皮下投与",1.3,"㎡","mg",null,"d1,8,15,22",{"$f":"IFERROR(VLOOKUP(__レジメンマスタ[[#This Row],[YJコード②]],[1]!__前投薬リスト[#Data],4,FALSE)&\"\",\"\")","v":""},"6コース","エンドキサン",null,"4211002F1044","経口",null,300,"㎡","mg",null,"d1,8,15,22",{"$f":"IFERROR(VLOOKUP(__レジメンマスタ[[#This Row],[YJコード③]],[1]!__前投薬リスト[#Data],4,FALSE)&\"\",\"\")","v":""},"6コース","DEX",null,"2454002F3020","経口",null,40,"BODY","mg",null,"d1,2,8,9,15,16,22,23",{"$f":"IFERROR(VLOOKUP(__レジメンマスタ[[#This Row],[YJコード④]],[1]!__前投薬リスト[#Data],4,FALSE)&\"\",\"\")","v":""},"6コース",null,null,null,null,null,null,null,null,null,null,{"$f":"IFERROR(VLOOKUP(__レジメンマスタ[[#This Row],[YJコード⑤]],[1]!__前投薬リスト[#Data],4,FALSE)&\"\",\"\")","v":""},null,null,null,null,null,null,null,null,null,null,null,{"$f":"IFERROR(VLOOKUP(__レジメンマスタ[[#This Row],[YJコード⑥]],[1]!__前投薬リスト[#Data],4,FALSE)&\"\",\"\")","v":""},null,null,null,null,null,null,null,null,null,null,null,{"$f":"IFERROR(VLOOKUP(__レジメンマスタ[[#This Row],[YJコード⑦]],[1]!__前投薬リスト[#Data],4,FALSE)&\"\",\"\")","v":""}]
["HEM0116-21","DCyBorD(Cy点滴)","　　　　　　Ｗ1            Ｗ2           Ｗ3           Ｗ4    \nBor   ↓××××××  ↓×××××× ↓××××××  ↓×××××× \nCPA   ↓××××××  ↓×××××× ↓××××××  ↓×××××× \nDEX   ↓↓×××××  ↓↓××××× ↓↓×××××  ↓↓××××× \nDmab  ↓××××××  ↓×××××× ↓××××××  ↓××××××   \nDmab:1～2クール：毎週投与,　　3～6クール：2週間毎、7クール以降：4週間毎\n★7クール以降はDmabのみ★\nDEX：40mg/週（75歳以上または過小体重（BMI：18.5kg/㎡未満）20mg/週に適宜減量）。病勢によりさらに減量可。","28日","∞","ALアミロイドーシス","血液内科","ダラキューロ","危 ﾀﾞﾗｷｭｰﾛ配合皮下注 1800mg/15mL","4291500A1023","皮下","３～５分かけて皮下注射",1800,"BODY","mg",null,"特記事項参照",{"$f":"IFERROR(VLOOKUP(__レジメンマスタ[[#This Row],[YJコード①]],[1]!__前投薬リスト[#Data],4,FALSE)&\"\",\"\")","v":"抗ヒス,ステ,解"},null,"ベルケイド（先発品）","危 ﾍﾞﾙｹｲﾄﾞ注射用 3mg（溶解液:生食）","4291412D1024","皮下","皮下投与",1.3,"㎡","mg",null,"d1,8,15,22",{"$f":"IFERROR(VLOOKUP(__レジメンマスタ[[#This Row],[YJコード②]],[1]!__前投薬リスト[#Data],4,FALSE)&\"\",\"\")","v":""},"6コース","エンドキサン","危 注射用ｴﾝﾄﾞｷｻﾝ 500㎎","4211401D2021","注射",null,300,"㎡","mg",null,"d1,8,15,22",{"$f":"IFERROR(VLOOKUP(__レジメンマスタ[[#This Row],[YJコード③]],[1]!__前投薬リスト[#Data],4,FALSE)&\"\",\"\")","v":""},"6コース","DEX",null,"2454002F3020","経口",null,40,"BODY","mg",null,"d1,2,8,9,15,16,22,23",{"$f":"IFERROR(VLOOKUP(__レジメンマスタ[[#This Row],[YJコード④]],[1]!__前投薬リスト[#Data],4,FALSE)&\"\",\"\")","v":""},"6コース",null,null,null,null,null,null,null,null,null,null,{"$f":"IFERROR(VLOOKUP(__レジメンマスタ[[#This Row],[YJコード⑤]],[1]!__前投薬リスト[#Data],4,FALSE)&\"\",\"\")","v":""},null,null,null,null,null,null,null,null,null,null,null,{"$f":"IFERROR(VLOOKUP(__レジメンマスタ[[#This Row],[YJコード⑥]],[1]!__前投薬リスト[#Data],4,FALSE)&\"\",\"\")","v":""},null,null,null,null,null,null,null,null,null,null,null,{"$f":"IFERROR(VLOOKUP(__レジメンマスタ[[#This Row],[YJコード⑦]],[1]!__前投薬リスト[#Data],4,FALSE)&\"\",\"\")","v":""}]
["HEM0117","【適応外】血球貪食症候群（CHOP）","適応外のため申請書提出要\n　　　　　　Ｗ1            Ｗ2           Ｗ3       \nDXR　↓××××××  ××××××× ××××××× \nCPA  ↓××××××  ××××××× ××××××× \nVCR  ↓××××××  ××××××× ××××××× \nPSL  ↓↓↓↓↓××  ××××××× ×××××××\n★オンコビン：MAX2mg★","21日","8コース","その他","血液内科","ドキソルビシン","危 50mg ﾄﾞｷｿﾙﾋﾞｼﾝ塩酸塩注射用「NK」（溶解液:生食orAq）（先:ｱﾄﾞﾘｱｼﾝ）","4235402D2028","注射","３０ 分で",50,"㎡","mg",null,"d1",{"$f":"IFERROR(VLOOKUP(__レジメンマスタ[[#This Row],[YJコード①]],[1]!__前投薬リスト[#Data],4,FALSE)&\"\",\"\")","v":""},null,"エンドキサン","危 注射用ｴﾝﾄﾞｷｻﾝ 500㎎","4211401D2021","注射","２ 時間で",750,"㎡","mg",null,"d1",{"$f":"IFERROR(VLOOKUP(__レジメンマスタ[[#This Row],[YJコード②]],[1]!__前投薬リスト[#Data],4,FALSE)&\"\",\"\")","v":""},null,"オンコビン","危 ｵﾝｺﾋﾞﾝ注射用 1㎎","4240400D1030","注射","５～１０分　かけて",1.4,"㎡","mg",null,"d1",{"$f":"IFERROR(VLOOKUP(__レジメンマスタ[[#This Row],[YJコード③]],[1]!__前投薬リスト[#Data],4,FALSE)&\"\",\"\")","v":""},null,"プレドニン",null,"2456001F1310","経口",null,100,"BODY","mg",null,"d1-5",{"$f":"IFERROR(VLOOKUP(__レジメンマスタ[[#This Row],[YJコード④]],[1]!__前投薬リスト[#Data],4,FALSE)&\"\",\"\")","v":""},null,null,null,null,null,null,null,null,null,null,null,{"$f":"IFERROR(VLOOKUP(__レジメンマスタ[[#This Row],[YJコード⑤]],[1]!__前投薬リスト[#Data],4,FALSE)&\"\",\"\")","v":""},null,null,null,null,null,null,null,null,null,null,null,{"$f":"IFERROR(VLOOKUP(__レジメンマスタ[[#This Row],[YJコード⑥]],[1]!__前投薬リスト[#Data],4,FALSE)&\"\",\"\")","v":""},null,null,null,null,null,null,null,null,null,null,null,{"$f":"IFERROR(VLOOKUP(__レジメンマスタ[[#This Row],[YJコード⑦]],[1]!__前投薬リスト[#Data],4,FALSE)&\"\",\"\")","v":""}]
["HEM0118","BUTT療法","　　　-8   -7    -6　　-5　　-4　　-3　-2 -1 0(移植日)\nBusu  ↓   ↓    ↓    ↓\nThio 　　                    ↓    ↓\n★ブスルフェクス：10倍量の生食（orTz）で希釈★",null,null,"移植関連","血液内科","ブスルフェクス",null,"4213400A2025","注射","３時間",3.2,"kg","mg",null,"-d8～-d5",{"$f":"IFERROR(VLOOKUP(__レジメンマスタ[[#This Row],[YJコード①]],[1]!__前投薬リスト[#Data],4,FALSE)&\"\",\"\")","v":""},null,"リサイオ",null,"4212400A1021","注射","２ 時間で",5,"kg","mg",null,"-d4,-d3",{"$f":"IFERROR(VLOOKUP(__レジメンマスタ[[#This Row],[YJコード②]],[1]!__前投薬リスト[#Data],4,FALSE)&\"\",\"\")","v":""},null,null,null,null,null,null,null,null,null,null,null,{"$f":"IFERROR(VLOOKUP(__レジメンマスタ[[#This Row],[YJコード③]],[1]!__前投薬リスト[#Data],4,FALSE)&\"\",\"\")","v":""},null,null,null,null,null,null,null,null,null,null,null,{"$f":"IFERROR(VLOOKUP(__レジメンマスタ[[#This Row],[YJコード④]],[1]!__前投薬リスト[#Data],4,FALSE)&\"\",\"\")","v":""},null,null,null,null,null,null,null,null,null,null,null,{"$f":"IFERROR(VLOOKUP(__レジメンマスタ[[#This Row],[YJコード⑤]],[1]!__前投薬リスト[#Data],4,FALSE)&\"\",\"\")","v":""},null,null,null,null,null,null,null,null,null,null,null,{"$f":"IFERROR(VLOOKUP(__レジメンマスタ[[#This Row],[YJコード⑥]],[1]!__前投薬リスト[#Data],4,FALSE)&\"\",\"\")","v":""},null,null,null,null,null,null,null,null,null,null,null,{"$f":"IFERROR(VLOOKUP(__レジメンマスタ[[#This Row],[YJコード⑦]],[1]!__前投薬リスト[#Data],4,FALSE)&\"\",\"\")","v":""}]
["HEM0119","イノツズマブ　オゾガマイシン","　　　　　　   W1  　　　　　 W2 　　　　　  W3  　　　　　W4\nﾍﾞｽﾎﾟﾝｻ  ↓×××××× ↓×××××× ↓××××××  ×××××××\n※d1：寛解が得られた場合には2ｺｰｽ目より0.5mg/㎡へ\n\n1コース目：3週連投（W4無し）\n2コース目以降：3週連投1週休薬　6コースまで","21→28日","6コース","白血病（ALL)","血液内科","ベスポンサ",null,"4239401D1026","注射","1時間で",0.8,"㎡","mg",null,"d1\n寛解前",{"$f":"IFERROR(VLOOKUP(__レジメンマスタ[[#This Row],[YJコード①]],[1]!__前投薬リスト[#Data],4,FALSE)&\"\",\"\")","v":""},null,"ベスポンサ",null,"4239401D1026","注射","1時間で",0.5,"㎡","mg",null,"d8,15\n寛解後d1",{"$f":"IFERROR(VLOOKUP(__レジメンマスタ[[#This Row],[YJコード②]],[1]!__前投薬リスト[#Data],4,FALSE)&\"\",\"\")","v":""},null,null,null,null,null,null,null,null,null,null,null,{"$f":"IFERROR(VLOOKUP(__レジメンマスタ[[#This Row],[YJコード③]],[1]!__前投薬リスト[#Data],4,FALSE)&\"\",\"\")","v":""},null,null,null,null,null,null,null,null,null,null,null,{"$f":"IFERROR(VLOOKUP(__レジメンマスタ[[#This Row],[YJコード④]],[1]!__前投薬リスト[#Data],4,FALSE)&\"\",\"\")","v":""},null,null,null,null,null,null,null,null,null,null,null,{"$f":"IFERROR(VLOOKUP(__レジメンマスタ[[#This Row],[YJコード⑤]],[1]!__前投薬リスト[#Data],4,FALSE)&\"\",\"\")","v":""},null,null,null,null,null,null,null,null,null,null,null,{"$f":"IFERROR(VLOOKUP(__レジメンマスタ[[#This Row],[YJコード⑥]],[1]!__前投薬リスト[#Data],4,FALSE)&\"\",\"\")","v":""},null,null,null,null,null,null,null,null,null,null,null,{"$f":"IFERROR(VLOOKUP(__レジメンマスタ[[#This Row],[YJコード⑦]],[1]!__前投薬リスト[#Data],4,FALSE)&\"\",\"\")","v":""}]
["HEM0120-11","ブリナツモマブ (18歳以上、BW45kg以上）","　　　　　　Ｗ1            Ｗ2           Ｗ3           Ｗ4      \nBli ↓↓↓↓↓↓↓  ↓↓↓↓↓↓↓ ↓↓↓↓↓↓↓  ↓↓↓↓↓↓↓\n28日間持続投与\n1-5クール：6週間毎\n6-9クール：12週間毎\n\n1ｸｰﾙ目はDEX前治療を行ってから始める（別処方）\n（1日あたり10mg/㎡以下を最長5日間まで。必要な場合は1日最大24mgまで）\n","42日→84日",null,"白血病（ALL)","血液内科","ビーリンサイト",null,"4291445D1029","注射","持続",9,"BODY","μg",null,"d1-7(1C目)",{"$f":"IFERROR(VLOOKUP(__レジメンマスタ[[#This Row],[YJコード①]],[1]!__前投薬リスト[#Data],4,FALSE)&\"\",\"\")","v":""},null,"ビーリンサイト",null,"4291445D1029","注射","持続",28,"BODY","μg",null,"それ以降",{"$f":"IFERROR(VLOOKUP(__レジメンマスタ[[#This Row],[YJコード②]],[1]!__前投薬リスト[#Data],4,FALSE)&\"\",\"\")","v":""},null,null,null,null,null,null,null,null,null,null,null,{"$f":"IFERROR(VLOOKUP(__レジメンマスタ[[#This Row],[YJコード③]],[1]!__前投薬リスト[#Data],4,FALSE)&\"\",\"\")","v":""},null,null,null,null,null,null,null,null,null,null,null,{"$f":"IFERROR(VLOOKUP(__レジメンマスタ[[#This Row],[YJコード④]],[1]!__前投薬リスト[#Data],4,FALSE)&\"\",\"\")","v":""},null,null,null,null,null,null,null,null,null,null,null,{"$f":"IFERROR(VLOOKUP(__レジメンマスタ[[#This Row],[YJコード⑤]],[1]!__前投薬リスト[#Data],4,FALSE)&\"\",\"\")","v":""},null,null,null,null,null,null,null,null,null,null,null,{"$f":"IFERROR(VLOOKUP(__レジメンマスタ[[#This Row],[YJコード⑥]],[1]!__前投薬リスト[#Data],4,FALSE)&\"\",\"\")","v":""},null,null,null,null,null,null,null,null,null,null,null,{"$f":"IFERROR(VLOOKUP(__レジメンマスタ[[#This Row],[YJコード⑦]],[1]!__前投薬リスト[#Data],4,FALSE)&\"\",\"\")","v":""}]
["HEM0120-21","ブリナツモマブ (18歳以上、BW45kg未満）","　　　　　　Ｗ1            Ｗ2           Ｗ3           Ｗ4      \nBli ↓↓↓↓↓↓↓  ↓↓↓↓↓↓↓ ↓↓↓↓↓↓↓  ↓↓↓↓↓↓↓\n28日間持続投与\n1-5クール：6週間毎\n6-9クール：12週間毎\n★5μg/㎡のときのMAX9μg、15μg/㎡のときのMAX28μg★\n\n1ｸｰﾙ目はDEX前治療を行ってから始める（別処方）\n（1日あたり10mg/㎡以下を最長5日間まで。必要な場合は1日最大24mgまで）\n","42日→84日",null,"白血病（ALL)","血液内科","ビーリンサイト",null,"4291445D1029","注射","持続",5,"㎡","μg",null,"d1-7(1C目)",{"$f":"IFERROR(VLOOKUP(__レジメンマスタ[[#This Row],[YJコード①]],[1]!__前投薬リスト[#Data],4,FALSE)&\"\",\"\")","v":""},null,"ビーリンサイト",null,"4291445D1029","注射","持続",15,"㎡","μg",null,"それ以降",{"$f":"IFERROR(VLOOKUP(__レジメンマスタ[[#This Row],[YJコード②]],[1]!__前投薬リスト[#Data],4,FALSE)&\"\",\"\")","v":""},null,null,null,null,null,null,null,null,null,null,null,{"$f":"IFERROR(VLOOKUP(__レジメンマスタ[[#This Row],[YJコード③]],[1]!__前投薬リスト[#Data],4,FALSE)&\"\",\"\")","v":""},null,null,null,null,null,null,null,null,null,null,null,{"$f":"IFERROR(VLOOKUP(__レジメンマスタ[[#This Row],[YJコード④]],[1]!__前投薬リスト[#Data],4,FALSE)&\"\",\"\")","v":""},null,null,null,null,null,null,null,null,null,null,null,{"$f":"IFERROR(VLOOKUP(__レジメンマスタ[[#This Row],[YJコード⑤]],[1]!__前投薬リスト[#Data],4,FALSE)&\"\",\"\")","v":""},null,null,null,null,null,null,null,null,null,null,null,{"$f":"IFERROR(VLOOKUP(__レジメンマスタ[[#This Row],[YJコード⑥]],[1]!__前投薬リスト[#Data],4,FALSE)&\"\",\"\")","v":""},null,null,null,null,null,null,null,null,null,null,null,{"$f":"IFERROR(VLOOKUP(__レジメンマスタ[[#This Row],[YJコード⑦]],[1]!__前投薬リスト[#Data],4,FALSE)&\"\",\"\")","v":""}]
["HEM0121","DPd(皮下)","DEX：40mg/週（75歳以上または過小体重（BMI：18.5kg/㎡未満）20mg/週に適宜減量）。病勢によりさらに減量可。\n医師の判断で投与状況が変更することがある                \nDmab：1-2ｺｰｽ目(d1,8,15,22)毎週投与、3-6ｺｰｽ目(d1,15)2週毎、\n7ｺｰｽ目以降(d1のみ)4週毎                \nP：4mg/日　d1～21　4週間毎                \n","28日","∞","骨髄腫","血液内科","ダラキューロ","危 ﾀﾞﾗｷｭｰﾛ配合皮下注 1800mg/15mL","4291500A1023","皮下","３～５分かけて皮下注射",1800,"BODY","mg",null,"特記事項参照",{"$f":"IFERROR(VLOOKUP(__レジメンマスタ[[#This Row],[YJコード①]],[1]!__前投薬リスト[#Data],4,FALSE)&\"\",\"\")","v":"抗ヒス,ステ,解"},null,"ポマリスト",null,"4291038M4025","経口",null,4,"BODY","mg",null,"d1-21",{"$f":"IFERROR(VLOOKUP(__レジメンマスタ[[#This Row],[YJコード②]],[1]!__前投薬リスト[#Data],4,FALSE)&\"\",\"\")","v":""},null,"DEX",null,"2454002F3020","経口",null,40,"BODY","mg",null,"d1,8,15,22",{"$f":"IFERROR(VLOOKUP(__レジメンマスタ[[#This Row],[YJコード③]],[1]!__前投薬リスト[#Data],4,FALSE)&\"\",\"\")","v":""},null,null,null,null,null,null,null,null,null,null,null,{"$f":"IFERROR(VLOOKUP(__レジメンマスタ[[#This Row],[YJコード④]],[1]!__前投薬リスト[#Data],4,FALSE)&\"\",\"\")","v":""},null,null,null,null,null,null,null,null,null,null,null,{"$f":"IFERROR(VLOOKUP(__レジメンマスタ[[#This Row],[YJコード⑤]],[1]!__前投薬リスト[#Data],4,FALSE)&\"\",\"\")","v":""},null,null,null,null,null,null,null,null,null,null,null,{"$f":"IFERROR(VLOOKUP(__レジメンマスタ[[#This Row],[YJコード⑥]],[1]!__前投薬リスト[#Data],4,FALSE)&\"\",\"\")","v":""},null,null,null,null,null,null,null,null,null,null,null,{"$f":"IFERROR(VLOOKUP(__レジメンマスタ[[#This Row],[YJコード⑦]],[1]!__前投薬リスト[#Data],4,FALSE)&\"\",\"\")","v":""}]
["HEM0122","IsaPd","1クール目　　 W1  　　　　　 W2   　　　　W3　　　　   W4   \nIsa  ↓×××××× ↓×××××× ↓×××××× ↓××××××   \nPom　↓↓↓↓↓↓↓ ↓↓↓↓↓↓↓ ↓↓↓↓↓↓↓ ×××××××   \n2クール目以降  \nIsa  ↓×××××× ××××××× ↓×××××× ×××××××   \nPom　↓↓↓↓↓↓↓ ↓↓↓↓↓↓↓ ↓↓↓↓↓↓↓ ××××××× \nｻｰｸﾘｻ：1クール目(d1,8,15,22)毎週投与、2クール目以降(d1,15)2週間毎\nDEX：40mg/週（75歳以上または過小体重（BMI：18.5kg/㎡未満）20mg/週に適宜減量）。病勢によりさらに減量可。","28日","∞","骨髄腫","血液内科","サークリサ","危 500mg/25mL ｻｰｸﾘｻ点滴静注","4291454A2028","注射",null,10,"kg","mg",null,"特記事項参照",{"$f":"IFERROR(VLOOKUP(__レジメンマスタ[[#This Row],[YJコード①]],[1]!__前投薬リスト[#Data],4,FALSE)&\"\",\"\")","v":"抗ヒス,H2B,ステ,解"},null,"ポマリスト",null,"4291038M4025","経口",null,4,"BODY","mg",null,"d1-21",{"$f":"IFERROR(VLOOKUP(__レジメンマスタ[[#This Row],[YJコード②]],[1]!__前投薬リスト[#Data],4,FALSE)&\"\",\"\")","v":""},null,"DEX",null,"2454002F3020","他",null,40,"BODY","mg",null,"d1,8,15,22",{"$f":"IFERROR(VLOOKUP(__レジメンマスタ[[#This Row],[YJコード③]],[1]!__前投薬リスト[#Data],4,FALSE)&\"\",\"\")","v":""},null,null,null,null,null,null,null,null,null,null,null,{"$f":"IFERROR(VLOOKUP(__レジメンマスタ[[#This Row],[YJコード④]],[1]!__前投薬リスト[#Data],4,FALSE)&\"\",\"\")","v":""},null,null,null,null,null,null,null,null,null,null,null,{"$f":"IFERROR(VLOOKUP(__レジメンマスタ[[#This Row],[YJコード⑤]],[1]!__前投薬リスト[#Data],4,FALSE)&\"\",\"\")","v":""},null,null,null,null,null,null,null,null,null,null,null,{"$f":"IFERROR(VLOOKUP(__レジメンマスタ[[#This Row],[YJコード⑥]],[1]!__前投薬リスト[#Data],4,FALSE)&\"\",\"\")","v":""},null,null,null,null,null,null,null,null,null,null,null,{"$f":"IFERROR(VLOOKUP(__レジメンマスタ[[#This Row],[YJコード⑦]],[1]!__前投薬リスト[#Data],4,FALSE)&\"\",\"\")","v":""}]
["HEM0123-11","IsaKd","1クール目　　 W1  　　　　　 W2   　　　　W3　　　　   W4   \nIsa  ↓×××××× ↓×××××× ↓×××××× ↓××××××   \nCarf ↓↓××××× ↓↓××××× ↓↓××××× ×××××××   \n2クール目以降  \nIsa  ↓×××××× ××××××× ↓×××××× ×××××××   \nCarf ↓↓××××× ↓↓××××× ↓↓××××× ×××××××  \nｻｰｸﾘｻ：1クール目(d1,8,15,22)毎週投与、2クール目以降(d1,15)2週間毎\nDEX：40mg/週（75歳以上または過小体重（BMI：18.5kg/㎡未満）20mg/週に適宜減量）。病勢によりさらに減量可。","28日","∞","骨髄腫","血液内科","サークリサ","危 500mg/25mL ｻｰｸﾘｻ点滴静注","4291454A2028","注射",null,10,"kg","mg",null,"特記事項参照",{"$f":"IFERROR(VLOOKUP(__レジメンマスタ[[#This Row],[YJコード①]],[1]!__前投薬リスト[#Data],4,FALSE)&\"\",\"\")","v":"抗ヒス,H2B,ステ,解"},null,"カイプロリス(1C,d1-2のみ)","危〈毒〉40mg ｶｲﾌﾟﾛﾘｽ点滴静注用（溶解液:Aq、希釈液:TZ）","4291433D2022","注射","３０ 分で",20,"㎡","mg",null,"d1,2(1C目)",{"$f":"IFERROR(VLOOKUP(__レジメンマスタ[[#This Row],[YJコード②]],[1]!__前投薬リスト[#Data],4,FALSE)&\"\",\"\")","v":"(ステ)"},null,"カイプロリス（上記以降）","危〈毒〉40mg ｶｲﾌﾟﾛﾘｽ点滴静注用（溶解液:Aq、希釈液:TZ）","4291433D2022","注射","３０ 分で",56,"㎡","mg",null,"d1,2,8,9,15,16",{"$f":"IFERROR(VLOOKUP(__レジメンマスタ[[#This Row],[YJコード③]],[1]!__前投薬リスト[#Data],4,FALSE)&\"\",\"\")","v":"(ステ)"},null,"DEX",null,"2454002F3020","他",null,20,"BODY","mg",null,"d1,2,8,9,15,16,22",{"$f":"IFERROR(VLOOKUP(__レジメンマスタ[[#This Row],[YJコード④]],[1]!__前投薬リスト[#Data],4,FALSE)&\"\",\"\")","v":""},null,null,null,null,null,null,null,null,null,null,null,{"$f":"IFERROR(VLOOKUP(__レジメンマスタ[[#This Row],[YJコード⑤]],[1]!__前投薬リスト[#Data],4,FALSE)&\"\",\"\")","v":""},null,null,null,null,null,null,null,null,null,null,null,{"$f":"IFERROR(VLOOKUP(__レジメンマスタ[[#This Row],[YJコード⑥]],[1]!__前投薬リスト[#Data],4,FALSE)&\"\",\"\")","v":""},null,null,null,null,null,null,null,null,null,null,null,{"$f":"IFERROR(VLOOKUP(__レジメンマスタ[[#This Row],[YJコード⑦]],[1]!__前投薬リスト[#Data],4,FALSE)&\"\",\"\")","v":""}]
["HEM0124-11","Isa+d","1クール目　　 W1  　　　　　 W2   　　　　W3　　　　   W4     \nIsa  ↓×××××× ↓×××××× ↓×××××× ↓××××××   \n2クール目以降  \nIsa  ↓×××××× ××××××× ↓×××××× ×××××××   \nｻｰｸﾘｻ：1クール目(d1,8,15,22)毎週投与、2クール目以降(d1,15)2週間毎\nDEX：40mg/週（75歳以上または過小体重（BMI：18.5kg/㎡未満）20mg/週に適宜減量）。病勢によりさらに減量可。","28日","∞","骨髄腫","血液内科","サークリサ","危 500mg/25mL ｻｰｸﾘｻ点滴静注","4291454A2028","注射",null,20,"kg","mg",null,"特記事項参照",{"$f":"IFERROR(VLOOKUP(__レジメンマスタ[[#This Row],[YJコード①]],[1]!__前投薬リスト[#Data],4,FALSE)&\"\",\"\")","v":"抗ヒス,H2B,ステ,解"},null,"DEX",null,"2454002F3020","他",null,40,"BODY","mg",null,"d1,8,15,22",{"$f":"IFERROR(VLOOKUP(__レジメンマスタ[[#This Row],[YJコード②]],[1]!__前投薬リスト[#Data],4,FALSE)&\"\",\"\")","v":""},null,null,null,null,null,null,null,null,null,null,null,{"$f":"IFERROR(VLOOKUP(__レジメンマスタ[[#This Row],[YJコード③]],[1]!__前投薬リスト[#Data],4,FALSE)&\"\",\"\")","v":""},null,null,null,null,null,null,null,null,null,null,null,{"$f":"IFERROR(VLOOKUP(__レジメンマスタ[[#This Row],[YJコード④]],[1]!__前投薬リスト[#Data],4,FALSE)&\"\",\"\")","v":""},null,null,null,null,null,null,null,null,null,null,null,{"$f":"IFERROR(VLOOKUP(__レジメンマスタ[[#This Row],[YJコード⑤]],[1]!__前投薬リスト[#Data],4,FALSE)&\"\",\"\")","v":""},null,null,null,null,null,null,null,null,null,null,null,{"$f":"IFERROR(VLOOKUP(__レジメンマスタ[[#This Row],[YJコード⑥]],[1]!__前投薬リスト[#Data],4,FALSE)&\"\",\"\")","v":""},null,null,null,null,null,null,null,null,null,null,null,{"$f":"IFERROR(VLOOKUP(__レジメンマスタ[[#This Row],[YJコード⑦]],[1]!__前投薬リスト[#Data],4,FALSE)&\"\",\"\")","v":""}]
["HEM0124-41","Isa単剤","1クール目　　 W1  　　　　　 W2   　　　　W3　　　　   W4     \nIsa  ↓×××××× ↓×××××× ↓×××××× ↓××××××   \n2クール目以降  \nIsa  ↓×××××× ××××××× ↓×××××× ×××××××   \nｻｰｸﾘｻ：1クール目(d1,8,15,22)毎週投与、2クール目以降(d1,15)2週間毎",null,null,"骨髄腫","血液内科","サークリサ","危 500mg/25mL ｻｰｸﾘｻ点滴静注","4291454A2028","注射",null,20,"kg","mg",null,"特記事項参照",{"$f":"IFERROR(VLOOKUP(__レジメンマスタ[[#This Row],[YJコード①]],[1]!__前投薬リスト[#Data],4,FALSE)&\"\",\"\")","v":"抗ヒス,H2B,ステ,解"},null,null,null,null,null,null,null,null,null,null,null,{"$f":"IFERROR(VLOOKUP(__レジメンマスタ[[#This Row],[YJコード②]],[1]!__前投薬リスト[#Data],4,FALSE)&\"\",\"\")","v":""},null,null,null,null,null,null,null,null,null,null,null,{"$f":"IFERROR(VLOOKUP(__レジメンマスタ[[#This Row],[YJコード③]],[1]!__前投薬リスト[#Data],4,FALSE)&\"\",\"\")","v":""},null,null,null,null,null,null,null,null,null,null,null,{"$f":"IFERROR(VLOOKUP(__レジメンマスタ[[#This Row],[YJコード④]],[1]!__前投薬リスト[#Data],4,FALSE)&\"\",\"\")","v":""},null,null,null,null,null,null,null,null,null,null,null,{"$f":"IFERROR(VLOOKUP(__レジメンマスタ[[#This Row],[YJコード⑤]],[1]!__前投薬リスト[#Data],4,FALSE)&\"\",\"\")","v":""},null,null,null,null,null,null,null,null,null,null,null,{"$f":"IFERROR(VLOOKUP(__レジメンマスタ[[#This Row],[YJコード⑥]],[1]!__前投薬リスト[#Data],4,FALSE)&\"\",\"\")","v":""},null,null,null,null,null,null,null,null,null,null,null,{"$f":"IFERROR(VLOOKUP(__レジメンマスタ[[#This Row],[YJコード⑦]],[1]!__前投薬リスト[#Data],4,FALSE)&\"\",\"\")","v":""}]
["HEM0125","A-CHP","CD30（＋）PTCL\n　　　　　　Ｗ1            Ｗ2           Ｗ3       \nBV　  ↓××××××  ××××××× ×××××××\nDXR   ↓××××××  ××××××× ×××××××\nCPA   ↓××××××  ××××××× ×××××××\nPSL   ↓↓↓↓↓××  ××××××× ×××××××","21日","8コース","リンパ腫","血液内科","ドキソルビシン","危 50mg ﾄﾞｷｿﾙﾋﾞｼﾝ塩酸塩注射用「NK」（溶解液:生食orAq）（先:ｱﾄﾞﾘｱｼﾝ）","4235402D2028","注射","３０ 分で",50,"㎡","mg",null,"d1",{"$f":"IFERROR(VLOOKUP(__レジメンマスタ[[#This Row],[YJコード①]],[1]!__前投薬リスト[#Data],4,FALSE)&\"\",\"\")","v":""},null,"エンドキサン","危 注射用ｴﾝﾄﾞｷｻﾝ 500㎎","4211401D2021","注射","２  時間で",750,"㎡","mg",null,"d1",{"$f":"IFERROR(VLOOKUP(__レジメンマスタ[[#This Row],[YJコード②]],[1]!__前投薬リスト[#Data],4,FALSE)&\"\",\"\")","v":""},null,"アドセトリス","危 臨）ｱﾄﾞｾﾄﾘｽ点滴静注用 50mg（溶解液:Aq）","4291425D1021","注射","３０ 分で",1.8,"kg","mg",null,"d1",{"$f":"IFERROR(VLOOKUP(__レジメンマスタ[[#This Row],[YJコード③]],[1]!__前投薬リスト[#Data],4,FALSE)&\"\",\"\")","v":""},null,"プレドニン",null,"2456001F1310","経口",null,100,"BODY","mg",null,"d1-5",{"$f":"IFERROR(VLOOKUP(__レジメンマスタ[[#This Row],[YJコード④]],[1]!__前投薬リスト[#Data],4,FALSE)&\"\",\"\")","v":""},null,null,null,null,null,null,null,null,null,null,null,{"$f":"IFERROR(VLOOKUP(__レジメンマスタ[[#This Row],[YJコード⑤]],[1]!__前投薬リスト[#Data],4,FALSE)&\"\",\"\")","v":""},null,null,null,null,null,null,null,null,null,null,null,{"$f":"IFERROR(VLOOKUP(__レジメンマスタ[[#This Row],[YJコード⑥]],[1]!__前投薬リスト[#Data],4,FALSE)&\"\",\"\")","v":""},null,null,null,null,null,null,null,null,null,null,null,{"$f":"IFERROR(VLOOKUP(__レジメンマスタ[[#This Row],[YJコード⑦]],[1]!__前投薬リスト[#Data],4,FALSE)&\"\",\"\")","v":""}]
["HEM0126","VTD-PACE","　　　　　　Ｗ1            Ｗ2           Ｗ3       \nBor   ↓××↓×××  ↓××↓××× ××××××× \nCDDP  ↓↓↓↓×××  ××××××× ×××××××\nDXR   ↓↓↓↓×××  ××××××× ×××××××\nCPA   ↓↓↓↓×××  ××××××× ×××××××\nETP   ↓↓↓↓×××  ××××××× ×××××××\nTha   ↓↓↓↓×××  ××××××× ×××××××\nDEX   ↓↓↓↓×××  ××××××× ×××××××","21日",null,"骨髄腫","血液内科","ボルテゾミブ","危 ﾎﾞﾙﾃｿﾞﾐﾌﾞ注射用 3mg「NK」（溶解液:生食）（先:ﾍﾞﾙｹｲﾄﾞ）","4291412D1040","皮下","皮下投与",1,"㎡","mg",null,"d1,4,8,11",{"$f":"IFERROR(VLOOKUP(__レジメンマスタ[[#This Row],[YJコード①]],[1]!__前投薬リスト[#Data],4,FALSE)&\"\",\"\")","v":""},null,"シスプラチン","危〈毒〉10mg/20mL ｼｽﾌﾟﾗﾁﾝ点滴静注「ﾏﾙｺ」（先:ﾗﾝﾀﾞ）","4291401A1119","注射","24時間持続",10,"㎡","mg",null,"d1-4",{"$f":"IFERROR(VLOOKUP(__レジメンマスタ[[#This Row],[YJコード②]],[1]!__前投薬リスト[#Data],4,FALSE)&\"\",\"\")","v":""},null,"ドキソルビシン","危 50mg ﾄﾞｷｿﾙﾋﾞｼﾝ塩酸塩注射用「NK」（溶解液:生食orAq）（先:ｱﾄﾞﾘｱｼﾝ）","4235402D2028","注射","24時間持続",10,"㎡","mg",null,"d1-4",{"$f":"IFERROR(VLOOKUP(__レジメンマスタ[[#This Row],[YJコード③]],[1]!__前投薬リスト[#Data],4,FALSE)&\"\",\"\")","v":""},null,"エンドキサン","危 注射用ｴﾝﾄﾞｷｻﾝ 500㎎","4211401D2021","注射","24時間持続",400,"㎡","mg",null,"d1-4",{"$f":"IFERROR(VLOOKUP(__レジメンマスタ[[#This Row],[YJコード④]],[1]!__前投薬リスト[#Data],4,FALSE)&\"\",\"\")","v":""},null,"エトポシド","危 ｴﾄﾎﾟｼﾄﾞ点滴静注液「ｻﾝﾄﾞ」100mg/5mL（先:ﾗｽﾃｯﾄ）","4240403A2069","注射","24時間持続",40,"㎡","mg",null,"d1-4",{"$f":"IFERROR(VLOOKUP(__レジメンマスタ[[#This Row],[YJコード⑤]],[1]!__前投薬リスト[#Data],4,FALSE)&\"\",\"\")","v":""},null,"サレド",null,"4291019M1023","経口",null,200,"BODY","mg",null,"d1-4",{"$f":"IFERROR(VLOOKUP(__レジメンマスタ[[#This Row],[YJコード⑥]],[1]!__前投薬リスト[#Data],4,FALSE)&\"\",\"\")","v":""},null,"DEX",null,"2454002F3020","経口",null,40,"BODY","mg",null,"d1-4",{"$f":"IFERROR(VLOOKUP(__レジメンマスタ[[#This Row],[YJコード⑦]],[1]!__前投薬リスト[#Data],4,FALSE)&\"\",\"\")","v":""}]
["HEM0127","イストダックス","　　　　　　   W1  　　　　　 W2 　　　　　  W3  　　　　　W4\nﾛﾐﾃﾞﾌﾟｼﾝ ↓×××××× ↓×××××× ↓××××××  ×××××××\n","28日",null,"リンパ腫","血液内科","イストダックス",null,"4291440D1026","注射",null,14,"㎡","mg",null,"d1,8,15",{"$f":"IFERROR(VLOOKUP(__レジメンマスタ[[#This Row],[YJコード①]],[1]!__前投薬リスト[#Data],4,FALSE)&\"\",\"\")","v":""},null,null,null,null,null,null,null,null,null,null,null,{"$f":"IFERROR(VLOOKUP(__レジメンマスタ[[#This Row],[YJコード②]],[1]!__前投薬リスト[#Data],4,FALSE)&\"\",\"\")","v":""},null,null,null,null,null,null,null,null,null,null,null,{"$f":"IFERROR(VLOOKUP(__レジメンマスタ[[#This Row],[YJコード③]],[1]!__前投薬リスト[#Data],4,FALSE)&\"\",\"\")","v":""},null,null,null,null,null,null,null,null,null,null,null,{"$f":"IFERROR(VLOOKUP(__レジメンマスタ[[#This Row],[YJコード④]],[1]!__前投薬リスト[#Data],4,FALSE)&\"\",\"\")","v":""},null,null,null,null,null,null,null,null,null,null,null,{"$f":"IFERROR(VLOOKUP(__レジメンマスタ[[#This Row],[YJコード⑤]],[1]!__前投薬リスト[#Data],4,FALSE)&\"\",\"\")","v":""},null,null,null,null,null,null,null,null,null,null,null,{"$f":"IFERROR(VLOOKUP(__レジメンマスタ[[#This Row],[YJコード⑥]],[1]!__前投薬リスト[#Data],4,FALSE)&\"\",\"\")","v":""},null,null,null,null,null,null,null,null,null,null,null,{"$f":"IFERROR(VLOOKUP(__レジメンマスタ[[#This Row],[YJコード⑦]],[1]!__前投薬リスト[#Data],4,FALSE)&\"\",\"\")","v":""}]
["HEM0128","【適応外】血球貪食症候群（ETP：150mg/㎡）","希釈濃度注意！0.6mg/ml以上の濃度で投与しない\n第1、2週は週2回投与\n第3～8週は週1回投与",null,null,"その他","血液内科","エトポシド","危 ｴﾄﾎﾟｼﾄﾞ点滴静注液「ｻﾝﾄﾞ」100mg/5mL（先:ﾗｽﾃｯﾄ）","4240403A2069","注射",null,150,"㎡","mg",null,"特記事項参照",{"$f":"IFERROR(VLOOKUP(__レジメンマスタ[[#This Row],[YJコード①]],[1]!__前投薬リスト[#Data],4,FALSE)&\"\",\"\")","v":""},null,null,null,null,null,null,null,null,null,null,null,{"$f":"IFERROR(VLOOKUP(__レジメンマスタ[[#This Row],[YJコード②]],[1]!__前投薬リスト[#Data],4,FALSE)&\"\",\"\")","v":""},null,null,null,null,null,null,null,null,null,null,null,{"$f":"IFERROR(VLOOKUP(__レジメンマスタ[[#This Row],[YJコード③]],[1]!__前投薬リスト[#Data],4,FALSE)&\"\",\"\")","v":""},null,null,null,null,null,null,null,null,null,null,null,{"$f":"IFERROR(VLOOKUP(__レジメンマスタ[[#This Row],[YJコード④]],[1]!__前投薬リスト[#Data],4,FALSE)&\"\",\"\")","v":""},null,null,null,null,null,null,null,null,null,null,null,{"$f":"IFERROR(VLOOKUP(__レジメンマスタ[[#This Row],[YJコード⑤]],[1]!__前投薬リスト[#Data],4,FALSE)&\"\",\"\")","v":""},null,null,null,null,null,null,null,null,null,null,null,{"$f":"IFERROR(VLOOKUP(__レジメンマスタ[[#This Row],[YJコード⑥]],[1]!__前投薬リスト[#Data],4,FALSE)&\"\",\"\")","v":""},null,null,null,null,null,null,null,null,null,null,null,{"$f":"IFERROR(VLOOKUP(__レジメンマスタ[[#This Row],[YJコード⑦]],[1]!__前投薬リスト[#Data],4,FALSE)&\"\",\"\")","v":""}]
["HEM0129","Pola-R-CHP","　　　　　　Ｗ1            Ｗ2           Ｗ3       \nR　  ↓××××××  ××××××× ××××××× \nPola ×↓×××××  ××××××× ×××××××\nDXR  ×↓×××××  ××××××× ×××××××\nCPA  ×↓×××××  ××××××× ×××××××\nPSL  ×↓↓↓↓↓×  ××××××× ×××××××\npolaCHP：6コースまで、R：8コースまで\nRは前後することあり(休薬はR同士で1週以上あいていれば可）。\nR前投薬ステロイドはPSLで代用することあり","21日",null,"リンパ腫","血液内科","リツキシマブ","危 500㎎/50mL ﾘﾂｷｼﾏﾌﾞBS点滴静注「ﾌｧｲｻﾞｰ」（希釈液:生食orTZ）（先:ﾘﾂｷｻﾝ）","4291451A2024","注射","５０ｍｌ／ｈで開始、ｍａｘ２００ｍＬ／ｈ",375,"㎡","mg",null,"d1",{"$f":"IFERROR(VLOOKUP(__レジメンマスタ[[#This Row],[YJコード①]],[1]!__前投薬リスト[#Data],4,FALSE)&\"\",\"\")","v":"抗ヒス,解,(ステ)"},"8回","ポライビー","危 30mg ﾎﾟﾗｲﾋﾞｰ点滴静注用（溶解液:Aq、希釈液:生食orTz）","4291455D1022","注射","初回９０分、２回目～３０分まで短縮可",1.8,"kg","mg",null,"d2",{"$f":"IFERROR(VLOOKUP(__レジメンマスタ[[#This Row],[YJコード②]],[1]!__前投薬リスト[#Data],4,FALSE)&\"\",\"\")","v":"(抗ヒス,ステ,解)"},"6 回","ドキソルビシン","危 50mg ﾄﾞｷｿﾙﾋﾞｼﾝ塩酸塩注射用「NK」（溶解液:生食orAq）（先:ｱﾄﾞﾘｱｼﾝ）","4235402D2028","注射","３０ 分で",50,"㎡","mg",null,"d2",{"$f":"IFERROR(VLOOKUP(__レジメンマスタ[[#This Row],[YJコード③]],[1]!__前投薬リスト[#Data],4,FALSE)&\"\",\"\")","v":""},"6 回","エンドキサン","危 注射用ｴﾝﾄﾞｷｻﾝ 500㎎","4211401D2021","注射","２ 時間で",750,"㎡","mg",null,"d2",{"$f":"IFERROR(VLOOKUP(__レジメンマスタ[[#This Row],[YJコード④]],[1]!__前投薬リスト[#Data],4,FALSE)&\"\",\"\")","v":""},"6 回","プレドニン",null,"2456001F1310","経口",null,100,"BODY","mg",null,"d2-6",{"$f":"IFERROR(VLOOKUP(__レジメンマスタ[[#This Row],[YJコード⑤]],[1]!__前投薬リスト[#Data],4,FALSE)&\"\",\"\")","v":""},null,null,null,null,null,null,null,null,null,null,null,{"$f":"IFERROR(VLOOKUP(__レジメンマスタ[[#This Row],[YJコード⑥]],[1]!__前投薬リスト[#Data],4,FALSE)&\"\",\"\")","v":""},null,null,null,null,null,null,null,null,null,null,null,{"$f":"IFERROR(VLOOKUP(__レジメンマスタ[[#This Row],[YJコード⑦]],[1]!__前投薬リスト[#Data],4,FALSE)&\"\",\"\")","v":""}]
["HEM0130-1","R-high-CHOP","　　　　　　Ｗ1            Ｗ2           Ｗ3       \nR,DEX　↓××××××  ××××××× ↓××××××\nCPA    ××↓××××  ××××××× ×××××××\nDXR    ××↓××××  ××××××× ×××××××\nVCR    ××↓××××  ××××××× ×××××××\nMesna  ××↓××××  ××××××× ×××××××\nPSL    ××↓↓↓↓↓  ××××××× ×××××××\nG-CSFをday4から使用　R投与日にDex40mg使用する\nRは前後することあり(休薬はR同士で1週以上あいていれば可）\nウロミテキサンの投与量の欄は（1回量）を記入　★オンコビンmax2mg★\n1コースのみ施行後CHASER療法HEM130-2へ","21日","1コースのみ","リンパ腫","血液内科","リツキシマブ","危 500㎎/50mL ﾘﾂｷｼﾏﾌﾞBS点滴静注「ﾌｧｲｻﾞｰ」（希釈液:生食orTZ）（先:ﾘﾂｷｻﾝ）","4291451A2024","注射","５０ｍｌ／ｈで開始、ｍａｘ２００ｍＬ／ｈ",375,"㎡","mg",null,"d1,15",{"$f":"IFERROR(VLOOKUP(__レジメンマスタ[[#This Row],[YJコード①]],[1]!__前投薬リスト[#Data],4,FALSE)&\"\",\"\")","v":"抗ヒス,解,(ステ)"},null,"デキサート",null,"2454405H5038","注射",null,40,"BODY","mg",null,"d1,15",{"$f":"IFERROR(VLOOKUP(__レジメンマスタ[[#This Row],[YJコード②]],[1]!__前投薬リスト[#Data],4,FALSE)&\"\",\"\")","v":""},null,"エンドキサン","危 注射用ｴﾝﾄﾞｷｻﾝ 500㎎","4211401D2021","注射","２  時間で",1500,"㎡","mg",null,"d3",{"$f":"IFERROR(VLOOKUP(__レジメンマスタ[[#This Row],[YJコード③]],[1]!__前投薬リスト[#Data],4,FALSE)&\"\",\"\")","v":""},null,"ドキソルビシン","危 50mg ﾄﾞｷｿﾙﾋﾞｼﾝ塩酸塩注射用「NK」（溶解液:生食orAq）（先:ｱﾄﾞﾘｱｼﾝ）","4235402D2028","注射","３０ 分で",75,"㎡","mg",null,"d3",{"$f":"IFERROR(VLOOKUP(__レジメンマスタ[[#This Row],[YJコード④]],[1]!__前投薬リスト[#Data],4,FALSE)&\"\",\"\")","v":""},null,"オンコビン","危 ｵﾝｺﾋﾞﾝ注射用 1㎎","4240400D1030","注射",null,1.4,"㎡","mg",null,"d3",{"$f":"IFERROR(VLOOKUP(__レジメンマスタ[[#This Row],[YJコード⑤]],[1]!__前投薬リスト[#Data],4,FALSE)&\"\",\"\")","v":""},null,"ウロミテキサン×３",null,"3929406A2026","注射",null,600,"㎡","mg",null,"×３\nd3",{"$f":"IFERROR(VLOOKUP(__レジメンマスタ[[#This Row],[YJコード⑥]],[1]!__前投薬リスト[#Data],4,FALSE)&\"\",\"\")","v":""},null,"プレドニン",null,"2456001F1310","経口",null,100,"BODY","mg",null,"d3-7",{"$f":"IFERROR(VLOOKUP(__レジメンマスタ[[#This Row],[YJコード⑦]],[1]!__前投薬リスト[#Data],4,FALSE)&\"\",\"\")","v":""}]
["HEM0130-2","CHASER療法","　　　　　　Ｗ1            Ｗ2           Ｗ3       \nR　  ↓××××××  ××××××× ↓××××××\nDEX  ↓×↓↓↓××  ××××××× ↓××××××\nCPA  ××↓××××  ××××××× ×××××××\nETP  ××↓↓↓××  ××××××× ×××××××\nAraC ×××↓↓××  ××××××× ×××××××\nR投与日にもDex40mg使用する\nRは前後することあり(休薬はR同士で1週以上あいていれば可）","21日","3コース","リンパ腫","血液内科","リツキシマブ","危 500㎎/50mL ﾘﾂｷｼﾏﾌﾞBS点滴静注「ﾌｧｲｻﾞｰ」（希釈液:生食orTZ）（先:ﾘﾂｷｻﾝ）","4291451A2024","注射","５０ｍｌ／ｈで開始、ｍａｘ２００ｍＬ／ｈ",375,"㎡","mg",null,"d1,15",{"$f":"IFERROR(VLOOKUP(__レジメンマスタ[[#This Row],[YJコード①]],[1]!__前投薬リスト[#Data],4,FALSE)&\"\",\"\")","v":"抗ヒス,解,(ステ)"},null,"デキサート",null,"2454405H5038","注射",null,40,"BODY","mg",null,"d1,3-5,15",{"$f":"IFERROR(VLOOKUP(__レジメンマスタ[[#This Row],[YJコード②]],[1]!__前投薬リスト[#Data],4,FALSE)&\"\",\"\")","v":""},null,"エンドキサン","危 注射用ｴﾝﾄﾞｷｻﾝ 500㎎","4211401D2021","注射","２  時間で",1200,"㎡","mg",null,"d3",{"$f":"IFERROR(VLOOKUP(__レジメンマスタ[[#This Row],[YJコード③]],[1]!__前投薬リスト[#Data],4,FALSE)&\"\",\"\")","v":""},null,"エトポシド","危 ｴﾄﾎﾟｼﾄﾞ点滴静注液「ｻﾝﾄﾞ」100mg/5mL（先:ﾗｽﾃｯﾄ）","4240403A2069","注射",null,100,"㎡","mg",null,"d3-5",{"$f":"IFERROR(VLOOKUP(__レジメンマスタ[[#This Row],[YJコード④]],[1]!__前投薬リスト[#Data],4,FALSE)&\"\",\"\")","v":""},null,"シタラビン","危 1g/50mL ｼﾀﾗﾋﾞﾝ点滴静注液「NIG」（希釈液:生食orTZ）（先:ｷﾛｻｲﾄﾞN）","4224401A7041","注射",null,2000,"㎡","mg",null,"d4,5",{"$f":"IFERROR(VLOOKUP(__レジメンマスタ[[#This Row],[YJコード⑤]],[1]!__前投薬リスト[#Data],4,FALSE)&\"\",\"\")","v":""},null,null,null,null,null,null,null,null,null,null,null,{"$f":"IFERROR(VLOOKUP(__レジメンマスタ[[#This Row],[YJコード⑥]],[1]!__前投薬リスト[#Data],4,FALSE)&\"\",\"\")","v":""},null,null,null,null,null,null,null,null,null,null,null,{"$f":"IFERROR(VLOOKUP(__レジメンマスタ[[#This Row],[YJコード⑦]],[1]!__前投薬リスト[#Data],4,FALSE)&\"\",\"\")","v":""}]
["HEM0131-01","エプコリタマブ","EPK：1-3ｺｰｽ目:(d1,8,15,22)毎週投与、4-9ｺｰｽ目:(d1,15)2週間毎、\n10ｺｰｽ目以降：(d1のみ)4週間毎　★前治療歴確認★　\n必須前投薬：1C目のみ→ｶﾛﾅｰﾙ1000mg、ﾚｽﾀﾐﾝ50mg、ｽﾃﾛｲﾄﾞ\n 2C目以降→ｽﾃﾛｲﾄﾞ（☆CRS出現しなければ省略可）                \n注意! 以下の投与遅延があった場合はCRSを軽減のため1C目の投与方法に戻す               \n①0.16mgと0.8mgの投与間隔が8日を超えた場合 ②0.8mgと48mgの投与間隔が14日を超えた場合  ③48mgの投与間隔が6週間を超えた場合\"その後は投与を延期した次の投与Cの1日目から投与を継続→詳細は別紙参照\"   \n  （投与日に使用量を併記してください、再開した場合は「再○サイクル目」と記載してください）               \n","28日",null,"リンパ腫","血液内科","エプキンリ","危 臨）4mg/0.8mL ｴﾌﾟｷﾝﾘ皮下注（希釈液:生食）","4291469A1028","皮下","③の生食終了後に皮下注射、全量１ｍＬ",0.16,"BODY","mg",null,"d1(1C目)",{"$f":"IFERROR(VLOOKUP(__レジメンマスタ[[#This Row],[YJコード①]],[1]!__前投薬リスト[#Data],4,FALSE)&\"\",\"\")","v":"①抗ヒス,ステ,解　②(ステ)"},null,"エプキンリ","危 臨）4mg/0.8mL ｴﾌﾟｷﾝﾘ皮下注（希釈液:生食）","4291469A1028","皮下","③の生食終了後に皮下注射、全量１ｍＬ",0.8,"BODY","mg",null,"d8(1C目)",{"$f":"IFERROR(VLOOKUP(__レジメンマスタ[[#This Row],[YJコード②]],[1]!__前投薬リスト[#Data],4,FALSE)&\"\",\"\")","v":"①抗ヒス,ステ,解　②(ステ)"},null,"エプキンリ","危 臨）48mg/0.8mL ｴﾌﾟｷﾝﾘ皮下注","4291469A2024","皮下","③の生食終了後に皮下注射",48,"BODY","mg",null,"d15(1C目)以降",{"$f":"IFERROR(VLOOKUP(__レジメンマスタ[[#This Row],[YJコード③]],[1]!__前投薬リスト[#Data],4,FALSE)&\"\",\"\")","v":"①抗ヒス,ステ,解　②(ステ)"},null,null,null,null,null,null,null,null,null,null,null,{"$f":"IFERROR(VLOOKUP(__レジメンマスタ[[#This Row],[YJコード④]],[1]!__前投薬リスト[#Data],4,FALSE)&\"\",\"\")","v":""},null,null,null,null,null,null,null,null,null,null,null,{"$f":"IFERROR(VLOOKUP(__レジメンマスタ[[#This Row],[YJコード⑤]],[1]!__前投薬リスト[#Data],4,FALSE)&\"\",\"\")","v":""},null,null,null,null,null,null,null,null,null,null,null,{"$f":"IFERROR(VLOOKUP(__レジメンマスタ[[#This Row],[YJコード⑥]],[1]!__前投薬リスト[#Data],4,FALSE)&\"\",\"\")","v":""},null,null,null,null,null,null,null,null,null,null,null,{"$f":"IFERROR(VLOOKUP(__レジメンマスタ[[#This Row],[YJコード⑦]],[1]!__前投薬リスト[#Data],4,FALSE)&\"\",\"\")","v":""}]
["HEM0132","mini MEC","治療効果・副作用のバランスを見て医師判断で1～数クール\n　　　　　Ｗ1           \nMIT  ↓↓↓××××  \nETP  ↓↓↓↓↓××  \nAraC ↓↓↓↓↓↓↓  ",null,null,"白血病","血液内科","ノバントロン",null,"4291402A1032","注射",null,8,"㎡","mg",null,"d1-3",{"$f":"IFERROR(VLOOKUP(__レジメンマスタ[[#This Row],[YJコード①]],[1]!__前投薬リスト[#Data],4,FALSE)&\"\",\"\")","v":""},null,"エトポシド","危 ｴﾄﾎﾟｼﾄﾞ点滴静注液「ｻﾝﾄﾞ」100mg/5mL（先:ﾗｽﾃｯﾄ）","4240403A2069","注射",null,100,"㎡","mg",null,"d1-5",{"$f":"IFERROR(VLOOKUP(__レジメンマスタ[[#This Row],[YJコード②]],[1]!__前投薬リスト[#Data],4,FALSE)&\"\",\"\")","v":""},null,"シタラビン","危 1g/50mL ｼﾀﾗﾋﾞﾝ点滴静注液「NIG」（希釈液:生食orTZ）（先:ｷﾛｻｲﾄﾞN）","4224401A7041","注射",null,100,"㎡","mg",null,"d1-7",{"$f":"IFERROR(VLOOKUP(__レジメンマスタ[[#This Row],[YJコード③]],[1]!__前投薬リスト[#Data],4,FALSE)&\"\",\"\")","v":""},null,null,null,null,null,null,null,null,null,null,null,{"$f":"IFERROR(VLOOKUP(__レジメンマスタ[[#This Row],[YJコード④]],[1]!__前投薬リスト[#Data],4,FALSE)&\"\",\"\")","v":""},null,null,null,null,null,null,null,null,null,null,null,{"$f":"IFERROR(VLOOKUP(__レジメンマスタ[[#This Row],[YJコード⑤]],[1]!__前投薬リスト[#Data],4,FALSE)&\"\",\"\")","v":""},null,null,null,null,null,null,null,null,null,null,null,{"$f":"IFERROR(VLOOKUP(__レジメンマスタ[[#This Row],[YJコード⑥]],[1]!__前投薬リスト[#Data],4,FALSE)&\"\",\"\")","v":""},null,null,null,null,null,null,null,null,null,null,null,{"$f":"IFERROR(VLOOKUP(__レジメンマスタ[[#This Row],[YJコード⑦]],[1]!__前投薬リスト[#Data],4,FALSE)&\"\",\"\")","v":""}]
["HEM0133","MCEC療法","　　　　-8   -7    -6　　-5　　-4　　-3 　 -2    -1    0(移植日)\nMCNU 　 ↓   －    －    －    －    ↓  　－　　－　　－\nCBDCA 　－   ↓    ↓    ↓    ↓　　－　　－　　－　　－\nETP   　－   －　　↓    ↓    ↓　  －    －    －    －\nCPA   　－   －    －    －    －    ↓    ↓    －    －\nMesna 　－   －    －    －    －   ↓*2  ↓*2   －    －\n\n★61～65歳の症例では80％へ減量する★\nエトポシドの濃度に注意！　200mg/500mlの濃度では使用不可\nウロミテキサンの投与量の欄は（1回量）を記入",null,null,"移植関連","血液内科","サイメリン",null,"4219402D1028","注射","１ 時間で",200,"㎡","mg",null,"-d8,-d3",{"$f":"IFERROR(VLOOKUP(__レジメンマスタ[[#This Row],[YJコード①]],[1]!__前投薬リスト[#Data],4,FALSE)&\"\",\"\")","v":""},null,"カルボプラチン","危〈毒〉ｶﾙﾎﾞﾌﾟﾗﾁﾝ点滴静注液「NK」150mg/15mL（先:ﾊﾟﾗﾌﾟﾗﾁﾝ）","4291403A2092","注射","１ 時間で",300,"㎡","mg",null,"-d7～ -d4",{"$f":"IFERROR(VLOOKUP(__レジメンマスタ[[#This Row],[YJコード②]],[1]!__前投薬リスト[#Data],4,FALSE)&\"\",\"\")","v":""},null,"エトポシド","危 ｴﾄﾎﾟｼﾄﾞ点滴静注液「ｻﾝﾄﾞ」100mg/5mL（先:ﾗｽﾃｯﾄ）","4240403A2069","注射","10時間で",500,"㎡","mg",null,"-d6～ -d4",{"$f":"IFERROR(VLOOKUP(__レジメンマスタ[[#This Row],[YJコード③]],[1]!__前投薬リスト[#Data],4,FALSE)&\"\",\"\")","v":""},null,"エンドキサン","危 注射用ｴﾝﾄﾞｷｻﾝ 500㎎","4211401D2021","注射","３  時間で",50,"kg","mg",null,"-d3,-d2",{"$f":"IFERROR(VLOOKUP(__レジメンマスタ[[#This Row],[YJコード④]],[1]!__前投薬リスト[#Data],4,FALSE)&\"\",\"\")","v":""},null,"ウロミテキサン×３",null,"3929406A2026","注射",null,20,"kg","mg",null,"×３\n-d3,-d2",{"$f":"IFERROR(VLOOKUP(__レジメンマスタ[[#This Row],[YJコード⑤]],[1]!__前投薬リスト[#Data],4,FALSE)&\"\",\"\")","v":""},null,null,null,null,null,null,null,null,null,null,null,{"$f":"IFERROR(VLOOKUP(__レジメンマスタ[[#This Row],[YJコード⑥]],[1]!__前投薬リスト[#Data],4,FALSE)&\"\",\"\")","v":""},null,null,null,null,null,null,null,null,null,null,null,{"$f":"IFERROR(VLOOKUP(__レジメンマスタ[[#This Row],[YJコード⑦]],[1]!__前投薬リスト[#Data],4,FALSE)&\"\",\"\")","v":""}]
["HEM0134","QUIZ+DNR+AraC","　　　　　 W1 　　　　　  W2 　　　  　  W3      　     W4   \nDNR  ↓↓↓××××  ××××××× ××××××× ×××××××\nAraC ↓↓↓↓↓↓↓  ××××××× ××××××× ×××××××\nQUIZ ×××××××  ↓↓↓↓↓↓↓ ↓↓↓↓↓↓↓ ×××××××     \nヴァンフリタは2週内服2週休薬\n最大２クール、その後、QUIZ+HD-AraCへ","28日","２クール","白血病（AML)","血液内科","ダウノマイシン",null,"4235401D1035","注射","３０ 分で",60,"㎡","mg",null,"d1-3",{"$f":"IFERROR(VLOOKUP(__レジメンマスタ[[#This Row],[YJコード①]],[1]!__前投薬リスト[#Data],4,FALSE)&\"\",\"\")","v":""},null,"シタラビン","危 1g/50mL ｼﾀﾗﾋﾞﾝ点滴静注液「NIG」（希釈液:生食orTZ）（先:ｷﾛｻｲﾄﾞN）","4224401A7041","注射","24時間持続",100,"㎡","mg",null,"d1-7",{"$f":"IFERROR(VLOOKUP(__レジメンマスタ[[#This Row],[YJコード②]],[1]!__前投薬リスト[#Data],4,FALSE)&\"\",\"\")","v":""},null,"ヴァンフリタ",null,"4291060F1021","経口",null,35.4,"BODY","mg",null,"d8-21",{"$f":"IFERROR(VLOOKUP(__レジメンマスタ[[#This Row],[YJコード③]],[1]!__前投薬リスト[#Data],4,FALSE)&\"\",\"\")","v":""},null,null,null,null,null,null,null,null,null,null,null,{"$f":"IFERROR(VLOOKUP(__レジメンマスタ[[#This Row],[YJコード④]],[1]!__前投薬リスト[#Data],4,FALSE)&\"\",\"\")","v":""},null,null,null,null,null,null,null,null,null,null,null,{"$f":"IFERROR(VLOOKUP(__レジメンマスタ[[#This Row],[YJコード⑤]],[1]!__前投薬リスト[#Data],4,FALSE)&\"\",\"\")","v":""},null,null,null,null,null,null,null,null,null,null,null,{"$f":"IFERROR(VLOOKUP(__レジメンマスタ[[#This Row],[YJコード⑥]],[1]!__前投薬リスト[#Data],4,FALSE)&\"\",\"\")","v":""},null,null,null,null,null,null,null,null,null,null,null,{"$f":"IFERROR(VLOOKUP(__レジメンマスタ[[#This Row],[YJコード⑦]],[1]!__前投薬リスト[#Data],4,FALSE)&\"\",\"\")","v":""}]
["HEM0135-01","QUIZ+HD-AraC（60歳未満）","　　　 D1　　D2　　D3　　D4　　D5       \nAraC　↓↓　　　　↓↓　　　　↓↓  \nmPSL　↓↓　　　　↓↓　　　　↓↓\n　　　　　  W1 　　　　　  W2 　　　  　  W3        　  W4 \nQUIZ  ×××××↓↓  ↓↓↓↓↓↓↓ ↓↓↓↓↓×× ×××××××\n※ソル・メドロールはAraC症候群(皮疹・発熱)予防\n好中球500、血小板5万以上で開始可能\n4クールまで\nシタラビン、ソルメドロールの投与量の欄は（1回量）を記入\nヴァンフリタは2週内服2週休薬","28日","4クール","白血病（AML)","血液内科","シタラビン","危 1g/50mL ｼﾀﾗﾋﾞﾝ点滴静注液「NIG」（希釈液:生食orTZ）（先:ｷﾛｻｲﾄﾞN）","4224401A7041","注射",null,3000,"㎡","mg",null,"d1,3,5×2",{"$f":"IFERROR(VLOOKUP(__レジメンマスタ[[#This Row],[YJコード①]],[1]!__前投薬リスト[#Data],4,FALSE)&\"\",\"\")","v":""},null,"ソル・メドロール",null,"2456400D1067","注射",null,40,"BODY","mg",null,"d1,3,5×2",{"$f":"IFERROR(VLOOKUP(__レジメンマスタ[[#This Row],[YJコード②]],[1]!__前投薬リスト[#Data],4,FALSE)&\"\",\"\")","v":""},null,"ヴァンフリタ",null,"4291060F1021","経口",null,35.4,"BODY","mg",null,"d6-19",{"$f":"IFERROR(VLOOKUP(__レジメンマスタ[[#This Row],[YJコード③]],[1]!__前投薬リスト[#Data],4,FALSE)&\"\",\"\")","v":""},null,null,null,null,null,null,null,null,null,null,null,{"$f":"IFERROR(VLOOKUP(__レジメンマスタ[[#This Row],[YJコード④]],[1]!__前投薬リスト[#Data],4,FALSE)&\"\",\"\")","v":""},null,null,null,null,null,null,null,null,null,null,null,{"$f":"IFERROR(VLOOKUP(__レジメンマスタ[[#This Row],[YJコード⑤]],[1]!__前投薬リスト[#Data],4,FALSE)&\"\",\"\")","v":""},null,null,null,null,null,null,null,null,null,null,null,{"$f":"IFERROR(VLOOKUP(__レジメンマスタ[[#This Row],[YJコード⑥]],[1]!__前投薬リスト[#Data],4,FALSE)&\"\",\"\")","v":""},null,null,null,null,null,null,null,null,null,null,null,{"$f":"IFERROR(VLOOKUP(__レジメンマスタ[[#This Row],[YJコード⑦]],[1]!__前投薬リスト[#Data],4,FALSE)&\"\",\"\")","v":""}]
["HEM0135-02","QUIZ+HD-AraC（60歳以上）","　　　 D1　　D2　　D3　　D4　　D5       \nAraC　↓↓　　　　↓↓　　　　↓↓  \nmPSL　↓↓　　　　↓↓　　　　↓↓\n　　　　　  W1 　　　　　  W2 　　　  　  W3        　  W4 \nQUIZ  ×××××↓↓  ↓↓↓↓↓↓↓ ↓↓↓↓↓×× ×××××××\n※ソル・メドロールはAraC症候群(皮疹・発熱)予防\n好中球500、血小板5万以上で開始可能\n4クールまで\nシタラビン、ソルメドロールの投与量の欄は（1回量）を記入\nヴァンフリタは2週内服2週休薬","28日","4クール","白血病（AML)","血液内科","シタラビン","危 1g/50mL ｼﾀﾗﾋﾞﾝ点滴静注液「NIG」（希釈液:生食orTZ）（先:ｷﾛｻｲﾄﾞN）","4224401A7041","注射",null,1500,"㎡","mg",null,"d1,3,5×2",{"$f":"IFERROR(VLOOKUP(__レジメンマスタ[[#This Row],[YJコード①]],[1]!__前投薬リスト[#Data],4,FALSE)&\"\",\"\")","v":""},null,"ソル・メドロール",null,"2456400D1067","注射",null,40,"BODY","mg",null,"d1,3,5×2",{"$f":"IFERROR(VLOOKUP(__レジメンマスタ[[#This Row],[YJコード②]],[1]!__前投薬リスト[#Data],4,FALSE)&\"\",\"\")","v":""},null,"ヴァンフリタ",null,"4291060F1021","経口",null,35.4,"BODY","mg",null,"d6-19",{"$f":"IFERROR(VLOOKUP(__レジメンマスタ[[#This Row],[YJコード③]],[1]!__前投薬リスト[#Data],4,FALSE)&\"\",\"\")","v":""},null,null,null,null,null,null,null,null,null,null,null,{"$f":"IFERROR(VLOOKUP(__レジメンマスタ[[#This Row],[YJコード④]],[1]!__前投薬リスト[#Data],4,FALSE)&\"\",\"\")","v":""},null,null,null,null,null,null,null,null,null,null,null,{"$f":"IFERROR(VLOOKUP(__レジメンマスタ[[#This Row],[YJコード⑤]],[1]!__前投薬リスト[#Data],4,FALSE)&\"\",\"\")","v":""},null,null,null,null,null,null,null,null,null,null,null,{"$f":"IFERROR(VLOOKUP(__レジメンマスタ[[#This Row],[YJコード⑥]],[1]!__前投薬リスト[#Data],4,FALSE)&\"\",\"\")","v":""},null,null,null,null,null,null,null,null,null,null,null,{"$f":"IFERROR(VLOOKUP(__レジメンマスタ[[#This Row],[YJコード⑦]],[1]!__前投薬リスト[#Data],4,FALSE)&\"\",\"\")","v":""}]
["HEM0136-01","エルラナタマブ","《１クール目》　d1：12mg、d4：32mg、d8, 15, 22：76mg                \n　　　　　 W1 　　　　　　  W2 　　　　　　  W3  　　　　　 W4     \n　　↓××↓×××   ↓××××××   ↓××××××   ↓××××××     \n《2～6クール目》　d1, 8, 15, 22：76mg                \n　　↓××××××   ↓××××××   ↓××××××   ↓××××××     \n《7クール目以降で奏効得られれば》　d1, 15：76mg                \n　　↓××××××   ×××××××   ↓××××××   ×××××××\n必須前投薬：１クール目のd1,4,8が必須（それ以降の前投薬は必須でない）   \n延期した場合は別紙参照    ","28日","∞","骨髄腫","血液内科","エルレフィオ（1C目 d1)","危 臨）44mg/1.1mL ｴﾙﾚﾌｨｵ皮下注","4291470A1020","注射","★前投薬内服１時間後に、腹部に皮下注",12,"BODY","mg",null,"d1(1C目)",{"$f":"IFERROR(VLOOKUP(__レジメンマスタ[[#This Row],[YJコード①]],[1]!__前投薬リスト[#Data],4,FALSE)&\"\",\"\")","v":"①d1,4,8:抗ヒス,ステ,解"},null,"エルレフィオ（1C目 d4)","危 臨）44mg/1.1mL ｴﾙﾚﾌｨｵ皮下注","4291470A1020","注射","★前投薬内服１時間後に、腹部に皮下注",32,"BODY","mg",null,"d4(1C目)",{"$f":"IFERROR(VLOOKUP(__レジメンマスタ[[#This Row],[YJコード②]],[1]!__前投薬リスト[#Data],4,FALSE)&\"\",\"\")","v":"①d1,4,8:抗ヒス,ステ,解"},null,"エルレフィオ（上記以降）","危 臨）76mg/1.9mL ｴﾙﾚﾌｨｵ皮下注","4291470A2027","注射","★前投薬内服１時間後に、腹部に皮下注",76,"BODY","mg",null,"d8(1C目)～",{"$f":"IFERROR(VLOOKUP(__レジメンマスタ[[#This Row],[YJコード③]],[1]!__前投薬リスト[#Data],4,FALSE)&\"\",\"\")","v":"①d1,4,8:抗ヒス,ステ,解"},null,null,null,null,null,null,null,null,null,null,null,{"$f":"IFERROR(VLOOKUP(__レジメンマスタ[[#This Row],[YJコード④]],[1]!__前投薬リスト[#Data],4,FALSE)&\"\",\"\")","v":""},null,null,null,null,null,null,null,null,null,null,null,{"$f":"IFERROR(VLOOKUP(__レジメンマスタ[[#This Row],[YJコード⑤]],[1]!__前投薬リスト[#Data],4,FALSE)&\"\",\"\")","v":""},null,null,null,null,null,null,null,null,null,null,null,{"$f":"IFERROR(VLOOKUP(__レジメンマスタ[[#This Row],[YJコード⑥]],[1]!__前投薬リスト[#Data],4,FALSE)&\"\",\"\")","v":""},null,null,null,null,null,null,null,null,null,null,null,{"$f":"IFERROR(VLOOKUP(__レジメンマスタ[[#This Row],[YJコード⑦]],[1]!__前投薬リスト[#Data],4,FALSE)&\"\",\"\")","v":""}]
["HEM0137","ベネトクラクス＋低用量シタラビン","キロサイド：1日1回10日間皮下注　1コース28日間\n（外来で施行する場合には、土日はとばして施行）\nベネクレクスタ：連日内服             \n用量漸増期は１日目に１００ｍｇ、２日目に２００ｍｇ、３日目に４００ｍｇ、４日目に６００ｍｇをそれぞれ１日１回、食後に経口投与する。その後の維持投与期は、６００ｍｇを１日１回、食後に経口投与する。なお、患者の状態により適宜減量する","28日","∞","白血病（AML)","血液内科","キロサイド(少量）","危 20mg/1mL ｷﾛｻｲﾄﾞ注","4224401A1035","皮下",null,20,"㎡","mg",null,"d1-10",{"$f":"IFERROR(VLOOKUP(__レジメンマスタ[[#This Row],[YJコード①]],[1]!__前投薬リスト[#Data],4,FALSE)&\"\",\"\")","v":""},null,"ベネクレクスタ",null,"4291062F3023","経口",null,"100→600","BODY","mg",null,"連日",{"$f":"IFERROR(VLOOKUP(__レジメンマスタ[[#This Row],[YJコード②]],[1]!__前投薬リスト[#Data],4,FALSE)&\"\",\"\")","v":""},null,null,null,null,null,null,null,null,null,null,null,{"$f":"IFERROR(VLOOKUP(__レジメンマスタ[[#This Row],[YJコード③]],[1]!__前投薬リスト[#Data],4,FALSE)&\"\",\"\")","v":""},null,null,null,null,null,null,null,null,null,null,null,{"$f":"IFERROR(VLOOKUP(__レジメンマスタ[[#This Row],[YJコード④]],[1]!__前投薬リスト[#Data],4,FALSE)&\"\",\"\")","v":""},null,null,null,null,null,null,null,null,null,null,null,{"$f":"IFERROR(VLOOKUP(__レジメンマスタ[[#This Row],[YJコード⑤]],[1]!__前投薬リスト[#Data],4,FALSE)&\"\",\"\")","v":""},null,null,null,null,null,null,null,null,null,null,null,{"$f":"IFERROR(VLOOKUP(__レジメンマスタ[[#This Row],[YJコード⑥]],[1]!__前投薬リスト[#Data],4,FALSE)&\"\",\"\")","v":""},null,null,null,null,null,null,null,null,null,null,null,{"$f":"IFERROR(VLOOKUP(__レジメンマスタ[[#This Row],[YJコード⑦]],[1]!__前投薬リスト[#Data],4,FALSE)&\"\",\"\")","v":""}]
["HEM0138","modified SMILE　(22歳以上）","　　　 D1　D2　D3　D4　D5  D6　D7  D8     \nMTX　　↓　\nETP　　　　↓　↓　↓\nIFM　　　　↓　↓　↓　\nMesna　　　↓　↓　↓　\nｵﾝｷｬｽﾊﾟｰ(1500～2000IU/㎡)　 　　　 ↓　\n\nウロミテキサンの投与量の欄は（1回量）を記入","21日","6クール","リンパ腫","血液内科","メソトレキセート（大量）","危 1000mg/40mL ﾒｿﾄﾚｷｾｰﾄ点滴静注液","4222400A2024","注射","６時間",2000,"㎡","mg",null,"d1",{"$f":"IFERROR(VLOOKUP(__レジメンマスタ[[#This Row],[YJコード①]],[1]!__前投薬リスト[#Data],4,FALSE)&\"\",\"\")","v":""},null,"エトポシド","危 ｴﾄﾎﾟｼﾄﾞ点滴静注液「ｻﾝﾄﾞ」100mg/5mL（先:ﾗｽﾃｯﾄ）","4240403A2069","注射","２ 時間で",100,"㎡","mg",null,"d2-4",{"$f":"IFERROR(VLOOKUP(__レジメンマスタ[[#This Row],[YJコード②]],[1]!__前投薬リスト[#Data],4,FALSE)&\"\",\"\")","v":""},null,"イホマイド","危 注射用ｲﾎﾏｲﾄﾞ 1g（溶解液:生食orAq）","4211402D1020","注射","２ 時間で",1500,"㎡","mg",null,"d2-4",{"$f":"IFERROR(VLOOKUP(__レジメンマスタ[[#This Row],[YJコード③]],[1]!__前投薬リスト[#Data],4,FALSE)&\"\",\"\")","v":""},null,"ウロミテキサン×３",null,"3929406A2026","注射",null,300,"㎡","mg",null,"d2-4×３",{"$f":"IFERROR(VLOOKUP(__レジメンマスタ[[#This Row],[YJコード④]],[1]!__前投薬リスト[#Data],4,FALSE)&\"\",\"\")","v":""},null,"オンキャスパー",null,"4291468D1020","注射","２ 時間で",2000,"㎡","IU",null,"d8",{"$f":"IFERROR(VLOOKUP(__レジメンマスタ[[#This Row],[YJコード⑤]],[1]!__前投薬リスト[#Data],4,FALSE)&\"\",\"\")","v":"(抗ヒス,ステ,解)"},null,null,null,null,null,null,null,null,null,null,null,{"$f":"IFERROR(VLOOKUP(__レジメンマスタ[[#This Row],[YJコード⑥]],[1]!__前投薬リスト[#Data],4,FALSE)&\"\",\"\")","v":""},null,null,null,null,null,null,null,null,null,null,null,{"$f":"IFERROR(VLOOKUP(__レジメンマスタ[[#This Row],[YJコード⑦]],[1]!__前投薬リスト[#Data],4,FALSE)&\"\",\"\")","v":""}]
["HEM0139-01","ビキセオス（CPX-351、寛解導入療法）","※「ユニット」という単位が電子カルテで表示できないので「単位」という単位で表示している\n寛解導入療法１サイクル目               \n　　　　　　 d1 d2 d3 d4 d5\nビキセオス   ↓    ↓ 　 ↓        \n寛解導入療法２サイクル目               \n   　　　　　d1 d2 d3         \nビキセオス   ↓  　↓ 　        \n ※寛解導入療法２サイクル目は、寛解導入療法１サイクル目のd1から2～5週間後に投与可能 （寛解導入療法は最大２サイクルまで）          ",null,"2サイクル","白血病（AML)","血液内科","ビキセオス",null,"4291502D1029","注射","９０ 分で　",100,"㎡","ユニット",null,"特記事項参照",{"$f":"IFERROR(VLOOKUP(__レジメンマスタ[[#This Row],[YJコード①]],[1]!__前投薬リスト[#Data],4,FALSE)&\"\",\"\")","v":""},null,null,null,null,null,null,null,null,null,null,null,{"$f":"IFERROR(VLOOKUP(__レジメンマスタ[[#This Row],[YJコード②]],[1]!__前投薬リスト[#Data],4,FALSE)&\"\",\"\")","v":""},null,null,null,null,null,null,null,null,null,null,null,{"$f":"IFERROR(VLOOKUP(__レジメンマスタ[[#This Row],[YJコード③]],[1]!__前投薬リスト[#Data],4,FALSE)&\"\",\"\")","v":""},null,null,null,null,null,null,null,null,null,null,null,{"$f":"IFERROR(VLOOKUP(__レジメンマスタ[[#This Row],[YJコード④]],[1]!__前投薬リスト[#Data],4,FALSE)&\"\",\"\")","v":""},null,null,null,null,null,null,null,null,null,null,null,{"$f":"IFERROR(VLOOKUP(__レジメンマスタ[[#This Row],[YJコード⑤]],[1]!__前投薬リスト[#Data],4,FALSE)&\"\",\"\")","v":""},null,null,null,null,null,null,null,null,null,null,null,{"$f":"IFERROR(VLOOKUP(__レジメンマスタ[[#This Row],[YJコード⑥]],[1]!__前投薬リスト[#Data],4,FALSE)&\"\",\"\")","v":""},null,null,null,null,null,null,null,null,null,null,null,{"$f":"IFERROR(VLOOKUP(__レジメンマスタ[[#This Row],[YJコード⑦]],[1]!__前投薬リスト[#Data],4,FALSE)&\"\",\"\")","v":""}]
["HEM0139-21","ビキセオス（CPX-351、地固め療法）","※「ユニット」という単位が電子カルテで表示できないので「単位」という単位で表示している\n　　　　　　 d1 d2 d3 \nビキセオス   ↓    ↓   \n 最後の寛解導入療法のd1から5～8週間あけて開始              \n （寛解導入療法を①しか行っていない場合は①のd1から、②を行っている場合は②のd1から5～8週間）  \n地固め療法は5～8週間あけて最大2サイクルまで             ","35-56日","2サイクル","白血病（AML)","血液内科","ビキセオス",null,"4291502D1029","注射","９０ 分で　",65,"㎡","ユニット",null,"d1,3",{"$f":"IFERROR(VLOOKUP(__レジメンマスタ[[#This Row],[YJコード①]],[1]!__前投薬リスト[#Data],4,FALSE)&\"\",\"\")","v":""},null,null,null,null,null,null,null,null,null,null,null,{"$f":"IFERROR(VLOOKUP(__レジメンマスタ[[#This Row],[YJコード②]],[1]!__前投薬リスト[#Data],4,FALSE)&\"\",\"\")","v":""},null,null,null,null,null,null,null,null,null,null,null,{"$f":"IFERROR(VLOOKUP(__レジメンマスタ[[#This Row],[YJコード③]],[1]!__前投薬リスト[#Data],4,FALSE)&\"\",\"\")","v":""},null,null,null,null,null,null,null,null,null,null,null,{"$f":"IFERROR(VLOOKUP(__レジメンマスタ[[#This Row],[YJコード④]],[1]!__前投薬リスト[#Data],4,FALSE)&\"\",\"\")","v":""},null,null,null,null,null,null,null,null,null,null,null,{"$f":"IFERROR(VLOOKUP(__レジメンマスタ[[#This Row],[YJコード⑤]],[1]!__前投薬リスト[#Data],4,FALSE)&\"\",\"\")","v":""},null,null,null,null,null,null,null,null,null,null,null,{"$f":"IFERROR(VLOOKUP(__レジメンマスタ[[#This Row],[YJコード⑥]],[1]!__前投薬リスト[#Data],4,FALSE)&\"\",\"\")","v":""},null,null,null,null,null,null,null,null,null,null,null,{"$f":"IFERROR(VLOOKUP(__レジメンマスタ[[#This Row],[YJコード⑦]],[1]!__前投薬リスト[#Data],4,FALSE)&\"\",\"\")","v":""}]
["HEM0140-11","カルケンス＋ガザイバ","※カルケンスは連日内服※   \n※１サイクル目はカルケンス内服のみ※  \n2サイクル目（day1,2, 8, 15に投与） \n               W1              W2　　　　 　 W3     　　     W4  \nOmab    ↓↓×××××  ↓××××××  ↓××××××  ×××××××  \n3～7サイクル目（day1のみ投与）\nOmab    ↓××××××  ×××××××  ×××××××  ×××××××  ","28日","7ｻｲｸﾙまで","白血病（CLL)","血液内科","ガザイバ(2C目d1)","危 ｶﾞｻﾞｲﾊﾞ点滴静注 1000mg/40mL（希釈液:生食）","4291444A1028","注射","２５→５０→７５→１００ｍＬ／ｈ",100,"BODY","mg",null,"d1(2C目)",{"$f":"IFERROR(VLOOKUP(__レジメンマスタ[[#This Row],[YJコード①]],[1]!__前投薬リスト[#Data],4,FALSE)&\"\",\"\")","v":"抗ヒス,解,(ステ)"},null,"ガザイバ(2C目d2)","危 ｶﾞｻﾞｲﾊﾞ点滴静注 1000mg/40mL（希釈液:生食）","4291444A1028","注射","２５→５０→７５→１００ｍＬ／ｈ",900,"BODY","mg",null,"d2(2C目)",{"$f":"IFERROR(VLOOKUP(__レジメンマスタ[[#This Row],[YJコード②]],[1]!__前投薬リスト[#Data],4,FALSE)&\"\",\"\")","v":"抗ヒス,解,(ステ)"},null,"ガザイバ（上記以降）","危 ｶﾞｻﾞｲﾊﾞ点滴静注 1000mg/40mL（希釈液:生食）","4291444A1028","注射","２５→５０→７５→１００ｍＬ／ｈ",1000,"BODY","mg",null,"d8(2C目)～",{"$f":"IFERROR(VLOOKUP(__レジメンマスタ[[#This Row],[YJコード③]],[1]!__前投薬リスト[#Data],4,FALSE)&\"\",\"\")","v":"抗ヒス,解,(ステ)"},null,"カルケンス",null,"4291070M1024","経口",null,"200/2","BODY","mg",null,"連日",{"$f":"IFERROR(VLOOKUP(__レジメンマスタ[[#This Row],[YJコード④]],[1]!__前投薬リスト[#Data],4,FALSE)&\"\",\"\")","v":""},null,null,null,null,null,null,null,null,null,null,null,{"$f":"IFERROR(VLOOKUP(__レジメンマスタ[[#This Row],[YJコード⑤]],[1]!__前投薬リスト[#Data],4,FALSE)&\"\",\"\")","v":""},null,null,null,null,null,null,null,null,null,null,null,{"$f":"IFERROR(VLOOKUP(__レジメンマスタ[[#This Row],[YJコード⑥]],[1]!__前投薬リスト[#Data],4,FALSE)&\"\",\"\")","v":""},null,null,null,null,null,null,null,null,null,null,null,{"$f":"IFERROR(VLOOKUP(__レジメンマスタ[[#This Row],[YJコード⑦]],[1]!__前投薬リスト[#Data],4,FALSE)&\"\",\"\")","v":""}]
["HEM0141-1","Isa-VRd(IMROZ)(1-4ｻｲｸﾙ目)","　　D1  D4    D8  D11    D15      D22  D25   D29 D32   D36     D42\nIsa ↓       (↓)        ↓       (↓)       ↓                   \nBor ↓  ↓    ↓  ↓               ↓  ↓    ↓  ↓    \nLEN ←-----------------→          ←----------------→\nDEX ↓↓↓↓  ↓↓↓↓   ↓         ↓↓↓↓  ↓↓↓↓\n（）：1サイクル目のみ\n\n5ｻｲｸﾙ目以降は別ﾚｼﾞﾒﾝ（ﾚｼﾞﾒﾝ変更へ）\nLEN：「2週内服1週休薬」を2回\nDex75歳未満：d1,2,4,5,8,9,11,12,15,22,23,25,26,29,30,32,33\nDex75歳以上：d1,4,8,11,15,22,25,29,32","42日間",null,"骨髄腫","血液内科","サークリサ","危 500mg/25mL ｻｰｸﾘｻ点滴静注","4291454A2028","注射",null,10,"kg","mg",null,"d1,(8),15,(22),29",{"$f":"IFERROR(VLOOKUP(__レジメンマスタ[[#This Row],[YJコード①]],[1]!__前投薬リスト[#Data],4,FALSE)&\"\",\"\")","v":"抗ヒス,H2B,ステ,解"},null,"ボルテゾミブ","危 ﾍﾞﾙｹｲﾄﾞ注射用 3mg（溶解液:生食）","4291412D1024","皮下","皮下投与",1.3,"㎡","mg",null,"d1,4,8,11,22,25,29,32",{"$f":"IFERROR(VLOOKUP(__レジメンマスタ[[#This Row],[YJコード②]],[1]!__前投薬リスト[#Data],4,FALSE)&\"\",\"\")","v":""},null,"レナリドミド",null,"4291024M1024","経口",null,25,"BODY","mg",null,"d1-14,22-35",{"$f":"IFERROR(VLOOKUP(__レジメンマスタ[[#This Row],[YJコード③]],[1]!__前投薬リスト[#Data],4,FALSE)&\"\",\"\")","v":""},null,"DEX",null,"2454002F3020","他",null,20,"BODY","mg",null,"特記事項参照",{"$f":"IFERROR(VLOOKUP(__レジメンマスタ[[#This Row],[YJコード④]],[1]!__前投薬リスト[#Data],4,FALSE)&\"\",\"\")","v":""},null,null,null,null,null,null,null,null,null,null,null,{"$f":"IFERROR(VLOOKUP(__レジメンマスタ[[#This Row],[YJコード⑤]],[1]!__前投薬リスト[#Data],4,FALSE)&\"\",\"\")","v":""},null,null,null,null,null,null,null,null,null,null,null,{"$f":"IFERROR(VLOOKUP(__レジメンマスタ[[#This Row],[YJコード⑥]],[1]!__前投薬リスト[#Data],4,FALSE)&\"\",\"\")","v":""},null,null,null,null,null,null,null,null,null,null,null,{"$f":"IFERROR(VLOOKUP(__レジメンマスタ[[#This Row],[YJコード⑦]],[1]!__前投薬リスト[#Data],4,FALSE)&\"\",\"\")","v":""}]
["HEM0141-3","Isa-VRd(IMROZ)(5ｻｲｸﾙ目以降)","       　　 W1  　　　　　 W2   　　　　W3　　　　   W4   \nIsa  ↓×××××× ××××××× (↓)×××××× ×××××××   \nLEN　↓↓↓↓↓↓↓ ↓↓↓↓↓↓↓  ↓ ↓↓↓↓↓↓ ×××××××   \nDEX  ↓×××××× ↓××××××  ↓ ×××××× ↓×××××× \n\nｻｰｸﾘｻ：5～17ｻｲｸﾙ目(d1,15)2週間毎、18ｻｲｸﾙ目以降(d1)4週間毎\nLEN：3週内服1週休薬\nDEX：20mg/週。病勢によりさらに減量可。","28日",null,"骨髄腫","血液内科","サークリサ","危 500mg/25mL ｻｰｸﾘｻ点滴静注","4291454A2028","注射",null,10,"kg","mg",null,"d1,(15)",{"$f":"IFERROR(VLOOKUP(__レジメンマスタ[[#This Row],[YJコード①]],[1]!__前投薬リスト[#Data],4,FALSE)&\"\",\"\")","v":"抗ヒス,H2B,ステ,解"},null,"レナリドミド",null,"4291024M1024","経口",null,25,"BODY","mg",null,"d1-21",{"$f":"IFERROR(VLOOKUP(__レジメンマスタ[[#This Row],[YJコード②]],[1]!__前投薬リスト[#Data],4,FALSE)&\"\",\"\")","v":""},null,"DEX",null,"2454002F3020","経口",null,20,"BODY","mg",null,"d1,8,15,22",{"$f":"IFERROR(VLOOKUP(__レジメンマスタ[[#This Row],[YJコード③]],[1]!__前投薬リスト[#Data],4,FALSE)&\"\",\"\")","v":""},null,null,null,null,null,null,null,null,null,null,null,{"$f":"IFERROR(VLOOKUP(__レジメンマスタ[[#This Row],[YJコード④]],[1]!__前投薬リスト[#Data],4,FALSE)&\"\",\"\")","v":""},null,null,null,null,null,null,null,null,null,null,null,{"$f":"IFERROR(VLOOKUP(__レジメンマスタ[[#This Row],[YJコード⑤]],[1]!__前投薬リスト[#Data],4,FALSE)&\"\",\"\")","v":""},null,null,null,null,null,null,null,null,null,null,null,{"$f":"IFERROR(VLOOKUP(__レジメンマスタ[[#This Row],[YJコード⑥]],[1]!__前投薬リスト[#Data],4,FALSE)&\"\",\"\")","v":""},null,null,null,null,null,null,null,null,null,null,null,{"$f":"IFERROR(VLOOKUP(__レジメンマスタ[[#This Row],[YJコード⑦]],[1]!__前投薬リスト[#Data],4,FALSE)&\"\",\"\")","v":""}]
["HEM0142-1","Isa-VRd(BENEFIT)(1-12ｻｲｸﾙ目)","       　　 W1  　　　　　 W2   　　　　W3　　　　   W4   \nIsa  ↓××××××(↓)×××××× ↓××××××(↓)××××××   \nBOR  ↓×××××× ↓××××××  ↓×××××× ××××××× \nLEN　↓↓↓↓↓↓↓ ↓↓↓↓↓↓↓  ↓↓↓↓↓↓↓ ×××××××   \nDEX  ↓×××××× ↓××××××  ↓×××××× ↓×××××× \n\n13ｻｲｸﾙ目以降は別ﾚｼﾞﾒﾝ（ﾚｼﾞﾒﾝ変更へ）\nｻｰｸﾘｻ：1ｻｲｸﾙ目(d1,8,15,22)毎週投与、2ｻｲｸﾙ目以降(d1,15)2週間毎\nLEN：3週内服1週休薬\nDEX：20mg/週。病勢によりさらに減量可。","28日",null,"骨髄腫","血液内科","サークリサ","危 500mg/25mL ｻｰｸﾘｻ点滴静注","4291454A2028","注射",null,10,"kg","mg",null,"d1,(8),15,(22)",{"$f":"IFERROR(VLOOKUP(__レジメンマスタ[[#This Row],[YJコード①]],[1]!__前投薬リスト[#Data],4,FALSE)&\"\",\"\")","v":"抗ヒス,H2B,ステ,解"},null,"ボルテゾミブ","危 ﾍﾞﾙｹｲﾄﾞ注射用 3mg（溶解液:生食）","4291412D1024","皮下","皮下投与",1.3,"㎡","mg",null,"d1,8,15",{"$f":"IFERROR(VLOOKUP(__レジメンマスタ[[#This Row],[YJコード②]],[1]!__前投薬リスト[#Data],4,FALSE)&\"\",\"\")","v":""},null,"レナリドミド",null,"4291024M1024","経口",null,25,"BODY","mg",null,"d1-21",{"$f":"IFERROR(VLOOKUP(__レジメンマスタ[[#This Row],[YJコード③]],[1]!__前投薬リスト[#Data],4,FALSE)&\"\",\"\")","v":""},null,"DEX",null,"2454002F3020","他",null,20,"BODY","mg",null,"d1,8,15,22",{"$f":"IFERROR(VLOOKUP(__レジメンマスタ[[#This Row],[YJコード④]],[1]!__前投薬リスト[#Data],4,FALSE)&\"\",\"\")","v":""},null,null,null,null,null,null,null,null,null,null,null,{"$f":"IFERROR(VLOOKUP(__レジメンマスタ[[#This Row],[YJコード⑤]],[1]!__前投薬リスト[#Data],4,FALSE)&\"\",\"\")","v":""},null,null,null,null,null,null,null,null,null,null,null,{"$f":"IFERROR(VLOOKUP(__レジメンマスタ[[#This Row],[YJコード⑥]],[1]!__前投薬リスト[#Data],4,FALSE)&\"\",\"\")","v":""},null,null,null,null,null,null,null,null,null,null,null,{"$f":"IFERROR(VLOOKUP(__レジメンマスタ[[#This Row],[YJコード⑦]],[1]!__前投薬リスト[#Data],4,FALSE)&\"\",\"\")","v":""}]
["HEM0142-3","Isa-VRd(BENEFIT)(13ｻｲｸﾙ目以降)","       　　 W1  　　　　　 W2   　　　　   W3　　  　　   W4   \nIsa  ↓ ×××××× ×××××××  × ×××××× ×××××××   \nBOR (↓)×××××× ××××××× (↓)×××××× ××××××× \nLEN　↓ ↓↓↓↓↓↓ ↓↓↓↓↓↓↓  ↓ ↓↓↓↓↓↓ ×××××××   \n\n18ｻｲｸﾙ目以降はボルテゾミブ無し\nLEN：3週内服1週休薬\n","28日",null,"骨髄腫","血液内科","サークリサ","危 500mg/25mL ｻｰｸﾘｻ点滴静注","4291454A2028","注射",null,10,"kg","mg",null,"d1",{"$f":"IFERROR(VLOOKUP(__レジメンマスタ[[#This Row],[YJコード①]],[1]!__前投薬リスト[#Data],4,FALSE)&\"\",\"\")","v":"抗ヒス,H2B,ステ,解"},null,"ボルテゾミブ","危 ﾍﾞﾙｹｲﾄﾞ注射用 3mg（溶解液:生食）","4291412D1024","皮下","皮下投与",1.3,"㎡","mg",null,"d1,15",{"$f":"IFERROR(VLOOKUP(__レジメンマスタ[[#This Row],[YJコード②]],[1]!__前投薬リスト[#Data],4,FALSE)&\"\",\"\")","v":""},null,"レナリドミド",null,"4291024M1024","経口",null,25,"BODY","mg",null,"d1-21",{"$f":"IFERROR(VLOOKUP(__レジメンマスタ[[#This Row],[YJコード③]],[1]!__前投薬リスト[#Data],4,FALSE)&\"\",\"\")","v":""},null,null,null,null,null,null,null,null,null,null,null,{"$f":"IFERROR(VLOOKUP(__レジメンマスタ[[#This Row],[YJコード④]],[1]!__前投薬リスト[#Data],4,FALSE)&\"\",\"\")","v":""},null,null,null,null,null,null,null,null,null,null,null,{"$f":"IFERROR(VLOOKUP(__レジメンマスタ[[#This Row],[YJコード⑤]],[1]!__前投薬リスト[#Data],4,FALSE)&\"\",\"\")","v":""},null,null,null,null,null,null,null,null,null,null,null,{"$f":"IFERROR(VLOOKUP(__レジメンマスタ[[#This Row],[YJコード⑥]],[1]!__前投薬リスト[#Data],4,FALSE)&\"\",\"\")","v":""},null,null,null,null,null,null,null,null,null,null,null,{"$f":"IFERROR(VLOOKUP(__レジメンマスタ[[#This Row],[YJコード⑦]],[1]!__前投薬リスト[#Data],4,FALSE)&\"\",\"\")","v":""}]
["HEM0143","ベネクレクスタ＋リツキサン","　　　　　  　Ｗ1            Ｗ2           Ｗ3～4   \nR　      ↓××××××  ××××××× ××××××× \n\nベネクレクスタ：連日内服             \n用量漸増期は第1週目に20mg、第2週目に50mg、第3週目に100mg、第4週目に200mg、第5週目に400mgをそれぞれ1日1回、7日間食後に経口投与する。その後は400mgを1日1回、食後に経口投与する。","28日","6ｻｲｸﾙまで","白血病（CLL)","血液内科","リツキサン(1C)","危 ﾘﾂｷｻﾝ点滴静注 500mg/50mL（希釈液:生食orTZ）","4291407A2031","注射","２５ｍｌ／ｈ→１００ｍｌ／ｈ→２００ｍｌ",375,"㎡","mg",null,"d1(1C)",{"$f":"IFERROR(VLOOKUP(__レジメンマスタ[[#This Row],[YJコード①]],[1]!__前投薬リスト[#Data],4,FALSE)&\"\",\"\")","v":"抗ヒス,解,(ステ)"},null,"リツキサン(2C以降)","危 ﾘﾂｷｻﾝ点滴静注 500mg/50mL（希釈液:生食orTZ）","4291407A2031","注射","２５ｍｌ／ｈ→１００ｍｌ／ｈ→２００ｍｌ",500,"㎡","mg",null,"d1(2C～)",{"$f":"IFERROR(VLOOKUP(__レジメンマスタ[[#This Row],[YJコード②]],[1]!__前投薬リスト[#Data],4,FALSE)&\"\",\"\")","v":"抗ヒス,解,(ステ)"},null,"ベネクレクスタ",null,"4291062F3023","経口",null,"20→400","BODY","mg",null,"連日",{"$f":"IFERROR(VLOOKUP(__レジメンマスタ[[#This Row],[YJコード③]],[1]!__前投薬リスト[#Data],4,FALSE)&\"\",\"\")","v":""},null,null,null,null,null,null,null,null,null,null,null,{"$f":"IFERROR(VLOOKUP(__レジメンマスタ[[#This Row],[YJコード④]],[1]!__前投薬リスト[#Data],4,FALSE)&\"\",\"\")","v":""},null,null,null,null,null,null,null,null,null,null,null,{"$f":"IFERROR(VLOOKUP(__レジメンマスタ[[#This Row],[YJコード⑤]],[1]!__前投薬リスト[#Data],4,FALSE)&\"\",\"\")","v":""},null,null,null,null,null,null,null,null,null,null,null,{"$f":"IFERROR(VLOOKUP(__レジメンマスタ[[#This Row],[YJコード⑥]],[1]!__前投薬リスト[#Data],4,FALSE)&\"\",\"\")","v":""},null,null,null,null,null,null,null,null,null,null,null,{"$f":"IFERROR(VLOOKUP(__レジメンマスタ[[#This Row],[YJコード⑦]],[1]!__前投薬リスト[#Data],4,FALSE)&\"\",\"\")","v":""}]
["HEM0144","DBLd(PERSEUS)(1-6ｻｲｸﾙ目)","       　　 W1  　　　　　 W2   　　  　　W3　   　　　   W4   \nDara ↓×××××× (↓)×××××× ↓×××××× (↓)××××××   \nBOR  ↓××↓×××  ↓××↓×××  ×××××××  ××××××× \nLEN　↓↓↓↓↓↓↓  ↓↓↓↓↓↓↓  ↓↓↓↓↓↓↓  ×××××××   \nDEX  ↓↓↓↓××× (↓)↓↓↓↓×× ↓×××××× (↓)×××××× \n（）：1-2サイクル目のみ\n7ｻｲｸﾙ目以降は別ﾚｼﾞﾒﾝ（ﾚｼﾞﾒﾝ変更へ）\nDara：1-2ｻｲｸﾙ目(d1,8,15,22)毎週投与、3-6ｻｲｸﾙ目(d1,15)2週間毎\nLEN：3週内服1週休薬\nDEX：1回10～40mg。病勢によりさらに減量可。","28日",null,"骨髄腫","血液内科","ダラキューロ","危 ﾀﾞﾗｷｭｰﾛ配合皮下注 1800mg/15mL","4291500A1023","皮下","３～５分かけて皮下注射",1800,"BODY","mg",null,"特記事項参照",{"$f":"IFERROR(VLOOKUP(__レジメンマスタ[[#This Row],[YJコード①]],[1]!__前投薬リスト[#Data],4,FALSE)&\"\",\"\")","v":"抗ヒス,ステ,解"},null,"ボルテゾミブ","危 ﾍﾞﾙｹｲﾄﾞ注射用 3mg（溶解液:生食）","4291412D1024","皮下","皮下投与",1.3,"㎡","mg",null,"d1,4,8,11",{"$f":"IFERROR(VLOOKUP(__レジメンマスタ[[#This Row],[YJコード②]],[1]!__前投薬リスト[#Data],4,FALSE)&\"\",\"\")","v":""},null,"レナリドミド",null,"4291024M1024","経口",null,25,"BODY","mg",null,"d1-21",{"$f":"IFERROR(VLOOKUP(__レジメンマスタ[[#This Row],[YJコード③]],[1]!__前投薬リスト[#Data],4,FALSE)&\"\",\"\")","v":""},null,"DEX",null,"2454002F3020","他",null,"10-40","BODY","mg",null,"d1-4,(8),9-12,15,(22)",{"$f":"IFERROR(VLOOKUP(__レジメンマスタ[[#This Row],[YJコード④]],[1]!__前投薬リスト[#Data],4,FALSE)&\"\",\"\")","v":""},null,null,null,null,null,null,null,null,null,null,null,{"$f":"IFERROR(VLOOKUP(__レジメンマスタ[[#This Row],[YJコード⑤]],[1]!__前投薬リスト[#Data],4,FALSE)&\"\",\"\")","v":""},null,null,null,null,null,null,null,null,null,null,null,{"$f":"IFERROR(VLOOKUP(__レジメンマスタ[[#This Row],[YJコード⑥]],[1]!__前投薬リスト[#Data],4,FALSE)&\"\",\"\")","v":""},null,null,null,null,null,null,null,null,null,null,null,{"$f":"IFERROR(VLOOKUP(__レジメンマスタ[[#This Row],[YJコード⑦]],[1]!__前投薬リスト[#Data],4,FALSE)&\"\",\"\")","v":""}]
["HEM0144-4","DBLd(PERSEUS)(7ｻｲｸﾙ目以降)","       　　 W1  　　　　 W2   　　  　　W3　   　　   W4   \nDara ↓×××××× ××××××× ××××××× ×××××××   \nLEN　↓↓↓↓↓↓↓ ↓↓↓↓↓↓↓ ↓↓↓↓↓↓↓ ↓↓↓↓↓↓↓   \nDEX  ↓×××××× ××××××× ××××××× ××××××× \nDara、DEX：(d1)4週間毎\nLEN：★連日内服★（休薬なし）\n★レナリドミドは連日投与ですが内服のマーカーは記載すること★","28日",null,"骨髄腫","血液内科","ダラキューロ","危 ﾀﾞﾗｷｭｰﾛ配合皮下注 1800mg/15mL","4291500A1023","皮下","３～５分かけて皮下注射",1800,"BODY","mg",null,"d1",{"$f":"IFERROR(VLOOKUP(__レジメンマスタ[[#This Row],[YJコード①]],[1]!__前投薬リスト[#Data],4,FALSE)&\"\",\"\")","v":"抗ヒス,ステ,解"},null,"レナリドミド",null,"4291024M1024","経口",null,10,"BODY","mg",null,"★連日★",{"$f":"IFERROR(VLOOKUP(__レジメンマスタ[[#This Row],[YJコード②]],[1]!__前投薬リスト[#Data],4,FALSE)&\"\",\"\")","v":""},null,"DEX",null,"2454002F3020","他",null,10,"BODY","mg",null,"d1",{"$f":"IFERROR(VLOOKUP(__レジメンマスタ[[#This Row],[YJコード③]],[1]!__前投薬リスト[#Data],4,FALSE)&\"\",\"\")","v":""},null,null,null,null,null,null,null,null,null,null,null,{"$f":"IFERROR(VLOOKUP(__レジメンマスタ[[#This Row],[YJコード④]],[1]!__前投薬リスト[#Data],4,FALSE)&\"\",\"\")","v":""},null,null,null,null,null,null,null,null,null,null,null,{"$f":"IFERROR(VLOOKUP(__レジメンマスタ[[#This Row],[YJコード⑤]],[1]!__前投薬リスト[#Data],4,FALSE)&\"\",\"\")","v":""},null,null,null,null,null,null,null,null,null,null,null,{"$f":"IFERROR(VLOOKUP(__レジメンマスタ[[#This Row],[YJコード⑥]],[1]!__前投薬リスト[#Data],4,FALSE)&\"\",\"\")","v":""},null,null,null,null,null,null,null,null,null,null,null,{"$f":"IFERROR(VLOOKUP(__レジメンマスタ[[#This Row],[YJコード⑦]],[1]!__前投薬リスト[#Data],4,FALSE)&\"\",\"\")","v":""}]
["HEM0145","ダリナパルシン単剤","　 　　　D1 D2 D3 D4 D5・・・・・D21\nﾀﾞﾙﾋﾞｱｽ　↓ ↓ ↓ ↓ ↓ × ×   ××\n5日間連続し、少なくとも16日間休薬\n基本6コース、増悪まで継続可能","21日","基本6クール\n","リンパ腫","血液内科","ダルビアス",null,"4291462D1022","注射",null,300,"㎡","mg",null,"d1-5",{"$f":"IFERROR(VLOOKUP(__レジメンマスタ[[#This Row],[YJコード①]],[1]!__前投薬リスト[#Data],4,FALSE)&\"\",\"\")","v":""},null,null,null,null,null,null,null,null,null,null,null,{"$f":"IFERROR(VLOOKUP(__レジメンマスタ[[#This Row],[YJコード②]],[1]!__前投薬リスト[#Data],4,FALSE)&\"\",\"\")","v":""},null,null,null,null,null,null,null,null,null,null,null,{"$f":"IFERROR(VLOOKUP(__レジメンマスタ[[#This Row],[YJコード③]],[1]!__前投薬リスト[#Data],4,FALSE)&\"\",\"\")","v":""},null,null,null,null,null,null,null,null,null,null,null,{"$f":"IFERROR(VLOOKUP(__レジメンマスタ[[#This Row],[YJコード④]],[1]!__前投薬リスト[#Data],4,FALSE)&\"\",\"\")","v":""},null,null,null,null,null,null,null,null,null,null,null,{"$f":"IFERROR(VLOOKUP(__レジメンマスタ[[#This Row],[YJコード⑤]],[1]!__前投薬リスト[#Data],4,FALSE)&\"\",\"\")","v":""},null,null,null,null,null,null,null,null,null,null,null,{"$f":"IFERROR(VLOOKUP(__レジメンマスタ[[#This Row],[YJコード⑥]],[1]!__前投薬リスト[#Data],4,FALSE)&\"\",\"\")","v":""},null,null,null,null,null,null,null,null,null,null,null,{"$f":"IFERROR(VLOOKUP(__レジメンマスタ[[#This Row],[YJコード⑦]],[1]!__前投薬リスト[#Data],4,FALSE)&\"\",\"\")","v":""},null,"・骨髄抑制：感染予防対策の徹底","QT間隔延長","精神障害","中枢神経障害","・末梢神経障害：治療を繰り返すことで症状出現･増悪傾向あり。日常生活に支障がある際は申し出を"]
["HEM0146","（作成中）DBLd(CEPHEUS)(1-8ｻｲｸﾙ目)","       　　 W1  　　　　　 W2   　　  　　W3　   　\nDara ↓×××××× (↓)×××××× (↓)××××××   \nBOR  ↓××↓×××  ↓××↓×××   ××××××× \nLEN　↓↓↓↓↓↓↓  ↓↓↓↓↓↓↓   ×××××××   \nDEX  ↓↓×↓↓××  ↓↓×↓↓××  (↓)×××××× \n（）：1-2サイクル目のみ\n9ｻｲｸﾙ目以降は別ﾚｼﾞﾒﾝ（ﾚｼﾞﾒﾝ変更へ）\nDara：1-2ｻｲｸﾙ目(d1,8,15)毎週投与、3-8ｻｲｸﾙ目(d1)3週間毎\nLEN：2週内服1週休薬\nDEX：1回20～40mg。病勢によりさらに減量可。","21日",null,"骨髄腫","血液内科","ダラキューロ","危 ﾀﾞﾗｷｭｰﾛ配合皮下注 1800mg/15mL","4291500A1023","皮下","３～５分かけて皮下注射",1800,"BODY","mg",null,"特記事項参照",{"$f":"IFERROR(VLOOKUP(__レジメンマスタ[[#This Row],[YJコード①]],[1]!__前投薬リスト[#Data],4,FALSE)&\"\",\"\")","v":"抗ヒス,ステ,解"},null,"ボルテゾミブ","危 ﾍﾞﾙｹｲﾄﾞ注射用 3mg（溶解液:生食）","4291412D1024","皮下","皮下投与",1.3,"㎡","mg",null,"d1,4,8,11",{"$f":"IFERROR(VLOOKUP(__レジメンマスタ[[#This Row],[YJコード②]],[1]!__前投薬リスト[#Data],4,FALSE)&\"\",\"\")","v":""},"8ｻｲｸﾙ","レナリドミド",null,"4291024M1024","経口",null,25,"BODY","mg",null,"d1-14",{"$f":"IFERROR(VLOOKUP(__レジメンマスタ[[#This Row],[YJコード③]],[1]!__前投薬リスト[#Data],4,FALSE)&\"\",\"\")","v":""},null,"DEX",null,"2454002F3020","他",null,"20-40","BODY","mg",null,"d1,2,4,5,8,9,11,12,(15)",{"$f":"IFERROR(VLOOKUP(__レジメンマスタ[[#This Row],[YJコード④]],[1]!__前投薬リスト[#Data],4,FALSE)&\"\",\"\")","v":""},null,null,null,null,null,null,null,null,null,null,null,{"$f":"IFERROR(VLOOKUP(__レジメンマスタ[[#This Row],[YJコード⑤]],[1]!__前投薬リスト[#Data],4,FALSE)&\"\",\"\")","v":""},null,null,null,null,null,null,null,null,null,null,null,{"$f":"IFERROR(VLOOKUP(__レジメンマスタ[[#This Row],[YJコード⑥]],[1]!__前投薬リスト[#Data],4,FALSE)&\"\",\"\")","v":""},null,null,null,null,null,null,null,null,null,null,null,{"$f":"IFERROR(VLOOKUP(__レジメンマスタ[[#This Row],[YJコード⑦]],[1]!__前投薬リスト[#Data],4,FALSE)&\"\",\"\")","v":""}]
["HEM0146-4","（作成中）DBLd(CEPHEUS)(9ｻｲｸﾙ目以降)","       　　 W1  　　　　 W2   　　  　　W3　   　　   W4   \nDara ↓×××××× ××××××× ××××××× ×××××××   \nLEN　↓↓↓↓↓↓↓ ↓↓↓↓↓↓↓ ↓↓↓↓↓↓↓ ×××××××   \nDEX  ↓×××××× ↓×××××× ↓×××××× ↓×××××× \nDara：(d1)4週間毎\nLEN：3週内服1週休薬\nDEX：1回20～40mg。病勢によりさらに減量可。","28日",null,"骨髄腫","血液内科","ダラキューロ","危 ﾀﾞﾗｷｭｰﾛ配合皮下注 1800mg/15mL","4291500A1023","皮下","３～５分かけて皮下注射",1800,"BODY","mg",null,"d1",{"$f":"IFERROR(VLOOKUP(__レジメンマスタ[[#This Row],[YJコード①]],[1]!__前投薬リスト[#Data],4,FALSE)&\"\",\"\")","v":"抗ヒス,ステ,解"},null,"レナリドミド",null,"4291024M1024","経口",null,25,"BODY","mg",null,"d1-21",{"$f":"IFERROR(VLOOKUP(__レジメンマスタ[[#This Row],[YJコード②]],[1]!__前投薬リスト[#Data],4,FALSE)&\"\",\"\")","v":""},null,"DEX",null,"2454002F3020","他",null,"20-40","BODY","mg",null,"d1,8,15,22",{"$f":"IFERROR(VLOOKUP(__レジメンマスタ[[#This Row],[YJコード③]],[1]!__前投薬リスト[#Data],4,FALSE)&\"\",\"\")","v":""},null,null,null,null,null,null,null,null,null,null,null,{"$f":"IFERROR(VLOOKUP(__レジメンマスタ[[#This Row],[YJコード④]],[1]!__前投薬リスト[#Data],4,FALSE)&\"\",\"\")","v":""},null,null,null,null,null,null,null,null,null,null,null,{"$f":"IFERROR(VLOOKUP(__レジメンマスタ[[#This Row],[YJコード⑤]],[1]!__前投薬リスト[#Data],4,FALSE)&\"\",\"\")","v":""},null,null,null,null,null,null,null,null,null,null,null,{"$f":"IFERROR(VLOOKUP(__レジメンマスタ[[#This Row],[YJコード⑥]],[1]!__前投薬リスト[#Data],4,FALSE)&\"\",\"\")","v":""},null,null,null,null,null,null,null,null,null,null,null,{"$f":"IFERROR(VLOOKUP(__レジメンマスタ[[#This Row],[YJコード⑦]],[1]!__前投薬リスト[#Data],4,FALSE)&\"\",\"\")","v":""}]
["HEM0147-1","タービー（1週間毎）","《漸増期》　　 W1 　　　　　　  W2 　　　　　　    　　　　　     \nﾀｰﾋﾞｰ　　↓××↓×××   ↓××××××           \n《継続投与期》　                \nﾀｰﾋﾞｰ　　↓××××××  1週間毎   \n   \n必須前投薬：漸増期のd1,4,8のみ   \n延期した場合は添付文書・適正使用ガイド参照    ","14日→7日","∞","骨髄腫","血液内科","タービー","タービー皮下注４０ｍｇ","4291480A2020","皮下",null,0.01,"kg","mg",null,"d1(漸増期)",{"$f":"IFERROR(VLOOKUP(__レジメンマスタ[[#This Row],[YJコード①]],[1]!__前投薬リスト[#Data],4,FALSE)&\"\",\"\")","v":"抗ヒス,ステ,解"},null,"タービー","タービー皮下注４０ｍｇ","4291480A2020","皮下",null,0.06,"kg","mg",null,"d4(漸増期)",{"$f":"IFERROR(VLOOKUP(__レジメンマスタ[[#This Row],[YJコード①]],[1]!__前投薬リスト[#Data],4,FALSE)&\"\",\"\")","v":"抗ヒス,ステ,解"},null,"タービー","タービー皮下注４０ｍｇ","4291480A2020","皮下",null,0.4,"kg","mg",null,"d8(漸増期)、継続投与期",{"$f":"IFERROR(VLOOKUP(__レジメンマスタ[[#This Row],[YJコード①]],[1]!__前投薬リスト[#Data],4,FALSE)&\"\",\"\")","v":"抗ヒス,ステ,解"},null,null,null,null,null,null,null,null,null,null,null,null,null,null,null,null,null,null,null,null,null,null,null,null,null,null,null,null,null,null,null,null,null,null,null,null,null,null,null,null,null,null,null,null,null,null,null,{"$f":"IFERROR(VLOOKUP(__レジメンマスタ[[#This Row],[YJコード⑦]],[1]!__前投薬リスト[#Data],4,FALSE)&\"\",\"\")","v":""}]
["HEM0147-2","タービー（2週間毎）","《漸増期》　　 W1 　　　　　　  W2 　　　　　　W3     　 　(W4)　　　     \nﾀｰﾋﾞｰ　　↓××↓×××   ↓××↓×××　×××××××　×××           \n　　　   d1    d4        d8   d11\n☆漸増期のd11より13日以上休薬してから継続投与期へ移行☆\n   \n《継続投与期》　                \nﾀｰﾋﾞｰ　　↓××××××   ×××××××　2週間毎   \n       （d1のみ）\n必須前投薬：漸増期のd1,4,8,11のみ   \n延期した場合は添付文書・適正使用ガイド参照    ","24日→14日","∞","骨髄腫","血液内科","タービー","タービー皮下注４０ｍｇ","4291480A2020","皮下",null,0.01,"kg","mg",null,"d1(漸増期)",{"$f":"IFERROR(VLOOKUP(__レジメンマスタ[[#This Row],[YJコード①]],[1]!__前投薬リスト[#Data],4,FALSE)&\"\",\"\")","v":"抗ヒス,ステ,解"},null,"タービー","タービー皮下注４０ｍｇ","4291480A2020","皮下",null,0.06,"kg","mg",null,"d4(漸増期)",{"$f":"IFERROR(VLOOKUP(__レジメンマスタ[[#This Row],[YJコード①]],[1]!__前投薬リスト[#Data],4,FALSE)&\"\",\"\")","v":"抗ヒス,ステ,解"},null,"タービー","タービー皮下注４０ｍｇ","4291480A2020","皮下",null,0.4,"kg","mg",null,"d8(漸増期)",{"$f":"IFERROR(VLOOKUP(__レジメンマスタ[[#This Row],[YJコード①]],[1]!__前投薬リスト[#Data],4,FALSE)&\"\",\"\")","v":"抗ヒス,ステ,解"},null,"タービー","タービー皮下注４０ｍｇ","4291480A2020","皮下",null,0.8,"kg","mg",null,"d11(漸増期)、継続投与期",{"$f":"IFERROR(VLOOKUP(__レジメンマスタ[[#This Row],[YJコード①]],[1]!__前投薬リスト[#Data],4,FALSE)&\"\",\"\")","v":"抗ヒス,ステ,解"},null,null,null,null,null,null,null,null,null,null,null,null,null,null,null,null,null,null,null,null,null,null,null,null,null,null,null,null,null,null,null,null,null,null,null,{"$f":"IFERROR(VLOOKUP(__レジメンマスタ[[#This Row],[YJコード⑦]],[1]!__前投薬リスト[#Data],4,FALSE)&\"\",\"\")","v":""}]
["HEM0148","DRC","　　　　　　Ｗ1            Ｗ2           Ｗ3       \nR　  ↓××××××  ××××××× ××××××× \nCPA  ↓↓↓↓↓××  ××××××× ×××××××\n","21日","6コース","リンパ腫","血液内科","リツキシマブ","危 500㎎/50mL ﾘﾂｷｼﾏﾌﾞBS点滴静注「ﾌｧｲｻﾞｰ」（希釈液:生食orTZ）（先:ﾘﾂｷｻﾝ）","4291451A2024","注射","５０ｍＬ／ｈで開始、ｍａｘ２００ｍＬ／ｈ",375,"㎡","mg",null,"d1",{"$f":"IFERROR(VLOOKUP(__レジメンマスタ[[#This Row],[YJコード①]],[1]!__前投薬リスト[#Data],4,FALSE)&\"\",\"\")","v":"抗ヒス,解,(ステ)"},null,"エンドキサン(内服）",null,"4211002F1044","経口",null,200,"㎡","mg",null,"d1-5",{"$f":"IFERROR(VLOOKUP(__レジメンマスタ[[#This Row],[YJコード③]],[1]!__前投薬リスト[#Data],4,FALSE)&\"\",\"\")","v":""},null,null,null,null,null,null,null,null,null,null,null,null,null,null,null,null,null,null,null,null,null,null,null,null,null,null,null,null,null,null,null,null,null,null,null,null,null,null,null,null,null,null,null,null,null,null,null,null,null,null,null,null,null,null,null,null,null,null,null,{"$f":"IFERROR(VLOOKUP(__レジメンマスタ[[#This Row],[YJコード⑦]],[1]!__前投薬リスト[#Data],4,FALSE)&\"\",\"\")","v":""}]
["HEM0149","（作成中）ERd",null,null,null,null,null,null,null,null,null,null,null,null,null,null,null,null,null,null,null,null,null,null,null,null,null,null,null,null,null,null,null,null,null,null,null,null,null,null,null,null,null,null,null,null,null,null,null,null,null,null,null,null,null,null,null,null,null,null,null,null,null,null,null,null,null,null,null,null,null,null,null,null,null,null,null,null,null,null,null,null,null,null,null,null,null,null,null,{"$f":"IFERROR(VLOOKUP(__レジメンマスタ[[#This Row],[YJコード⑦]],[1]!__前投薬リスト[#Data],4,FALSE)&\"\",\"\")","v":""}]
["KID0003","リツキシマブ（375mg/㎡）","注！ バイオシミラーの適応症は、ヴェゲナ肉芽腫、多発血管炎、紫斑病\n  ※はリツキサンの先発品を使用              \n□ ネフローゼ症候群※★MAX500mg★ 　　　□天疱瘡※ \n□ ヴェゲナ肉芽腫　  慢性特発性血小板減少性紫斑病　 □ 多発血管炎           \n□ 後天性血栓性血小板減少性紫斑病　  ","7日","4回","血管炎","リウマチ・腎臓内科","リツキシマブ","危 500㎎/50mL ﾘﾂｷｼﾏﾌﾞBS点滴静注「ﾌｧｲｻﾞｰ」（希釈液:生食orTZ）（先:ﾘﾂｷｻﾝ）","4291451A2024","注射","５０ｍＬ／ｈで開始、ｍａｘ２００ｍＬ／ｈ",375,"㎡","mg",null,"d1",{"$f":"IFERROR(VLOOKUP(__レジメンマスタ[[#This Row],[YJコード①]],[1]!__前投薬リスト[#Data],4,FALSE)&\"\",\"\")","v":"抗ヒス,解,(ステ)"},null,null,null,null,null,null,null,null,null,null,null,{"$f":"IFERROR(VLOOKUP(__レジメンマスタ[[#This Row],[YJコード②]],[1]!__前投薬リスト[#Data],4,FALSE)&\"\",\"\")","v":""},null,null,null,null,null,null,null,null,null,null,null,{"$f":"IFERROR(VLOOKUP(__レジメンマスタ[[#This Row],[YJコード③]],[1]!__前投薬リスト[#Data],4,FALSE)&\"\",\"\")","v":""},null,null,null,null,null,null,null,null,null,null,null,{"$f":"IFERROR(VLOOKUP(__レジメンマスタ[[#This Row],[YJコード④]],[1]!__前投薬リスト[#Data],4,FALSE)&\"\",\"\")","v":""},null,null,null,null,null,null,null,null,null,null,null,{"$f":"IFERROR(VLOOKUP(__レジメンマスタ[[#This Row],[YJコード⑤]],[1]!__前投薬リスト[#Data],4,FALSE)&\"\",\"\")","v":""},null,null,null,null,null,null,null,null,null,null,null,{"$f":"IFERROR(VLOOKUP(__レジメンマスタ[[#This Row],[YJコード⑥]],[1]!__前投薬リスト[#Data],4,FALSE)&\"\",\"\")","v":""},null,null,null,null,null,null,null,null,null,null,null,{"$f":"IFERROR(VLOOKUP(__レジメンマスタ[[#This Row],[YJコード⑦]],[1]!__前投薬リスト[#Data],4,FALSE)&\"\",\"\")","v":""}]
["KID0005","リツキサン（375mg/㎡）","注！ バイオシミラーの適応症は、ヴェゲナ肉芽腫、多発血管炎、紫斑病\n  ※はリツキサンの先発品を使用              \n□ ネフローゼ症候群※★MAX500mg★ 　　　□天疱瘡※ \n□ ヴェゲナ肉芽腫　  慢性特発性血小板減少性紫斑病　 □ 多発血管炎           \n□ 後天性血栓性血小板減少性紫斑病　  ","7日","4回","難治性ネフローゼ","リウマチ・腎臓内科","リツキサン","危 ﾘﾂｷｻﾝ点滴静注 500mg/50mL（希釈液:生食orTZ）","4291407A2031","注射","２５ｍｌ／ｈ→１００ｍｌ／ｈ→２００ｍｌ",375,"㎡","mg",null,"d1",{"$f":"IFERROR(VLOOKUP(__レジメンマスタ[[#This Row],[YJコード①]],[1]!__前投薬リスト[#Data],4,FALSE)&\"\",\"\")","v":"抗ヒス,解,(ステ)"},null,null,null,null,null,null,null,null,null,null,null,{"$f":"IFERROR(VLOOKUP(__レジメンマスタ[[#This Row],[YJコード②]],[1]!__前投薬リスト[#Data],4,FALSE)&\"\",\"\")","v":""},null,null,null,null,null,null,null,null,null,null,null,{"$f":"IFERROR(VLOOKUP(__レジメンマスタ[[#This Row],[YJコード③]],[1]!__前投薬リスト[#Data],4,FALSE)&\"\",\"\")","v":""},null,null,null,null,null,null,null,null,null,null,null,{"$f":"IFERROR(VLOOKUP(__レジメンマスタ[[#This Row],[YJコード④]],[1]!__前投薬リスト[#Data],4,FALSE)&\"\",\"\")","v":""},null,null,null,null,null,null,null,null,null,null,null,{"$f":"IFERROR(VLOOKUP(__レジメンマスタ[[#This Row],[YJコード⑤]],[1]!__前投薬リスト[#Data],4,FALSE)&\"\",\"\")","v":""},null,null,null,null,null,null,null,null,null,null,null,{"$f":"IFERROR(VLOOKUP(__レジメンマスタ[[#This Row],[YJコード⑥]],[1]!__前投薬リスト[#Data],4,FALSE)&\"\",\"\")","v":""},null,null,null,null,null,null,null,null,null,null,null,{"$f":"IFERROR(VLOOKUP(__レジメンマスタ[[#This Row],[YJコード⑦]],[1]!__前投薬リスト[#Data],4,FALSE)&\"\",\"\")","v":""}]
["KID0006","CPA（750mg/㎡）","□　全身性血管炎（多発血管炎、ヴェゲナ肉芽腫、結節性多発動脈炎）              \n□　多発性筋炎・皮膚筋炎　　　　　　□　強皮症              \n□　混合性結合組織症　・　血管炎を伴う難治性リウマチ疾患\n添付文書上の用法は500～1000mg/㎡を原則として4週間毎              ","28日",null,"リウマチ性疾患","リウマチ・腎臓内科","エンドキサン","危 注射用ｴﾝﾄﾞｷｻﾝ 500㎎","4211401D2021","注射","２  時間で",750,"㎡","mg",null,"d1",{"$f":"IFERROR(VLOOKUP(__レジメンマスタ[[#This Row],[YJコード①]],[1]!__前投薬リスト[#Data],4,FALSE)&\"\",\"\")","v":""},null,null,null,null,null,null,null,null,null,null,null,{"$f":"IFERROR(VLOOKUP(__レジメンマスタ[[#This Row],[YJコード②]],[1]!__前投薬リスト[#Data],4,FALSE)&\"\",\"\")","v":""},null,null,null,null,null,null,null,null,null,null,null,{"$f":"IFERROR(VLOOKUP(__レジメンマスタ[[#This Row],[YJコード③]],[1]!__前投薬リスト[#Data],4,FALSE)&\"\",\"\")","v":""},null,null,null,null,null,null,null,null,null,null,null,{"$f":"IFERROR(VLOOKUP(__レジメンマスタ[[#This Row],[YJコード④]],[1]!__前投薬リスト[#Data],4,FALSE)&\"\",\"\")","v":""},null,null,null,null,null,null,null,null,null,null,null,{"$f":"IFERROR(VLOOKUP(__レジメンマスタ[[#This Row],[YJコード⑤]],[1]!__前投薬リスト[#Data],4,FALSE)&\"\",\"\")","v":""},null,null,null,null,null,null,null,null,null,null,null,{"$f":"IFERROR(VLOOKUP(__レジメンマスタ[[#This Row],[YJコード⑥]],[1]!__前投薬リスト[#Data],4,FALSE)&\"\",\"\")","v":""},null,null,null,null,null,null,null,null,null,null,null,{"$f":"IFERROR(VLOOKUP(__レジメンマスタ[[#This Row],[YJコード⑦]],[1]!__前投薬リスト[#Data],4,FALSE)&\"\",\"\")","v":""}]
["KID0007","CPA（15mg/kg）","□　全身性血管炎（多発血管炎、ヴェゲナ肉芽腫、結節性多発動脈炎）              \n□　多発性筋炎・皮膚筋炎　　　　　　□　強皮症              \n□　混合性結合組織症　・　血管炎を伴う難治性リウマチ疾患              \n添付文書上の用法は500～1000mg/㎡を原則として4週間毎 ","28日",null,"リウマチ性疾患","リウマチ・腎臓内科","エンドキサン","危 注射用ｴﾝﾄﾞｷｻﾝ 500㎎","4211401D2021","注射","２  時間で",15,"kg","mg",null,"d1",{"$f":"IFERROR(VLOOKUP(__レジメンマスタ[[#This Row],[YJコード①]],[1]!__前投薬リスト[#Data],4,FALSE)&\"\",\"\")","v":""},null,null,null,null,null,null,null,null,null,null,null,{"$f":"IFERROR(VLOOKUP(__レジメンマスタ[[#This Row],[YJコード②]],[1]!__前投薬リスト[#Data],4,FALSE)&\"\",\"\")","v":""},null,null,null,null,null,null,null,null,null,null,null,{"$f":"IFERROR(VLOOKUP(__レジメンマスタ[[#This Row],[YJコード③]],[1]!__前投薬リスト[#Data],4,FALSE)&\"\",\"\")","v":""},null,null,null,null,null,null,null,null,null,null,null,{"$f":"IFERROR(VLOOKUP(__レジメンマスタ[[#This Row],[YJコード④]],[1]!__前投薬リスト[#Data],4,FALSE)&\"\",\"\")","v":""},null,null,null,null,null,null,null,null,null,null,null,{"$f":"IFERROR(VLOOKUP(__レジメンマスタ[[#This Row],[YJコード⑤]],[1]!__前投薬リスト[#Data],4,FALSE)&\"\",\"\")","v":""},null,null,null,null,null,null,null,null,null,null,null,{"$f":"IFERROR(VLOOKUP(__レジメンマスタ[[#This Row],[YJコード⑥]],[1]!__前投薬リスト[#Data],4,FALSE)&\"\",\"\")","v":""},null,null,null,null,null,null,null,null,null,null,null,{"$f":"IFERROR(VLOOKUP(__レジメンマスタ[[#This Row],[YJコード⑦]],[1]!__前投薬リスト[#Data],4,FALSE)&\"\",\"\")","v":""}]
["O100001","【適応外】【間質性肺炎】CPA","レジメンチェックなしで運用",null,null,"間質性肺炎","呼吸器内科","エンドキサン","危 注射用ｴﾝﾄﾞｷｻﾝ 500㎎","4211401D2021","注射","２  時間で",500,"BODY","mg",null,"d1",{"$f":"IFERROR(VLOOKUP(__レジメンマスタ[[#This Row],[YJコード①]],[1]!__前投薬リスト[#Data],4,FALSE)&\"\",\"\")","v":""},null,null,null,null,null,null,null,null,null,null,null,{"$f":"IFERROR(VLOOKUP(__レジメンマスタ[[#This Row],[YJコード②]],[1]!__前投薬リスト[#Data],4,FALSE)&\"\",\"\")","v":""},null,null,null,null,null,null,null,null,null,null,null,{"$f":"IFERROR(VLOOKUP(__レジメンマスタ[[#This Row],[YJコード③]],[1]!__前投薬リスト[#Data],4,FALSE)&\"\",\"\")","v":""},null,null,null,null,null,null,null,null,null,null,null,{"$f":"IFERROR(VLOOKUP(__レジメンマスタ[[#This Row],[YJコード④]],[1]!__前投薬リスト[#Data],4,FALSE)&\"\",\"\")","v":""},null,null,null,null,null,null,null,null,null,null,null,{"$f":"IFERROR(VLOOKUP(__レジメンマスタ[[#This Row],[YJコード⑤]],[1]!__前投薬リスト[#Data],4,FALSE)&\"\",\"\")","v":""},null,null,null,null,null,null,null,null,null,null,null,{"$f":"IFERROR(VLOOKUP(__レジメンマスタ[[#This Row],[YJコード⑥]],[1]!__前投薬リスト[#Data],4,FALSE)&\"\",\"\")","v":""},null,null,null,null,null,null,null,null,null,null,null,{"$f":"IFERROR(VLOOKUP(__レジメンマスタ[[#This Row],[YJコード⑦]],[1]!__前投薬リスト[#Data],4,FALSE)&\"\",\"\")","v":""}]
["OTO0001","ドセタキセル","  　　　　 Ｗ1   　　　　　Ｗ2　　　   Ｗ3～6 \n DOC ↓×××××× ↓×××××× ↓××××××  \n1週間に1回投与→6回まで","7日","6回","頭頚部癌","耳鼻咽喉科","ドセタキセル","危〈毒〉80㎎/4mL ﾄﾞｾﾀｷｾﾙ点滴静注「ﾆﾌﾟﾛ」（先:ﾀｷｿﾃｰﾙ）","4240405A4109","注射",null,10,"㎡","mg",null,"d1",{"$f":"IFERROR(VLOOKUP(__レジメンマスタ[[#This Row],[YJコード①]],[1]!__前投薬リスト[#Data],4,FALSE)&\"\",\"\")","v":""},"6回",null,null,null,null,null,null,null,null,null,null,{"$f":"IFERROR(VLOOKUP(__レジメンマスタ[[#This Row],[YJコード②]],[1]!__前投薬リスト[#Data],4,FALSE)&\"\",\"\")","v":""},null,null,null,null,null,null,null,null,null,null,null,{"$f":"IFERROR(VLOOKUP(__レジメンマスタ[[#This Row],[YJコード③]],[1]!__前投薬リスト[#Data],4,FALSE)&\"\",\"\")","v":""},null,null,null,null,null,null,null,null,null,null,null,{"$f":"IFERROR(VLOOKUP(__レジメンマスタ[[#This Row],[YJコード④]],[1]!__前投薬リスト[#Data],4,FALSE)&\"\",\"\")","v":""},null,null,null,null,null,null,null,null,null,null,null,{"$f":"IFERROR(VLOOKUP(__レジメンマスタ[[#This Row],[YJコード⑤]],[1]!__前投薬リスト[#Data],4,FALSE)&\"\",\"\")","v":""},null,null,null,null,null,null,null,null,null,null,null,{"$f":"IFERROR(VLOOKUP(__レジメンマスタ[[#This Row],[YJコード⑥]],[1]!__前投薬リスト[#Data],4,FALSE)&\"\",\"\")","v":""},null,null,null,null,null,null,null,null,null,null,null,{"$f":"IFERROR(VLOOKUP(__レジメンマスタ[[#This Row],[YJコード⑦]],[1]!__前投薬リスト[#Data],4,FALSE)&\"\",\"\")","v":""}]
["OTO0002","CDDP+Rt","連日投与20回まで（病院が休日の日は、投与を行わない）                \n       \n例） 日　月　火　水　木　金　土       \nCDDP ×　×　↓  ↓　↓  ↓  ×\n　　 ×　↓  ↓  ↓  ↓  ↓  ×\n　　 ×　↓  ↓  ↓  ↓  ↓  ×\n　　 ×　↓  ↓  ↓  ↓  ↓  ×\n　　 ×　↓ （計20回） \n",null,"20回","頭頚部癌","耳鼻咽喉科","シスプラチン","危〈毒〉10mg/20mL ｼｽﾌﾟﾗﾁﾝ点滴静注「ﾏﾙｺ」（先:ﾗﾝﾀﾞ）","4291401A1119","注射","３０ 分で",6,"㎡","mg",null,"d1-20",{"$f":"IFERROR(VLOOKUP(__レジメンマスタ[[#This Row],[YJコード①]],[1]!__前投薬リスト[#Data],4,FALSE)&\"\",\"\")","v":""},null,null,null,null,null,null,null,null,null,null,null,{"$f":"IFERROR(VLOOKUP(__レジメンマスタ[[#This Row],[YJコード②]],[1]!__前投薬リスト[#Data],4,FALSE)&\"\",\"\")","v":""},null,null,null,null,null,null,null,null,null,null,null,{"$f":"IFERROR(VLOOKUP(__レジメンマスタ[[#This Row],[YJコード③]],[1]!__前投薬リスト[#Data],4,FALSE)&\"\",\"\")","v":""},null,null,null,null,null,null,null,null,null,null,null,{"$f":"IFERROR(VLOOKUP(__レジメンマスタ[[#This Row],[YJコード④]],[1]!__前投薬リスト[#Data],4,FALSE)&\"\",\"\")","v":""},null,null,null,null,null,null,null,null,null,null,null,{"$f":"IFERROR(VLOOKUP(__レジメンマスタ[[#This Row],[YJコード⑤]],[1]!__前投薬リスト[#Data],4,FALSE)&\"\",\"\")","v":""},null,null,null,null,null,null,null,null,null,null,null,{"$f":"IFERROR(VLOOKUP(__レジメンマスタ[[#This Row],[YJコード⑥]],[1]!__前投薬リスト[#Data],4,FALSE)&\"\",\"\")","v":""},null,null,null,null,null,null,null,null,null,null,null,{"$f":"IFERROR(VLOOKUP(__レジメンマスタ[[#This Row],[YJコード⑦]],[1]!__前投薬リスト[#Data],4,FALSE)&\"\",\"\")","v":""}]
["OTO0003","ドセタキセル+CDDP+Rt","Doc(1回/週）→4回\nCDDP（連日投与。ただし病院が休日の日は投与を行わない）→20回まで\nCDDPの例）       \n 日　月　火　水　木　金　土       \n ×　×　↓  ↓　↓  ↓  ×\n ×　↓  ↓  ↓  ↓  ↓  ×\n ×　↓  ↓  ↓  ↓  ↓  ×\n ×　↓  ↓  ↓  ↓  ↓  ×\n ×　↓ （計20回） ",null,null,"頭頚部癌","耳鼻咽喉科","シスプラチン","危〈毒〉10mg/20mL ｼｽﾌﾟﾗﾁﾝ点滴静注「ﾏﾙｺ」（先:ﾗﾝﾀﾞ）","4291401A1119","注射","３０ 分で",6,"㎡","mg",null,"d1-20",{"$f":"IFERROR(VLOOKUP(__レジメンマスタ[[#This Row],[YJコード①]],[1]!__前投薬リスト[#Data],4,FALSE)&\"\",\"\")","v":""},"20回","ドセタキセル","危〈毒〉80㎎/4mL ﾄﾞｾﾀｷｾﾙ点滴静注「ﾆﾌﾟﾛ」（先:ﾀｷｿﾃｰﾙ）","4240405A4109","注射",null,10,"㎡","mg",null,"d1",{"$f":"IFERROR(VLOOKUP(__レジメンマスタ[[#This Row],[YJコード②]],[1]!__前投薬リスト[#Data],4,FALSE)&\"\",\"\")","v":""},"4回",null,null,null,null,null,null,null,null,null,null,{"$f":"IFERROR(VLOOKUP(__レジメンマスタ[[#This Row],[YJコード③]],[1]!__前投薬リスト[#Data],4,FALSE)&\"\",\"\")","v":""},null,null,null,null,null,null,null,null,null,null,null,{"$f":"IFERROR(VLOOKUP(__レジメンマスタ[[#This Row],[YJコード④]],[1]!__前投薬リスト[#Data],4,FALSE)&\"\",\"\")","v":""},null,null,null,null,null,null,null,null,null,null,null,{"$f":"IFERROR(VLOOKUP(__レジメンマスタ[[#This Row],[YJコード⑤]],[1]!__前投薬リスト[#Data],4,FALSE)&\"\",\"\")","v":""},null,null,null,null,null,null,null,null,null,null,null,{"$f":"IFERROR(VLOOKUP(__レジメンマスタ[[#This Row],[YJコード⑥]],[1]!__前投薬リスト[#Data],4,FALSE)&\"\",\"\")","v":""},null,null,null,null,null,null,null,null,null,null,null,{"$f":"IFERROR(VLOOKUP(__レジメンマスタ[[#This Row],[YJコード⑦]],[1]!__前投薬リスト[#Data],4,FALSE)&\"\",\"\")","v":""}]
["OTO0004","ドセタキセル+FU"," 4週間あけて、4クールまで\n　　　　　　Ｗ1           Ｗ2            Ｗ3           Ｗ4 \nDOC  ↓×××××× ××××××× ××××××× ×××××××   \n5-FU ×↓↓↓↓↓× ××××××× ××××××× ×××××××   ","28日","4クール","頭頚部癌","耳鼻咽喉科","ドセタキセル","危〈毒〉80㎎/4mL ﾄﾞｾﾀｷｾﾙ点滴静注「ﾆﾌﾟﾛ」（先:ﾀｷｿﾃｰﾙ）","4240405A4109","注射",null,60,"㎡","mg",null,"d1",{"$f":"IFERROR(VLOOKUP(__レジメンマスタ[[#This Row],[YJコード①]],[1]!__前投薬リスト[#Data],4,FALSE)&\"\",\"\")","v":""},null,"フルオロウラシル","危 1000mg/20mL ﾌﾙｵﾛｳﾗｼﾙ注「ﾄｰﾜ」（先:5-FU）","4223401A3030","注射",null,600,"㎡","mg",null,"d2-6",{"$f":"IFERROR(VLOOKUP(__レジメンマスタ[[#This Row],[YJコード②]],[1]!__前投薬リスト[#Data],4,FALSE)&\"\",\"\")","v":""},null,null,null,null,null,null,null,null,null,null,null,{"$f":"IFERROR(VLOOKUP(__レジメンマスタ[[#This Row],[YJコード③]],[1]!__前投薬リスト[#Data],4,FALSE)&\"\",\"\")","v":""},null,null,null,null,null,null,null,null,null,null,null,{"$f":"IFERROR(VLOOKUP(__レジメンマスタ[[#This Row],[YJコード④]],[1]!__前投薬リスト[#Data],4,FALSE)&\"\",\"\")","v":""},null,null,null,null,null,null,null,null,null,null,null,{"$f":"IFERROR(VLOOKUP(__レジメンマスタ[[#This Row],[YJコード⑤]],[1]!__前投薬リスト[#Data],4,FALSE)&\"\",\"\")","v":""},null,null,null,null,null,null,null,null,null,null,null,{"$f":"IFERROR(VLOOKUP(__レジメンマスタ[[#This Row],[YJコード⑥]],[1]!__前投薬リスト[#Data],4,FALSE)&\"\",\"\")","v":""},null,null,null,null,null,null,null,null,null,null,null,{"$f":"IFERROR(VLOOKUP(__レジメンマスタ[[#This Row],[YJコード⑦]],[1]!__前投薬リスト[#Data],4,FALSE)&\"\",\"\")","v":""}]
["OTO0006","ドセタキセル+CDDP+FU"," 4週間あけて、4クールまで\n　　　　　　Ｗ1            Ｗ2           Ｗ3           Ｗ4    \nDOC  ↓××××××  ××××××× ××××××× ×××××××   \nCDDP ↓××××××  ××××××× ××××××× ×××××××   \n5-FU ↓↓↓↓×××  ××××××× ××××××× ×××××××  ","28日","4クール","頭頚部癌","耳鼻咽喉科","ドセタキセル","危〈毒〉80㎎/4mL ﾄﾞｾﾀｷｾﾙ点滴静注「ﾆﾌﾟﾛ」（先:ﾀｷｿﾃｰﾙ）","4240405A4109","注射",null,60,"㎡","mg",null,"d1",{"$f":"IFERROR(VLOOKUP(__レジメンマスタ[[#This Row],[YJコード①]],[1]!__前投薬リスト[#Data],4,FALSE)&\"\",\"\")","v":""},null,"シスプラチン","危〈毒〉50mg/100mL ｼｽﾌﾟﾗﾁﾝ点滴静注「ﾏﾙｺ」（先:ﾗﾝﾀﾞ）","4291401A3111","注射",null,60,"㎡","mg",null,"d1",{"$f":"IFERROR(VLOOKUP(__レジメンマスタ[[#This Row],[YJコード②]],[1]!__前投薬リスト[#Data],4,FALSE)&\"\",\"\")","v":""},null,"フルオロウラシル","危 1000mg/20mL ﾌﾙｵﾛｳﾗｼﾙ注「ﾄｰﾜ」（先:5-FU）","4223401A3030","注射",null,600,"㎡","mg",null,"d1-4",{"$f":"IFERROR(VLOOKUP(__レジメンマスタ[[#This Row],[YJコード③]],[1]!__前投薬リスト[#Data],4,FALSE)&\"\",\"\")","v":""},null,null,null,null,null,null,null,null,null,null,null,{"$f":"IFERROR(VLOOKUP(__レジメンマスタ[[#This Row],[YJコード④]],[1]!__前投薬リスト[#Data],4,FALSE)&\"\",\"\")","v":""},null,null,null,null,null,null,null,null,null,null,null,{"$f":"IFERROR(VLOOKUP(__レジメンマスタ[[#This Row],[YJコード⑤]],[1]!__前投薬リスト[#Data],4,FALSE)&\"\",\"\")","v":""},null,null,null,null,null,null,null,null,null,null,null,{"$f":"IFERROR(VLOOKUP(__レジメンマスタ[[#This Row],[YJコード⑥]],[1]!__前投薬リスト[#Data],4,FALSE)&\"\",\"\")","v":""},null,null,null,null,null,null,null,null,null,null,null,{"$f":"IFERROR(VLOOKUP(__レジメンマスタ[[#This Row],[YJコード⑦]],[1]!__前投薬リスト[#Data],4,FALSE)&\"\",\"\")","v":""}]
["OTO0010","CBDCA+FU","１クール3週間、6クールが目安 \n　　　　　　　W1           W2           W3         \nCBDCA ↓×××××× ××××××× ×××××××         \n5-FU  ↓↓↓↓××× ××××××× ×××××××         ","21日","6クール","頭頚部癌","耳鼻咽喉科","カルボプラチン","危〈毒〉ｶﾙﾎﾞﾌﾟﾗﾁﾝ点滴静注液「NK」150mg/15mL（先:ﾊﾟﾗﾌﾟﾗﾁﾝ）","4291403A2092","注射",null,300,"㎡","mg",null,"d1",{"$f":"IFERROR(VLOOKUP(__レジメンマスタ[[#This Row],[YJコード①]],[1]!__前投薬リスト[#Data],4,FALSE)&\"\",\"\")","v":""},null,"フルオロウラシル","危 1000mg/20mL ﾌﾙｵﾛｳﾗｼﾙ注「ﾄｰﾜ」（先:5-FU）","4223401A3030","注射",null,600,"㎡","mg",null,"d1-4",{"$f":"IFERROR(VLOOKUP(__レジメンマスタ[[#This Row],[YJコード②]],[1]!__前投薬リスト[#Data],4,FALSE)&\"\",\"\")","v":""},null,null,null,null,null,null,null,null,null,null,null,{"$f":"IFERROR(VLOOKUP(__レジメンマスタ[[#This Row],[YJコード③]],[1]!__前投薬リスト[#Data],4,FALSE)&\"\",\"\")","v":""},null,null,null,null,null,null,null,null,null,null,null,{"$f":"IFERROR(VLOOKUP(__レジメンマスタ[[#This Row],[YJコード④]],[1]!__前投薬リスト[#Data],4,FALSE)&\"\",\"\")","v":""},null,null,null,null,null,null,null,null,null,null,null,{"$f":"IFERROR(VLOOKUP(__レジメンマスタ[[#This Row],[YJコード⑤]],[1]!__前投薬リスト[#Data],4,FALSE)&\"\",\"\")","v":""},null,null,null,null,null,null,null,null,null,null,null,{"$f":"IFERROR(VLOOKUP(__レジメンマスタ[[#This Row],[YJコード⑥]],[1]!__前投薬リスト[#Data],4,FALSE)&\"\",\"\")","v":""},null,null,null,null,null,null,null,null,null,null,null,{"$f":"IFERROR(VLOOKUP(__レジメンマスタ[[#This Row],[YJコード⑦]],[1]!__前投薬リスト[#Data],4,FALSE)&\"\",\"\")","v":""}]
["OTO0011","Cmab","            W1 　　　　    W1             W1    \nCmab ↓××××××  ↓×××××× ↓××××××     ","7日","∞","頭頚部癌","耳鼻咽喉科","アービタックス（初回）","危 ｱｰﾋﾞﾀｯｸｽ注射液 100㎎/20mL","4291415A1021","注射","２ 時間で",400,"㎡","mg",null,"d1",{"$f":"IFERROR(VLOOKUP(__レジメンマスタ[[#This Row],[YJコード①]],[1]!__前投薬リスト[#Data],4,FALSE)&\"\",\"\")","v":"抗ヒス,(ステ)"},null,"アービタックス（2回目以降～）","危 ｱｰﾋﾞﾀｯｸｽ注射液 100㎎/20mL","4291415A1021","注射","１ 時間で",250,"㎡","mg",null,"d1",{"$f":"IFERROR(VLOOKUP(__レジメンマスタ[[#This Row],[YJコード②]],[1]!__前投薬リスト[#Data],4,FALSE)&\"\",\"\")","v":"抗ヒス,(ステ)"},null,null,null,null,null,null,null,null,null,null,null,{"$f":"IFERROR(VLOOKUP(__レジメンマスタ[[#This Row],[YJコード③]],[1]!__前投薬リスト[#Data],4,FALSE)&\"\",\"\")","v":""},null,null,null,null,null,null,null,null,null,null,null,{"$f":"IFERROR(VLOOKUP(__レジメンマスタ[[#This Row],[YJコード④]],[1]!__前投薬リスト[#Data],4,FALSE)&\"\",\"\")","v":""},null,null,null,null,null,null,null,null,null,null,null,{"$f":"IFERROR(VLOOKUP(__レジメンマスタ[[#This Row],[YJコード⑤]],[1]!__前投薬リスト[#Data],4,FALSE)&\"\",\"\")","v":""},null,null,null,null,null,null,null,null,null,null,null,{"$f":"IFERROR(VLOOKUP(__レジメンマスタ[[#This Row],[YJコード⑥]],[1]!__前投薬リスト[#Data],4,FALSE)&\"\",\"\")","v":""},null,null,null,null,null,null,null,null,null,null,null,{"$f":"IFERROR(VLOOKUP(__レジメンマスタ[[#This Row],[YJコード⑦]],[1]!__前投薬リスト[#Data],4,FALSE)&\"\",\"\")","v":""}]
["OTO0012","Cmab+CDDP+FU","3週間毎の投与　6コースを目安\n　　　　　　W1             W2             W3\nCmab  ↓×××××× ↓×××××× ↓×××××× \nCDDP  ↓×××××× ××××××× ×××××××   \n5-FU  ↓↓↓↓××× ××××××× ×××××××  \n","21日","6クール","頭頚部癌","耳鼻咽喉科","アービタックス（初回）","危 ｱｰﾋﾞﾀｯｸｽ注射液 100㎎/20mL","4291415A1021","注射","２ 時間で",400,"㎡","mg",null,"d1",{"$f":"IFERROR(VLOOKUP(__レジメンマスタ[[#This Row],[YJコード①]],[1]!__前投薬リスト[#Data],4,FALSE)&\"\",\"\")","v":"抗ヒス,(ステ)"},null,"アービタックス（2回目以降～）","危 ｱｰﾋﾞﾀｯｸｽ注射液 100㎎/20mL","4291415A1021","注射","１ 時間で",250,"㎡","mg",null,"d1,8,15",{"$f":"IFERROR(VLOOKUP(__レジメンマスタ[[#This Row],[YJコード②]],[1]!__前投薬リスト[#Data],4,FALSE)&\"\",\"\")","v":"抗ヒス,(ステ)"},"∞","シスプラチン","危〈毒〉50mg/100mL ｼｽﾌﾟﾗﾁﾝ点滴静注「ﾏﾙｺ」（先:ﾗﾝﾀﾞ）","4291401A3111","注射",null,100,"㎡","mg",null,"d1",{"$f":"IFERROR(VLOOKUP(__レジメンマスタ[[#This Row],[YJコード③]],[1]!__前投薬リスト[#Data],4,FALSE)&\"\",\"\")","v":""},"6回","フルオロウラシル","危 1000mg/20mL ﾌﾙｵﾛｳﾗｼﾙ注「ﾄｰﾜ」（先:5-FU）","4223401A3030","注射","24時間持続",1000,"㎡","mg",null,"d1-4",{"$f":"IFERROR(VLOOKUP(__レジメンマスタ[[#This Row],[YJコード④]],[1]!__前投薬リスト[#Data],4,FALSE)&\"\",\"\")","v":""},"6回",null,null,null,null,null,null,null,null,null,null,{"$f":"IFERROR(VLOOKUP(__レジメンマスタ[[#This Row],[YJコード⑤]],[1]!__前投薬リスト[#Data],4,FALSE)&\"\",\"\")","v":""},null,null,null,null,null,null,null,null,null,null,null,{"$f":"IFERROR(VLOOKUP(__レジメンマスタ[[#This Row],[YJコード⑥]],[1]!__前投薬リスト[#Data],4,FALSE)&\"\",\"\")","v":""},null,null,null,null,null,null,null,null,null,null,null,{"$f":"IFERROR(VLOOKUP(__レジメンマスタ[[#This Row],[YJコード⑦]],[1]!__前投薬リスト[#Data],4,FALSE)&\"\",\"\")","v":""}]
["OTO0013","Cmab+CBDCA+FU","3週間毎の投与　6コースを目安 \n　　　　　　W1　　　　　　 W2　　　　　　 W3   \nCmab  ↓×××××× ↓×××××× ↓××××××    \nCBDCA ↓×××××× ××××××× ×××××××    \n5-FU  ↓↓↓↓××× ××××××× ×××××××   \n","21日","6クール","頭頚部癌","耳鼻咽喉科","アービタックス（初回）","危 ｱｰﾋﾞﾀｯｸｽ注射液 100㎎/20mL","4291415A1021","注射","２ 時間で",400,"㎡","mg",null,"d1",{"$f":"IFERROR(VLOOKUP(__レジメンマスタ[[#This Row],[YJコード①]],[1]!__前投薬リスト[#Data],4,FALSE)&\"\",\"\")","v":"抗ヒス,(ステ)"},null,"アービタックス（2回目以降～）","危 ｱｰﾋﾞﾀｯｸｽ注射液 100㎎/20mL","4291415A1021","注射","１ 時間で",250,"㎡","mg",null,"d1,8,15",{"$f":"IFERROR(VLOOKUP(__レジメンマスタ[[#This Row],[YJコード②]],[1]!__前投薬リスト[#Data],4,FALSE)&\"\",\"\")","v":"抗ヒス,(ステ)"},"∞","カルボプラチン","危〈毒〉ｶﾙﾎﾞﾌﾟﾗﾁﾝ点滴静注液「NK」150mg/15mL（先:ﾊﾟﾗﾌﾟﾗﾁﾝ）","4291403A2092","注射",null,5,"AUC","mg",null,"d1",{"$f":"IFERROR(VLOOKUP(__レジメンマスタ[[#This Row],[YJコード③]],[1]!__前投薬リスト[#Data],4,FALSE)&\"\",\"\")","v":""},null,"フルオロウラシル","危 1000mg/20mL ﾌﾙｵﾛｳﾗｼﾙ注「ﾄｰﾜ」（先:5-FU）","4223401A3030","注射","24時間持続",1000,"㎡","mg",null,"d1-4",{"$f":"IFERROR(VLOOKUP(__レジメンマスタ[[#This Row],[YJコード④]],[1]!__前投薬リスト[#Data],4,FALSE)&\"\",\"\")","v":""},null,null,null,null,null,null,null,null,null,null,null,{"$f":"IFERROR(VLOOKUP(__レジメンマスタ[[#This Row],[YJコード⑤]],[1]!__前投薬リスト[#Data],4,FALSE)&\"\",\"\")","v":""},null,null,null,null,null,null,null,null,null,null,null,{"$f":"IFERROR(VLOOKUP(__レジメンマスタ[[#This Row],[YJコード⑥]],[1]!__前投薬リスト[#Data],4,FALSE)&\"\",\"\")","v":""},null,null,null,null,null,null,null,null,null,null,null,{"$f":"IFERROR(VLOOKUP(__レジメンマスタ[[#This Row],[YJコード⑦]],[1]!__前投薬リスト[#Data],4,FALSE)&\"\",\"\")","v":""}]
["OTO0014-1","ニボルマブ"," 2週間ごとに投与\n　　　　　　　　　W1  　　　　　 W2 \nオプジーボ  ↓××××××  ××××××","14日","∞","頭頚部癌","耳鼻咽喉科","オプジーボ","危 240mg/24mL ｵﾌﾟｼﾞｰﾎﾞ点滴静注（希釈液:生食orTZ）","4291427A3027","注射","３０ 分で",240,"BODY","mg",null,"d1",{"$f":"IFERROR(VLOOKUP(__レジメンマスタ[[#This Row],[YJコード①]],[1]!__前投薬リスト[#Data],4,FALSE)&\"\",\"\")","v":""},null,null,null,null,null,null,null,null,null,null,null,{"$f":"IFERROR(VLOOKUP(__レジメンマスタ[[#This Row],[YJコード②]],[1]!__前投薬リスト[#Data],4,FALSE)&\"\",\"\")","v":""},null,null,null,null,null,null,null,null,null,null,null,{"$f":"IFERROR(VLOOKUP(__レジメンマスタ[[#This Row],[YJコード③]],[1]!__前投薬リスト[#Data],4,FALSE)&\"\",\"\")","v":""},null,null,null,null,null,null,null,null,null,null,null,{"$f":"IFERROR(VLOOKUP(__レジメンマスタ[[#This Row],[YJコード④]],[1]!__前投薬リスト[#Data],4,FALSE)&\"\",\"\")","v":""},null,null,null,null,null,null,null,null,null,null,null,{"$f":"IFERROR(VLOOKUP(__レジメンマスタ[[#This Row],[YJコード⑤]],[1]!__前投薬リスト[#Data],4,FALSE)&\"\",\"\")","v":""},null,null,null,null,null,null,null,null,null,null,null,{"$f":"IFERROR(VLOOKUP(__レジメンマスタ[[#This Row],[YJコード⑥]],[1]!__前投薬リスト[#Data],4,FALSE)&\"\",\"\")","v":""},null,null,null,null,null,null,null,null,null,null,null,{"$f":"IFERROR(VLOOKUP(__レジメンマスタ[[#This Row],[YJコード⑦]],[1]!__前投薬リスト[#Data],4,FALSE)&\"\",\"\")","v":""}]
["OTO0014-2","ニボルマブ（4週間毎）"," ４週間ごとに投与\n　　　　　　　　　 W1 　　　　W2～4 \nオプジーボ  ↓××××××  ××××××","28日","∞","頭頚部癌","血液内科","オプジーボ","危 240mg/24mL ｵﾌﾟｼﾞｰﾎﾞ点滴静注（希釈液:生食orTZ）","4291427A3027","注射","３０ 分で",480,"BODY","mg",null,"d1",{"$f":"IFERROR(VLOOKUP(__レジメンマスタ[[#This Row],[YJコード①]],[1]!__前投薬リスト[#Data],4,FALSE)&\"\",\"\")","v":""},null,null,null,null,null,null,null,null,null,null,null,{"$f":"IFERROR(VLOOKUP(__レジメンマスタ[[#This Row],[YJコード②]],[1]!__前投薬リスト[#Data],4,FALSE)&\"\",\"\")","v":""},null,null,null,null,null,null,null,null,null,null,null,{"$f":"IFERROR(VLOOKUP(__レジメンマスタ[[#This Row],[YJコード③]],[1]!__前投薬リスト[#Data],4,FALSE)&\"\",\"\")","v":""},null,null,null,null,null,null,null,null,null,null,null,{"$f":"IFERROR(VLOOKUP(__レジメンマスタ[[#This Row],[YJコード④]],[1]!__前投薬リスト[#Data],4,FALSE)&\"\",\"\")","v":""},null,null,null,null,null,null,null,null,null,null,null,{"$f":"IFERROR(VLOOKUP(__レジメンマスタ[[#This Row],[YJコード⑤]],[1]!__前投薬リスト[#Data],4,FALSE)&\"\",\"\")","v":""},null,null,null,null,null,null,null,null,null,null,null,{"$f":"IFERROR(VLOOKUP(__レジメンマスタ[[#This Row],[YJコード⑥]],[1]!__前投薬リスト[#Data],4,FALSE)&\"\",\"\")","v":""},null,null,null,null,null,null,null,null,null,null,null,{"$f":"IFERROR(VLOOKUP(__レジメンマスタ[[#This Row],[YJコード⑦]],[1]!__前投薬リスト[#Data],4,FALSE)&\"\",\"\")","v":""}]
["OTO0015","Cmab+PTX","毎週投与 \n　　　　　　W1　　　　   W1      \nCmab ↓×××××× ↓××××××     \nPTX  ↓×××××× ↓××××××     \n","7日","∞","頭頚部癌","耳鼻咽喉科","アービタックス（初回）","危 ｱｰﾋﾞﾀｯｸｽ注射液 100㎎/20mL","4291415A1021","注射","２ 時間で",400,"㎡","mg",null,"d1",{"$f":"IFERROR(VLOOKUP(__レジメンマスタ[[#This Row],[YJコード①]],[1]!__前投薬リスト[#Data],4,FALSE)&\"\",\"\")","v":"抗ヒス,(ステ)"},null,"アービタックス（2回目以降～）","危 ｱｰﾋﾞﾀｯｸｽ注射液 100㎎/20mL","4291415A1021","注射","１ 時間で",250,"㎡","mg",null,"d1",{"$f":"IFERROR(VLOOKUP(__レジメンマスタ[[#This Row],[YJコード②]],[1]!__前投薬リスト[#Data],4,FALSE)&\"\",\"\")","v":"抗ヒス,(ステ)"},"∞","パクリタキセル","危〈毒〉100mg/16.7mL ﾊﾟｸﾘﾀｷｾﾙ注「NK」（希釈液:生食orTZ）（先:ﾀｷｿｰﾙ）","4240406A2046","注射","１ 時間で",80,"㎡","mg",null,"d1",{"$f":"IFERROR(VLOOKUP(__レジメンマスタ[[#This Row],[YJコード③]],[1]!__前投薬リスト[#Data],4,FALSE)&\"\",\"\")","v":"抗ヒス,H2B,ステ"},"∞",null,null,null,null,null,null,null,null,null,null,{"$f":"IFERROR(VLOOKUP(__レジメンマスタ[[#This Row],[YJコード④]],[1]!__前投薬リスト[#Data],4,FALSE)&\"\",\"\")","v":""},null,null,null,null,null,null,null,null,null,null,null,{"$f":"IFERROR(VLOOKUP(__レジメンマスタ[[#This Row],[YJコード⑤]],[1]!__前投薬リスト[#Data],4,FALSE)&\"\",\"\")","v":""},null,null,null,null,null,null,null,null,null,null,null,{"$f":"IFERROR(VLOOKUP(__レジメンマスタ[[#This Row],[YJコード⑥]],[1]!__前投薬リスト[#Data],4,FALSE)&\"\",\"\")","v":""},null,null,null,null,null,null,null,null,null,null,null,{"$f":"IFERROR(VLOOKUP(__レジメンマスタ[[#This Row],[YJコード⑦]],[1]!__前投薬リスト[#Data],4,FALSE)&\"\",\"\")","v":""}]
["OTO0016","ペムブロリズマブ","  　　　　 W1  　　　　　　 W2～3  \nPmbro ↓××××××   ×××××××  ","21日","∞","頭頚部癌","耳鼻咽喉科","キイトルーダ","危 ｷｲﾄﾙｰﾀﾞ点滴静注 100mg/4mL（希釈液:生食orTZ）","4291435A2025","注射","３０ 分で",200,"BODY","mg",null,"d1",{"$f":"IFERROR(VLOOKUP(__レジメンマスタ[[#This Row],[YJコード①]],[1]!__前投薬リスト[#Data],4,FALSE)&\"\",\"\")","v":""},null,null,null,null,null,null,null,null,null,null,null,{"$f":"IFERROR(VLOOKUP(__レジメンマスタ[[#This Row],[YJコード②]],[1]!__前投薬リスト[#Data],4,FALSE)&\"\",\"\")","v":""},null,null,null,null,null,null,null,null,null,null,null,{"$f":"IFERROR(VLOOKUP(__レジメンマスタ[[#This Row],[YJコード③]],[1]!__前投薬リスト[#Data],4,FALSE)&\"\",\"\")","v":""},null,null,null,null,null,null,null,null,null,null,null,{"$f":"IFERROR(VLOOKUP(__レジメンマスタ[[#This Row],[YJコード④]],[1]!__前投薬リスト[#Data],4,FALSE)&\"\",\"\")","v":""},null,null,null,null,null,null,null,null,null,null,null,{"$f":"IFERROR(VLOOKUP(__レジメンマスタ[[#This Row],[YJコード⑤]],[1]!__前投薬リスト[#Data],4,FALSE)&\"\",\"\")","v":""},null,null,null,null,null,null,null,null,null,null,null,{"$f":"IFERROR(VLOOKUP(__レジメンマスタ[[#This Row],[YJコード⑥]],[1]!__前投薬リスト[#Data],4,FALSE)&\"\",\"\")","v":""},null,null,null,null,null,null,null,null,null,null,null,{"$f":"IFERROR(VLOOKUP(__レジメンマスタ[[#This Row],[YJコード⑦]],[1]!__前投薬リスト[#Data],4,FALSE)&\"\",\"\")","v":""}]
["OTO0016-2","ペムブロリズマブ（6週間毎）","  　　　　 W1  　　　　　　 W2～6\nPmbro ↓××××××   ×××××××  ","42日","∞","頭頚部癌","血液内科","キイトルーダ","危 ｷｲﾄﾙｰﾀﾞ点滴静注 100mg/4mL（希釈液:生食orTZ）","4291435A2025","注射","３０ 分で",400,"BODY","mg",null,"d1",{"$f":"IFERROR(VLOOKUP(__レジメンマスタ[[#This Row],[YJコード①]],[1]!__前投薬リスト[#Data],4,FALSE)&\"\",\"\")","v":""},null,null,null,null,null,null,null,null,null,null,null,{"$f":"IFERROR(VLOOKUP(__レジメンマスタ[[#This Row],[YJコード②]],[1]!__前投薬リスト[#Data],4,FALSE)&\"\",\"\")","v":""},null,null,null,null,null,null,null,null,null,null,null,{"$f":"IFERROR(VLOOKUP(__レジメンマスタ[[#This Row],[YJコード③]],[1]!__前投薬リスト[#Data],4,FALSE)&\"\",\"\")","v":""},null,null,null,null,null,null,null,null,null,null,null,{"$f":"IFERROR(VLOOKUP(__レジメンマスタ[[#This Row],[YJコード④]],[1]!__前投薬リスト[#Data],4,FALSE)&\"\",\"\")","v":""},null,null,null,null,null,null,null,null,null,null,null,{"$f":"IFERROR(VLOOKUP(__レジメンマスタ[[#This Row],[YJコード⑤]],[1]!__前投薬リスト[#Data],4,FALSE)&\"\",\"\")","v":""},null,null,null,null,null,null,null,null,null,null,null,{"$f":"IFERROR(VLOOKUP(__レジメンマスタ[[#This Row],[YJコード⑥]],[1]!__前投薬リスト[#Data],4,FALSE)&\"\",\"\")","v":""},null,null,null,null,null,null,null,null,null,null,null,{"$f":"IFERROR(VLOOKUP(__レジメンマスタ[[#This Row],[YJコード⑦]],[1]!__前投薬リスト[#Data],4,FALSE)&\"\",\"\")","v":""}]
["OTO0017","FP＋キイトルーダ","3週間毎、6コースを目安              \n6コース以降はキイトルーダ単剤で施行\n　　　　　　W1              W2             W3      \nPmbro ↓××××××  ×××××××  ×××××××      \nCDDP  ↓××××××  ×××××××  ×××××××      \n5-FU  ↓↓↓↓×××  ×××××××  ×××××××      ","21日","6クール","頭頚部癌","耳鼻咽喉科","キイトルーダ","危 ｷｲﾄﾙｰﾀﾞ点滴静注 100mg/4mL（希釈液:生食orTZ）","4291435A2025","注射","３０ 分で",200,"BODY","mg",null,"d1",{"$f":"IFERROR(VLOOKUP(__レジメンマスタ[[#This Row],[YJコード①]],[1]!__前投薬リスト[#Data],4,FALSE)&\"\",\"\")","v":""},"∞","シスプラチン","危〈毒〉50mg/100mL ｼｽﾌﾟﾗﾁﾝ点滴静注「ﾏﾙｺ」（先:ﾗﾝﾀﾞ）","4291401A3111","注射",null,100,"㎡","mg",null,"d1",{"$f":"IFERROR(VLOOKUP(__レジメンマスタ[[#This Row],[YJコード②]],[1]!__前投薬リスト[#Data],4,FALSE)&\"\",\"\")","v":""},"6回","フルオロウラシル","危 1000mg/20mL ﾌﾙｵﾛｳﾗｼﾙ注「ﾄｰﾜ」（先:5-FU）","4223401A3030","注射","24時間持続",1000,"㎡","mg",null,"d1-4",{"$f":"IFERROR(VLOOKUP(__レジメンマスタ[[#This Row],[YJコード③]],[1]!__前投薬リスト[#Data],4,FALSE)&\"\",\"\")","v":""},"6回",null,null,null,null,null,null,null,null,null,null,{"$f":"IFERROR(VLOOKUP(__レジメンマスタ[[#This Row],[YJコード④]],[1]!__前投薬リスト[#Data],4,FALSE)&\"\",\"\")","v":""},null,null,null,null,null,null,null,null,null,null,null,{"$f":"IFERROR(VLOOKUP(__レジメンマスタ[[#This Row],[YJコード⑤]],[1]!__前投薬リスト[#Data],4,FALSE)&\"\",\"\")","v":""},null,null,null,null,null,null,null,null,null,null,null,{"$f":"IFERROR(VLOOKUP(__レジメンマスタ[[#This Row],[YJコード⑥]],[1]!__前投薬リスト[#Data],4,FALSE)&\"\",\"\")","v":""},null,null,null,null,null,null,null,null,null,null,null,{"$f":"IFERROR(VLOOKUP(__レジメンマスタ[[#This Row],[YJコード⑦]],[1]!__前投薬リスト[#Data],4,FALSE)&\"\",\"\")","v":""}]
["OTO0018","FU+CBDCA+キイトルーダ","3週間毎、6コースを目安              \n6コース以降はキイトルーダ単剤で施行\n　　　　　　　W1           W2       　      W3      \nPmbro ↓××××××  ×××××××  ×××××××      \nCBDCA ↓××××××  ×××××××  ×××××××      \n5-FU  ↓↓↓↓×××  ×××××××  ×××××××      ","21日","6クール","頭頚部癌","耳鼻咽喉科","キイトルーダ","危 ｷｲﾄﾙｰﾀﾞ点滴静注 100mg/4mL（希釈液:生食orTZ）","4291435A2025","注射","３０ 分で",200,"BODY","mg",null,"d1",{"$f":"IFERROR(VLOOKUP(__レジメンマスタ[[#This Row],[YJコード①]],[1]!__前投薬リスト[#Data],4,FALSE)&\"\",\"\")","v":""},"∞","カルボプラチン","危〈毒〉ｶﾙﾎﾞﾌﾟﾗﾁﾝ点滴静注液「NK」150mg/15mL（先:ﾊﾟﾗﾌﾟﾗﾁﾝ）","4291403A2092","注射","２ 時間で",5,"AUC","mg",null,"d1",{"$f":"IFERROR(VLOOKUP(__レジメンマスタ[[#This Row],[YJコード②]],[1]!__前投薬リスト[#Data],4,FALSE)&\"\",\"\")","v":""},"6回","フルオロウラシル","危 1000mg/20mL ﾌﾙｵﾛｳﾗｼﾙ注「ﾄｰﾜ」（先:5-FU）","4223401A3030","注射","24時間持続",1000,"㎡","mg",null,"d1-4",{"$f":"IFERROR(VLOOKUP(__レジメンマスタ[[#This Row],[YJコード③]],[1]!__前投薬リスト[#Data],4,FALSE)&\"\",\"\")","v":""},"6回",null,null,null,null,null,null,null,null,null,null,{"$f":"IFERROR(VLOOKUP(__レジメンマスタ[[#This Row],[YJコード④]],[1]!__前投薬リスト[#Data],4,FALSE)&\"\",\"\")","v":""},null,null,null,null,null,null,null,null,null,null,null,{"$f":"IFERROR(VLOOKUP(__レジメンマスタ[[#This Row],[YJコード⑤]],[1]!__前投薬リスト[#Data],4,FALSE)&\"\",\"\")","v":""},null,null,null,null,null,null,null,null,null,null,null,{"$f":"IFERROR(VLOOKUP(__レジメンマスタ[[#This Row],[YJコード⑥]],[1]!__前投薬リスト[#Data],4,FALSE)&\"\",\"\")","v":""},null,null,null,null,null,null,null,null,null,null,null,{"$f":"IFERROR(VLOOKUP(__レジメンマスタ[[#This Row],[YJコード⑦]],[1]!__前投薬リスト[#Data],4,FALSE)&\"\",\"\")","v":""}]
["OTO0019","高用量CDDP+RT","1コース3週間、３コースまで\n　　　　　　W1 　　　　  W2～W3   \nCDDP ↓××××××  ×××××××   \n","21日","3コース","頭頚部癌","耳鼻咽喉科","シスプラチン","危〈毒〉50mg/100mL ｼｽﾌﾟﾗﾁﾝ点滴静注「ﾏﾙｺ」（先:ﾗﾝﾀﾞ）","4291401A3111","注射","２ 時間で",80,"㎡","mg",null,"d1",{"$f":"IFERROR(VLOOKUP(__レジメンマスタ[[#This Row],[YJコード①]],[1]!__前投薬リスト[#Data],4,FALSE)&\"\",\"\")","v":""},null,null,null,null,null,null,null,null,null,null,null,{"$f":"IFERROR(VLOOKUP(__レジメンマスタ[[#This Row],[YJコード②]],[1]!__前投薬リスト[#Data],4,FALSE)&\"\",\"\")","v":""},null,null,null,null,null,null,null,null,null,null,null,{"$f":"IFERROR(VLOOKUP(__レジメンマスタ[[#This Row],[YJコード③]],[1]!__前投薬リスト[#Data],4,FALSE)&\"\",\"\")","v":""},null,null,null,null,null,null,null,null,null,null,null,{"$f":"IFERROR(VLOOKUP(__レジメンマスタ[[#This Row],[YJコード④]],[1]!__前投薬リスト[#Data],4,FALSE)&\"\",\"\")","v":""},null,null,null,null,null,null,null,null,null,null,null,{"$f":"IFERROR(VLOOKUP(__レジメンマスタ[[#This Row],[YJコード⑤]],[1]!__前投薬リスト[#Data],4,FALSE)&\"\",\"\")","v":""},null,null,null,null,null,null,null,null,null,null,null,{"$f":"IFERROR(VLOOKUP(__レジメンマスタ[[#This Row],[YJコード⑥]],[1]!__前投薬リスト[#Data],4,FALSE)&\"\",\"\")","v":""},null,null,null,null,null,null,null,null,null,null,null,{"$f":"IFERROR(VLOOKUP(__レジメンマスタ[[#This Row],[YJコード⑦]],[1]!__前投薬リスト[#Data],4,FALSE)&\"\",\"\")","v":""}]
["OTO0020","術後weekly CDDP+RT","1コース1週間、7コースまで\n　　　　　　W1 　　　　  W1 　　　　　  W1 \nCDDP ↓×××××× ↓×××××× ↓××××××","7日","7コース","頭頚部癌","耳鼻咽喉科","シスプラチン","危〈毒〉50mg/100mL ｼｽﾌﾟﾗﾁﾝ点滴静注「ﾏﾙｺ」（先:ﾗﾝﾀﾞ）","4291401A3111","注射","２ 時間で",40,"㎡","mg",null,"d1",{"$f":"IFERROR(VLOOKUP(__レジメンマスタ[[#This Row],[YJコード①]],[1]!__前投薬リスト[#Data],4,FALSE)&\"\",\"\")","v":""},null,null,null,null,null,null,null,null,null,null,null,{"$f":"IFERROR(VLOOKUP(__レジメンマスタ[[#This Row],[YJコード②]],[1]!__前投薬リスト[#Data],4,FALSE)&\"\",\"\")","v":""},null,null,null,null,null,null,null,null,null,null,null,{"$f":"IFERROR(VLOOKUP(__レジメンマスタ[[#This Row],[YJコード③]],[1]!__前投薬リスト[#Data],4,FALSE)&\"\",\"\")","v":""},null,null,null,null,null,null,null,null,null,null,null,{"$f":"IFERROR(VLOOKUP(__レジメンマスタ[[#This Row],[YJコード④]],[1]!__前投薬リスト[#Data],4,FALSE)&\"\",\"\")","v":""},null,null,null,null,null,null,null,null,null,null,null,{"$f":"IFERROR(VLOOKUP(__レジメンマスタ[[#This Row],[YJコード⑤]],[1]!__前投薬リスト[#Data],4,FALSE)&\"\",\"\")","v":""},null,null,null,null,null,null,null,null,null,null,null,{"$f":"IFERROR(VLOOKUP(__レジメンマスタ[[#This Row],[YJコード⑥]],[1]!__前投薬リスト[#Data],4,FALSE)&\"\",\"\")","v":""},null,null,null,null,null,null,null,null,null,null,null,{"$f":"IFERROR(VLOOKUP(__レジメンマスタ[[#This Row],[YJコード⑦]],[1]!__前投薬リスト[#Data],4,FALSE)&\"\",\"\")","v":""}]
["OTO0021","PCE（再発・転移）","  1クール3週間、6クールまで\n　　　　　　 W1              W2              W3 \nCmab  ↓××××××   ↓××××××   ↓×××××× \nCBDCA ↓××××××   ↓××××××   ×××××××\nPTX   ↓××××××   ↓××××××   ×××××××   ","21日","6クール","頭頚部癌","耳鼻咽喉科","アービタックス（初回）","危 ｱｰﾋﾞﾀｯｸｽ注射液 100㎎/20mL","4291415A1021","注射","２ 時間で",400,"㎡","mg",null,"d1",{"$f":"IFERROR(VLOOKUP(__レジメンマスタ[[#This Row],[YJコード①]],[1]!__前投薬リスト[#Data],4,FALSE)&\"\",\"\")","v":"抗ヒス,(ステ)"},null,"アービタックス（2回目以降～）","危 ｱｰﾋﾞﾀｯｸｽ注射液 100㎎/20mL","4291415A1021","注射","１ 時間で",250,"㎡","mg",null,"d1,8,15",{"$f":"IFERROR(VLOOKUP(__レジメンマスタ[[#This Row],[YJコード②]],[1]!__前投薬リスト[#Data],4,FALSE)&\"\",\"\")","v":"抗ヒス,(ステ)"},"∞","カルボプラチン","危〈毒〉ｶﾙﾎﾞﾌﾟﾗﾁﾝ点滴静注液「NK」150mg/15mL（先:ﾊﾟﾗﾌﾟﾗﾁﾝ）","4291403A2092","注射",null,2.5,"AUC","mg",null,"d1,8",{"$f":"IFERROR(VLOOKUP(__レジメンマスタ[[#This Row],[YJコード③]],[1]!__前投薬リスト[#Data],4,FALSE)&\"\",\"\")","v":""},null,"パクリタキセル","危〈毒〉100mg/16.7mL ﾊﾟｸﾘﾀｷｾﾙ注「NK」（希釈液:生食orTZ）（先:ﾀｷｿｰﾙ）","4240406A2046","注射","１ 時間で",100,"㎡","mg",null,"d1,8",{"$f":"IFERROR(VLOOKUP(__レジメンマスタ[[#This Row],[YJコード④]],[1]!__前投薬リスト[#Data],4,FALSE)&\"\",\"\")","v":"抗ヒス,H2B,ステ"},null,null,null,null,null,null,null,null,null,null,null,{"$f":"IFERROR(VLOOKUP(__レジメンマスタ[[#This Row],[YJコード⑤]],[1]!__前投薬リスト[#Data],4,FALSE)&\"\",\"\")","v":""},null,null,null,null,null,null,null,null,null,null,null,{"$f":"IFERROR(VLOOKUP(__レジメンマスタ[[#This Row],[YJコード⑥]],[1]!__前投薬リスト[#Data],4,FALSE)&\"\",\"\")","v":""},null,null,null,null,null,null,null,null,null,null,null,{"$f":"IFERROR(VLOOKUP(__レジメンマスタ[[#This Row],[YJコード⑦]],[1]!__前投薬リスト[#Data],4,FALSE)&\"\",\"\")","v":""}]
["OTO0022","ハーセプチン＋ドセタキセル"," 注意！！　投与予定日より1週間を超えて投与する時には初回量に戻す              \n3週間毎、８コースまで\n　　　　　　W1            W2           W3 \nHER  ↓××××××  ×××××××  ××××××× \nDOC  ↓××××××  ×××××××  ××××××× ","21日","8コース","唾液腺癌","耳鼻咽喉科","ハーセプチン（初回）","危 ﾊｰｾﾌﾟﾁﾝ注射用 150mg（溶解液:Aq,希釈液:生食）","4291406D6020","注射","９０ 分で　",8,"kg","mg",null,"d1",{"$f":"IFERROR(VLOOKUP(__レジメンマスタ[[#This Row],[YJコード①]],[1]!__前投薬リスト[#Data],4,FALSE)&\"\",\"\")","v":""},null,"ハーセプチン（2回目以降～）","危 ﾊｰｾﾌﾟﾁﾝ注射用 150mg（溶解液:Aq,希釈液:生食）","4291406D6020","注射","３０ 分で",6,"kg","mg",null,"d1",{"$f":"IFERROR(VLOOKUP(__レジメンマスタ[[#This Row],[YJコード②]],[1]!__前投薬リスト[#Data],4,FALSE)&\"\",\"\")","v":""},null,"ドセタキセル","危〈毒〉80㎎/4mL ﾄﾞｾﾀｷｾﾙ点滴静注「ﾆﾌﾟﾛ」（先:ﾀｷｿﾃｰﾙ）","4240405A4109","注射",null,70,"㎡","mg",null,"d1",{"$f":"IFERROR(VLOOKUP(__レジメンマスタ[[#This Row],[YJコード③]],[1]!__前投薬リスト[#Data],4,FALSE)&\"\",\"\")","v":""},null,null,null,null,null,null,null,null,null,null,null,{"$f":"IFERROR(VLOOKUP(__レジメンマスタ[[#This Row],[YJコード④]],[1]!__前投薬リスト[#Data],4,FALSE)&\"\",\"\")","v":""},null,null,null,null,null,null,null,null,null,null,null,{"$f":"IFERROR(VLOOKUP(__レジメンマスタ[[#This Row],[YJコード⑤]],[1]!__前投薬リスト[#Data],4,FALSE)&\"\",\"\")","v":""},null,null,null,null,null,null,null,null,null,null,null,{"$f":"IFERROR(VLOOKUP(__レジメンマスタ[[#This Row],[YJコード⑥]],[1]!__前投薬リスト[#Data],4,FALSE)&\"\",\"\")","v":""},null,null,null,null,null,null,null,null,null,null,null,{"$f":"IFERROR(VLOOKUP(__レジメンマスタ[[#This Row],[YJコード⑦]],[1]!__前投薬リスト[#Data],4,FALSE)&\"\",\"\")","v":""}]
["RES0001","CDDP＋ETP","            Ｗ1         Ｗ2            Ｗ3           Ｗ4  \nCDDP ↓××××××××××××× ××××××× ×××××××  \nETP  ↓↓↓××××××××××× ××××××× ×××××××  \n4クールまで","28日","4クール","小細胞肺癌","呼吸器内科","シスプラチン","危〈毒〉50mg/100mL ｼｽﾌﾟﾗﾁﾝ点滴静注「ﾏﾙｺ」（先:ﾗﾝﾀﾞ）","4291401A3111","注射","２ 時間で",80,"㎡","mg",null,"d1",{"$f":"IFERROR(VLOOKUP(__レジメンマスタ[[#This Row],[YJコード①]],[1]!__前投薬リスト[#Data],4,FALSE)&\"\",\"\")","v":""},null,"エトポシド","危 ｴﾄﾎﾟｼﾄﾞ点滴静注液「ｻﾝﾄﾞ」100mg/5mL（先:ﾗｽﾃｯﾄ）","4240403A2069","注射",null,100,"㎡","mg",null,"d1-3",{"$f":"IFERROR(VLOOKUP(__レジメンマスタ[[#This Row],[YJコード②]],[1]!__前投薬リスト[#Data],4,FALSE)&\"\",\"\")","v":""},null,null,null,null,null,null,null,null,null,null,null,{"$f":"IFERROR(VLOOKUP(__レジメンマスタ[[#This Row],[YJコード③]],[1]!__前投薬リスト[#Data],4,FALSE)&\"\",\"\")","v":""},null,null,null,null,null,null,null,null,null,null,null,{"$f":"IFERROR(VLOOKUP(__レジメンマスタ[[#This Row],[YJコード④]],[1]!__前投薬リスト[#Data],4,FALSE)&\"\",\"\")","v":""},null,null,null,null,null,null,null,null,null,null,null,{"$f":"IFERROR(VLOOKUP(__レジメンマスタ[[#This Row],[YJコード⑤]],[1]!__前投薬リスト[#Data],4,FALSE)&\"\",\"\")","v":""},null,null,null,null,null,null,null,null,null,null,null,{"$f":"IFERROR(VLOOKUP(__レジメンマスタ[[#This Row],[YJコード⑥]],[1]!__前投薬リスト[#Data],4,FALSE)&\"\",\"\")","v":""},null,null,null,null,null,null,null,null,null,null,null,{"$f":"IFERROR(VLOOKUP(__レジメンマスタ[[#This Row],[YJコード⑦]],[1]!__前投薬リスト[#Data],4,FALSE)&\"\",\"\")","v":""}]
["RES0002","CDDP＋CPT-11","　　　　　　　Ｗ1 　　　　　Ｗ2　　　　　　 Ｗ3　　　　　 Ｗ4  \nCDDP   ↓×××××× ××××××× ××××××× ×××××××  \nCPT-11 ↓×××××× ↓×××××× ↓×××××× ×××××××  \n","28日","4クール","小細胞肺癌","呼吸器内科","シスプラチン","危〈毒〉50mg/100mL ｼｽﾌﾟﾗﾁﾝ点滴静注「ﾏﾙｺ」（先:ﾗﾝﾀﾞ）","4291401A3111","注射","２ 時間で",60,"㎡","mg",null,"d1",{"$f":"IFERROR(VLOOKUP(__レジメンマスタ[[#This Row],[YJコード①]],[1]!__前投薬リスト[#Data],4,FALSE)&\"\",\"\")","v":""},null,"イリノテカン","危 100mg/5mL ｲﾘﾉﾃｶﾝ塩酸塩点滴静注液「NK」（先:ﾄﾎﾟﾃｼﾝ）","4240404A2055","注射",null,60,"㎡","mg",null,"d1,8,15",{"$f":"IFERROR(VLOOKUP(__レジメンマスタ[[#This Row],[YJコード②]],[1]!__前投薬リスト[#Data],4,FALSE)&\"\",\"\")","v":""},null,null,null,null,null,null,null,null,null,null,null,{"$f":"IFERROR(VLOOKUP(__レジメンマスタ[[#This Row],[YJコード③]],[1]!__前投薬リスト[#Data],4,FALSE)&\"\",\"\")","v":""},null,null,null,null,null,null,null,null,null,null,null,{"$f":"IFERROR(VLOOKUP(__レジメンマスタ[[#This Row],[YJコード④]],[1]!__前投薬リスト[#Data],4,FALSE)&\"\",\"\")","v":""},null,null,null,null,null,null,null,null,null,null,null,{"$f":"IFERROR(VLOOKUP(__レジメンマスタ[[#This Row],[YJコード⑤]],[1]!__前投薬リスト[#Data],4,FALSE)&\"\",\"\")","v":""},null,null,null,null,null,null,null,null,null,null,null,{"$f":"IFERROR(VLOOKUP(__レジメンマスタ[[#This Row],[YJコード⑥]],[1]!__前投薬リスト[#Data],4,FALSE)&\"\",\"\")","v":""},null,null,null,null,null,null,null,null,null,null,null,{"$f":"IFERROR(VLOOKUP(__レジメンマスタ[[#This Row],[YJコード⑦]],[1]!__前投薬リスト[#Data],4,FALSE)&\"\",\"\")","v":""}]
["RES0003","CDDP＋GEM","　　　　　　 W1            W2              W3           W4  \nCDDP ↓×××××× ××××××× ××××××× ×××××××  \nGEM  ↓×××××× ↓×××××× ××××××× ×××××××  \nGEM:溶解液確認→Tzで行う方針の場合Tzへ変更\n1クール3～4週間、６クールまで","21-28日","6クール","非小細胞肺癌","呼吸器内科","シスプラチン","危〈毒〉50mg/100mL ｼｽﾌﾟﾗﾁﾝ点滴静注「ﾏﾙｺ」（先:ﾗﾝﾀﾞ）","4291401A3111","注射","２ 時間で",80,"㎡","mg",null,"d1",{"$f":"IFERROR(VLOOKUP(__レジメンマスタ[[#This Row],[YJコード①]],[1]!__前投薬リスト[#Data],4,FALSE)&\"\",\"\")","v":""},null,"ゲムシタビン","危 1g ｹﾞﾑｼﾀﾋﾞﾝ点滴静注用「ﾔｸﾙﾄ」（溶解液:生食）（先:ｼﾞｪﾑｻﾞｰﾙ）","4224403D2061","注射","３０ 分で",1000,"㎡","mg",null,"d1,8",{"$f":"IFERROR(VLOOKUP(__レジメンマスタ[[#This Row],[YJコード②]],[1]!__前投薬リスト[#Data],4,FALSE)&\"\",\"\")","v":""},null,null,null,null,null,null,null,null,null,null,null,{"$f":"IFERROR(VLOOKUP(__レジメンマスタ[[#This Row],[YJコード③]],[1]!__前投薬リスト[#Data],4,FALSE)&\"\",\"\")","v":""},null,null,null,null,null,null,null,null,null,null,null,{"$f":"IFERROR(VLOOKUP(__レジメンマスタ[[#This Row],[YJコード④]],[1]!__前投薬リスト[#Data],4,FALSE)&\"\",\"\")","v":""},null,null,null,null,null,null,null,null,null,null,null,{"$f":"IFERROR(VLOOKUP(__レジメンマスタ[[#This Row],[YJコード⑤]],[1]!__前投薬リスト[#Data],4,FALSE)&\"\",\"\")","v":""},null,null,null,null,null,null,null,null,null,null,null,{"$f":"IFERROR(VLOOKUP(__レジメンマスタ[[#This Row],[YJコード⑥]],[1]!__前投薬リスト[#Data],4,FALSE)&\"\",\"\")","v":""},null,null,null,null,null,null,null,null,null,null,null,{"$f":"IFERROR(VLOOKUP(__レジメンマスタ[[#This Row],[YJコード⑦]],[1]!__前投薬リスト[#Data],4,FALSE)&\"\",\"\")","v":""}]
["RES0004","CDDP＋VNR","※放射線併用時はVNR 20mg/㎡へ減量\n          Ｗ1            Ｗ2            Ｗ3          Ｗ4  \nCDDP↓×××××× ×××××××   ××××××× ×××××××  \nVNR ↓×××××× ↓×××××× (↓)×××××× ×××××××  \nVNR:d15は施行しないことが多い。施行しない場合は3週毎\n1クール3～4週間、6クール","21-28日","6クール","非小細胞肺癌","呼吸器内科","シスプラチン","危〈毒〉50mg/100mL ｼｽﾌﾟﾗﾁﾝ点滴静注「ﾏﾙｺ」（先:ﾗﾝﾀﾞ）","4291401A3111","注射","１ 時間で",80,"㎡","mg",null,"d1",{"$f":"IFERROR(VLOOKUP(__レジメンマスタ[[#This Row],[YJコード①]],[1]!__前投薬リスト[#Data],4,FALSE)&\"\",\"\")","v":""},null,"ロゼウス","危〈毒〉40㎎/4mL ﾛｾﾞｳｽ静注液（先:ﾅﾍﾞﾙﾋﾞﾝ）","4240407A2032","注射","全開で（輸液ポンプ不可）",25,"㎡","mg",null,"d1,8,(15)",{"$f":"IFERROR(VLOOKUP(__レジメンマスタ[[#This Row],[YJコード②]],[1]!__前投薬リスト[#Data],4,FALSE)&\"\",\"\")","v":""},null,null,null,null,null,null,null,null,null,null,null,{"$f":"IFERROR(VLOOKUP(__レジメンマスタ[[#This Row],[YJコード③]],[1]!__前投薬リスト[#Data],4,FALSE)&\"\",\"\")","v":""},null,null,null,null,null,null,null,null,null,null,null,{"$f":"IFERROR(VLOOKUP(__レジメンマスタ[[#This Row],[YJコード④]],[1]!__前投薬リスト[#Data],4,FALSE)&\"\",\"\")","v":""},null,null,null,null,null,null,null,null,null,null,null,{"$f":"IFERROR(VLOOKUP(__レジメンマスタ[[#This Row],[YJコード⑤]],[1]!__前投薬リスト[#Data],4,FALSE)&\"\",\"\")","v":""},null,null,null,null,null,null,null,null,null,null,null,{"$f":"IFERROR(VLOOKUP(__レジメンマスタ[[#This Row],[YJコード⑥]],[1]!__前投薬リスト[#Data],4,FALSE)&\"\",\"\")","v":""},null,null,null,null,null,null,null,null,null,null,null,{"$f":"IFERROR(VLOOKUP(__レジメンマスタ[[#This Row],[YJコード⑦]],[1]!__前投薬リスト[#Data],4,FALSE)&\"\",\"\")","v":""}]
["RES0005","CDDP＋Doc","           Ｗ1           Ｗ2           Ｗ3       \nCDDP ↓×××××× ××××××× ××××××× \nDOC  ↓×××××× ××××××× ×××××××\n","21日","3クール","非小細胞肺癌","呼吸器内科","シスプラチン","危〈毒〉50mg/100mL ｼｽﾌﾟﾗﾁﾝ点滴静注「ﾏﾙｺ」（先:ﾗﾝﾀﾞ）","4291401A3111","注射",null,80,"㎡","mg",null,"d1",{"$f":"IFERROR(VLOOKUP(__レジメンマスタ[[#This Row],[YJコード①]],[1]!__前投薬リスト[#Data],4,FALSE)&\"\",\"\")","v":""},null,"ドセタキセル","危〈毒〉80㎎/4mL ﾄﾞｾﾀｷｾﾙ点滴静注「ﾆﾌﾟﾛ」（先:ﾀｷｿﾃｰﾙ）","4240405A4109","注射",null,60,"㎡","mg",null,"d1",{"$f":"IFERROR(VLOOKUP(__レジメンマスタ[[#This Row],[YJコード②]],[1]!__前投薬リスト[#Data],4,FALSE)&\"\",\"\")","v":""},null,null,null,null,null,null,null,null,null,null,null,{"$f":"IFERROR(VLOOKUP(__レジメンマスタ[[#This Row],[YJコード③]],[1]!__前投薬リスト[#Data],4,FALSE)&\"\",\"\")","v":""},null,null,null,null,null,null,null,null,null,null,null,{"$f":"IFERROR(VLOOKUP(__レジメンマスタ[[#This Row],[YJコード④]],[1]!__前投薬リスト[#Data],4,FALSE)&\"\",\"\")","v":""},null,null,null,null,null,null,null,null,null,null,null,{"$f":"IFERROR(VLOOKUP(__レジメンマスタ[[#This Row],[YJコード⑤]],[1]!__前投薬リスト[#Data],4,FALSE)&\"\",\"\")","v":""},null,null,null,null,null,null,null,null,null,null,null,{"$f":"IFERROR(VLOOKUP(__レジメンマスタ[[#This Row],[YJコード⑥]],[1]!__前投薬リスト[#Data],4,FALSE)&\"\",\"\")","v":""},null,null,null,null,null,null,null,null,null,null,null,{"$f":"IFERROR(VLOOKUP(__レジメンマスタ[[#This Row],[YJコード⑦]],[1]!__前投薬リスト[#Data],4,FALSE)&\"\",\"\")","v":""}]
["RES0006","CDDP+VDS","　　　　　　　Ｗ1 　　　　Ｗ2　　　　　 Ｗ3　　　　　　 Ｗ4  \nCDDP  ↓×××××× ××××××× ××××××× ×××××××  \nVDS　 ↓×××××× ↓×××××× ↓×××××× ×××××××  \n最低2コース以上\nマスタなし","21-28日",null,null,null,null,null,null,null,null,null,null,null,null,null,{"$f":"IFERROR(VLOOKUP(__レジメンマスタ[[#This Row],[YJコード①]],[1]!__前投薬リスト[#Data],4,FALSE)&\"\",\"\")","v":""},null,null,null,null,null,null,null,null,null,null,null,{"$f":"IFERROR(VLOOKUP(__レジメンマスタ[[#This Row],[YJコード②]],[1]!__前投薬リスト[#Data],4,FALSE)&\"\",\"\")","v":""},null,null,null,null,null,null,null,null,null,null,null,{"$f":"IFERROR(VLOOKUP(__レジメンマスタ[[#This Row],[YJコード③]],[1]!__前投薬リスト[#Data],4,FALSE)&\"\",\"\")","v":""},null,null,null,null,null,null,null,null,null,null,null,{"$f":"IFERROR(VLOOKUP(__レジメンマスタ[[#This Row],[YJコード④]],[1]!__前投薬リスト[#Data],4,FALSE)&\"\",\"\")","v":""},null,null,null,null,null,null,null,null,null,null,null,{"$f":"IFERROR(VLOOKUP(__レジメンマスタ[[#This Row],[YJコード⑤]],[1]!__前投薬リスト[#Data],4,FALSE)&\"\",\"\")","v":""},null,null,null,null,null,null,null,null,null,null,null,{"$f":"IFERROR(VLOOKUP(__レジメンマスタ[[#This Row],[YJコード⑥]],[1]!__前投薬リスト[#Data],4,FALSE)&\"\",\"\")","v":""},null,null,null,null,null,null,null,null,null,null,null,{"$f":"IFERROR(VLOOKUP(__レジメンマスタ[[#This Row],[YJコード⑦]],[1]!__前投薬リスト[#Data],4,FALSE)&\"\",\"\")","v":""}]
["RES0007","CBDCA+ETP","　　　　　　Ｗ1 　　　　Ｗ2　　　　　　 W3-4\nCBDCA ↓×××××× ××××××× ×××××××  \nETP　 ↓↓↓×××× ××××××× ×××××××  \n1クール3～4週間、最大6クールまで\n※小細胞肺癌の場合、3週間で施行することが多い\n※小細胞肺癌の場合、60日以上の間隔をあけて再投与可\n呼内：補正CCｒ算出法　sCr値＋0.2\n","21-28日","6クール","小細胞肺癌","呼吸器内科","カルボプラチン","危〈毒〉ｶﾙﾎﾞﾌﾟﾗﾁﾝ点滴静注液「NK」150mg/15mL（先:ﾊﾟﾗﾌﾟﾗﾁﾝ）","4291403A2092","注射","１ 時間で",5,"AUC","mg",null,"d1",{"$f":"IFERROR(VLOOKUP(__レジメンマスタ[[#This Row],[YJコード①]],[1]!__前投薬リスト[#Data],4,FALSE)&\"\",\"\")","v":""},null,"エトポシド","危 ｴﾄﾎﾟｼﾄﾞ点滴静注液「ｻﾝﾄﾞ」100mg/5mL（先:ﾗｽﾃｯﾄ）","4240403A2069","注射","２ 時間で",80,"㎡","mg",null,"d1-3",{"$f":"IFERROR(VLOOKUP(__レジメンマスタ[[#This Row],[YJコード②]],[1]!__前投薬リスト[#Data],4,FALSE)&\"\",\"\")","v":""},null,null,null,null,null,null,null,null,null,null,null,{"$f":"IFERROR(VLOOKUP(__レジメンマスタ[[#This Row],[YJコード③]],[1]!__前投薬リスト[#Data],4,FALSE)&\"\",\"\")","v":""},null,null,null,null,null,null,null,null,null,null,null,{"$f":"IFERROR(VLOOKUP(__レジメンマスタ[[#This Row],[YJコード④]],[1]!__前投薬リスト[#Data],4,FALSE)&\"\",\"\")","v":""},null,null,null,null,null,null,null,null,null,null,null,{"$f":"IFERROR(VLOOKUP(__レジメンマスタ[[#This Row],[YJコード⑤]],[1]!__前投薬リスト[#Data],4,FALSE)&\"\",\"\")","v":""},null,null,null,null,null,null,null,null,null,null,null,{"$f":"IFERROR(VLOOKUP(__レジメンマスタ[[#This Row],[YJコード⑥]],[1]!__前投薬リスト[#Data],4,FALSE)&\"\",\"\")","v":""},null,null,null,null,null,null,null,null,null,null,null,{"$f":"IFERROR(VLOOKUP(__レジメンマスタ[[#This Row],[YJコード⑦]],[1]!__前投薬リスト[#Data],4,FALSE)&\"\",\"\")","v":""}]
["RES0008","CBDCA＋CPT-11","　　　　　　　Ｗ1 　　　　Ｗ2　　　　　 Ｗ3　　　　　　 Ｗ4  \nCBDCA  ↓×××××× ××××××× ××××××× ×××××××  \nCPT-11 ↓×××××× ↓×××××× ↓×××××× ×××××××  \n呼内：補正CCｒ算出法　sCr値＋0.2","28日","3クール","小細胞肺癌","呼吸器内科","カルボプラチン","危〈毒〉ｶﾙﾎﾞﾌﾟﾗﾁﾝ点滴静注液「NK」150mg/15mL（先:ﾊﾟﾗﾌﾟﾗﾁﾝ）","4291403A2092","注射","１ 時間で",5,"AUC","mg",null,"d1",{"$f":"IFERROR(VLOOKUP(__レジメンマスタ[[#This Row],[YJコード①]],[1]!__前投薬リスト[#Data],4,FALSE)&\"\",\"\")","v":""},null,"イリノテカン","危 100mg/5mL ｲﾘﾉﾃｶﾝ塩酸塩点滴静注液「NK」（先:ﾄﾎﾟﾃｼﾝ）","4240404A2055","注射",null,60,"㎡","mg",null,"d1,8,15",{"$f":"IFERROR(VLOOKUP(__レジメンマスタ[[#This Row],[YJコード②]],[1]!__前投薬リスト[#Data],4,FALSE)&\"\",\"\")","v":""},null,null,null,null,null,null,null,null,null,null,null,{"$f":"IFERROR(VLOOKUP(__レジメンマスタ[[#This Row],[YJコード③]],[1]!__前投薬リスト[#Data],4,FALSE)&\"\",\"\")","v":""},null,null,null,null,null,null,null,null,null,null,null,{"$f":"IFERROR(VLOOKUP(__レジメンマスタ[[#This Row],[YJコード④]],[1]!__前投薬リスト[#Data],4,FALSE)&\"\",\"\")","v":""},null,null,null,null,null,null,null,null,null,null,null,{"$f":"IFERROR(VLOOKUP(__レジメンマスタ[[#This Row],[YJコード⑤]],[1]!__前投薬リスト[#Data],4,FALSE)&\"\",\"\")","v":""},null,null,null,null,null,null,null,null,null,null,null,{"$f":"IFERROR(VLOOKUP(__レジメンマスタ[[#This Row],[YJコード⑥]],[1]!__前投薬リスト[#Data],4,FALSE)&\"\",\"\")","v":""},null,null,null,null,null,null,null,null,null,null,null,{"$f":"IFERROR(VLOOKUP(__レジメンマスタ[[#This Row],[YJコード⑦]],[1]!__前投薬リスト[#Data],4,FALSE)&\"\",\"\")","v":""}]
["RES0009","CBDCA+GEM","　　　　　　　Ｗ1 　　　　Ｗ2　　　　　 Ｗ3　　　　　　 Ｗ4  \nCBDCA ↓×××××× ××××××× ××××××× ×××××××  \nGEM　 ↓×××××× ↓×××××× ↓×××××× ×××××××  \n★CBDCAはAUC5～6★\nGEM:溶解液確認→Tzで行う方針の場合Tzへ変更\n呼内：補正CCｒ算出法　sCr値＋0.2","28日","3-4クール","非小細胞肺癌","呼吸器内科","カルボプラチン","危〈毒〉ｶﾙﾎﾞﾌﾟﾗﾁﾝ点滴静注液「NK」150mg/15mL（先:ﾊﾟﾗﾌﾟﾗﾁﾝ）","4291403A2092","注射","１ 時間で",6,"AUC","mg",null,"d1",{"$f":"IFERROR(VLOOKUP(__レジメンマスタ[[#This Row],[YJコード①]],[1]!__前投薬リスト[#Data],4,FALSE)&\"\",\"\")","v":""},null,"ゲムシタビン","危 1g ｹﾞﾑｼﾀﾋﾞﾝ点滴静注用「ﾔｸﾙﾄ」（溶解液:生食）（先:ｼﾞｪﾑｻﾞｰﾙ）","4224403D2061","注射","３０ 分で",1000,"㎡","mg",null,"d1,8,15",{"$f":"IFERROR(VLOOKUP(__レジメンマスタ[[#This Row],[YJコード②]],[1]!__前投薬リスト[#Data],4,FALSE)&\"\",\"\")","v":""},null,null,null,null,null,null,null,null,null,null,null,{"$f":"IFERROR(VLOOKUP(__レジメンマスタ[[#This Row],[YJコード③]],[1]!__前投薬リスト[#Data],4,FALSE)&\"\",\"\")","v":""},null,null,null,null,null,null,null,null,null,null,null,{"$f":"IFERROR(VLOOKUP(__レジメンマスタ[[#This Row],[YJコード④]],[1]!__前投薬リスト[#Data],4,FALSE)&\"\",\"\")","v":""},null,null,null,null,null,null,null,null,null,null,null,{"$f":"IFERROR(VLOOKUP(__レジメンマスタ[[#This Row],[YJコード⑤]],[1]!__前投薬リスト[#Data],4,FALSE)&\"\",\"\")","v":""},null,null,null,null,null,null,null,null,null,null,null,{"$f":"IFERROR(VLOOKUP(__レジメンマスタ[[#This Row],[YJコード⑥]],[1]!__前投薬リスト[#Data],4,FALSE)&\"\",\"\")","v":""},null,null,null,null,null,null,null,null,null,null,null,{"$f":"IFERROR(VLOOKUP(__レジメンマスタ[[#This Row],[YJコード⑦]],[1]!__前投薬リスト[#Data],4,FALSE)&\"\",\"\")","v":""}]
["RES0010","CBDCA+PTX","　　　　　　　Ｗ1 　　　　Ｗ2　　　　　 Ｗ3　　　　　　 Ｗ4  \nCBDCA ↓×××××× ××××××× ××××××× ×××××××  \nPTX　 ↓×××××× ××××××× ××××××× ×××××××  \n呼内：補正CCｒ算出法　sCr値＋0.2","21-28日","4-6クール","非小細胞肺癌","呼吸器内科","カルボプラチン","危〈毒〉ｶﾙﾎﾞﾌﾟﾗﾁﾝ点滴静注液「NK」150mg/15mL（先:ﾊﾟﾗﾌﾟﾗﾁﾝ）","4291403A2092","注射",null,6,"AUC","mg",null,"d1",{"$f":"IFERROR(VLOOKUP(__レジメンマスタ[[#This Row],[YJコード①]],[1]!__前投薬リスト[#Data],4,FALSE)&\"\",\"\")","v":""},null,"パクリタキセル","危〈毒〉100mg/16.7mL ﾊﾟｸﾘﾀｷｾﾙ注「NK」（希釈液:生食orTZ）（先:ﾀｷｿｰﾙ）","4240406A2046","注射",null,200,"㎡","mg",null,"d1",{"$f":"IFERROR(VLOOKUP(__レジメンマスタ[[#This Row],[YJコード②]],[1]!__前投薬リスト[#Data],4,FALSE)&\"\",\"\")","v":"抗ヒス,H2B,ステ"},null,null,null,null,null,null,null,null,null,null,null,{"$f":"IFERROR(VLOOKUP(__レジメンマスタ[[#This Row],[YJコード③]],[1]!__前投薬リスト[#Data],4,FALSE)&\"\",\"\")","v":""},null,null,null,null,null,null,null,null,null,null,null,{"$f":"IFERROR(VLOOKUP(__レジメンマスタ[[#This Row],[YJコード④]],[1]!__前投薬リスト[#Data],4,FALSE)&\"\",\"\")","v":""},null,null,null,null,null,null,null,null,null,null,null,{"$f":"IFERROR(VLOOKUP(__レジメンマスタ[[#This Row],[YJコード⑤]],[1]!__前投薬リスト[#Data],4,FALSE)&\"\",\"\")","v":""},null,null,null,null,null,null,null,null,null,null,null,{"$f":"IFERROR(VLOOKUP(__レジメンマスタ[[#This Row],[YJコード⑥]],[1]!__前投薬リスト[#Data],4,FALSE)&\"\",\"\")","v":""},null,null,null,null,null,null,null,null,null,null,null,{"$f":"IFERROR(VLOOKUP(__レジメンマスタ[[#This Row],[YJコード⑦]],[1]!__前投薬リスト[#Data],4,FALSE)&\"\",\"\")","v":""}]
["RES0011","DOC単独","　　　　　　　Ｗ1 　　　　Ｗ2　　　　　 Ｗ3　　　　　 Ｗ4  \nDOC　↓×××××× ××××××× ××××××× ×××××××  \n","21-28日",null,"非小細胞肺癌","呼吸器内科","ドセタキセル","危〈毒〉80㎎/4mL ﾄﾞｾﾀｷｾﾙ点滴静注「ﾆﾌﾟﾛ」（先:ﾀｷｿﾃｰﾙ）","4240405A4109","注射","１ 時間で",60,"㎡","mg",null,"d1",{"$f":"IFERROR(VLOOKUP(__レジメンマスタ[[#This Row],[YJコード①]],[1]!__前投薬リスト[#Data],4,FALSE)&\"\",\"\")","v":""},null,null,null,null,null,null,null,null,null,null,null,{"$f":"IFERROR(VLOOKUP(__レジメンマスタ[[#This Row],[YJコード②]],[1]!__前投薬リスト[#Data],4,FALSE)&\"\",\"\")","v":""},null,null,null,null,null,null,null,null,null,null,null,{"$f":"IFERROR(VLOOKUP(__レジメンマスタ[[#This Row],[YJコード③]],[1]!__前投薬リスト[#Data],4,FALSE)&\"\",\"\")","v":""},null,null,null,null,null,null,null,null,null,null,null,{"$f":"IFERROR(VLOOKUP(__レジメンマスタ[[#This Row],[YJコード④]],[1]!__前投薬リスト[#Data],4,FALSE)&\"\",\"\")","v":""},null,null,null,null,null,null,null,null,null,null,null,{"$f":"IFERROR(VLOOKUP(__レジメンマスタ[[#This Row],[YJコード⑤]],[1]!__前投薬リスト[#Data],4,FALSE)&\"\",\"\")","v":""},null,null,null,null,null,null,null,null,null,null,null,{"$f":"IFERROR(VLOOKUP(__レジメンマスタ[[#This Row],[YJコード⑥]],[1]!__前投薬リスト[#Data],4,FALSE)&\"\",\"\")","v":""},null,null,null,null,null,null,null,null,null,null,null,{"$f":"IFERROR(VLOOKUP(__レジメンマスタ[[#This Row],[YJコード⑦]],[1]!__前投薬リスト[#Data],4,FALSE)&\"\",\"\")","v":""}]
["RES0012","AMR単独","　 　D1 D2 D3　・・・・・D21-28\nAMR　↓ ↓ ↓  × ×   ×××× \n3日間連続／3～4週間　3～4クールを目安\n★用量は40～45mg/㎡★\n45mg/㎡では副作用が強いため、35mg/㎡で施行することが多い\n未治療の場合は45mg/㎡、既治療の場合は40mg/㎡。デフォは40mg/㎡とする","21-28日",null,"小細胞肺癌","呼吸器内科","カルセド","危 50mg ｶﾙｾﾄﾞ注射用（溶解液:生食orTZ）","4235406D2026","注射","１０ 分で",40,"㎡","mg",null,"d1-3",{"$f":"IFERROR(VLOOKUP(__レジメンマスタ[[#This Row],[YJコード①]],[1]!__前投薬リスト[#Data],4,FALSE)&\"\",\"\")","v":""},null,null,null,null,null,null,null,null,null,null,null,{"$f":"IFERROR(VLOOKUP(__レジメンマスタ[[#This Row],[YJコード②]],[1]!__前投薬リスト[#Data],4,FALSE)&\"\",\"\")","v":""},null,null,null,null,null,null,null,null,null,null,null,{"$f":"IFERROR(VLOOKUP(__レジメンマスタ[[#This Row],[YJコード③]],[1]!__前投薬リスト[#Data],4,FALSE)&\"\",\"\")","v":""},null,null,null,null,null,null,null,null,null,null,null,{"$f":"IFERROR(VLOOKUP(__レジメンマスタ[[#This Row],[YJコード④]],[1]!__前投薬リスト[#Data],4,FALSE)&\"\",\"\")","v":""},null,null,null,null,null,null,null,null,null,null,null,{"$f":"IFERROR(VLOOKUP(__レジメンマスタ[[#This Row],[YJコード⑤]],[1]!__前投薬リスト[#Data],4,FALSE)&\"\",\"\")","v":""},null,null,null,null,null,null,null,null,null,null,null,{"$f":"IFERROR(VLOOKUP(__レジメンマスタ[[#This Row],[YJコード⑥]],[1]!__前投薬リスト[#Data],4,FALSE)&\"\",\"\")","v":""},null,null,null,null,null,null,null,null,null,null,null,{"$f":"IFERROR(VLOOKUP(__レジメンマスタ[[#This Row],[YJコード⑦]],[1]!__前投薬リスト[#Data],4,FALSE)&\"\",\"\")","v":""}]
["RES0013","VNR単独","　　　　　　　Ｗ1 　　　　Ｗ2　　　　　 Ｗ3　\nVNR　 ↓×××××× ↓×××××× ↓××××××\n1週間間隔で投与","7日　",null,"非小細胞肺癌","呼吸器内科","ロゼウス","危〈毒〉40㎎/4mL ﾛｾﾞｳｽ静注液（先:ﾅﾍﾞﾙﾋﾞﾝ）","4240407A2032","注射","全開で（輸液ポンプ不可）",25,"㎡","mg",null,"d1",{"$f":"IFERROR(VLOOKUP(__レジメンマスタ[[#This Row],[YJコード①]],[1]!__前投薬リスト[#Data],4,FALSE)&\"\",\"\")","v":""},null,null,null,null,null,null,null,null,null,null,null,{"$f":"IFERROR(VLOOKUP(__レジメンマスタ[[#This Row],[YJコード②]],[1]!__前投薬リスト[#Data],4,FALSE)&\"\",\"\")","v":""},null,null,null,null,null,null,null,null,null,null,null,{"$f":"IFERROR(VLOOKUP(__レジメンマスタ[[#This Row],[YJコード③]],[1]!__前投薬リスト[#Data],4,FALSE)&\"\",\"\")","v":""},null,null,null,null,null,null,null,null,null,null,null,{"$f":"IFERROR(VLOOKUP(__レジメンマスタ[[#This Row],[YJコード④]],[1]!__前投薬リスト[#Data],4,FALSE)&\"\",\"\")","v":""},null,null,null,null,null,null,null,null,null,null,null,{"$f":"IFERROR(VLOOKUP(__レジメンマスタ[[#This Row],[YJコード⑤]],[1]!__前投薬リスト[#Data],4,FALSE)&\"\",\"\")","v":""},null,null,null,null,null,null,null,null,null,null,null,{"$f":"IFERROR(VLOOKUP(__レジメンマスタ[[#This Row],[YJコード⑥]],[1]!__前投薬リスト[#Data],4,FALSE)&\"\",\"\")","v":""},null,null,null,null,null,null,null,null,null,null,null,{"$f":"IFERROR(VLOOKUP(__レジメンマスタ[[#This Row],[YJコード⑦]],[1]!__前投薬リスト[#Data],4,FALSE)&\"\",\"\")","v":""}]
["RES0014","NGT","　 　D1 D2 D3 D4 D5・・・・・D21\nNGT　↓ ↓ ↓ ↓ ↓ × ×   ××\n5日間連続し、少なくとも16日間休薬","21日",null,"小細胞肺癌","呼吸器内科","ハイカムチン","危 臨）ﾊｲｶﾑﾁﾝ注射用 1.1mg","4240408D1037","注射","３０ 分で",1,"㎡","mg",null,"d1-5",{"$f":"IFERROR(VLOOKUP(__レジメンマスタ[[#This Row],[YJコード①]],[1]!__前投薬リスト[#Data],4,FALSE)&\"\",\"\")","v":""},null,null,null,null,null,null,null,null,null,null,null,{"$f":"IFERROR(VLOOKUP(__レジメンマスタ[[#This Row],[YJコード②]],[1]!__前投薬リスト[#Data],4,FALSE)&\"\",\"\")","v":""},null,null,null,null,null,null,null,null,null,null,null,{"$f":"IFERROR(VLOOKUP(__レジメンマスタ[[#This Row],[YJコード③]],[1]!__前投薬リスト[#Data],4,FALSE)&\"\",\"\")","v":""},null,null,null,null,null,null,null,null,null,null,null,{"$f":"IFERROR(VLOOKUP(__レジメンマスタ[[#This Row],[YJコード④]],[1]!__前投薬リスト[#Data],4,FALSE)&\"\",\"\")","v":""},null,null,null,null,null,null,null,null,null,null,null,{"$f":"IFERROR(VLOOKUP(__レジメンマスタ[[#This Row],[YJコード⑤]],[1]!__前投薬リスト[#Data],4,FALSE)&\"\",\"\")","v":""},null,null,null,null,null,null,null,null,null,null,null,{"$f":"IFERROR(VLOOKUP(__レジメンマスタ[[#This Row],[YJコード⑥]],[1]!__前投薬リスト[#Data],4,FALSE)&\"\",\"\")","v":""},null,null,null,null,null,null,null,null,null,null,null,{"$f":"IFERROR(VLOOKUP(__レジメンマスタ[[#This Row],[YJコード⑦]],[1]!__前投薬リスト[#Data],4,FALSE)&\"\",\"\")","v":""}]
["RES0015","GEM単独","  　　　　 W1  　　　　　 W2 　　　　  W3 　　　　　  W4  \nGEM ↓×××××× ↓×××××× ↓×××××× ×××××××  \nGEM:溶解液確認→Tzで行う方針の場合はTzへ変更\n3週連投1週休薬","28日","∞","非小細胞肺癌","呼吸器内科","ゲムシタビン","危 1g ｹﾞﾑｼﾀﾋﾞﾝ点滴静注用「ﾔｸﾙﾄ」（溶解液:生食）（先:ｼﾞｪﾑｻﾞｰﾙ）","4224403D2061","注射","３０ 分で",1000,"㎡","mg",null,"d1,8,15",{"$f":"IFERROR(VLOOKUP(__レジメンマスタ[[#This Row],[YJコード①]],[1]!__前投薬リスト[#Data],4,FALSE)&\"\",\"\")","v":""},null,null,null,null,null,null,null,null,null,null,null,{"$f":"IFERROR(VLOOKUP(__レジメンマスタ[[#This Row],[YJコード②]],[1]!__前投薬リスト[#Data],4,FALSE)&\"\",\"\")","v":""},null,null,null,null,null,null,null,null,null,null,null,{"$f":"IFERROR(VLOOKUP(__レジメンマスタ[[#This Row],[YJコード③]],[1]!__前投薬リスト[#Data],4,FALSE)&\"\",\"\")","v":""},null,null,null,null,null,null,null,null,null,null,null,{"$f":"IFERROR(VLOOKUP(__レジメンマスタ[[#This Row],[YJコード④]],[1]!__前投薬リスト[#Data],4,FALSE)&\"\",\"\")","v":""},null,null,null,null,null,null,null,null,null,null,null,{"$f":"IFERROR(VLOOKUP(__レジメンマスタ[[#This Row],[YJコード⑤]],[1]!__前投薬リスト[#Data],4,FALSE)&\"\",\"\")","v":""},null,null,null,null,null,null,null,null,null,null,null,{"$f":"IFERROR(VLOOKUP(__レジメンマスタ[[#This Row],[YJコード⑥]],[1]!__前投薬リスト[#Data],4,FALSE)&\"\",\"\")","v":""},null,null,null,null,null,null,null,null,null,null,null,{"$f":"IFERROR(VLOOKUP(__レジメンマスタ[[#This Row],[YJコード⑦]],[1]!__前投薬リスト[#Data],4,FALSE)&\"\",\"\")","v":""}]
["RES0020-s2","CDDP＋PEM","　　　　　 Ｗ1 　　　　Ｗ2　　　　　 Ｗ3 \nCDDP ↓×××××× ××××××× ×××××××  \nPEM  ↓×××××× ××××××× ×××××××  \nｼｱﾉｺﾊﾞﾗﾐﾝ：PEM投与開始1週間前に投与、9週間毎（PEM投与に関係なく）\nパンビタン末：PEM投与開始1週間前より内服開始。PEM投与後3週間は継続","21日","6クール","悪性胸膜中皮腫","呼吸器内科","シスプラチン","危〈毒〉50mg/100mL ｼｽﾌﾟﾗﾁﾝ点滴静注「ﾏﾙｺ」（先:ﾗﾝﾀﾞ）","4291401A3111","注射",null,75,"㎡","mg",null,"d1",{"$f":"IFERROR(VLOOKUP(__レジメンマスタ[[#This Row],[YJコード①]],[1]!__前投薬リスト[#Data],4,FALSE)&\"\",\"\")","v":""},null,"ペメトレキセド","危 800mg/32mL ﾍﾟﾒﾄﾚｷｾﾄﾞ点滴静注液「NK」（希釈液:生食）（先:ｱﾘﾑﾀ）","4229401A3026","注射","１０ 分で",500,"㎡","mg",null,"d1",{"$f":"IFERROR(VLOOKUP(__レジメンマスタ[[#This Row],[YJコード②]],[1]!__前投薬リスト[#Data],4,FALSE)&\"\",\"\")","v":"(ステ)"},null,null,null,null,null,null,null,null,null,null,null,{"$f":"IFERROR(VLOOKUP(__レジメンマスタ[[#This Row],[YJコード③]],[1]!__前投薬リスト[#Data],4,FALSE)&\"\",\"\")","v":""},null,null,null,null,null,null,null,null,null,null,null,{"$f":"IFERROR(VLOOKUP(__レジメンマスタ[[#This Row],[YJコード④]],[1]!__前投薬リスト[#Data],4,FALSE)&\"\",\"\")","v":""},null,null,null,null,null,null,null,null,null,null,null,{"$f":"IFERROR(VLOOKUP(__レジメンマスタ[[#This Row],[YJコード⑤]],[1]!__前投薬リスト[#Data],4,FALSE)&\"\",\"\")","v":""},null,null,null,null,null,null,null,null,null,null,null,{"$f":"IFERROR(VLOOKUP(__レジメンマスタ[[#This Row],[YJコード⑥]],[1]!__前投薬リスト[#Data],4,FALSE)&\"\",\"\")","v":""},null,null,null,null,null,null,null,null,null,null,null,{"$f":"IFERROR(VLOOKUP(__レジメンマスタ[[#This Row],[YJコード⑦]],[1]!__前投薬リスト[#Data],4,FALSE)&\"\",\"\")","v":""}]
["RES0020-s4","CDDP＋PEM","　　　　　 Ｗ1 　　　　Ｗ2　　　　　 Ｗ3 \nCDDP ↓×××××× ××××××× ×××××××  \nPEM  ↓×××××× ××××××× ×××××××  \nｼｱﾉｺﾊﾞﾗﾐﾝ：PEM投与開始1週間前に投与、9週間毎（PEM投与に関係なく）\nパンビタン末：PEM投与開始1週間前より内服開始。PEM投与後3週間は継続","21日","6クール","非小細胞肺癌","呼吸器内科","シスプラチン","危〈毒〉50mg/100mL ｼｽﾌﾟﾗﾁﾝ点滴静注「ﾏﾙｺ」（先:ﾗﾝﾀﾞ）","4291401A3111","注射",null,75,"㎡","mg",null,"d1",{"$f":"IFERROR(VLOOKUP(__レジメンマスタ[[#This Row],[YJコード①]],[1]!__前投薬リスト[#Data],4,FALSE)&\"\",\"\")","v":""},null,"ペメトレキセド","危 800mg/32mL ﾍﾟﾒﾄﾚｷｾﾄﾞ点滴静注液「NK」（希釈液:生食）（先:ｱﾘﾑﾀ）","4229401A3026","注射","１０ 分で",500,"㎡","mg",null,"d1",{"$f":"IFERROR(VLOOKUP(__レジメンマスタ[[#This Row],[YJコード②]],[1]!__前投薬リスト[#Data],4,FALSE)&\"\",\"\")","v":"(ステ)"},null,null,null,null,null,null,null,null,null,null,null,{"$f":"IFERROR(VLOOKUP(__レジメンマスタ[[#This Row],[YJコード③]],[1]!__前投薬リスト[#Data],4,FALSE)&\"\",\"\")","v":""},null,null,null,null,null,null,null,null,null,null,null,{"$f":"IFERROR(VLOOKUP(__レジメンマスタ[[#This Row],[YJコード④]],[1]!__前投薬リスト[#Data],4,FALSE)&\"\",\"\")","v":""},null,null,null,null,null,null,null,null,null,null,null,{"$f":"IFERROR(VLOOKUP(__レジメンマスタ[[#This Row],[YJコード⑤]],[1]!__前投薬リスト[#Data],4,FALSE)&\"\",\"\")","v":""},null,null,null,null,null,null,null,null,null,null,null,{"$f":"IFERROR(VLOOKUP(__レジメンマスタ[[#This Row],[YJコード⑥]],[1]!__前投薬リスト[#Data],4,FALSE)&\"\",\"\")","v":""},null,null,null,null,null,null,null,null,null,null,null,{"$f":"IFERROR(VLOOKUP(__レジメンマスタ[[#This Row],[YJコード⑦]],[1]!__前投薬リスト[#Data],4,FALSE)&\"\",\"\")","v":""}]
["RES0021","ADOC","　　　　　  Ｗ1 　　　 　Ｗ2　　　　　  Ｗ3～4\nDXR   ↓×××××× ××××××× ×××××××\nCDDP  ↓×××××× ××××××× ×××××××\nVCR   ××↓×××× ××××××× ××××××× \nCPA   ×××↓××× ××××××× ×××××××\n3～4週間毎に繰り返す　最大4回まで","21-28日","4コース","胸腺腫","呼吸器内科","ドキソルビシン","危 50mg ﾄﾞｷｿﾙﾋﾞｼﾝ塩酸塩注射用「NK」（溶解液:生食orAq）（先:ｱﾄﾞﾘｱｼﾝ）","4235402D2028","注射","３０ 分で",40,"㎡","mg",null,"d1",{"$f":"IFERROR(VLOOKUP(__レジメンマスタ[[#This Row],[YJコード①]],[1]!__前投薬リスト[#Data],4,FALSE)&\"\",\"\")","v":""},null,"シスプラチン","危〈毒〉50mg/100mL ｼｽﾌﾟﾗﾁﾝ点滴静注「ﾏﾙｺ」（先:ﾗﾝﾀﾞ）","4291401A3111","注射",null,50,"㎡","mg",null,"d1",{"$f":"IFERROR(VLOOKUP(__レジメンマスタ[[#This Row],[YJコード②]],[1]!__前投薬リスト[#Data],4,FALSE)&\"\",\"\")","v":""},null,"オンコビン","危 ｵﾝｺﾋﾞﾝ注射用 1㎎","4240400D1030","注射",null,0.6,"㎡","mg",null,"d3",{"$f":"IFERROR(VLOOKUP(__レジメンマスタ[[#This Row],[YJコード③]],[1]!__前投薬リスト[#Data],4,FALSE)&\"\",\"\")","v":""},null,"エンドキサン","危 注射用ｴﾝﾄﾞｷｻﾝ 500㎎","4211401D2021","注射",null,700,"㎡","mg",null,"d4",{"$f":"IFERROR(VLOOKUP(__レジメンマスタ[[#This Row],[YJコード④]],[1]!__前投薬リスト[#Data],4,FALSE)&\"\",\"\")","v":""},null,null,null,null,null,null,null,null,null,null,null,{"$f":"IFERROR(VLOOKUP(__レジメンマスタ[[#This Row],[YJコード⑤]],[1]!__前投薬リスト[#Data],4,FALSE)&\"\",\"\")","v":""},null,null,null,null,null,null,null,null,null,null,null,{"$f":"IFERROR(VLOOKUP(__レジメンマスタ[[#This Row],[YJコード⑥]],[1]!__前投薬リスト[#Data],4,FALSE)&\"\",\"\")","v":""},null,null,null,null,null,null,null,null,null,null,null,{"$f":"IFERROR(VLOOKUP(__レジメンマスタ[[#This Row],[YJコード⑦]],[1]!__前投薬リスト[#Data],4,FALSE)&\"\",\"\")","v":""}]
["RES0022","（臨床試験）CDDP+S1","マスタなし",null,null,null,null,null,null,null,null,null,null,null,null,null,null,{"$f":"IFERROR(VLOOKUP(__レジメンマスタ[[#This Row],[YJコード①]],[1]!__前投薬リスト[#Data],4,FALSE)&\"\",\"\")","v":""},null,null,null,null,null,null,null,null,null,null,null,{"$f":"IFERROR(VLOOKUP(__レジメンマスタ[[#This Row],[YJコード②]],[1]!__前投薬リスト[#Data],4,FALSE)&\"\",\"\")","v":""},null,null,null,null,null,null,null,null,null,null,null,{"$f":"IFERROR(VLOOKUP(__レジメンマスタ[[#This Row],[YJコード③]],[1]!__前投薬リスト[#Data],4,FALSE)&\"\",\"\")","v":""},null,null,null,null,null,null,null,null,null,null,null,{"$f":"IFERROR(VLOOKUP(__レジメンマスタ[[#This Row],[YJコード④]],[1]!__前投薬リスト[#Data],4,FALSE)&\"\",\"\")","v":""},null,null,null,null,null,null,null,null,null,null,null,{"$f":"IFERROR(VLOOKUP(__レジメンマスタ[[#This Row],[YJコード⑤]],[1]!__前投薬リスト[#Data],4,FALSE)&\"\",\"\")","v":""},null,null,null,null,null,null,null,null,null,null,null,{"$f":"IFERROR(VLOOKUP(__レジメンマスタ[[#This Row],[YJコード⑥]],[1]!__前投薬リスト[#Data],4,FALSE)&\"\",\"\")","v":""},null,null,null,null,null,null,null,null,null,null,null,{"$f":"IFERROR(VLOOKUP(__レジメンマスタ[[#This Row],[YJコード⑦]],[1]!__前投薬リスト[#Data],4,FALSE)&\"\",\"\")","v":""}]
["RES0023","BEP","マスタなし",null,null,null,null,null,null,null,null,null,null,null,null,null,null,{"$f":"IFERROR(VLOOKUP(__レジメンマスタ[[#This Row],[YJコード①]],[1]!__前投薬リスト[#Data],4,FALSE)&\"\",\"\")","v":""},null,null,null,null,null,null,null,null,null,null,null,{"$f":"IFERROR(VLOOKUP(__レジメンマスタ[[#This Row],[YJコード②]],[1]!__前投薬リスト[#Data],4,FALSE)&\"\",\"\")","v":""},null,null,null,null,null,null,null,null,null,null,null,{"$f":"IFERROR(VLOOKUP(__レジメンマスタ[[#This Row],[YJコード③]],[1]!__前投薬リスト[#Data],4,FALSE)&\"\",\"\")","v":""},null,null,null,null,null,null,null,null,null,null,null,{"$f":"IFERROR(VLOOKUP(__レジメンマスタ[[#This Row],[YJコード④]],[1]!__前投薬リスト[#Data],4,FALSE)&\"\",\"\")","v":""},null,null,null,null,null,null,null,null,null,null,null,{"$f":"IFERROR(VLOOKUP(__レジメンマスタ[[#This Row],[YJコード⑤]],[1]!__前投薬リスト[#Data],4,FALSE)&\"\",\"\")","v":""},null,null,null,null,null,null,null,null,null,null,null,{"$f":"IFERROR(VLOOKUP(__レジメンマスタ[[#This Row],[YJコード⑥]],[1]!__前投薬リスト[#Data],4,FALSE)&\"\",\"\")","v":""},null,null,null,null,null,null,null,null,null,null,null,{"$f":"IFERROR(VLOOKUP(__レジメンマスタ[[#This Row],[YJコード⑦]],[1]!__前投薬リスト[#Data],4,FALSE)&\"\",\"\")","v":""}]
["RES0024","PEM単独","　　　　　 Ｗ1 　　 　 　Ｗ2　　　　　 Ｗ3 \nPEM  ↓×××××× ××××××× ×××××××  \nｼｱﾉｺﾊﾞﾗﾐﾝ：PEM投与開始1週間前に投与、9週間毎（PEM投与に関係なく）\nパンビタン末：PEM投与開始1週間前より内服開始。PEM投与後3週間は継続","21日","∞","非小細胞肺癌","呼吸器内科","ペメトレキセド","危 800mg/32mL ﾍﾟﾒﾄﾚｷｾﾄﾞ点滴静注液「NK」（希釈液:生食）（先:ｱﾘﾑﾀ）","4229401A3026","注射","１０ 分で",500,"㎡","mg",null,"d1",{"$f":"IFERROR(VLOOKUP(__レジメンマスタ[[#This Row],[YJコード①]],[1]!__前投薬リスト[#Data],4,FALSE)&\"\",\"\")","v":"(ステ)"},null,null,null,null,null,null,null,null,null,null,null,{"$f":"IFERROR(VLOOKUP(__レジメンマスタ[[#This Row],[YJコード②]],[1]!__前投薬リスト[#Data],4,FALSE)&\"\",\"\")","v":""},null,null,null,null,null,null,null,null,null,null,null,{"$f":"IFERROR(VLOOKUP(__レジメンマスタ[[#This Row],[YJコード③]],[1]!__前投薬リスト[#Data],4,FALSE)&\"\",\"\")","v":""},null,null,null,null,null,null,null,null,null,null,null,{"$f":"IFERROR(VLOOKUP(__レジメンマスタ[[#This Row],[YJコード④]],[1]!__前投薬リスト[#Data],4,FALSE)&\"\",\"\")","v":""},null,null,null,null,null,null,null,null,null,null,null,{"$f":"IFERROR(VLOOKUP(__レジメンマスタ[[#This Row],[YJコード⑤]],[1]!__前投薬リスト[#Data],4,FALSE)&\"\",\"\")","v":""},null,null,null,null,null,null,null,null,null,null,null,{"$f":"IFERROR(VLOOKUP(__レジメンマスタ[[#This Row],[YJコード⑥]],[1]!__前投薬リスト[#Data],4,FALSE)&\"\",\"\")","v":""},null,null,null,null,null,null,null,null,null,null,null,{"$f":"IFERROR(VLOOKUP(__レジメンマスタ[[#This Row],[YJコード⑦]],[1]!__前投薬リスト[#Data],4,FALSE)&\"\",\"\")","v":""}]
["RES0025","CBDCA+PEM","　　　　　  Ｗ1 　　　　Ｗ2　　　　　 Ｗ3 \nCBDCA ↓×××××× ××××××× ×××××××  \nPEM   ↓×××××× ××××××× ××××××× \n★CBDCAはAUC5～6★ \nｼｱﾉｺﾊﾞﾗﾐﾝ：PEM投与開始1週間前に投与、9週間毎（PEM投与に関係なく）\nパンビタン末：PEM投与開始1週間前より内服開始。PEM投与後3週間は継続\n呼内：補正CCｒ算出法　sCr値＋0.2","21日","4-6クール","非小細胞肺癌","呼吸器内科","カルボプラチン","危〈毒〉ｶﾙﾎﾞﾌﾟﾗﾁﾝ点滴静注液「NK」150mg/15mL（先:ﾊﾟﾗﾌﾟﾗﾁﾝ）","4291403A2092","注射","１ 時間で",6,"AUC","mg",null,"d1",{"$f":"IFERROR(VLOOKUP(__レジメンマスタ[[#This Row],[YJコード①]],[1]!__前投薬リスト[#Data],4,FALSE)&\"\",\"\")","v":""},null,"ペメトレキセド","危 800mg/32mL ﾍﾟﾒﾄﾚｷｾﾄﾞ点滴静注液「NK」（希釈液:生食）（先:ｱﾘﾑﾀ）","4229401A3026","注射","１０ 分で",500,"㎡","mg",null,"d1",{"$f":"IFERROR(VLOOKUP(__レジメンマスタ[[#This Row],[YJコード②]],[1]!__前投薬リスト[#Data],4,FALSE)&\"\",\"\")","v":"(ステ)"},null,null,null,null,null,null,null,null,null,null,null,{"$f":"IFERROR(VLOOKUP(__レジメンマスタ[[#This Row],[YJコード③]],[1]!__前投薬リスト[#Data],4,FALSE)&\"\",\"\")","v":""},null,null,null,null,null,null,null,null,null,null,null,{"$f":"IFERROR(VLOOKUP(__レジメンマスタ[[#This Row],[YJコード④]],[1]!__前投薬リスト[#Data],4,FALSE)&\"\",\"\")","v":""},null,null,null,null,null,null,null,null,null,null,null,{"$f":"IFERROR(VLOOKUP(__レジメンマスタ[[#This Row],[YJコード⑤]],[1]!__前投薬リスト[#Data],4,FALSE)&\"\",\"\")","v":""},null,null,null,null,null,null,null,null,null,null,null,{"$f":"IFERROR(VLOOKUP(__レジメンマスタ[[#This Row],[YJコード⑥]],[1]!__前投薬リスト[#Data],4,FALSE)&\"\",\"\")","v":""},null,null,null,null,null,null,null,null,null,null,null,{"$f":"IFERROR(VLOOKUP(__レジメンマスタ[[#This Row],[YJコード⑦]],[1]!__前投薬リスト[#Data],4,FALSE)&\"\",\"\")","v":""}]
["RES0026","CBDCA+PTX+Beva","　　　　　  Ｗ1 　　　　Ｗ2　　　　　 Ｗ3 \nCBDCA ↓×××××× ××××××× ×××××××  \nPTX   ↓×××××× ××××××× ×××××××\nBEV   ↓×××××× ××××××× ×××××××\n★CBDCAはAUC5～6★  \n6コース以降はBevaのみ継続\n呼内：補正CCｒ算出法　sCr値＋0.2","21日","6クール","非小細胞肺癌","呼吸器内科","カルボプラチン","危〈毒〉ｶﾙﾎﾞﾌﾟﾗﾁﾝ点滴静注液「NK」150mg/15mL（先:ﾊﾟﾗﾌﾟﾗﾁﾝ）","4291403A2092","注射","１ 時間で",6,"AUC","mg",null,"d1",{"$f":"IFERROR(VLOOKUP(__レジメンマスタ[[#This Row],[YJコード①]],[1]!__前投薬リスト[#Data],4,FALSE)&\"\",\"\")","v":""},"6回","パクリタキセル","危〈毒〉100mg/16.7mL ﾊﾟｸﾘﾀｷｾﾙ注「NK」（希釈液:生食orTZ）（先:ﾀｷｿｰﾙ）","4240406A2046","注射","３ 時間で",200,"㎡","mg",null,"d1",{"$f":"IFERROR(VLOOKUP(__レジメンマスタ[[#This Row],[YJコード②]],[1]!__前投薬リスト[#Data],4,FALSE)&\"\",\"\")","v":"抗ヒス,H2B,ステ"},"6回","ベバシズマブ","危 400mg/16mL ﾍﾞﾊﾞｼｽﾞﾏﾌﾞBS点滴静注「CTNK」（希釈液:生食）（先:ｱﾊﾞｽﾁﾝ）","4291463A2027","注射","初回９０分、２回目６０分、３回目～３０分",15,"kg","mg",null,"d1",{"$f":"IFERROR(VLOOKUP(__レジメンマスタ[[#This Row],[YJコード③]],[1]!__前投薬リスト[#Data],4,FALSE)&\"\",\"\")","v":""},"∞",null,null,null,null,null,null,null,null,null,null,{"$f":"IFERROR(VLOOKUP(__レジメンマスタ[[#This Row],[YJコード④]],[1]!__前投薬リスト[#Data],4,FALSE)&\"\",\"\")","v":""},null,null,null,null,null,null,null,null,null,null,null,{"$f":"IFERROR(VLOOKUP(__レジメンマスタ[[#This Row],[YJコード⑤]],[1]!__前投薬リスト[#Data],4,FALSE)&\"\",\"\")","v":""},null,null,null,null,null,null,null,null,null,null,null,{"$f":"IFERROR(VLOOKUP(__レジメンマスタ[[#This Row],[YJコード⑥]],[1]!__前投薬リスト[#Data],4,FALSE)&\"\",\"\")","v":""},null,null,null,null,null,null,null,null,null,null,null,{"$f":"IFERROR(VLOOKUP(__レジメンマスタ[[#This Row],[YJコード⑦]],[1]!__前投薬リスト[#Data],4,FALSE)&\"\",\"\")","v":""}]
["RES0027-1","CBDCA+PEM+Beva","　　　　　  Ｗ1 　　　　Ｗ2　　　　　 Ｗ3 \nCBDCA ↓×××××× ××××××× ×××××××  \nPEM   ↓×××××× ××××××× ×××××××\nBEV   ↓×××××× ××××××× ×××××××\n★CBDCAはAUC5～6★\nｼｱﾉｺﾊﾞﾗﾐﾝ：PEM投与開始1週間前に投与、9週間毎（PEM投与に関係なく）\nパンビタン末：PEM投与開始1週間前より内服開始。PEM投与後3週間は継続\n1コース3～4週間、4～6コース。その後PEM+Bevaのみ継続。\n呼内：補正CCｒ算出法　sCr値＋0.2","21日","4-6クール","非小細胞肺癌",null,"カルボプラチン","危〈毒〉ｶﾙﾎﾞﾌﾟﾗﾁﾝ点滴静注液「NK」150mg/15mL（先:ﾊﾟﾗﾌﾟﾗﾁﾝ）","4291403A2092","注射","１ 時間で",6,"AUC","mg",null,"d1",{"$f":"IFERROR(VLOOKUP(__レジメンマスタ[[#This Row],[YJコード①]],[1]!__前投薬リスト[#Data],4,FALSE)&\"\",\"\")","v":""},null,"ペメトレキセド","危 800mg/32mL ﾍﾟﾒﾄﾚｷｾﾄﾞ点滴静注液「NK」（希釈液:生食）（先:ｱﾘﾑﾀ）","4229401A3026","注射","１０ 分で",500,"㎡","mg",null,"d1",{"$f":"IFERROR(VLOOKUP(__レジメンマスタ[[#This Row],[YJコード②]],[1]!__前投薬リスト[#Data],4,FALSE)&\"\",\"\")","v":"(ステ)"},"∞","ベバシズマブ","危 400mg/16mL ﾍﾞﾊﾞｼｽﾞﾏﾌﾞBS点滴静注「CTNK」（希釈液:生食）（先:ｱﾊﾞｽﾁﾝ）","4291463A2027","注射","初回９０分、２回目６０分、３回目～３０分",15,"kg","mg",null,"d1",{"$f":"IFERROR(VLOOKUP(__レジメンマスタ[[#This Row],[YJコード③]],[1]!__前投薬リスト[#Data],4,FALSE)&\"\",\"\")","v":""},"∞",null,null,null,null,null,null,null,null,null,null,{"$f":"IFERROR(VLOOKUP(__レジメンマスタ[[#This Row],[YJコード④]],[1]!__前投薬リスト[#Data],4,FALSE)&\"\",\"\")","v":""},null,null,null,null,null,null,null,null,null,null,null,{"$f":"IFERROR(VLOOKUP(__レジメンマスタ[[#This Row],[YJコード⑤]],[1]!__前投薬リスト[#Data],4,FALSE)&\"\",\"\")","v":""},null,null,null,null,null,null,null,null,null,null,null,{"$f":"IFERROR(VLOOKUP(__レジメンマスタ[[#This Row],[YJコード⑥]],[1]!__前投薬リスト[#Data],4,FALSE)&\"\",\"\")","v":""},null,null,null,null,null,null,null,null,null,null,null,{"$f":"IFERROR(VLOOKUP(__レジメンマスタ[[#This Row],[YJコード⑦]],[1]!__前投薬リスト[#Data],4,FALSE)&\"\",\"\")","v":""}]
["RES0027-3","CDDP+PEM+Beva","　　　　　  Ｗ1 　　　　Ｗ2　　　　　 Ｗ3 \nCDDP ↓×××××× ××××××× ×××××××  \nPEM  ↓×××××× ××××××× ×××××××\nBEV  ↓×××××× ××××××× ×××××××\nｼｱﾉｺﾊﾞﾗﾐﾝ：PEM投与開始1週間前に投与、9週間毎（PEM投与に関係なく）\nパンビタン末：PEM投与開始1週間前より内服開始。PEM投与後3週間は継続\n1コース3週間、5コース以降はPEM+Bevaのみ継続","21日","4クール","非小細胞肺癌","呼吸器内科","シスプラチン","危〈毒〉50mg/100mL ｼｽﾌﾟﾗﾁﾝ点滴静注「ﾏﾙｺ」（先:ﾗﾝﾀﾞ）","4291401A3111","注射",null,75,"㎡","mg",null,"d1",{"$f":"IFERROR(VLOOKUP(__レジメンマスタ[[#This Row],[YJコード①]],[1]!__前投薬リスト[#Data],4,FALSE)&\"\",\"\")","v":""},"4回","ペメトレキセド","危 800mg/32mL ﾍﾟﾒﾄﾚｷｾﾄﾞ点滴静注液「NK」（希釈液:生食）（先:ｱﾘﾑﾀ）","4229401A3026","注射","１０ 分で",500,"㎡","mg",null,"d1",{"$f":"IFERROR(VLOOKUP(__レジメンマスタ[[#This Row],[YJコード②]],[1]!__前投薬リスト[#Data],4,FALSE)&\"\",\"\")","v":"(ステ)"},"∞","ベバシズマブ","危 400mg/16mL ﾍﾞﾊﾞｼｽﾞﾏﾌﾞBS点滴静注「CTNK」（希釈液:生食）（先:ｱﾊﾞｽﾁﾝ）","4291463A2027","注射","初回９０分、２回目６０分、３回目～３０分",7.5,"kg","mg",null,"d1",{"$f":"IFERROR(VLOOKUP(__レジメンマスタ[[#This Row],[YJコード③]],[1]!__前投薬リスト[#Data],4,FALSE)&\"\",\"\")","v":""},"∞",null,null,null,null,null,null,null,null,null,null,{"$f":"IFERROR(VLOOKUP(__レジメンマスタ[[#This Row],[YJコード④]],[1]!__前投薬リスト[#Data],4,FALSE)&\"\",\"\")","v":""},null,null,null,null,null,null,null,null,null,null,null,{"$f":"IFERROR(VLOOKUP(__レジメンマスタ[[#This Row],[YJコード⑤]],[1]!__前投薬リスト[#Data],4,FALSE)&\"\",\"\")","v":""},null,null,null,null,null,null,null,null,null,null,null,{"$f":"IFERROR(VLOOKUP(__レジメンマスタ[[#This Row],[YJコード⑥]],[1]!__前投薬リスト[#Data],4,FALSE)&\"\",\"\")","v":""},null,null,null,null,null,null,null,null,null,null,null,{"$f":"IFERROR(VLOOKUP(__レジメンマスタ[[#This Row],[YJコード⑦]],[1]!__前投薬リスト[#Data],4,FALSE)&\"\",\"\")","v":""}]
["RES0028","CBDCA+S-1","　　　　　  Ｗ1 　　　　Ｗ2　　　　　 Ｗ3 \nCBDCA ↓×××××× ××××××× ×××××××  \nS-1   ↓↓↓↓↓↓↓ ↓↓↓↓↓↓↓ ×××××××\n呼内：補正CCｒ算出法　sCr値＋0.2\nS1:2週間内服、1週間休薬\n初回基準量（テガフール相当量）\nCCｒ＞80 ml/min\n1.25m2未満:40mg/回,1.25m2以上1.5m2未満:50mg/回,1.5m2以上:60mg/回","21日","6クール","非小細胞肺癌","呼吸器内科","カルボプラチン","危〈毒〉ｶﾙﾎﾞﾌﾟﾗﾁﾝ点滴静注液「NK」150mg/15mL（先:ﾊﾟﾗﾌﾟﾗﾁﾝ）","4291403A2092","注射",null,5,"AUC","mg",null,"d1",{"$f":"IFERROR(VLOOKUP(__レジメンマスタ[[#This Row],[YJコード①]],[1]!__前投薬リスト[#Data],4,FALSE)&\"\",\"\")","v":""},null,"エスワン",null,"4229101F2057","経口",null,"80-120/2","BODY","mg",null,"d1-14",{"$f":"IFERROR(VLOOKUP(__レジメンマスタ[[#This Row],[YJコード②]],[1]!__前投薬リスト[#Data],4,FALSE)&\"\",\"\")","v":""},null,null,null,null,null,null,null,null,null,null,null,{"$f":"IFERROR(VLOOKUP(__レジメンマスタ[[#This Row],[YJコード③]],[1]!__前投薬リスト[#Data],4,FALSE)&\"\",\"\")","v":""},null,null,null,null,null,null,null,null,null,null,null,{"$f":"IFERROR(VLOOKUP(__レジメンマスタ[[#This Row],[YJコード④]],[1]!__前投薬リスト[#Data],4,FALSE)&\"\",\"\")","v":""},null,null,null,null,null,null,null,null,null,null,null,{"$f":"IFERROR(VLOOKUP(__レジメンマスタ[[#This Row],[YJコード⑤]],[1]!__前投薬リスト[#Data],4,FALSE)&\"\",\"\")","v":""},null,null,null,null,null,null,null,null,null,null,null,{"$f":"IFERROR(VLOOKUP(__レジメンマスタ[[#This Row],[YJコード⑥]],[1]!__前投薬リスト[#Data],4,FALSE)&\"\",\"\")","v":""},null,null,null,null,null,null,null,null,null,null,null,{"$f":"IFERROR(VLOOKUP(__レジメンマスタ[[#This Row],[YJコード⑦]],[1]!__前投薬リスト[#Data],4,FALSE)&\"\",\"\")","v":""}]
["RES0028-1","CDDP+S-1","　　　　　  Ｗ1 　　　　Ｗ2　　　　　 Ｗ3            W4～5\nCDDP ××××××× ↓×××××× ××××××× ×××××××\nS-1  ↓↓↓↓↓↓↓ ↓↓↓↓↓↓↓ ↓↓↓↓↓↓↓ ×××××××\nCDDP：4～5週間に1回投与、S1:3週間内服、1～2週間休薬\nS1：初回基準量（テガフール相当量）\nCCｒ＞80 ml/min\n1.25m2未満:40mg/回,1.25m2以上1.5m2未満:50mg/回,1.5m2以上:60mg/回\n","28-35日","6クール","非小細胞肺癌","呼吸器内科","シスプラチン","危〈毒〉50mg/100mL ｼｽﾌﾟﾗﾁﾝ点滴静注「ﾏﾙｺ」（先:ﾗﾝﾀﾞ）","4291401A3111","注射",null,60,"㎡","mg",null,"d8",{"$f":"IFERROR(VLOOKUP(__レジメンマスタ[[#This Row],[YJコード①]],[1]!__前投薬リスト[#Data],4,FALSE)&\"\",\"\")","v":""},null,"エスワン",null,"4229101F2057","経口",null,"80-120/2","BODY","mg",null,"d1-21",{"$f":"IFERROR(VLOOKUP(__レジメンマスタ[[#This Row],[YJコード②]],[1]!__前投薬リスト[#Data],4,FALSE)&\"\",\"\")","v":""},null,null,null,null,null,null,null,null,null,null,null,{"$f":"IFERROR(VLOOKUP(__レジメンマスタ[[#This Row],[YJコード③]],[1]!__前投薬リスト[#Data],4,FALSE)&\"\",\"\")","v":""},null,null,null,null,null,null,null,null,null,null,null,{"$f":"IFERROR(VLOOKUP(__レジメンマスタ[[#This Row],[YJコード④]],[1]!__前投薬リスト[#Data],4,FALSE)&\"\",\"\")","v":""},null,null,null,null,null,null,null,null,null,null,null,{"$f":"IFERROR(VLOOKUP(__レジメンマスタ[[#This Row],[YJコード⑤]],[1]!__前投薬リスト[#Data],4,FALSE)&\"\",\"\")","v":""},null,null,null,null,null,null,null,null,null,null,null,{"$f":"IFERROR(VLOOKUP(__レジメンマスタ[[#This Row],[YJコード⑥]],[1]!__前投薬リスト[#Data],4,FALSE)&\"\",\"\")","v":""},null,null,null,null,null,null,null,null,null,null,null,{"$f":"IFERROR(VLOOKUP(__レジメンマスタ[[#This Row],[YJコード⑦]],[1]!__前投薬リスト[#Data],4,FALSE)&\"\",\"\")","v":""}]
["RES0029","CBDCA+n-PTX","　　　　　  Ｗ1 　　　　　Ｗ2　　　　　 Ｗ3 \nCBDCA ↓×××××× ××××××× ×××××××  \nn-PTX ↓×××××× ↓×××××× ↓××××××\n呼内：補正CCｒ算出法　sCr値＋0.2","21日","6クール","非小細胞肺癌","呼吸器内科","カルボプラチン","危〈毒〉ｶﾙﾎﾞﾌﾟﾗﾁﾝ点滴静注液「NK」150mg/15mL（先:ﾊﾟﾗﾌﾟﾗﾁﾝ）","4291403A2092","注射","１ 時間で",6,"AUC","mg",null,"d1",{"$f":"IFERROR(VLOOKUP(__レジメンマスタ[[#This Row],[YJコード①]],[1]!__前投薬リスト[#Data],4,FALSE)&\"\",\"\")","v":""},null,"アブラキサン","危〈毒〉ｱﾌﾞﾗｷｻﾝ点滴静注用 100mg","4240409D1023","注射","３０ 分で",100,"㎡","mg",null,"d1,8,15",{"$f":"IFERROR(VLOOKUP(__レジメンマスタ[[#This Row],[YJコード②]],[1]!__前投薬リスト[#Data],4,FALSE)&\"\",\"\")","v":""},null,null,null,null,null,null,null,null,null,null,null,{"$f":"IFERROR(VLOOKUP(__レジメンマスタ[[#This Row],[YJコード③]],[1]!__前投薬リスト[#Data],4,FALSE)&\"\",\"\")","v":""},null,null,null,null,null,null,null,null,null,null,null,{"$f":"IFERROR(VLOOKUP(__レジメンマスタ[[#This Row],[YJコード④]],[1]!__前投薬リスト[#Data],4,FALSE)&\"\",\"\")","v":""},null,null,null,null,null,null,null,null,null,null,null,{"$f":"IFERROR(VLOOKUP(__レジメンマスタ[[#This Row],[YJコード⑤]],[1]!__前投薬リスト[#Data],4,FALSE)&\"\",\"\")","v":""},null,null,null,null,null,null,null,null,null,null,null,{"$f":"IFERROR(VLOOKUP(__レジメンマスタ[[#This Row],[YJコード⑥]],[1]!__前投薬リスト[#Data],4,FALSE)&\"\",\"\")","v":""},null,null,null,null,null,null,null,null,null,null,null,{"$f":"IFERROR(VLOOKUP(__レジメンマスタ[[#This Row],[YJコード⑦]],[1]!__前投薬リスト[#Data],4,FALSE)&\"\",\"\")","v":""}]
["RES0030","GEM(適応外)","マスタなし",null,null,"悪性胸膜中皮腫",null,"ゲムシタビン","危 1g ｹﾞﾑｼﾀﾋﾞﾝ点滴静注用「ﾔｸﾙﾄ」（溶解液:生食）（先:ｼﾞｪﾑｻﾞｰﾙ）","4224403D2061","注射","３０ 分で",1250,"㎡","mg",null,"d1,8,15",{"$f":"IFERROR(VLOOKUP(__レジメンマスタ[[#This Row],[YJコード①]],[1]!__前投薬リスト[#Data],4,FALSE)&\"\",\"\")","v":""},null,null,null,null,null,null,null,null,null,null,null,{"$f":"IFERROR(VLOOKUP(__レジメンマスタ[[#This Row],[YJコード②]],[1]!__前投薬リスト[#Data],4,FALSE)&\"\",\"\")","v":""},null,null,null,null,null,null,null,null,null,null,null,{"$f":"IFERROR(VLOOKUP(__レジメンマスタ[[#This Row],[YJコード③]],[1]!__前投薬リスト[#Data],4,FALSE)&\"\",\"\")","v":""},null,null,null,null,null,null,null,null,null,null,null,{"$f":"IFERROR(VLOOKUP(__レジメンマスタ[[#This Row],[YJコード④]],[1]!__前投薬リスト[#Data],4,FALSE)&\"\",\"\")","v":""},null,null,null,null,null,null,null,null,null,null,null,{"$f":"IFERROR(VLOOKUP(__レジメンマスタ[[#This Row],[YJコード⑤]],[1]!__前投薬リスト[#Data],4,FALSE)&\"\",\"\")","v":""},null,null,null,null,null,null,null,null,null,null,null,{"$f":"IFERROR(VLOOKUP(__レジメンマスタ[[#This Row],[YJコード⑥]],[1]!__前投薬リスト[#Data],4,FALSE)&\"\",\"\")","v":""},null,null,null,null,null,null,null,null,null,null,null,{"$f":"IFERROR(VLOOKUP(__レジメンマスタ[[#This Row],[YJコード⑦]],[1]!__前投薬リスト[#Data],4,FALSE)&\"\",\"\")","v":""}]
["RES0031","weekly CBDCA+PTX","　　　　　  Ｗ1 　　　　Ｗ2　　　　　 Ｗ3 \nCBDCA ↓×××××× ↓×××××× ×××××××  \nPTX 　↓×××××× ↓×××××× ×××××××\n呼内：補正CCｒ算出法　sCr値＋0.2","21日","4-6クール","小細胞肺癌","呼吸器内科","カルボプラチン","危〈毒〉ｶﾙﾎﾞﾌﾟﾗﾁﾝ点滴静注液「NK」150mg/15mL（先:ﾊﾟﾗﾌﾟﾗﾁﾝ）","4291403A2092","注射","１ 時間で",2,"AUC","mg",null,"d1,8",{"$f":"IFERROR(VLOOKUP(__レジメンマスタ[[#This Row],[YJコード①]],[1]!__前投薬リスト[#Data],4,FALSE)&\"\",\"\")","v":""},null,"パクリタキセル","危〈毒〉100mg/16.7mL ﾊﾟｸﾘﾀｷｾﾙ注「NK」（希釈液:生食orTZ）（先:ﾀｷｿｰﾙ）","4240406A2046","注射","１　時間で",100,"㎡","mg",null,"d1,8",{"$f":"IFERROR(VLOOKUP(__レジメンマスタ[[#This Row],[YJコード②]],[1]!__前投薬リスト[#Data],4,FALSE)&\"\",\"\")","v":"抗ヒス,H2B,ステ"},null,null,null,null,null,null,null,null,null,null,null,{"$f":"IFERROR(VLOOKUP(__レジメンマスタ[[#This Row],[YJコード③]],[1]!__前投薬リスト[#Data],4,FALSE)&\"\",\"\")","v":""},null,null,null,null,null,null,null,null,null,null,null,{"$f":"IFERROR(VLOOKUP(__レジメンマスタ[[#This Row],[YJコード④]],[1]!__前投薬リスト[#Data],4,FALSE)&\"\",\"\")","v":""},null,null,null,null,null,null,null,null,null,null,null,{"$f":"IFERROR(VLOOKUP(__レジメンマスタ[[#This Row],[YJコード⑤]],[1]!__前投薬リスト[#Data],4,FALSE)&\"\",\"\")","v":""},null,null,null,null,null,null,null,null,null,null,null,{"$f":"IFERROR(VLOOKUP(__レジメンマスタ[[#This Row],[YJコード⑥]],[1]!__前投薬リスト[#Data],4,FALSE)&\"\",\"\")","v":""},null,null,null,null,null,null,null,null,null,null,null,{"$f":"IFERROR(VLOOKUP(__レジメンマスタ[[#This Row],[YJコード⑦]],[1]!__前投薬リスト[#Data],4,FALSE)&\"\",\"\")","v":""}]
["RES0032","CPT-11単独","　　　　　  Ｗ1 　　　　　Ｗ2　　　　　　 Ｗ3～4　　　　　2週間以上\nCPT-11 ↓×××××× ↓×××××× ↓××××××  ××××××× \n1週間に1回投与を3～4回投与後、2週間以上休薬","35-42日",null,"小細胞肺癌","呼吸器内科","イリノテカン","危 100mg/5mL ｲﾘﾉﾃｶﾝ塩酸塩点滴静注液「NK」（先:ﾄﾎﾟﾃｼﾝ）","4240404A2055","注射","９０ 分で",100,"㎡","mg",null,"d1,8,15,(22)",{"$f":"IFERROR(VLOOKUP(__レジメンマスタ[[#This Row],[YJコード①]],[1]!__前投薬リスト[#Data],4,FALSE)&\"\",\"\")","v":""},null,null,null,null,null,null,null,null,null,null,null,{"$f":"IFERROR(VLOOKUP(__レジメンマスタ[[#This Row],[YJコード②]],[1]!__前投薬リスト[#Data],4,FALSE)&\"\",\"\")","v":""},null,null,null,null,null,null,null,null,null,null,null,{"$f":"IFERROR(VLOOKUP(__レジメンマスタ[[#This Row],[YJコード③]],[1]!__前投薬リスト[#Data],4,FALSE)&\"\",\"\")","v":""},null,null,null,null,null,null,null,null,null,null,null,{"$f":"IFERROR(VLOOKUP(__レジメンマスタ[[#This Row],[YJコード④]],[1]!__前投薬リスト[#Data],4,FALSE)&\"\",\"\")","v":""},null,null,null,null,null,null,null,null,null,null,null,{"$f":"IFERROR(VLOOKUP(__レジメンマスタ[[#This Row],[YJコード⑤]],[1]!__前投薬リスト[#Data],4,FALSE)&\"\",\"\")","v":""},null,null,null,null,null,null,null,null,null,null,null,{"$f":"IFERROR(VLOOKUP(__レジメンマスタ[[#This Row],[YJコード⑥]],[1]!__前投薬リスト[#Data],4,FALSE)&\"\",\"\")","v":""},null,null,null,null,null,null,null,null,null,null,null,{"$f":"IFERROR(VLOOKUP(__レジメンマスタ[[#This Row],[YJコード⑦]],[1]!__前投薬リスト[#Data],4,FALSE)&\"\",\"\")","v":""}]
["RES0033","CDDP＋Doc+RT","　　 W1  W2　W3  W4  W5  W6\nCDDP ↓  ↓  ×  ×  ↓  ↓  \nDTX  ↓  ↓  ×  ×  ↓  ↓ \n放射線治療中のd1,8,29,36","42日",null,"非小細胞肺癌","呼吸器内科","シスプラチン","危〈毒〉50mg/100mL ｼｽﾌﾟﾗﾁﾝ点滴静注「ﾏﾙｺ」（先:ﾗﾝﾀﾞ）","4291401A3111","注射",null,40,"㎡","mg",null,"d1,8,29,36",{"$f":"IFERROR(VLOOKUP(__レジメンマスタ[[#This Row],[YJコード①]],[1]!__前投薬リスト[#Data],4,FALSE)&\"\",\"\")","v":""},null,"ドセタキセル","危〈毒〉80㎎/4mL ﾄﾞｾﾀｷｾﾙ点滴静注「ﾆﾌﾟﾛ」（先:ﾀｷｿﾃｰﾙ）","4240405A4109","注射","１　時間で",40,"㎡","mg",null,"d1,8,29,36",{"$f":"IFERROR(VLOOKUP(__レジメンマスタ[[#This Row],[YJコード②]],[1]!__前投薬リスト[#Data],4,FALSE)&\"\",\"\")","v":""},null,null,null,null,null,null,null,null,null,null,null,{"$f":"IFERROR(VLOOKUP(__レジメンマスタ[[#This Row],[YJコード③]],[1]!__前投薬リスト[#Data],4,FALSE)&\"\",\"\")","v":""},null,null,null,null,null,null,null,null,null,null,null,{"$f":"IFERROR(VLOOKUP(__レジメンマスタ[[#This Row],[YJコード④]],[1]!__前投薬リスト[#Data],4,FALSE)&\"\",\"\")","v":""},null,null,null,null,null,null,null,null,null,null,null,{"$f":"IFERROR(VLOOKUP(__レジメンマスタ[[#This Row],[YJコード⑤]],[1]!__前投薬リスト[#Data],4,FALSE)&\"\",\"\")","v":""},null,null,null,null,null,null,null,null,null,null,null,{"$f":"IFERROR(VLOOKUP(__レジメンマスタ[[#This Row],[YJコード⑥]],[1]!__前投薬リスト[#Data],4,FALSE)&\"\",\"\")","v":""},null,null,null,null,null,null,null,null,null,null,null,{"$f":"IFERROR(VLOOKUP(__レジメンマスタ[[#This Row],[YJコード⑦]],[1]!__前投薬リスト[#Data],4,FALSE)&\"\",\"\")","v":""}]
["RES0034","CBDCA+PTX+Conc.RT","　　　　　  Ｗ1 　　　　Ｗ2　　　　　 Ｗ3～6\nCBDCA ↓×××××× ↓×××××× ↓×××××× \nPTX 　↓×××××× ↓×××××× ↓××××××\n1週間毎に投与。放射線終了まで（6回予定)\n呼内：補正CCｒ算出法　sCr値＋0.2","42日","6回","非小細胞肺癌","呼吸器内科","カルボプラチン","危〈毒〉ｶﾙﾎﾞﾌﾟﾗﾁﾝ点滴静注液「NK」150mg/15mL（先:ﾊﾟﾗﾌﾟﾗﾁﾝ）","4291403A2092","注射","１ 時間で",2,"AUC","mg",null,"d1,8,15,22,29,36",{"$f":"IFERROR(VLOOKUP(__レジメンマスタ[[#This Row],[YJコード①]],[1]!__前投薬リスト[#Data],4,FALSE)&\"\",\"\")","v":""},null,"パクリタキセル","危〈毒〉30mg/5mL ﾊﾟｸﾘﾀｷｾﾙ注「NK」（希釈液:生食orTZ）（先:ﾀｷｿｰﾙ）","4240406A1040","注射","１　時間で",40,"㎡","mg",null,"d1,8,15,22,29,36",{"$f":"IFERROR(VLOOKUP(__レジメンマスタ[[#This Row],[YJコード②]],[1]!__前投薬リスト[#Data],4,FALSE)&\"\",\"\")","v":"抗ヒス,H2B,ステ"},null,null,null,null,null,null,null,null,null,null,null,{"$f":"IFERROR(VLOOKUP(__レジメンマスタ[[#This Row],[YJコード③]],[1]!__前投薬リスト[#Data],4,FALSE)&\"\",\"\")","v":""},null,null,null,null,null,null,null,null,null,null,null,{"$f":"IFERROR(VLOOKUP(__レジメンマスタ[[#This Row],[YJコード④]],[1]!__前投薬リスト[#Data],4,FALSE)&\"\",\"\")","v":""},null,null,null,null,null,null,null,null,null,null,null,{"$f":"IFERROR(VLOOKUP(__レジメンマスタ[[#This Row],[YJコード⑤]],[1]!__前投薬リスト[#Data],4,FALSE)&\"\",\"\")","v":""},null,null,null,null,null,null,null,null,null,null,null,{"$f":"IFERROR(VLOOKUP(__レジメンマスタ[[#This Row],[YJコード⑥]],[1]!__前投薬リスト[#Data],4,FALSE)&\"\",\"\")","v":""},null,null,null,null,null,null,null,null,null,null,null,{"$f":"IFERROR(VLOOKUP(__レジメンマスタ[[#This Row],[YJコード⑦]],[1]!__前投薬リスト[#Data],4,FALSE)&\"\",\"\")","v":""}]
["RES0035","Beva＋ｴﾙﾛﾁﾆﾌﾞ(臨床試験）","マスタなし",null,null,null,null,null,null,null,null,null,null,null,null,null,null,{"$f":"IFERROR(VLOOKUP(__レジメンマスタ[[#This Row],[YJコード①]],[1]!__前投薬リスト[#Data],4,FALSE)&\"\",\"\")","v":""},null,null,null,null,null,null,null,null,null,null,null,{"$f":"IFERROR(VLOOKUP(__レジメンマスタ[[#This Row],[YJコード②]],[1]!__前投薬リスト[#Data],4,FALSE)&\"\",\"\")","v":""},null,null,null,null,null,null,null,null,null,null,null,{"$f":"IFERROR(VLOOKUP(__レジメンマスタ[[#This Row],[YJコード③]],[1]!__前投薬リスト[#Data],4,FALSE)&\"\",\"\")","v":""},null,null,null,null,null,null,null,null,null,null,null,{"$f":"IFERROR(VLOOKUP(__レジメンマスタ[[#This Row],[YJコード④]],[1]!__前投薬リスト[#Data],4,FALSE)&\"\",\"\")","v":""},null,null,null,null,null,null,null,null,null,null,null,{"$f":"IFERROR(VLOOKUP(__レジメンマスタ[[#This Row],[YJコード⑤]],[1]!__前投薬リスト[#Data],4,FALSE)&\"\",\"\")","v":""},null,null,null,null,null,null,null,null,null,null,null,{"$f":"IFERROR(VLOOKUP(__レジメンマスタ[[#This Row],[YJコード⑥]],[1]!__前投薬リスト[#Data],4,FALSE)&\"\",\"\")","v":""},null,null,null,null,null,null,null,null,null,null,null,{"$f":"IFERROR(VLOOKUP(__レジメンマスタ[[#This Row],[YJコード⑦]],[1]!__前投薬リスト[#Data],4,FALSE)&\"\",\"\")","v":""}]
["RES0036","ニボルマブ","　　　　　　　　　 W1　　　　　　　W2 \nオプジーボ  ↓××××××  ×××××××  \n","14日","∞","非小細胞肺癌","呼吸器内科","オプジーボ","危 240mg/24mL ｵﾌﾟｼﾞｰﾎﾞ点滴静注（希釈液:生食orTZ）","4291427A3027","注射","３０ 分で",240,"BODY","mg",null,"d1",{"$f":"IFERROR(VLOOKUP(__レジメンマスタ[[#This Row],[YJコード①]],[1]!__前投薬リスト[#Data],4,FALSE)&\"\",\"\")","v":""},null,null,null,null,null,null,null,null,null,null,null,{"$f":"IFERROR(VLOOKUP(__レジメンマスタ[[#This Row],[YJコード②]],[1]!__前投薬リスト[#Data],4,FALSE)&\"\",\"\")","v":""},null,null,null,null,null,null,null,null,null,null,null,{"$f":"IFERROR(VLOOKUP(__レジメンマスタ[[#This Row],[YJコード③]],[1]!__前投薬リスト[#Data],4,FALSE)&\"\",\"\")","v":""},null,null,null,null,null,null,null,null,null,null,null,{"$f":"IFERROR(VLOOKUP(__レジメンマスタ[[#This Row],[YJコード④]],[1]!__前投薬リスト[#Data],4,FALSE)&\"\",\"\")","v":""},null,null,null,null,null,null,null,null,null,null,null,{"$f":"IFERROR(VLOOKUP(__レジメンマスタ[[#This Row],[YJコード⑤]],[1]!__前投薬リスト[#Data],4,FALSE)&\"\",\"\")","v":""},null,null,null,null,null,null,null,null,null,null,null,{"$f":"IFERROR(VLOOKUP(__レジメンマスタ[[#This Row],[YJコード⑥]],[1]!__前投薬リスト[#Data],4,FALSE)&\"\",\"\")","v":""},null,null,null,null,null,null,null,null,null,null,null,{"$f":"IFERROR(VLOOKUP(__レジメンマスタ[[#This Row],[YJコード⑦]],[1]!__前投薬リスト[#Data],4,FALSE)&\"\",\"\")","v":""}]
["RES0036-2","ニボルマブ（4週間毎）","　　　　　　　　　 W1　　　　　W2～4\nオプジーボ  ↓××××××  ×××××××  \n","28日","∞","非小細胞肺癌","呼吸器内科","オプジーボ","危 240mg/24mL ｵﾌﾟｼﾞｰﾎﾞ点滴静注（希釈液:生食orTZ）","4291427A3027","注射","３０ 分で",480,"BODY","mg",null,"d1",{"$f":"IFERROR(VLOOKUP(__レジメンマスタ[[#This Row],[YJコード①]],[1]!__前投薬リスト[#Data],4,FALSE)&\"\",\"\")","v":""},null,null,null,null,null,null,null,null,null,null,null,{"$f":"IFERROR(VLOOKUP(__レジメンマスタ[[#This Row],[YJコード②]],[1]!__前投薬リスト[#Data],4,FALSE)&\"\",\"\")","v":""},null,null,null,null,null,null,null,null,null,null,null,{"$f":"IFERROR(VLOOKUP(__レジメンマスタ[[#This Row],[YJコード③]],[1]!__前投薬リスト[#Data],4,FALSE)&\"\",\"\")","v":""},null,null,null,null,null,null,null,null,null,null,null,{"$f":"IFERROR(VLOOKUP(__レジメンマスタ[[#This Row],[YJコード④]],[1]!__前投薬リスト[#Data],4,FALSE)&\"\",\"\")","v":""},null,null,null,null,null,null,null,null,null,null,null,{"$f":"IFERROR(VLOOKUP(__レジメンマスタ[[#This Row],[YJコード⑤]],[1]!__前投薬リスト[#Data],4,FALSE)&\"\",\"\")","v":""},null,null,null,null,null,null,null,null,null,null,null,{"$f":"IFERROR(VLOOKUP(__レジメンマスタ[[#This Row],[YJコード⑥]],[1]!__前投薬リスト[#Data],4,FALSE)&\"\",\"\")","v":""},null,null,null,null,null,null,null,null,null,null,null,{"$f":"IFERROR(VLOOKUP(__レジメンマスタ[[#This Row],[YJコード⑦]],[1]!__前投薬リスト[#Data],4,FALSE)&\"\",\"\")","v":""}]
["RES0037","Rmab+Doc","　　　　　  Ｗ1 　　　　Ｗ2　　　　　 Ｗ3 \nDOC  ↓×××××× ××××××× ×××××××  \nRmab ↓×××××× ××××××× ×××××××\n","21日","∞","非小細胞肺癌","呼吸器内科","ドセタキセル","危〈毒〉80㎎/4mL ﾄﾞｾﾀｷｾﾙ点滴静注「ﾆﾌﾟﾛ」（先:ﾀｷｿﾃｰﾙ）","4240405A4109","注射","１ 時間で",60,"㎡","mg",null,"d1",{"$f":"IFERROR(VLOOKUP(__レジメンマスタ[[#This Row],[YJコード①]],[1]!__前投薬リスト[#Data],4,FALSE)&\"\",\"\")","v":""},null,"サイラムザ","危 500mg/50mL ｻｲﾗﾑｻﾞ点滴静注液（希釈液:生食）","4291429A2020","注射","６０ 分で",10,"kg","mg",null,"d1",{"$f":"IFERROR(VLOOKUP(__レジメンマスタ[[#This Row],[YJコード②]],[1]!__前投薬リスト[#Data],4,FALSE)&\"\",\"\")","v":"(抗ヒス)"},null,null,null,null,null,null,null,null,null,null,null,{"$f":"IFERROR(VLOOKUP(__レジメンマスタ[[#This Row],[YJコード③]],[1]!__前投薬リスト[#Data],4,FALSE)&\"\",\"\")","v":""},null,null,null,null,null,null,null,null,null,null,null,{"$f":"IFERROR(VLOOKUP(__レジメンマスタ[[#This Row],[YJコード④]],[1]!__前投薬リスト[#Data],4,FALSE)&\"\",\"\")","v":""},null,null,null,null,null,null,null,null,null,null,null,{"$f":"IFERROR(VLOOKUP(__レジメンマスタ[[#This Row],[YJコード⑤]],[1]!__前投薬リスト[#Data],4,FALSE)&\"\",\"\")","v":""},null,null,null,null,null,null,null,null,null,null,null,{"$f":"IFERROR(VLOOKUP(__レジメンマスタ[[#This Row],[YJコード⑥]],[1]!__前投薬リスト[#Data],4,FALSE)&\"\",\"\")","v":""},null,null,null,null,null,null,null,null,null,null,null,{"$f":"IFERROR(VLOOKUP(__レジメンマスタ[[#This Row],[YJコード⑦]],[1]!__前投薬リスト[#Data],4,FALSE)&\"\",\"\")","v":""}]
["RES0038","ペムブロリズマブ"," 3週間ごとに投与 \n             W1　　　　   W2～3   \nPmbro  ↓××××××  ××××××× ","21日","∞","非小細胞肺癌","呼吸器内科","キイトルーダ","危 ｷｲﾄﾙｰﾀﾞ点滴静注 100mg/4mL（希釈液:生食orTZ）","4291435A2025","注射","３０ 分で",200,"BODY","mg",null,"d1",{"$f":"IFERROR(VLOOKUP(__レジメンマスタ[[#This Row],[YJコード①]],[1]!__前投薬リスト[#Data],4,FALSE)&\"\",\"\")","v":""},null,null,null,null,null,null,null,null,null,null,null,{"$f":"IFERROR(VLOOKUP(__レジメンマスタ[[#This Row],[YJコード②]],[1]!__前投薬リスト[#Data],4,FALSE)&\"\",\"\")","v":""},null,null,null,null,null,null,null,null,null,null,null,{"$f":"IFERROR(VLOOKUP(__レジメンマスタ[[#This Row],[YJコード③]],[1]!__前投薬リスト[#Data],4,FALSE)&\"\",\"\")","v":""},null,null,null,null,null,null,null,null,null,null,null,{"$f":"IFERROR(VLOOKUP(__レジメンマスタ[[#This Row],[YJコード④]],[1]!__前投薬リスト[#Data],4,FALSE)&\"\",\"\")","v":""},null,null,null,null,null,null,null,null,null,null,null,{"$f":"IFERROR(VLOOKUP(__レジメンマスタ[[#This Row],[YJコード⑤]],[1]!__前投薬リスト[#Data],4,FALSE)&\"\",\"\")","v":""},null,null,null,null,null,null,null,null,null,null,null,{"$f":"IFERROR(VLOOKUP(__レジメンマスタ[[#This Row],[YJコード⑥]],[1]!__前投薬リスト[#Data],4,FALSE)&\"\",\"\")","v":""},null,null,null,null,null,null,null,null,null,null,null,{"$f":"IFERROR(VLOOKUP(__レジメンマスタ[[#This Row],[YJコード⑦]],[1]!__前投薬リスト[#Data],4,FALSE)&\"\",\"\")","v":""}]
["RES0038-02","ペムブロリズマブ（6週間毎）"," ６週間ごとに投与\n              W1　　　　   W2～6   \nPmbro  ↓××××××  ××××××× ","42日","∞","非小細胞肺癌","呼吸器内科","キイトルーダ","危 ｷｲﾄﾙｰﾀﾞ点滴静注 100mg/4mL（希釈液:生食orTZ）","4291435A2025","注射","３０ 分で",400,"BODY","mg",null,"d1",{"$f":"IFERROR(VLOOKUP(__レジメンマスタ[[#This Row],[YJコード①]],[1]!__前投薬リスト[#Data],4,FALSE)&\"\",\"\")","v":""},null,null,null,null,null,null,null,null,null,null,null,{"$f":"IFERROR(VLOOKUP(__レジメンマスタ[[#This Row],[YJコード②]],[1]!__前投薬リスト[#Data],4,FALSE)&\"\",\"\")","v":""},null,null,null,null,null,null,null,null,null,null,null,{"$f":"IFERROR(VLOOKUP(__レジメンマスタ[[#This Row],[YJコード③]],[1]!__前投薬リスト[#Data],4,FALSE)&\"\",\"\")","v":""},null,null,null,null,null,null,null,null,null,null,null,{"$f":"IFERROR(VLOOKUP(__レジメンマスタ[[#This Row],[YJコード④]],[1]!__前投薬リスト[#Data],4,FALSE)&\"\",\"\")","v":""},null,null,null,null,null,null,null,null,null,null,null,{"$f":"IFERROR(VLOOKUP(__レジメンマスタ[[#This Row],[YJコード⑤]],[1]!__前投薬リスト[#Data],4,FALSE)&\"\",\"\")","v":""},null,null,null,null,null,null,null,null,null,null,null,{"$f":"IFERROR(VLOOKUP(__レジメンマスタ[[#This Row],[YJコード⑥]],[1]!__前投薬リスト[#Data],4,FALSE)&\"\",\"\")","v":""},null,null,null,null,null,null,null,null,null,null,null,{"$f":"IFERROR(VLOOKUP(__レジメンマスタ[[#This Row],[YJコード⑦]],[1]!__前投薬リスト[#Data],4,FALSE)&\"\",\"\")","v":""}]
["RES0039","アテゾリズマブ"," 3週間ごとに投与\n　　　　　　　W1　　　　   W2～3   \nAtezo  ↓××××××  ××××××× ","21日","∞","非小細胞肺癌","呼吸器内科","テセントリク","危 ﾃｾﾝﾄﾘｸ点滴静注 1200mg/20mL（溶解液:生食）","4291441A1024","注射","６０ 分で　2回目以降～３０分まで短縮可能",1200,"BODY","mg",null,"d1",{"$f":"IFERROR(VLOOKUP(__レジメンマスタ[[#This Row],[YJコード①]],[1]!__前投薬リスト[#Data],4,FALSE)&\"\",\"\")","v":""},null,null,null,null,null,null,null,null,null,null,null,{"$f":"IFERROR(VLOOKUP(__レジメンマスタ[[#This Row],[YJコード②]],[1]!__前投薬リスト[#Data],4,FALSE)&\"\",\"\")","v":""},null,null,null,null,null,null,null,null,null,null,null,{"$f":"IFERROR(VLOOKUP(__レジメンマスタ[[#This Row],[YJコード③]],[1]!__前投薬リスト[#Data],4,FALSE)&\"\",\"\")","v":""},null,null,null,null,null,null,null,null,null,null,null,{"$f":"IFERROR(VLOOKUP(__レジメンマスタ[[#This Row],[YJコード④]],[1]!__前投薬リスト[#Data],4,FALSE)&\"\",\"\")","v":""},null,null,null,null,null,null,null,null,null,null,null,{"$f":"IFERROR(VLOOKUP(__レジメンマスタ[[#This Row],[YJコード⑤]],[1]!__前投薬リスト[#Data],4,FALSE)&\"\",\"\")","v":""},null,null,null,null,null,null,null,null,null,null,null,{"$f":"IFERROR(VLOOKUP(__レジメンマスタ[[#This Row],[YJコード⑥]],[1]!__前投薬リスト[#Data],4,FALSE)&\"\",\"\")","v":""},null,null,null,null,null,null,null,null,null,null,null,{"$f":"IFERROR(VLOOKUP(__レジメンマスタ[[#This Row],[YJコード⑦]],[1]!__前投薬リスト[#Data],4,FALSE)&\"\",\"\")","v":""}]
["RES0039-02","アテゾリズマブ（4週間毎）"," ４週間ごとに投与             \n   　　　　　　　　W1  　　  　 W2～W4  \nアテゾリズマブ  ↓××××××  ×××××××  \n","28日","∞","非小細胞肺癌","呼吸器外科","テセントリク","危 ﾃｾﾝﾄﾘｸ点滴静注 1200mg/20mL（溶解液:生食）",null,"注射","６０ 分で　2回目以降～３０分まで短縮可能",1680,"BODY","mg",null,"d1",null,null,null,null,null,null,null,null,null,null,null,null,null,null,null,null,null,null,null,null,null,null,null,null,null,null,null,null,null,null,null,null,null,null,null,null,null,null,null,null,null,null,null,null,null,null,null,null,null,null,null,null,null,null,null,null,null,null,null,null,null,null,null,null,null,null,null,null,null,null,null,null,{"$f":"IFERROR(VLOOKUP(__レジメンマスタ[[#This Row],[YJコード⑦]],[1]!__前投薬リスト[#Data],4,FALSE)&\"\",\"\")","v":""}]
["RES0040","デュルバルマブ（体重30kg以上）"," ４週間ごとに投与             \n  投与期間：12ヶ月→制限年月日を患者特記事項に記載\n   　　　　　　　　W1  　　  　 W2～W4  \nイミフィンジ  ↓××××××  ×××××××  \n","28日","1年間","非小細胞肺癌","呼吸器内科","イミフィンジ","危 500mg/10mL ｲﾐﾌｨﾝｼﾞ点滴静注（希釈液:生食orTZ）","4291443A2020","注射","６０ 分で",1500,"BODY","mg",null,"d1",{"$f":"IFERROR(VLOOKUP(__レジメンマスタ[[#This Row],[YJコード①]],[1]!__前投薬リスト[#Data],4,FALSE)&\"\",\"\")","v":""},null,null,null,null,null,null,null,null,null,null,null,{"$f":"IFERROR(VLOOKUP(__レジメンマスタ[[#This Row],[YJコード②]],[1]!__前投薬リスト[#Data],4,FALSE)&\"\",\"\")","v":""},null,null,null,null,null,null,null,null,null,null,null,{"$f":"IFERROR(VLOOKUP(__レジメンマスタ[[#This Row],[YJコード③]],[1]!__前投薬リスト[#Data],4,FALSE)&\"\",\"\")","v":""},null,null,null,null,null,null,null,null,null,null,null,{"$f":"IFERROR(VLOOKUP(__レジメンマスタ[[#This Row],[YJコード④]],[1]!__前投薬リスト[#Data],4,FALSE)&\"\",\"\")","v":""},null,null,null,null,null,null,null,null,null,null,null,{"$f":"IFERROR(VLOOKUP(__レジメンマスタ[[#This Row],[YJコード⑤]],[1]!__前投薬リスト[#Data],4,FALSE)&\"\",\"\")","v":""},null,null,null,null,null,null,null,null,null,null,null,{"$f":"IFERROR(VLOOKUP(__レジメンマスタ[[#This Row],[YJコード⑥]],[1]!__前投薬リスト[#Data],4,FALSE)&\"\",\"\")","v":""},null,null,null,null,null,null,null,null,null,null,null,{"$f":"IFERROR(VLOOKUP(__レジメンマスタ[[#This Row],[YJコード⑦]],[1]!__前投薬リスト[#Data],4,FALSE)&\"\",\"\")","v":""}]
["RES0040-2","デュルバルマブ（体重30kg以下）"," ４週間ごとに投与             \n  投与期間：12ヶ月→制限年月日を患者特記事項に記載\n   　　　　　　　　W1  　　  　 W2～W4  \nイミフィンジ  ↓××××××  ×××××××  \n","28日","1年間","非小細胞肺癌","呼吸器内科","イミフィンジ","危 500mg/10mL ｲﾐﾌｨﾝｼﾞ点滴静注（希釈液:生食orTZ）","4291443A2020","注射","６０ 分で",20,"kg","mg",null,"d1",{"$f":"IFERROR(VLOOKUP(__レジメンマスタ[[#This Row],[YJコード①]],[1]!__前投薬リスト[#Data],4,FALSE)&\"\",\"\")","v":""},null,null,null,null,null,null,null,null,null,null,null,{"$f":"IFERROR(VLOOKUP(__レジメンマスタ[[#This Row],[YJコード②]],[1]!__前投薬リスト[#Data],4,FALSE)&\"\",\"\")","v":""},null,null,null,null,null,null,null,null,null,null,null,{"$f":"IFERROR(VLOOKUP(__レジメンマスタ[[#This Row],[YJコード③]],[1]!__前投薬リスト[#Data],4,FALSE)&\"\",\"\")","v":""},null,null,null,null,null,null,null,null,null,null,null,{"$f":"IFERROR(VLOOKUP(__レジメンマスタ[[#This Row],[YJコード④]],[1]!__前投薬リスト[#Data],4,FALSE)&\"\",\"\")","v":""},null,null,null,null,null,null,null,null,null,null,null,{"$f":"IFERROR(VLOOKUP(__レジメンマスタ[[#This Row],[YJコード⑤]],[1]!__前投薬リスト[#Data],4,FALSE)&\"\",\"\")","v":""},null,null,null,null,null,null,null,null,null,null,null,{"$f":"IFERROR(VLOOKUP(__レジメンマスタ[[#This Row],[YJコード⑥]],[1]!__前投薬リスト[#Data],4,FALSE)&\"\",\"\")","v":""},null,null,null,null,null,null,null,null,null,null,null,{"$f":"IFERROR(VLOOKUP(__レジメンマスタ[[#This Row],[YJコード⑦]],[1]!__前投薬リスト[#Data],4,FALSE)&\"\",\"\")","v":""}]
["RES0041","ニボルマブ","　　　　　　　　　 W1　　　　　　　W2 \nオプジーボ  ↓××××××  ×××××××  \n","14日","∞","悪性胸膜中皮腫","呼吸器内科","オプジーボ","危 240mg/24mL ｵﾌﾟｼﾞｰﾎﾞ点滴静注（希釈液:生食orTZ）","4291427A3027","注射","３０ 分で",240,"BODY","mg",null,"d1",{"$f":"IFERROR(VLOOKUP(__レジメンマスタ[[#This Row],[YJコード①]],[1]!__前投薬リスト[#Data],4,FALSE)&\"\",\"\")","v":""},null,null,null,null,null,null,null,null,null,null,null,{"$f":"IFERROR(VLOOKUP(__レジメンマスタ[[#This Row],[YJコード②]],[1]!__前投薬リスト[#Data],4,FALSE)&\"\",\"\")","v":""},null,null,null,null,null,null,null,null,null,null,null,{"$f":"IFERROR(VLOOKUP(__レジメンマスタ[[#This Row],[YJコード③]],[1]!__前投薬リスト[#Data],4,FALSE)&\"\",\"\")","v":""},null,null,null,null,null,null,null,null,null,null,null,{"$f":"IFERROR(VLOOKUP(__レジメンマスタ[[#This Row],[YJコード④]],[1]!__前投薬リスト[#Data],4,FALSE)&\"\",\"\")","v":""},null,null,null,null,null,null,null,null,null,null,null,{"$f":"IFERROR(VLOOKUP(__レジメンマスタ[[#This Row],[YJコード⑤]],[1]!__前投薬リスト[#Data],4,FALSE)&\"\",\"\")","v":""},null,null,null,null,null,null,null,null,null,null,null,{"$f":"IFERROR(VLOOKUP(__レジメンマスタ[[#This Row],[YJコード⑥]],[1]!__前投薬リスト[#Data],4,FALSE)&\"\",\"\")","v":""},null,null,null,null,null,null,null,null,null,null,null,{"$f":"IFERROR(VLOOKUP(__レジメンマスタ[[#This Row],[YJコード⑦]],[1]!__前投薬リスト[#Data],4,FALSE)&\"\",\"\")","v":""}]
["RES0042","Pembro+CBDCA+n-PTX","　　　　　  Ｗ1 　　　　Ｗ2　　　　　    Ｗ3\nPmbro ↓×××××× ×××××××  ×××××××\nCBDCA ↓×××××× ×××××××  ××××××× \nn-PTX ↓×××××× ↓×××××× (↓)××××××\n★CBDCAはAUC5～6★\n5クール以降はキイトルーダ単独\n呼内：補正CCｒ算出法　sCr値＋0.2","21日","4クール","非小細胞肺癌","呼吸器内科","キイトルーダ","危 ｷｲﾄﾙｰﾀﾞ点滴静注 100mg/4mL（希釈液:生食orTZ）","4291435A2025","注射","３０ 分で",200,"BODY","mg",null,"d1",{"$f":"IFERROR(VLOOKUP(__レジメンマスタ[[#This Row],[YJコード①]],[1]!__前投薬リスト[#Data],4,FALSE)&\"\",\"\")","v":""},"∞","カルボプラチン","危〈毒〉ｶﾙﾎﾞﾌﾟﾗﾁﾝ点滴静注液「NK」150mg/15mL（先:ﾊﾟﾗﾌﾟﾗﾁﾝ）","4291403A2092","注射","１ 時間で",6,"AUC","mg",null,"d1",{"$f":"IFERROR(VLOOKUP(__レジメンマスタ[[#This Row],[YJコード②]],[1]!__前投薬リスト[#Data],4,FALSE)&\"\",\"\")","v":""},"4回","アブラキサン","危〈毒〉ｱﾌﾞﾗｷｻﾝ点滴静注用 100mg","4240409D1023","注射","３０ 分で",100,"㎡","mg",null,"d1,8,(15)",{"$f":"IFERROR(VLOOKUP(__レジメンマスタ[[#This Row],[YJコード③]],[1]!__前投薬リスト[#Data],4,FALSE)&\"\",\"\")","v":""},"4回",null,null,null,null,null,null,null,null,null,null,{"$f":"IFERROR(VLOOKUP(__レジメンマスタ[[#This Row],[YJコード④]],[1]!__前投薬リスト[#Data],4,FALSE)&\"\",\"\")","v":""},null,null,null,null,null,null,null,null,null,null,null,{"$f":"IFERROR(VLOOKUP(__レジメンマスタ[[#This Row],[YJコード⑤]],[1]!__前投薬リスト[#Data],4,FALSE)&\"\",\"\")","v":""},null,null,null,null,null,null,null,null,null,null,null,{"$f":"IFERROR(VLOOKUP(__レジメンマスタ[[#This Row],[YJコード⑥]],[1]!__前投薬リスト[#Data],4,FALSE)&\"\",\"\")","v":""},null,null,null,null,null,null,null,null,null,null,null,{"$f":"IFERROR(VLOOKUP(__レジメンマスタ[[#This Row],[YJコード⑦]],[1]!__前投薬リスト[#Data],4,FALSE)&\"\",\"\")","v":""}]
["RES0043-00","Atezo+Beva+CBDCA+PTX (PTX:175mg/㎡)","　　　　　  Ｗ1 　　　 　Ｗ2　　　　　   Ｗ3\nAtezo ↓×××××× ××××××× ×××××××\nBeva  ↓×××××× ××××××× ×××××××\nCBDCA ↓×××××× ××××××× ××××××× \nPTX   ↓×××××× ××××××× ×××××××\n★CBDCAはAUC5～6★\n７クール以降はAtezo+Bevaのみ継続。呼内：補正CCｒ算出法　sCr値＋0.2\n※PTX：アジア人では175mg/㎡でも可","21日","6クール","非小細胞肺癌","呼吸器内科","テセントリク","危 ﾃｾﾝﾄﾘｸ点滴静注 1200mg/20mL（溶解液:生食）","4291441A1024","注射","６０ 分で　2回目以降～３０分まで短縮可能",1200,"BODY","mg",null,"d1",{"$f":"IFERROR(VLOOKUP(__レジメンマスタ[[#This Row],[YJコード①]],[1]!__前投薬リスト[#Data],4,FALSE)&\"\",\"\")","v":""},"∞","ベバシズマブ","危 400mg/16mL ﾍﾞﾊﾞｼｽﾞﾏﾌﾞBS点滴静注「CTNK」（希釈液:生食）（先:ｱﾊﾞｽﾁﾝ）","4291463A2027","注射","初回９０分、２回目６０分、３回目～３０分",15,"kg","mg",null,"d1",{"$f":"IFERROR(VLOOKUP(__レジメンマスタ[[#This Row],[YJコード②]],[1]!__前投薬リスト[#Data],4,FALSE)&\"\",\"\")","v":""},"∞","カルボプラチン","危〈毒〉ｶﾙﾎﾞﾌﾟﾗﾁﾝ点滴静注液「NK」150mg/15mL（先:ﾊﾟﾗﾌﾟﾗﾁﾝ）","4291403A2092","注射","１ 時間で",6,"AUC","mg",null,"d1",{"$f":"IFERROR(VLOOKUP(__レジメンマスタ[[#This Row],[YJコード③]],[1]!__前投薬リスト[#Data],4,FALSE)&\"\",\"\")","v":""},"6回","パクリタキセル","危〈毒〉100mg/16.7mL ﾊﾟｸﾘﾀｷｾﾙ注「NK」（希釈液:生食orTZ）（先:ﾀｷｿｰﾙ）","4240406A2046","注射","１　時間で",175,"㎡","mg",null,"d1",{"$f":"IFERROR(VLOOKUP(__レジメンマスタ[[#This Row],[YJコード④]],[1]!__前投薬リスト[#Data],4,FALSE)&\"\",\"\")","v":"抗ヒス,H2B,ステ"},"6回",null,null,null,null,null,null,null,null,null,null,{"$f":"IFERROR(VLOOKUP(__レジメンマスタ[[#This Row],[YJコード⑤]],[1]!__前投薬リスト[#Data],4,FALSE)&\"\",\"\")","v":""},null,null,null,null,null,null,null,null,null,null,null,{"$f":"IFERROR(VLOOKUP(__レジメンマスタ[[#This Row],[YJコード⑥]],[1]!__前投薬リスト[#Data],4,FALSE)&\"\",\"\")","v":""},null,null,null,null,null,null,null,null,null,null,null,{"$f":"IFERROR(VLOOKUP(__レジメンマスタ[[#This Row],[YJコード⑦]],[1]!__前投薬リスト[#Data],4,FALSE)&\"\",\"\")","v":""}]
["RES0043-01","Atezo+Beva+CBDCA+PTX","　　　　　  Ｗ1 　　　 　Ｗ2　　　　　   Ｗ3\nAtezo ↓×××××× ××××××× ×××××××\nBeva  ↓×××××× ××××××× ×××××××\nCBDCA ↓×××××× ××××××× ××××××× \nPTX   ↓×××××× ××××××× ×××××××\n★CBDCAはAUC5～6★\n７クール以降はAtezo+Bevaのみ継続\n※PTX：アジア人では175mg/㎡でも可。呼内：補正CCｒ算出法　sCr値＋0.2","21日","6クール","非小細胞肺癌","呼吸器内科","テセントリク","危 ﾃｾﾝﾄﾘｸ点滴静注 1200mg/20mL（溶解液:生食）","4291441A1024","注射","６０ 分で　2回目以降～３０分まで短縮可能",1200,"BODY","mg",null,"d1",{"$f":"IFERROR(VLOOKUP(__レジメンマスタ[[#This Row],[YJコード①]],[1]!__前投薬リスト[#Data],4,FALSE)&\"\",\"\")","v":""},"∞","ベバシズマブ","危 400mg/16mL ﾍﾞﾊﾞｼｽﾞﾏﾌﾞBS点滴静注「CTNK」（希釈液:生食）（先:ｱﾊﾞｽﾁﾝ）","4291463A2027","注射","初回９０分、２回目６０分、３回目～３０分",15,"kg","mg",null,"d1",{"$f":"IFERROR(VLOOKUP(__レジメンマスタ[[#This Row],[YJコード②]],[1]!__前投薬リスト[#Data],4,FALSE)&\"\",\"\")","v":""},"∞","カルボプラチン","危〈毒〉ｶﾙﾎﾞﾌﾟﾗﾁﾝ点滴静注液「NK」150mg/15mL（先:ﾊﾟﾗﾌﾟﾗﾁﾝ）","4291403A2092","注射","１ 時間で",6,"AUC","mg",null,"d1",{"$f":"IFERROR(VLOOKUP(__レジメンマスタ[[#This Row],[YJコード③]],[1]!__前投薬リスト[#Data],4,FALSE)&\"\",\"\")","v":""},"6回","パクリタキセル","危〈毒〉100mg/16.7mL ﾊﾟｸﾘﾀｷｾﾙ注「NK」（希釈液:生食orTZ）（先:ﾀｷｿｰﾙ）","4240406A2046","注射","１　時間で",200,"㎡","mg",null,"d1",{"$f":"IFERROR(VLOOKUP(__レジメンマスタ[[#This Row],[YJコード④]],[1]!__前投薬リスト[#Data],4,FALSE)&\"\",\"\")","v":"抗ヒス,H2B,ステ"},"6回",null,null,null,null,null,null,null,null,null,null,{"$f":"IFERROR(VLOOKUP(__レジメンマスタ[[#This Row],[YJコード⑤]],[1]!__前投薬リスト[#Data],4,FALSE)&\"\",\"\")","v":""},null,null,null,null,null,null,null,null,null,null,null,{"$f":"IFERROR(VLOOKUP(__レジメンマスタ[[#This Row],[YJコード⑥]],[1]!__前投薬リスト[#Data],4,FALSE)&\"\",\"\")","v":""},null,null,null,null,null,null,null,null,null,null,null,{"$f":"IFERROR(VLOOKUP(__レジメンマスタ[[#This Row],[YJコード⑦]],[1]!__前投薬リスト[#Data],4,FALSE)&\"\",\"\")","v":""}]
["RES0044","Pembro+CBDCA+PEM","　　　　　  Ｗ1 　　　　Ｗ2　　　　　 Ｗ3\nPmbro ↓×××××× ××××××× ××××××× \nCBDCA ↓×××××× ××××××× ×××××××  \nPEM   ↓×××××× ××××××× ×××××××  \nｼｱﾉｺﾊﾞﾗﾐﾝ：PEM投与開始1週間前に投与、9週間毎（PEM投与に関係なく）\nパンビタン末：PEM投与開始1週間前より内服開始。PEM投与後3週間は継続\n5クール以降はPembro＋PEM維持療法へ。呼内：補正CCｒ算出法　sCr値＋0.2","21日","4クール","非小細胞肺癌","呼吸器内科","キイトルーダ","危 ｷｲﾄﾙｰﾀﾞ点滴静注 100mg/4mL（希釈液:生食orTZ）","4291435A2025","注射","３０ 分で",200,"BODY","mg",null,"d1",{"$f":"IFERROR(VLOOKUP(__レジメンマスタ[[#This Row],[YJコード①]],[1]!__前投薬リスト[#Data],4,FALSE)&\"\",\"\")","v":""},"∞","カルボプラチン","危〈毒〉ｶﾙﾎﾞﾌﾟﾗﾁﾝ点滴静注液「NK」150mg/15mL（先:ﾊﾟﾗﾌﾟﾗﾁﾝ）","4291403A2092","注射","１ 時間で",5,"AUC","mg",null,"d1",{"$f":"IFERROR(VLOOKUP(__レジメンマスタ[[#This Row],[YJコード②]],[1]!__前投薬リスト[#Data],4,FALSE)&\"\",\"\")","v":""},"4回","ペメトレキセド","危 800mg/32mL ﾍﾟﾒﾄﾚｷｾﾄﾞ点滴静注液「NK」（希釈液:生食）（先:ｱﾘﾑﾀ）","4229401A3026","注射","１０ 分で",500,"㎡","mg",null,"d1",{"$f":"IFERROR(VLOOKUP(__レジメンマスタ[[#This Row],[YJコード③]],[1]!__前投薬リスト[#Data],4,FALSE)&\"\",\"\")","v":"(ステ)"},"∞",null,null,null,null,null,null,null,null,null,null,{"$f":"IFERROR(VLOOKUP(__レジメンマスタ[[#This Row],[YJコード④]],[1]!__前投薬リスト[#Data],4,FALSE)&\"\",\"\")","v":""},null,null,null,null,null,null,null,null,null,null,null,{"$f":"IFERROR(VLOOKUP(__レジメンマスタ[[#This Row],[YJコード⑤]],[1]!__前投薬リスト[#Data],4,FALSE)&\"\",\"\")","v":""},null,null,null,null,null,null,null,null,null,null,null,{"$f":"IFERROR(VLOOKUP(__レジメンマスタ[[#This Row],[YJコード⑥]],[1]!__前投薬リスト[#Data],4,FALSE)&\"\",\"\")","v":""},null,null,null,null,null,null,null,null,null,null,null,{"$f":"IFERROR(VLOOKUP(__レジメンマスタ[[#This Row],[YJコード⑦]],[1]!__前投薬リスト[#Data],4,FALSE)&\"\",\"\")","v":""}]
["RES0045","CBDCA+ETP+Atezo","　　　　　  Ｗ1 　　　　Ｗ2　　　　　 Ｗ3\nAtezo ↓×××××× ××××××× ××××××× \nCBDCA ↓×××××× ××××××× ×××××××  \nETP   ↓↓↓×××× ××××××× ×××××××  \n5クール以降はAtezoのみ継続\n呼内：補正CCｒ算出法　sCr値＋0.2","21日","4クール","小細胞肺癌","呼吸器内科","テセントリク","危 ﾃｾﾝﾄﾘｸ点滴静注 1200mg/20mL（溶解液:生食）","4291441A1024","注射","６０ 分で",1200,"BODY","mg",null,"d1",{"$f":"IFERROR(VLOOKUP(__レジメンマスタ[[#This Row],[YJコード①]],[1]!__前投薬リスト[#Data],4,FALSE)&\"\",\"\")","v":""},null,"カルボプラチン","危〈毒〉ｶﾙﾎﾞﾌﾟﾗﾁﾝ点滴静注液「NK」150mg/15mL（先:ﾊﾟﾗﾌﾟﾗﾁﾝ）","4291403A2092","注射","１ 時間で",5,"AUC","mg",null,"d1",{"$f":"IFERROR(VLOOKUP(__レジメンマスタ[[#This Row],[YJコード②]],[1]!__前投薬リスト[#Data],4,FALSE)&\"\",\"\")","v":""},null,"エトポシド","危 ｴﾄﾎﾟｼﾄﾞ点滴静注液「ｻﾝﾄﾞ」100mg/5mL（先:ﾗｽﾃｯﾄ）","4240403A2069","注射","２ 時間で",100,"㎡","mg",null,"d1-3",{"$f":"IFERROR(VLOOKUP(__レジメンマスタ[[#This Row],[YJコード③]],[1]!__前投薬リスト[#Data],4,FALSE)&\"\",\"\")","v":""},null,null,null,null,null,null,null,null,null,null,null,{"$f":"IFERROR(VLOOKUP(__レジメンマスタ[[#This Row],[YJコード④]],[1]!__前投薬リスト[#Data],4,FALSE)&\"\",\"\")","v":""},null,null,null,null,null,null,null,null,null,null,null,{"$f":"IFERROR(VLOOKUP(__レジメンマスタ[[#This Row],[YJコード⑤]],[1]!__前投薬リスト[#Data],4,FALSE)&\"\",\"\")","v":""},null,null,null,null,null,null,null,null,null,null,null,{"$f":"IFERROR(VLOOKUP(__レジメンマスタ[[#This Row],[YJコード⑥]],[1]!__前投薬リスト[#Data],4,FALSE)&\"\",\"\")","v":""},null,null,null,null,null,null,null,null,null,null,null,{"$f":"IFERROR(VLOOKUP(__レジメンマスタ[[#This Row],[YJコード⑦]],[1]!__前投薬リスト[#Data],4,FALSE)&\"\",\"\")","v":""}]
["RES0045-2","CBDCA+ETP+Atezo（維持療法）"," 3週間ごとに投与\n　　　　　　　W1　　　　   W2～3   \nAtezo  ↓××××××  ××××××× ","21日","∞","非小細胞肺癌","呼吸器外科","テセントリク","危 ﾃｾﾝﾄﾘｸ点滴静注 1200mg/20mL（溶解液:生食）","4291441A1024","注射","６０ 分で",1200,"BODY","mg",null,"d1",null,null,null,null,null,null,null,null,null,null,null,null,null,null,null,null,null,null,null,null,null,null,null,null,null,null,null,null,null,null,null,null,null,null,null,null,null,null,null,null,null,null,null,null,null,null,null,null,null,null,null,null,null,null,null,null,null,null,null,null,null,null,null,null,null,null,null,null,null,null,null,null,{"$f":"IFERROR(VLOOKUP(__レジメンマスタ[[#This Row],[YJコード⑦]],[1]!__前投薬リスト[#Data],4,FALSE)&\"\",\"\")","v":""}]
["RES0045-3","CBDCA+ETP+Atezo（維持療法　4週間毎）"," ４週間ごとに投与             \n   　　　　　　　　W1  　　  　 W2～W4  \nアテゾリズマブ  ↓××××××  ×××××××  \n","28日","∞","非小細胞肺癌","呼吸器外科","テセントリク","危 ﾃｾﾝﾄﾘｸ点滴静注 1200mg/20mL（溶解液:生食）","4291441A1024","注射","６０ 分で",1680,"BODY","mg",null,"d1",null,null,null,null,null,null,null,null,null,null,null,null,null,null,null,null,null,null,null,null,null,null,null,null,null,null,null,null,null,null,null,null,null,null,null,null,null,null,null,null,null,null,null,null,null,null,null,null,null,null,null,null,null,null,null,null,null,null,null,null,null,null,null,null,null,null,null,null,null,null,null,null,{"$f":"IFERROR(VLOOKUP(__レジメンマスタ[[#This Row],[YJコード⑦]],[1]!__前投薬リスト[#Data],4,FALSE)&\"\",\"\")","v":""}]
["RES0046-01","Atezo+CBDCA+PEM","　　　　　  Ｗ1 　　　　Ｗ2　　　　　 Ｗ3\nAtezo ↓×××××× ××××××× ××××××× \nCBDCA ↓×××××× ××××××× ×××××××  \nPEM   ↓×××××× ××××××× ×××××××  \nｼｱﾉｺﾊﾞﾗﾐﾝ：PEM投与開始1週間前に投与、9週間毎（PEM投与に関係なく）\nパンビタン末：PEM投与開始1週間前より内服開始。PEM投与後3週間は継続\n5クール以降はPEM+Atezo維持療法へ","21日","4クール","非小細胞肺癌","呼吸器内科","テセントリク","危 ﾃｾﾝﾄﾘｸ点滴静注 1200mg/20mL（溶解液:生食）","4291441A1024","注射","６０ 分で",1200,"BODY","mg",null,"d1",{"$f":"IFERROR(VLOOKUP(__レジメンマスタ[[#This Row],[YJコード①]],[1]!__前投薬リスト[#Data],4,FALSE)&\"\",\"\")","v":""},"∞","ペメトレキセド","危 500mg/20mL ﾍﾟﾒﾄﾚｷｾﾄﾞ点滴静注液「NK」（希釈液:生食）（先:ｱﾘﾑﾀ）","4229401A2020","注射","１０ 分で",500,"㎡","mg",null,"d1",{"$f":"IFERROR(VLOOKUP(__レジメンマスタ[[#This Row],[YJコード②]],[1]!__前投薬リスト[#Data],4,FALSE)&\"\",\"\")","v":"(ステ)"},"∞","カルボプラチン","危〈毒〉ｶﾙﾎﾞﾌﾟﾗﾁﾝ点滴静注液「NK」150mg/15mL（先:ﾊﾟﾗﾌﾟﾗﾁﾝ）","4291403A2092","注射","１ 時間で",6,"AUC","mg",null,"d1",{"$f":"IFERROR(VLOOKUP(__レジメンマスタ[[#This Row],[YJコード③]],[1]!__前投薬リスト[#Data],4,FALSE)&\"\",\"\")","v":""},"4回",null,null,null,null,null,null,null,null,null,null,{"$f":"IFERROR(VLOOKUP(__レジメンマスタ[[#This Row],[YJコード④]],[1]!__前投薬リスト[#Data],4,FALSE)&\"\",\"\")","v":""},null,null,null,null,null,null,null,null,null,null,null,{"$f":"IFERROR(VLOOKUP(__レジメンマスタ[[#This Row],[YJコード⑤]],[1]!__前投薬リスト[#Data],4,FALSE)&\"\",\"\")","v":""},null,null,null,null,null,null,null,null,null,null,null,{"$f":"IFERROR(VLOOKUP(__レジメンマスタ[[#This Row],[YJコード⑥]],[1]!__前投薬リスト[#Data],4,FALSE)&\"\",\"\")","v":""},null,null,null,null,null,null,null,null,null,null,null,{"$f":"IFERROR(VLOOKUP(__レジメンマスタ[[#This Row],[YJコード⑦]],[1]!__前投薬リスト[#Data],4,FALSE)&\"\",\"\")","v":""}]
["RES0047","Atezo+CBDCA+n-PTX","　　　　　  Ｗ1 　　　　Ｗ2　　　　　    Ｗ3\nAtezo ↓×××××× ×××××××  ××××××× \nCBDCA ↓×××××× ×××××××  ×××××××  \nn-PTX ↓×××××× ↓×××××× (↓)××××××  \n4～6クールまで、以降はAtezo維持療法へ\n呼内：補正CCｒ算出法　sCr値＋0.2","21日","4-6クール","非小細胞肺癌","呼吸器内科","テセントリク","危 ﾃｾﾝﾄﾘｸ点滴静注 1200mg/20mL（溶解液:生食）","4291441A1024","注射","初回６０分、２回目以降３０分まで短縮可",1200,"BODY","mg",null,"d1",{"$f":"IFERROR(VLOOKUP(__レジメンマスタ[[#This Row],[YJコード①]],[1]!__前投薬リスト[#Data],4,FALSE)&\"\",\"\")","v":""},"∞","カルボプラチン","危〈毒〉ｶﾙﾎﾞﾌﾟﾗﾁﾝ点滴静注液「NK」150mg/15mL（先:ﾊﾟﾗﾌﾟﾗﾁﾝ）","4291403A2092","注射","１ 時間で",6,"AUC","mg",null,"d1",{"$f":"IFERROR(VLOOKUP(__レジメンマスタ[[#This Row],[YJコード②]],[1]!__前投薬リスト[#Data],4,FALSE)&\"\",\"\")","v":""},"4-6回","アブラキサン","危〈毒〉ｱﾌﾞﾗｷｻﾝ点滴静注用 100mg","4240409D1023","注射","３０ 分で",100,"㎡","mg",null,"d1,8,(15)",{"$f":"IFERROR(VLOOKUP(__レジメンマスタ[[#This Row],[YJコード③]],[1]!__前投薬リスト[#Data],4,FALSE)&\"\",\"\")","v":""},"4-6クール",null,null,null,null,null,null,null,null,null,null,{"$f":"IFERROR(VLOOKUP(__レジメンマスタ[[#This Row],[YJコード④]],[1]!__前投薬リスト[#Data],4,FALSE)&\"\",\"\")","v":""},null,null,null,null,null,null,null,null,null,null,null,{"$f":"IFERROR(VLOOKUP(__レジメンマスタ[[#This Row],[YJコード⑤]],[1]!__前投薬リスト[#Data],4,FALSE)&\"\",\"\")","v":""},null,null,null,null,null,null,null,null,null,null,null,{"$f":"IFERROR(VLOOKUP(__レジメンマスタ[[#This Row],[YJコード⑥]],[1]!__前投薬リスト[#Data],4,FALSE)&\"\",\"\")","v":""},null,null,null,null,null,null,null,null,null,null,null,{"$f":"IFERROR(VLOOKUP(__レジメンマスタ[[#This Row],[YJコード⑦]],[1]!__前投薬リスト[#Data],4,FALSE)&\"\",\"\")","v":""}]
["RES0047-2","Atezo+CBDCA+n-PTX（維持療法）"," 3週間ごとに投与             \n   　　　　　　　　W1  　　  　 W2～W3  \nアテゾリズマブ  ↓××××××  ×××××××  \n","21日","∞","非小細胞肺癌","呼吸器内科","テセントリク","危 ﾃｾﾝﾄﾘｸ点滴静注 1200mg/20mL（溶解液:生食）",null,"注射","初回６０分、２回目以降３０分まで短縮可",1200,"BODY","mg",null,"d1",null,"∞",null,null,null,null,null,null,null,null,null,null,null,null,null,null,null,null,null,null,null,null,null,null,null,null,null,null,null,null,null,null,null,null,null,null,null,null,null,null,null,null,null,null,null,null,null,null,null,null,null,null,null,null,null,null,null,null,null,null,null,null,null,null,null,null,null,null,null,null,null,null,{"$f":"IFERROR(VLOOKUP(__レジメンマスタ[[#This Row],[YJコード⑦]],[1]!__前投薬リスト[#Data],4,FALSE)&\"\",\"\")","v":""}]
["RES0047-3","Atezo+CBDCA+n-PTX（維持療法　4週間毎）"," ４週間ごとに投与             \n   　　　　　　　　W1  　　  　 W2～W4  \nアテゾリズマブ  ↓××××××  ×××××××  \n","28日","∞","非小細胞肺癌","呼吸器内科","テセントリク","危 ﾃｾﾝﾄﾘｸ点滴静注 1200mg/20mL（溶解液:生食）",null,"注射","初回６０分、２回目以降３０分まで短縮可",1680,"BODY","mg",null,"d1",null,"∞",null,null,null,null,null,null,null,null,null,null,null,null,null,null,null,null,null,null,null,null,null,null,null,null,null,null,null,null,null,null,null,null,null,null,null,null,null,null,null,null,null,null,null,null,null,null,null,null,null,null,null,null,null,null,null,null,null,null,null,null,null,null,null,null,null,null,null,null,null,null,{"$f":"IFERROR(VLOOKUP(__レジメンマスタ[[#This Row],[YJコード⑦]],[1]!__前投薬リスト[#Data],4,FALSE)&\"\",\"\")","v":""}]
["RES0048-11","デュルバルマブ＋CDDP＋ETP","　　　　　 Ｗ1 　　　　Ｗ2　　　　　    Ｗ3\nDUR 　↓×××××× ×××××××  ××××××× \nCDDP　↓×××××× ×××××××  ×××××××  \nETP 　↓↓↓×××× ×××××××  ×××××××  \n4クールまで、5クール以降はイミフィンジのみ4週ごと維持療法へ\n","21日\n→28日","4クール","小細胞肺癌","呼吸器内科","イミフィンジ","危 500mg/10mL ｲﾐﾌｨﾝｼﾞ点滴静注（希釈液:生食orTZ）","4291443A2020","注射","１ 時間で",1500,"BODY","mg",null,"d1",{"$f":"IFERROR(VLOOKUP(__レジメンマスタ[[#This Row],[YJコード①]],[1]!__前投薬リスト[#Data],4,FALSE)&\"\",\"\")","v":""},"∞","シスプラチン","危〈毒〉50mg/100mL ｼｽﾌﾟﾗﾁﾝ点滴静注「ﾏﾙｺ」（先:ﾗﾝﾀﾞ）","4291401A3111","注射",null,80,"㎡","mg",null,"d1",{"$f":"IFERROR(VLOOKUP(__レジメンマスタ[[#This Row],[YJコード②]],[1]!__前投薬リスト[#Data],4,FALSE)&\"\",\"\")","v":""},"4回","エトポシド","危 ｴﾄﾎﾟｼﾄﾞ点滴静注液「ｻﾝﾄﾞ」100mg/5mL（先:ﾗｽﾃｯﾄ）","4240403A2069","注射","２ 時間で",100,"㎡","mg",null,"d1-3",{"$f":"IFERROR(VLOOKUP(__レジメンマスタ[[#This Row],[YJコード③]],[1]!__前投薬リスト[#Data],4,FALSE)&\"\",\"\")","v":""},"4クール",null,null,null,null,null,null,null,null,null,null,{"$f":"IFERROR(VLOOKUP(__レジメンマスタ[[#This Row],[YJコード④]],[1]!__前投薬リスト[#Data],4,FALSE)&\"\",\"\")","v":""},null,null,null,null,null,null,null,null,null,null,null,{"$f":"IFERROR(VLOOKUP(__レジメンマスタ[[#This Row],[YJコード⑤]],[1]!__前投薬リスト[#Data],4,FALSE)&\"\",\"\")","v":""},null,null,null,null,null,null,null,null,null,null,null,{"$f":"IFERROR(VLOOKUP(__レジメンマスタ[[#This Row],[YJコード⑥]],[1]!__前投薬リスト[#Data],4,FALSE)&\"\",\"\")","v":""},null,null,null,null,null,null,null,null,null,null,null,{"$f":"IFERROR(VLOOKUP(__レジメンマスタ[[#This Row],[YJコード⑦]],[1]!__前投薬リスト[#Data],4,FALSE)&\"\",\"\")","v":""}]
["RES0048-12","デュルバルマブ＋CDDP＋ETP（体重30kg以下)","　　　　　 Ｗ1 　　　　Ｗ2　　　　　    Ｗ3\nDUR 　↓×××××× ×××××××  ××××××× \nCDDP　↓×××××× ×××××××  ×××××××  \nETP 　↓↓↓×××× ×××××××  ×××××××  \n4クールまで、5クール以降はイミフィンジのみ4週ごと維持療法へ\n","21日\n→28日","4クール","小細胞肺癌","呼吸器内科","イミフィンジ","危 500mg/10mL ｲﾐﾌｨﾝｼﾞ点滴静注（希釈液:生食orTZ）","4291443A2020","注射","１ 時間で",20,"kg","mg",null,"d1",{"$f":"IFERROR(VLOOKUP(__レジメンマスタ[[#This Row],[YJコード①]],[1]!__前投薬リスト[#Data],4,FALSE)&\"\",\"\")","v":""},"∞","シスプラチン","危〈毒〉50mg/100mL ｼｽﾌﾟﾗﾁﾝ点滴静注「ﾏﾙｺ」（先:ﾗﾝﾀﾞ）","4291401A3111","注射",null,80,"㎡","mg",null,"d1",{"$f":"IFERROR(VLOOKUP(__レジメンマスタ[[#This Row],[YJコード②]],[1]!__前投薬リスト[#Data],4,FALSE)&\"\",\"\")","v":""},"4回","エトポシド","危 ｴﾄﾎﾟｼﾄﾞ点滴静注液「ｻﾝﾄﾞ」100mg/5mL（先:ﾗｽﾃｯﾄ）","4240403A2069","注射","２ 時間で",100,"㎡","mg",null,"d1-3",{"$f":"IFERROR(VLOOKUP(__レジメンマスタ[[#This Row],[YJコード③]],[1]!__前投薬リスト[#Data],4,FALSE)&\"\",\"\")","v":""},"4クール",null,null,null,null,null,null,null,null,null,null,{"$f":"IFERROR(VLOOKUP(__レジメンマスタ[[#This Row],[YJコード④]],[1]!__前投薬リスト[#Data],4,FALSE)&\"\",\"\")","v":""},null,null,null,null,null,null,null,null,null,null,null,{"$f":"IFERROR(VLOOKUP(__レジメンマスタ[[#This Row],[YJコード⑤]],[1]!__前投薬リスト[#Data],4,FALSE)&\"\",\"\")","v":""},null,null,null,null,null,null,null,null,null,null,null,{"$f":"IFERROR(VLOOKUP(__レジメンマスタ[[#This Row],[YJコード⑥]],[1]!__前投薬リスト[#Data],4,FALSE)&\"\",\"\")","v":""},null,null,null,null,null,null,null,null,null,null,null,{"$f":"IFERROR(VLOOKUP(__レジメンマスタ[[#This Row],[YJコード⑦]],[1]!__前投薬リスト[#Data],4,FALSE)&\"\",\"\")","v":""}]
["RES0049-11","CBDCA+ETP+デュルバルマブ","　　　　　 Ｗ1 　　　　Ｗ2　　　　　    Ｗ3\nDUR  　↓×××××× ×××××××  ××××××× \nCBDCA　↓×××××× ×××××××  ×××××××  \nETP  　↓↓↓×××× ×××××××  ×××××××\n★CBDCAはAUC5～6★  \n4クールまで、5クール以降はイミフィンジのみ4週ごと維持療法へ\n呼内：補正CCｒ算出法　sCr値＋0.2\n","21日\n→28日","4クール","小細胞肺癌","呼吸器内科","イミフィンジ","危 500mg/10mL ｲﾐﾌｨﾝｼﾞ点滴静注（希釈液:生食orTZ）","4291443A2020","注射","１ 時間で",1500,"BODY","mg",null,"d1",{"$f":"IFERROR(VLOOKUP(__レジメンマスタ[[#This Row],[YJコード①]],[1]!__前投薬リスト[#Data],4,FALSE)&\"\",\"\")","v":""},"∞","カルボプラチン","危〈毒〉ｶﾙﾎﾞﾌﾟﾗﾁﾝ点滴静注液「NK」150mg/15mL（先:ﾊﾟﾗﾌﾟﾗﾁﾝ）","4291403A2092","注射","１ 時間で",6,"AUC","mg",null,"d1",{"$f":"IFERROR(VLOOKUP(__レジメンマスタ[[#This Row],[YJコード②]],[1]!__前投薬リスト[#Data],4,FALSE)&\"\",\"\")","v":""},"4回","エトポシド","危 ｴﾄﾎﾟｼﾄﾞ点滴静注液「ｻﾝﾄﾞ」100mg/5mL（先:ﾗｽﾃｯﾄ）","4240403A2069","注射","２ 時間で",100,"㎡","mg",null,"d1-3",{"$f":"IFERROR(VLOOKUP(__レジメンマスタ[[#This Row],[YJコード③]],[1]!__前投薬リスト[#Data],4,FALSE)&\"\",\"\")","v":""},"4クール",null,null,null,null,null,null,null,null,null,null,{"$f":"IFERROR(VLOOKUP(__レジメンマスタ[[#This Row],[YJコード④]],[1]!__前投薬リスト[#Data],4,FALSE)&\"\",\"\")","v":""},null,null,null,null,null,null,null,null,null,null,null,{"$f":"IFERROR(VLOOKUP(__レジメンマスタ[[#This Row],[YJコード⑤]],[1]!__前投薬リスト[#Data],4,FALSE)&\"\",\"\")","v":""},null,null,null,null,null,null,null,null,null,null,null,{"$f":"IFERROR(VLOOKUP(__レジメンマスタ[[#This Row],[YJコード⑥]],[1]!__前投薬リスト[#Data],4,FALSE)&\"\",\"\")","v":""},null,null,null,null,null,null,null,null,null,null,null,{"$f":"IFERROR(VLOOKUP(__レジメンマスタ[[#This Row],[YJコード⑦]],[1]!__前投薬リスト[#Data],4,FALSE)&\"\",\"\")","v":""}]
["RES0049-12","CBDCA+ETP+デュルバルマブ（体重30kg以下）","　　　　　 Ｗ1 　　　　Ｗ2　　　　　    Ｗ3\nDUR 　↓×××××× ×××××××  ××××××× \nCDBCA ↓×××××× ×××××××  ×××××××  \nETP 　↓↓↓×××× ×××××××  ×××××××\n★CBDCAはAUC5～6★   \n4クールまで、5クール以降はイミフィンジのみ4週ごと維持療法へ\n呼内：補正CCｒ算出法　sCr値＋0.2","21日\n→28日","4クール","小細胞肺癌","呼吸器内科","イミフィンジ","危 500mg/10mL ｲﾐﾌｨﾝｼﾞ点滴静注（希釈液:生食orTZ）","4291443A2020","注射","１ 時間で",20,"kg","mg",null,"d1",{"$f":"IFERROR(VLOOKUP(__レジメンマスタ[[#This Row],[YJコード①]],[1]!__前投薬リスト[#Data],4,FALSE)&\"\",\"\")","v":""},"∞","カルボプラチン","危〈毒〉ｶﾙﾎﾞﾌﾟﾗﾁﾝ点滴静注液「NK」150mg/15mL（先:ﾊﾟﾗﾌﾟﾗﾁﾝ）","4291403A2092","注射","１ 時間で",6,"AUC","mg",null,"d1",{"$f":"IFERROR(VLOOKUP(__レジメンマスタ[[#This Row],[YJコード②]],[1]!__前投薬リスト[#Data],4,FALSE)&\"\",\"\")","v":""},"4回","エトポシド","危 ｴﾄﾎﾟｼﾄﾞ点滴静注液「ｻﾝﾄﾞ」100mg/5mL（先:ﾗｽﾃｯﾄ）","4240403A2069","注射","２ 時間で",100,"㎡","mg",null,"d1-3",{"$f":"IFERROR(VLOOKUP(__レジメンマスタ[[#This Row],[YJコード③]],[1]!__前投薬リスト[#Data],4,FALSE)&\"\",\"\")","v":""},"4クール",null,null,null,null,null,null,null,null,null,null,{"$f":"IFERROR(VLOOKUP(__レジメンマスタ[[#This Row],[YJコード④]],[1]!__前投薬リスト[#Data],4,FALSE)&\"\",\"\")","v":""},null,null,null,null,null,null,null,null,null,null,null,{"$f":"IFERROR(VLOOKUP(__レジメンマスタ[[#This Row],[YJコード⑤]],[1]!__前投薬リスト[#Data],4,FALSE)&\"\",\"\")","v":""},null,null,null,null,null,null,null,null,null,null,null,{"$f":"IFERROR(VLOOKUP(__レジメンマスタ[[#This Row],[YJコード⑥]],[1]!__前投薬リスト[#Data],4,FALSE)&\"\",\"\")","v":""},null,null,null,null,null,null,null,null,null,null,null,{"$f":"IFERROR(VLOOKUP(__レジメンマスタ[[#This Row],[YJコード⑦]],[1]!__前投薬リスト[#Data],4,FALSE)&\"\",\"\")","v":""}]
["RES0050-01","Rmab＋ゲフィチニブ","※ゲフィチニブ250mg1日1回連日内服              \n ２週間ごとに投与\n　　　　　　　　　　W1　　　　　　W2\nRmab 　　　　 ↓×××××× ××××××× \nゲフィチニブ  ↓↓↓↓↓↓↓ ↓↓↓↓↓↓↓ ","14日","∞","非小細胞肺癌","呼吸器内科","サイラムザ","危 500mg/50mL ｻｲﾗﾑｻﾞ点滴静注液（希釈液:生食）","4291429A2020","注射",null,10,"kg","mg",null,"d1",{"$f":"IFERROR(VLOOKUP(__レジメンマスタ[[#This Row],[YJコード①]],[1]!__前投薬リスト[#Data],4,FALSE)&\"\",\"\")","v":"(抗ヒス)"},null,"ゲフィチニブ",null,"4291013F1035","経口",null,250,"BODY","mg",null,"連日",{"$f":"IFERROR(VLOOKUP(__レジメンマスタ[[#This Row],[YJコード②]],[1]!__前投薬リスト[#Data],4,FALSE)&\"\",\"\")","v":""},null,null,null,null,null,null,null,null,null,null,null,{"$f":"IFERROR(VLOOKUP(__レジメンマスタ[[#This Row],[YJコード③]],[1]!__前投薬リスト[#Data],4,FALSE)&\"\",\"\")","v":""},null,null,null,null,null,null,null,null,null,null,null,{"$f":"IFERROR(VLOOKUP(__レジメンマスタ[[#This Row],[YJコード④]],[1]!__前投薬リスト[#Data],4,FALSE)&\"\",\"\")","v":""},null,null,null,null,null,null,null,null,null,null,null,{"$f":"IFERROR(VLOOKUP(__レジメンマスタ[[#This Row],[YJコード⑤]],[1]!__前投薬リスト[#Data],4,FALSE)&\"\",\"\")","v":""},null,null,null,null,null,null,null,null,null,null,null,{"$f":"IFERROR(VLOOKUP(__レジメンマスタ[[#This Row],[YJコード⑥]],[1]!__前投薬リスト[#Data],4,FALSE)&\"\",\"\")","v":""},null,null,null,null,null,null,null,null,null,null,null,{"$f":"IFERROR(VLOOKUP(__レジメンマスタ[[#This Row],[YJコード⑦]],[1]!__前投薬リスト[#Data],4,FALSE)&\"\",\"\")","v":""}]
["RES0051-00","Beva＋ｴﾙﾛﾁﾆﾌﾞ","※エルロチニブ150mg1日1回(食事の1時間以上前または食後2時間以降)連日内服              \n Beva３週間ごとに投与\n　　　　　　　　　　W1　　　　　　W2～3\nBeva 　　　　 ↓×××××× ××××××× \nエルロチニブ  ↓↓↓↓↓↓↓ ↓↓↓↓↓↓↓ ","21日","∞","非小細胞肺癌","呼吸器内科","ベバシズマブ","危 400mg/16mL ﾍﾞﾊﾞｼｽﾞﾏﾌﾞBS点滴静注「CTNK」（希釈液:生食）（先:ｱﾊﾞｽﾁﾝ）","4291463A2027","注射","初回９０分、２回目６０分、３回目～３０分",15,"kg","mg",null,"d1",{"$f":"IFERROR(VLOOKUP(__レジメンマスタ[[#This Row],[YJコード①]],[1]!__前投薬リスト[#Data],4,FALSE)&\"\",\"\")","v":""},"∞","エルロチニブ",null,"4291016F3031","経口",null,150,"BODY","mg",null,"連日",{"$f":"IFERROR(VLOOKUP(__レジメンマスタ[[#This Row],[YJコード②]],[1]!__前投薬リスト[#Data],4,FALSE)&\"\",\"\")","v":""},null,null,null,null,null,null,null,null,null,null,null,{"$f":"IFERROR(VLOOKUP(__レジメンマスタ[[#This Row],[YJコード③]],[1]!__前投薬リスト[#Data],4,FALSE)&\"\",\"\")","v":""},null,null,null,null,null,null,null,null,null,null,null,{"$f":"IFERROR(VLOOKUP(__レジメンマスタ[[#This Row],[YJコード④]],[1]!__前投薬リスト[#Data],4,FALSE)&\"\",\"\")","v":""},null,null,null,null,null,null,null,null,null,null,null,{"$f":"IFERROR(VLOOKUP(__レジメンマスタ[[#This Row],[YJコード⑤]],[1]!__前投薬リスト[#Data],4,FALSE)&\"\",\"\")","v":""},null,null,null,null,null,null,null,null,null,null,null,{"$f":"IFERROR(VLOOKUP(__レジメンマスタ[[#This Row],[YJコード⑥]],[1]!__前投薬リスト[#Data],4,FALSE)&\"\",\"\")","v":""},null,null,null,null,null,null,null,null,null,null,null,{"$f":"IFERROR(VLOOKUP(__レジメンマスタ[[#This Row],[YJコード⑦]],[1]!__前投薬リスト[#Data],4,FALSE)&\"\",\"\")","v":""}]
["RES0051-01","Rmab＋ｴﾙﾛﾁﾆﾌﾞ","※エルロチニブ150mg1日1回(食事の1時間以上前または食後2時間以降)連日内服            \n ２週間ごとに投与\n　　　　　　　　　　W1　　　　　　W2\nRmab 　　　　 ↓×××××× ××××××× \nエルロチニブ  ↓↓↓↓↓↓↓ ↓↓↓↓↓↓↓ ","14日","∞","非小細胞肺癌","呼吸器内科","サイラムザ","危 500mg/50mL ｻｲﾗﾑｻﾞ点滴静注液（希釈液:生食）","4291429A2020","注射",null,10,"kg","mg",null,"d1",{"$f":"IFERROR(VLOOKUP(__レジメンマスタ[[#This Row],[YJコード①]],[1]!__前投薬リスト[#Data],4,FALSE)&\"\",\"\")","v":"(抗ヒス)"},null,"エルロチニブ",null,"4291016F3031","経口",null,150,"BODY","mg",null,"連日",{"$f":"IFERROR(VLOOKUP(__レジメンマスタ[[#This Row],[YJコード②]],[1]!__前投薬リスト[#Data],4,FALSE)&\"\",\"\")","v":""},null,null,null,null,null,null,null,null,null,null,null,{"$f":"IFERROR(VLOOKUP(__レジメンマスタ[[#This Row],[YJコード③]],[1]!__前投薬リスト[#Data],4,FALSE)&\"\",\"\")","v":""},null,null,null,null,null,null,null,null,null,null,null,{"$f":"IFERROR(VLOOKUP(__レジメンマスタ[[#This Row],[YJコード④]],[1]!__前投薬リスト[#Data],4,FALSE)&\"\",\"\")","v":""},null,null,null,null,null,null,null,null,null,null,null,{"$f":"IFERROR(VLOOKUP(__レジメンマスタ[[#This Row],[YJコード⑤]],[1]!__前投薬リスト[#Data],4,FALSE)&\"\",\"\")","v":""},null,null,null,null,null,null,null,null,null,null,null,{"$f":"IFERROR(VLOOKUP(__レジメンマスタ[[#This Row],[YJコード⑥]],[1]!__前投薬リスト[#Data],4,FALSE)&\"\",\"\")","v":""},null,null,null,null,null,null,null,null,null,null,null,{"$f":"IFERROR(VLOOKUP(__レジメンマスタ[[#This Row],[YJコード⑦]],[1]!__前投薬リスト[#Data],4,FALSE)&\"\",\"\")","v":""}]
["RES0052","ニボルマブ＋イピリムマブ","　　　　　　 W1　　　　W2～3　　　　　　W4　　　　　W5～6\nIpi　↓×××××× ××××××× ××××××× ××××××× \nNivo ↓×××××× ××××××× ↓×××××× ×××××××  \nヤーボイ：6週間毎　オプジーボ：3週間毎","42日","∞","非小細胞肺癌","呼吸器内科","ヤーボイ","危 臨）50mg/10mL ﾔｰﾎﾞｲ点滴静注液","4291430A1026","注射","３０ 分で",1,"kg","mg",null,"d1",{"$f":"IFERROR(VLOOKUP(__レジメンマスタ[[#This Row],[YJコード①]],[1]!__前投薬リスト[#Data],4,FALSE)&\"\",\"\")","v":""},"4コース","ニボルマブ","危 240mg/24mL ｵﾌﾟｼﾞｰﾎﾞ点滴静注（希釈液:生食orTZ）","4291427A3027","注射","３０ 分で",360,"BODY","mg","最小","d1,22",{"$f":"IFERROR(VLOOKUP(__レジメンマスタ[[#This Row],[YJコード②]],[1]!__前投薬リスト[#Data],4,FALSE)&\"\",\"\")","v":""},"∞",null,null,null,null,null,null,null,null,null,null,{"$f":"IFERROR(VLOOKUP(__レジメンマスタ[[#This Row],[YJコード③]],[1]!__前投薬リスト[#Data],4,FALSE)&\"\",\"\")","v":""},null,null,null,null,null,null,null,null,null,null,null,{"$f":"IFERROR(VLOOKUP(__レジメンマスタ[[#This Row],[YJコード④]],[1]!__前投薬リスト[#Data],4,FALSE)&\"\",\"\")","v":""},null,null,null,null,null,null,null,null,null,null,null,{"$f":"IFERROR(VLOOKUP(__レジメンマスタ[[#This Row],[YJコード⑤]],[1]!__前投薬リスト[#Data],4,FALSE)&\"\",\"\")","v":""},null,null,null,null,null,null,null,null,null,null,null,{"$f":"IFERROR(VLOOKUP(__レジメンマスタ[[#This Row],[YJコード⑥]],[1]!__前投薬リスト[#Data],4,FALSE)&\"\",\"\")","v":""},null,null,null,null,null,null,null,null,null,null,null,{"$f":"IFERROR(VLOOKUP(__レジメンマスタ[[#This Row],[YJコード⑦]],[1]!__前投薬リスト[#Data],4,FALSE)&\"\",\"\")","v":""}]
["RES0053-01","CDDP+GEM+ネシツムマブ","　　　　　 　 Ｗ1 　　　　　　Ｗ2　　　　  Ｗ3\nﾎﾟｰﾄﾗｰｻﾞ↓×××××× ↓××××××  ××××××× \nCDDP　　↓×××××× ×××××××  ×××××××  \nGEM　　 ↓×××××× ↓××××××  ×××××××  \n4クールまで、5ｸｰﾙ以降はﾎﾟｰﾄﾗｰｻﾞのみ継続\nGEM:溶解液確認→Tzで行う方針の場合Tzへ変更","21日","4クール","非小細胞肺癌","呼吸器内科","ポートラーザ",null,"4291448A1026","注射",null,800,"BODY","mg",null,"d1,8",{"$f":"IFERROR(VLOOKUP(__レジメンマスタ[[#This Row],[YJコード①]],[1]!__前投薬リスト[#Data],4,FALSE)&\"\",\"\")","v":""},"∞","シスプラチン","危〈毒〉50mg/100mL ｼｽﾌﾟﾗﾁﾝ点滴静注「ﾏﾙｺ」（先:ﾗﾝﾀﾞ）","4291401A3111","注射",null,75,"㎡","mg",null,"d1",{"$f":"IFERROR(VLOOKUP(__レジメンマスタ[[#This Row],[YJコード②]],[1]!__前投薬リスト[#Data],4,FALSE)&\"\",\"\")","v":""},"4回","ゲムシタビン","危 1g ｹﾞﾑｼﾀﾋﾞﾝ点滴静注用「ﾔｸﾙﾄ」（溶解液:生食）（先:ｼﾞｪﾑｻﾞｰﾙ）","4224403D2061","注射","３０ 分で",1250,"㎡","mg",null,"d1,8",{"$f":"IFERROR(VLOOKUP(__レジメンマスタ[[#This Row],[YJコード③]],[1]!__前投薬リスト[#Data],4,FALSE)&\"\",\"\")","v":""},"4クール",null,null,null,null,null,null,null,null,null,null,{"$f":"IFERROR(VLOOKUP(__レジメンマスタ[[#This Row],[YJコード④]],[1]!__前投薬リスト[#Data],4,FALSE)&\"\",\"\")","v":""},null,null,null,null,null,null,null,null,null,null,null,{"$f":"IFERROR(VLOOKUP(__レジメンマスタ[[#This Row],[YJコード⑤]],[1]!__前投薬リスト[#Data],4,FALSE)&\"\",\"\")","v":""},null,null,null,null,null,null,null,null,null,null,null,{"$f":"IFERROR(VLOOKUP(__レジメンマスタ[[#This Row],[YJコード⑥]],[1]!__前投薬リスト[#Data],4,FALSE)&\"\",\"\")","v":""},null,null,null,null,null,null,null,null,null,null,null,{"$f":"IFERROR(VLOOKUP(__レジメンマスタ[[#This Row],[YJコード⑦]],[1]!__前投薬リスト[#Data],4,FALSE)&\"\",\"\")","v":""}]
["RES0054","ﾆﾎﾞﾙﾏﾌﾞ+ｲﾋﾟﾘﾑﾏﾌﾞ+CBDCA+PTX","　　　　　　 W1　　　　W2～3　　　　　　W4　　　　　W5～6\nIpi　↓×××××× ××××××× ××××××× ××××××× \nNivo ↓×××××× ××××××× ↓×××××× ×××××××\nCBDCA↓×××××× ××××××× ↓×××××× ×××××××\nPTX  ↓×××××× ××××××× ↓×××××× ×××××××\nヤーボイ：6週間毎　オプジーボ：3週間毎\n1クールのみ。以降はオプジーボ＋ヤーボイのみ継続\n呼内：補正CCｒ算出法　sCr値＋0.2","42日","1クールのみ","非小細胞肺癌","呼吸器内科","ヤーボイ","危 臨）50mg/10mL ﾔｰﾎﾞｲ点滴静注液","4291430A1026","注射","３０ 分で",1,"kg","mg",null,"d1",{"$f":"IFERROR(VLOOKUP(__レジメンマスタ[[#This Row],[YJコード①]],[1]!__前投薬リスト[#Data],4,FALSE)&\"\",\"\")","v":""},"∞","ニボルマブ","危 240mg/24mL ｵﾌﾟｼﾞｰﾎﾞ点滴静注（希釈液:生食orTZ）","4291427A3027","注射","３０ 分で",360,"BODY","mg","最小","d1,22",{"$f":"IFERROR(VLOOKUP(__レジメンマスタ[[#This Row],[YJコード②]],[1]!__前投薬リスト[#Data],4,FALSE)&\"\",\"\")","v":""},"∞","カルボプラチン","危〈毒〉ｶﾙﾎﾞﾌﾟﾗﾁﾝ点滴静注液「NK」150mg/15mL（先:ﾊﾟﾗﾌﾟﾗﾁﾝ）","4291403A2092","注射","１ 時間で",6,"AUC","mg",null,"d1,22",{"$f":"IFERROR(VLOOKUP(__レジメンマスタ[[#This Row],[YJコード③]],[1]!__前投薬リスト[#Data],4,FALSE)&\"\",\"\")","v":""},"1クール","パクリタキセル","危〈毒〉100mg/16.7mL ﾊﾟｸﾘﾀｷｾﾙ注「NK」（希釈液:生食orTZ）（先:ﾀｷｿｰﾙ）","4240406A2046","注射",null,200,"㎡","mg",null,"d1,22",{"$f":"IFERROR(VLOOKUP(__レジメンマスタ[[#This Row],[YJコード④]],[1]!__前投薬リスト[#Data],4,FALSE)&\"\",\"\")","v":"抗ヒス,H2B,ステ"},"1クール",null,null,null,null,null,null,null,null,null,null,{"$f":"IFERROR(VLOOKUP(__レジメンマスタ[[#This Row],[YJコード⑤]],[1]!__前投薬リスト[#Data],4,FALSE)&\"\",\"\")","v":""},null,null,null,null,null,null,null,null,null,null,null,{"$f":"IFERROR(VLOOKUP(__レジメンマスタ[[#This Row],[YJコード⑥]],[1]!__前投薬リスト[#Data],4,FALSE)&\"\",\"\")","v":""},null,null,null,null,null,null,null,null,null,null,null,{"$f":"IFERROR(VLOOKUP(__レジメンマスタ[[#This Row],[YJコード⑦]],[1]!__前投薬リスト[#Data],4,FALSE)&\"\",\"\")","v":""}]
["RES0055","ﾆﾎﾞﾙﾏﾌﾞ+ｲﾋﾟﾘﾑﾏﾌﾞ+CBDCA+PEM","　　　　　　 W1　　　　W2～3　　　　　　W4　　　　　W5～6\nIpi　  ↓×××××× ××××××× ××××××× ××××××× \nNivo   ↓×××××× ××××××× ↓×××××× ×××××××\nCBDCA ↓×××××× ××××××× ↓×××××× ×××××××\nPEM    ↓×××××× ××××××× ↓×××××× ×××××××\n★CBDCAはAUC5～6★\n1クールのみ。以降はNivo+Ipiのみ継続、呼内：補正CCｒ算出法　sCr値＋0.2\nｼｱﾉｺﾊﾞﾗﾐﾝ：PEM投与開始1週間前に投与、9週間毎（PEM投与に関係なく）\nパンビタン末：PEM投与開始1週間前より内服開始。PEM投与後3週間は継続","42日","1クールのみ","非小細胞肺癌","呼吸器内科","ヤーボイ","危 臨）50mg/10mL ﾔｰﾎﾞｲ点滴静注液","4291430A1026","注射","３０ 分で",1,"kg","mg",null,"d1",{"$f":"IFERROR(VLOOKUP(__レジメンマスタ[[#This Row],[YJコード①]],[1]!__前投薬リスト[#Data],4,FALSE)&\"\",\"\")","v":""},"∞","ニボルマブ","危 240mg/24mL ｵﾌﾟｼﾞｰﾎﾞ点滴静注（希釈液:生食orTZ）","4291427A3027","注射","３０ 分で",360,"BODY","mg","最小","d1,22",{"$f":"IFERROR(VLOOKUP(__レジメンマスタ[[#This Row],[YJコード②]],[1]!__前投薬リスト[#Data],4,FALSE)&\"\",\"\")","v":""},"∞","カルボプラチン","危〈毒〉ｶﾙﾎﾞﾌﾟﾗﾁﾝ点滴静注液「NK」150mg/15mL（先:ﾊﾟﾗﾌﾟﾗﾁﾝ）","4291403A2092","注射","１ 時間で",6,"AUC","mg",null,"d1,22",{"$f":"IFERROR(VLOOKUP(__レジメンマスタ[[#This Row],[YJコード③]],[1]!__前投薬リスト[#Data],4,FALSE)&\"\",\"\")","v":""},"1クール","ペメトレキセド","危 800mg/32mL ﾍﾟﾒﾄﾚｷｾﾄﾞ点滴静注液「NK」（希釈液:生食）（先:ｱﾘﾑﾀ）","4229401A3026","注射","１０ 分で",500,"㎡","mg",null,"d1,22",{"$f":"IFERROR(VLOOKUP(__レジメンマスタ[[#This Row],[YJコード④]],[1]!__前投薬リスト[#Data],4,FALSE)&\"\",\"\")","v":"(ステ)"},"1クール",null,null,null,null,null,null,null,null,null,null,{"$f":"IFERROR(VLOOKUP(__レジメンマスタ[[#This Row],[YJコード⑤]],[1]!__前投薬リスト[#Data],4,FALSE)&\"\",\"\")","v":""},null,null,null,null,null,null,null,null,null,null,null,{"$f":"IFERROR(VLOOKUP(__レジメンマスタ[[#This Row],[YJコード⑥]],[1]!__前投薬リスト[#Data],4,FALSE)&\"\",\"\")","v":""},null,null,null,null,null,null,null,null,null,null,null,{"$f":"IFERROR(VLOOKUP(__レジメンマスタ[[#This Row],[YJコード⑦]],[1]!__前投薬リスト[#Data],4,FALSE)&\"\",\"\")","v":""}]
["RES0056","n-PTX療法","毎週投与 \n　　　　　　　W1　　　　　   W1      \nn-PTX  ↓×××××× ↓××××××     \n","7日","∞","非小細胞肺癌","呼吸器内科","アブラキサン","危〈毒〉ｱﾌﾞﾗｷｻﾝ点滴静注用 100mg","4240409D1023","注射","３０ 分で",100,"㎡","mg",null,"d1",{"$f":"IFERROR(VLOOKUP(__レジメンマスタ[[#This Row],[YJコード①]],[1]!__前投薬リスト[#Data],4,FALSE)&\"\",\"\")","v":""},null,null,null,null,null,null,null,null,null,null,null,{"$f":"IFERROR(VLOOKUP(__レジメンマスタ[[#This Row],[YJコード②]],[1]!__前投薬リスト[#Data],4,FALSE)&\"\",\"\")","v":""},null,null,null,null,null,null,null,null,null,null,null,{"$f":"IFERROR(VLOOKUP(__レジメンマスタ[[#This Row],[YJコード③]],[1]!__前投薬リスト[#Data],4,FALSE)&\"\",\"\")","v":""},null,null,null,null,null,null,null,null,null,null,null,{"$f":"IFERROR(VLOOKUP(__レジメンマスタ[[#This Row],[YJコード④]],[1]!__前投薬リスト[#Data],4,FALSE)&\"\",\"\")","v":""},null,null,null,null,null,null,null,null,null,null,null,{"$f":"IFERROR(VLOOKUP(__レジメンマスタ[[#This Row],[YJコード⑤]],[1]!__前投薬リスト[#Data],4,FALSE)&\"\",\"\")","v":""},null,null,null,null,null,null,null,null,null,null,null,{"$f":"IFERROR(VLOOKUP(__レジメンマスタ[[#This Row],[YJコード⑥]],[1]!__前投薬リスト[#Data],4,FALSE)&\"\",\"\")","v":""},null,null,null,null,null,null,null,null,null,null,null,{"$f":"IFERROR(VLOOKUP(__レジメンマスタ[[#This Row],[YJコード⑦]],[1]!__前投薬リスト[#Data],4,FALSE)&\"\",\"\")","v":""}]
["RES0057","ニボルマブ＋イピリムマブ","　　　　　　 W1　　　　W2～3　　　　　　W4　　　　　W5～6\nIpi　↓×××××× ××××××× ××××××× ××××××× \nNivo ↓×××××× ××××××× ↓×××××× ×××××××  \nヤーボイ：6週間毎　オプジーボ：3週間毎","42日","∞","悪性胸膜中皮腫","呼吸器内科","ヤーボイ","危 臨）50mg/10mL ﾔｰﾎﾞｲ点滴静注液","4291430A1026","注射","３０ 分で",1,"kg","mg",null,"d1",{"$f":"IFERROR(VLOOKUP(__レジメンマスタ[[#This Row],[YJコード①]],[1]!__前投薬リスト[#Data],4,FALSE)&\"\",\"\")","v":""},"4コース","ニボルマブ","危 240mg/24mL ｵﾌﾟｼﾞｰﾎﾞ点滴静注（希釈液:生食orTZ）","4291427A3027","注射","３０ 分で",360,"BODY","mg","最小","d1,22",{"$f":"IFERROR(VLOOKUP(__レジメンマスタ[[#This Row],[YJコード②]],[1]!__前投薬リスト[#Data],4,FALSE)&\"\",\"\")","v":""},"∞",null,null,null,null,null,null,null,null,null,null,{"$f":"IFERROR(VLOOKUP(__レジメンマスタ[[#This Row],[YJコード③]],[1]!__前投薬リスト[#Data],4,FALSE)&\"\",\"\")","v":""},null,null,null,null,null,null,null,null,null,null,null,{"$f":"IFERROR(VLOOKUP(__レジメンマスタ[[#This Row],[YJコード④]],[1]!__前投薬リスト[#Data],4,FALSE)&\"\",\"\")","v":""},null,null,null,null,null,null,null,null,null,null,null,{"$f":"IFERROR(VLOOKUP(__レジメンマスタ[[#This Row],[YJコード⑤]],[1]!__前投薬リスト[#Data],4,FALSE)&\"\",\"\")","v":""},null,null,null,null,null,null,null,null,null,null,null,{"$f":"IFERROR(VLOOKUP(__レジメンマスタ[[#This Row],[YJコード⑥]],[1]!__前投薬リスト[#Data],4,FALSE)&\"\",\"\")","v":""},null,null,null,null,null,null,null,null,null,null,null,{"$f":"IFERROR(VLOOKUP(__レジメンマスタ[[#This Row],[YJコード⑦]],[1]!__前投薬リスト[#Data],4,FALSE)&\"\",\"\")","v":""}]
["RES0058","Pembro+CBDCA+PTX","　　　　　  Ｗ1 　　　 　Ｗ2　　　　　   Ｗ3\nPmbro ↓×××××× ××××××× ×××××××\nCBDCA ↓×××××× ××××××× ××××××× \nPTX   ↓×××××× ××××××× ×××××××\n５クール以降はキイトルーダのみ継続\n呼内：補正CCｒ算出法　sCr値＋0.2","21日","4コース","非小細胞肺癌","呼吸器内科","キイトルーダ","危 ｷｲﾄﾙｰﾀﾞ点滴静注 100mg/4mL（希釈液:生食orTZ）","4291435A2025","注射","３０ 分で",200,"BODY","mg",null,"d1",{"$f":"IFERROR(VLOOKUP(__レジメンマスタ[[#This Row],[YJコード①]],[1]!__前投薬リスト[#Data],4,FALSE)&\"\",\"\")","v":""},null,"カルボプラチン","危〈毒〉ｶﾙﾎﾞﾌﾟﾗﾁﾝ点滴静注液「NK」150mg/15mL（先:ﾊﾟﾗﾌﾟﾗﾁﾝ）","4291403A2092","注射","１ 時間で",6,"AUC","mg",null,"d1",{"$f":"IFERROR(VLOOKUP(__レジメンマスタ[[#This Row],[YJコード②]],[1]!__前投薬リスト[#Data],4,FALSE)&\"\",\"\")","v":""},"4回","パクリタキセル","危〈毒〉100mg/16.7mL ﾊﾟｸﾘﾀｷｾﾙ注「NK」（希釈液:生食orTZ）（先:ﾀｷｿｰﾙ）","4240406A2046","注射","１　時間で",200,"㎡","mg",null,"d1",{"$f":"IFERROR(VLOOKUP(__レジメンマスタ[[#This Row],[YJコード③]],[1]!__前投薬リスト[#Data],4,FALSE)&\"\",\"\")","v":"抗ヒス,H2B,ステ"},"4回",null,null,null,null,null,null,null,null,null,null,{"$f":"IFERROR(VLOOKUP(__レジメンマスタ[[#This Row],[YJコード④]],[1]!__前投薬リスト[#Data],4,FALSE)&\"\",\"\")","v":""},null,null,null,null,null,null,null,null,null,null,null,{"$f":"IFERROR(VLOOKUP(__レジメンマスタ[[#This Row],[YJコード⑤]],[1]!__前投薬リスト[#Data],4,FALSE)&\"\",\"\")","v":""},null,null,null,null,null,null,null,null,null,null,null,{"$f":"IFERROR(VLOOKUP(__レジメンマスタ[[#This Row],[YJコード⑥]],[1]!__前投薬リスト[#Data],4,FALSE)&\"\",\"\")","v":""},null,null,null,null,null,null,null,null,null,null,null,{"$f":"IFERROR(VLOOKUP(__レジメンマスタ[[#This Row],[YJコード⑦]],[1]!__前投薬リスト[#Data],4,FALSE)&\"\",\"\")","v":""}]
["RES0059","アテゾリズマブ(術後補助療法）"," 3週間ごとに投与\n  投与期間：12ヶ月→制限年月日を患者特記事項に記載 \n　　　　　　　W1　　　　   W2～3   \nAtezo  ↓××××××  ××××××× ","21日","1年間","非小細胞肺癌","呼吸器外科","テセントリク","危 ﾃｾﾝﾄﾘｸ点滴静注 1200mg/20mL（溶解液:生食）","4291441A1024","注射","初回６０分、２回目以降３０分まで短縮可",1200,"BODY","mg",null,"d1",{"$f":"IFERROR(VLOOKUP(__レジメンマスタ[[#This Row],[YJコード①]],[1]!__前投薬リスト[#Data],4,FALSE)&\"\",\"\")","v":""},null,null,null,null,null,null,null,null,null,null,null,{"$f":"IFERROR(VLOOKUP(__レジメンマスタ[[#This Row],[YJコード②]],[1]!__前投薬リスト[#Data],4,FALSE)&\"\",\"\")","v":""},null,null,null,null,null,null,null,null,null,null,null,{"$f":"IFERROR(VLOOKUP(__レジメンマスタ[[#This Row],[YJコード③]],[1]!__前投薬リスト[#Data],4,FALSE)&\"\",\"\")","v":""},null,null,null,null,null,null,null,null,null,null,null,{"$f":"IFERROR(VLOOKUP(__レジメンマスタ[[#This Row],[YJコード④]],[1]!__前投薬リスト[#Data],4,FALSE)&\"\",\"\")","v":""},null,null,null,null,null,null,null,null,null,null,null,{"$f":"IFERROR(VLOOKUP(__レジメンマスタ[[#This Row],[YJコード⑤]],[1]!__前投薬リスト[#Data],4,FALSE)&\"\",\"\")","v":""},null,null,null,null,null,null,null,null,null,null,null,{"$f":"IFERROR(VLOOKUP(__レジメンマスタ[[#This Row],[YJコード⑥]],[1]!__前投薬リスト[#Data],4,FALSE)&\"\",\"\")","v":""},null,null,null,null,null,null,null,null,null,null,null,{"$f":"IFERROR(VLOOKUP(__レジメンマスタ[[#This Row],[YJコード⑦]],[1]!__前投薬リスト[#Data],4,FALSE)&\"\",\"\")","v":""}]
["RES0059-2","アテゾリズマブ(術後補助療法　4週間毎）"," ４週間ごとに投与             \n  投与期間：12ヶ月→制限年月日を患者特記事項に記載\n   　　　　　　　　W1  　　  　 W2～W4  \nアテゾリズマブ  ↓××××××  ×××××××  \n","28日","1年間","非小細胞肺癌","呼吸器外科","テセントリク","危 ﾃｾﾝﾄﾘｸ点滴静注 1200mg/20mL（溶解液:生食）","4291441A1024","注射","初回６０分、２回目以降３０分まで短縮可",1680,"BODY","mg",null,"d1",null,null,null,null,null,null,null,null,null,null,null,null,null,null,null,null,null,null,null,null,null,null,null,null,null,null,null,null,null,null,null,null,null,null,null,null,null,null,null,null,null,null,null,null,null,null,null,null,null,null,null,null,null,null,null,null,null,null,null,null,null,null,null,null,null,null,null,null,null,null,null,null,{"$f":"IFERROR(VLOOKUP(__レジメンマスタ[[#This Row],[YJコード⑦]],[1]!__前投薬リスト[#Data],4,FALSE)&\"\",\"\")","v":""}]
["RES0060-11","Trem+Dur+CBDCA+PEM","　　　　　　 W1　　　　W2～3　　　維持へ　　　　 W1　　　　W2～4　\nDUR　↓×××××× ××××××× →　 ↓×××××× ×××××××\nTrem ↓×××××× ××××××× 　　(↓)×××××× ××××××× \nPEM  ↓×××××× ×××××××  　　↓×××××× ×××××××\nCBDCA↓×××××× ×××××××\n★CBDCAはAUC5～6★　呼内：補正CCｒ算出法　sCr値＋0.2\n5クール以降はCBDCAなしの維持療法(4週間毎)。\n※イジュドの維持療法は2コース目のみ併用\nｼｱﾉｺﾊﾞﾗﾐﾝ：PEM投与開始1週間前に投与、9週間毎（PEM投与に関係なく）\nパンビタン末：PEM投与開始1週間前より内服開始。PEM投与後3週間は継続","21日→28日","4コース","非小細胞肺癌","呼吸器内科","イミフィンジ","危 500mg/10mL ｲﾐﾌｨﾝｼﾞ点滴静注（希釈液:生食orTZ）","4291443A2020","注射","６０ 分で",1500,"BODY","mg",null,"d1",{"$f":"IFERROR(VLOOKUP(__レジメンマスタ[[#This Row],[YJコード①]],[1]!__前投薬リスト[#Data],4,FALSE)&\"\",\"\")","v":""},"∞","臨）イジュド","危 臨）25mg/1.25mL ｲｼﾞｭﾄﾞ点滴静注（希釈液:生食orTZ）","4291465A1020","注射","６０ 分で",75,"BODY","mg",null,"d1",{"$f":"IFERROR(VLOOKUP(__レジメンマスタ[[#This Row],[YJコード②]],[1]!__前投薬リスト[#Data],4,FALSE)&\"\",\"\")","v":""},"4＋6コース目のみ","ペメトレキセド","危 800mg/32mL ﾍﾟﾒﾄﾚｷｾﾄﾞ点滴静注液「NK」（希釈液:生食）（先:ｱﾘﾑﾀ）","4229401A3026","注射","１０ 分で",500,"㎡","mg",null,"d1",{"$f":"IFERROR(VLOOKUP(__レジメンマスタ[[#This Row],[YJコード③]],[1]!__前投薬リスト[#Data],4,FALSE)&\"\",\"\")","v":"(ステ)"},"∞","カルボプラチン","危〈毒〉ｶﾙﾎﾞﾌﾟﾗﾁﾝ点滴静注液「NK」150mg/15mL（先:ﾊﾟﾗﾌﾟﾗﾁﾝ）","4291403A2092","注射","１ 時間で",6,"AUC","mg",null,"d1",{"$f":"IFERROR(VLOOKUP(__レジメンマスタ[[#This Row],[YJコード④]],[1]!__前投薬リスト[#Data],4,FALSE)&\"\",\"\")","v":""},"4クール",null,null,null,null,null,null,null,null,null,null,{"$f":"IFERROR(VLOOKUP(__レジメンマスタ[[#This Row],[YJコード⑤]],[1]!__前投薬リスト[#Data],4,FALSE)&\"\",\"\")","v":""},null,null,null,null,null,null,null,null,null,null,null,{"$f":"IFERROR(VLOOKUP(__レジメンマスタ[[#This Row],[YJコード⑥]],[1]!__前投薬リスト[#Data],4,FALSE)&\"\",\"\")","v":""},null,null,null,null,null,null,null,null,null,null,null,{"$f":"IFERROR(VLOOKUP(__レジメンマスタ[[#This Row],[YJコード⑦]],[1]!__前投薬リスト[#Data],4,FALSE)&\"\",\"\")","v":""}]
["RES0060-12","Trem+Du+CBDCA+PEM（体重30kg以下）","　　　　　　 W1　　　　W2～3　　　維持へ　　　　 W1　　　　W2～4　\nDUR　↓×××××× ××××××× →　 ↓×××××× ×××××××\nTrem ↓×××××× ××××××× 　　(↓)×××××× ××××××× \nPEM  ↓×××××× ×××××××  　　↓×××××× ×××××××\nCBDCA↓×××××× ×××××××\n★CBDCAはAUC5～6★　呼内：補正CCｒ算出法　sCr値＋0.2\n5クール以降はCBDCAなしの維持療法(4週間毎)。\n※イジュドの維持療法は2コース目のみ併用\nｼｱﾉｺﾊﾞﾗﾐﾝ：PEM投与開始1週間前に投与、9週間毎（PEM投与に関係なく）\nパンビタン末：PEM投与開始1週間前より内服開始。PEM投与後3週間は継続","21日→28日","4コース","非小細胞肺癌","呼吸器内科","イミフィンジ","危 500mg/10mL ｲﾐﾌｨﾝｼﾞ点滴静注（希釈液:生食orTZ）","4291443A2020","注射","６０ 分で",20,"kg","mg",null,"d1",{"$f":"IFERROR(VLOOKUP(__レジメンマスタ[[#This Row],[YJコード①]],[1]!__前投薬リスト[#Data],4,FALSE)&\"\",\"\")","v":""},"∞","臨）イジュド","危 臨）25mg/1.25mL ｲｼﾞｭﾄﾞ点滴静注（希釈液:生食orTZ）","4291465A1020","注射","６０ 分で",75,"BODY","mg",null,"d1",{"$f":"IFERROR(VLOOKUP(__レジメンマスタ[[#This Row],[YJコード②]],[1]!__前投薬リスト[#Data],4,FALSE)&\"\",\"\")","v":""},"4＋6コース目のみ","ペメトレキセド","危 800mg/32mL ﾍﾟﾒﾄﾚｷｾﾄﾞ点滴静注液「NK」（希釈液:生食）（先:ｱﾘﾑﾀ）","4229401A3026","注射","１０ 分で",500,"㎡","mg",null,"d1",{"$f":"IFERROR(VLOOKUP(__レジメンマスタ[[#This Row],[YJコード③]],[1]!__前投薬リスト[#Data],4,FALSE)&\"\",\"\")","v":"(ステ)"},"∞","カルボプラチン","危〈毒〉ｶﾙﾎﾞﾌﾟﾗﾁﾝ点滴静注液「NK」150mg/15mL（先:ﾊﾟﾗﾌﾟﾗﾁﾝ）","4291403A2092","注射","１ 時間で",6,"AUC","mg",null,"d1",{"$f":"IFERROR(VLOOKUP(__レジメンマスタ[[#This Row],[YJコード④]],[1]!__前投薬リスト[#Data],4,FALSE)&\"\",\"\")","v":""},"4クール",null,null,null,null,null,null,null,null,null,null,{"$f":"IFERROR(VLOOKUP(__レジメンマスタ[[#This Row],[YJコード⑤]],[1]!__前投薬リスト[#Data],4,FALSE)&\"\",\"\")","v":""},null,null,null,null,null,null,null,null,null,null,null,{"$f":"IFERROR(VLOOKUP(__レジメンマスタ[[#This Row],[YJコード⑥]],[1]!__前投薬リスト[#Data],4,FALSE)&\"\",\"\")","v":""},null,null,null,null,null,null,null,null,null,null,null,{"$f":"IFERROR(VLOOKUP(__レジメンマスタ[[#This Row],[YJコード⑦]],[1]!__前投薬リスト[#Data],4,FALSE)&\"\",\"\")","v":""}]
["RES0061-11","Trem+Du+CBDCA+n-PTX","　　　　　　 W1　　　　　W2～3　　　維持へ　　 W1　　　　　W2～4　\nDUR　↓×××××× ×××××××　→　 ↓××××××  ×××××××\nTrem ↓×××××× ×××××××　　　(↓)×××××× ×××××××\nCBDCA↓×××××× ×××××××\nn-PTX↓×××××× ↓××××××\n★CBDCAはAUC5～6★　呼内：補正CCｒ算出法　sCr値＋0.2\n5クール以降はCBDCAとnPTX無しの維持療法(4週間毎)。\n※イジュドの維持療法は2コース目のみ併用","21日→28日","4コース","非小細胞肺癌","呼吸器内科","イミフィンジ","危 500mg/10mL ｲﾐﾌｨﾝｼﾞ点滴静注（希釈液:生食orTZ）","4291443A2020","注射","６０ 分で",1500,"BODY","mg",null,"d1",{"$f":"IFERROR(VLOOKUP(__レジメンマスタ[[#This Row],[YJコード①]],[1]!__前投薬リスト[#Data],4,FALSE)&\"\",\"\")","v":""},"∞","臨）イジュド","危 臨）25mg/1.25mL ｲｼﾞｭﾄﾞ点滴静注（希釈液:生食orTZ）","4291465A1020","注射","６０ 分で",75,"BODY","mg",null,"d1",{"$f":"IFERROR(VLOOKUP(__レジメンマスタ[[#This Row],[YJコード②]],[1]!__前投薬リスト[#Data],4,FALSE)&\"\",\"\")","v":""},"4＋6コース目のみ","アブラキサン","危〈毒〉ｱﾌﾞﾗｷｻﾝ点滴静注用 100mg","4240409D1023","注射","３０ 分で",100,"㎡","mg",null,"d1,8,15",{"$f":"IFERROR(VLOOKUP(__レジメンマスタ[[#This Row],[YJコード③]],[1]!__前投薬リスト[#Data],4,FALSE)&\"\",\"\")","v":""},"4クール","カルボプラチン","危〈毒〉ｶﾙﾎﾞﾌﾟﾗﾁﾝ点滴静注液「NK」150mg/15mL（先:ﾊﾟﾗﾌﾟﾗﾁﾝ）","4291403A2092","注射","１ 時間で",6,"AUC","mg",null,"d1",{"$f":"IFERROR(VLOOKUP(__レジメンマスタ[[#This Row],[YJコード④]],[1]!__前投薬リスト[#Data],4,FALSE)&\"\",\"\")","v":""},"4クール",null,null,null,null,null,null,null,null,null,null,{"$f":"IFERROR(VLOOKUP(__レジメンマスタ[[#This Row],[YJコード⑤]],[1]!__前投薬リスト[#Data],4,FALSE)&\"\",\"\")","v":""},null,null,null,null,null,null,null,null,null,null,null,{"$f":"IFERROR(VLOOKUP(__レジメンマスタ[[#This Row],[YJコード⑥]],[1]!__前投薬リスト[#Data],4,FALSE)&\"\",\"\")","v":""},null,null,null,null,null,null,null,null,null,null,null,{"$f":"IFERROR(VLOOKUP(__レジメンマスタ[[#This Row],[YJコード⑦]],[1]!__前投薬リスト[#Data],4,FALSE)&\"\",\"\")","v":""}]
["RES0061-12","Trem+Du+CBDCA+n-PTX（体重30kg以下）","　　　　　　 W1　　　　　W2～3　　　維持へ　　 W1　　　　　W2～4　\nDUR　↓×××××× ×××××××　→　 ↓××××××  ×××××××\nTrem ↓×××××× ×××××××　　　(↓)×××××× ×××××××\nCBDCA↓×××××× ×××××××\nn-PTX↓×××××× ↓××××××\n★CBDCAはAUC5～6★　呼内：補正CCｒ算出法　sCr値＋0.2\n5クール以降はCBDCAとnPTX無しの維持療法(4週間毎)。\n※イジュドの維持療法は2コース目のみ併用","21日→28日","4コース","非小細胞肺癌","呼吸器内科","イミフィンジ","危 500mg/10mL ｲﾐﾌｨﾝｼﾞ点滴静注（希釈液:生食orTZ）","4291443A2020","注射","６０ 分で",20,"kg","mg",null,"d1",{"$f":"IFERROR(VLOOKUP(__レジメンマスタ[[#This Row],[YJコード①]],[1]!__前投薬リスト[#Data],4,FALSE)&\"\",\"\")","v":""},"∞","臨）イジュド","危 臨）25mg/1.25mL ｲｼﾞｭﾄﾞ点滴静注（希釈液:生食orTZ）","4291465A1020","注射","６０ 分で",75,"BODY","mg",null,"d1",{"$f":"IFERROR(VLOOKUP(__レジメンマスタ[[#This Row],[YJコード②]],[1]!__前投薬リスト[#Data],4,FALSE)&\"\",\"\")","v":""},"4＋6コース目のみ","アブラキサン","危〈毒〉ｱﾌﾞﾗｷｻﾝ点滴静注用 100mg","4240409D1023","注射","３０ 分で",100,"㎡","mg",null,"d1,8,15",{"$f":"IFERROR(VLOOKUP(__レジメンマスタ[[#This Row],[YJコード③]],[1]!__前投薬リスト[#Data],4,FALSE)&\"\",\"\")","v":""},"4クール","カルボプラチン","危〈毒〉ｶﾙﾎﾞﾌﾟﾗﾁﾝ点滴静注液「NK」150mg/15mL（先:ﾊﾟﾗﾌﾟﾗﾁﾝ）","4291403A2092","注射","１ 時間で",6,"AUC","mg",null,"d1",{"$f":"IFERROR(VLOOKUP(__レジメンマスタ[[#This Row],[YJコード④]],[1]!__前投薬リスト[#Data],4,FALSE)&\"\",\"\")","v":""},"4クール",null,null,null,null,null,null,null,null,null,null,{"$f":"IFERROR(VLOOKUP(__レジメンマスタ[[#This Row],[YJコード⑤]],[1]!__前投薬リスト[#Data],4,FALSE)&\"\",\"\")","v":""},null,null,null,null,null,null,null,null,null,null,null,{"$f":"IFERROR(VLOOKUP(__レジメンマスタ[[#This Row],[YJコード⑥]],[1]!__前投薬リスト[#Data],4,FALSE)&\"\",\"\")","v":""},null,null,null,null,null,null,null,null,null,null,null,{"$f":"IFERROR(VLOOKUP(__レジメンマスタ[[#This Row],[YJコード⑦]],[1]!__前投薬リスト[#Data],4,FALSE)&\"\",\"\")","v":""}]
["RES0062","ニボルマブ+CBDCA+PEM（術前導入療法）","　　　　　  Ｗ1 　　　　Ｗ2　　　　　 Ｗ3\nNivo  ↓×××××× ××××××× ××××××× \nCBDCA ↓×××××× ××××××× ×××××××  \nPEM   ↓×××××× ××××××× ×××××××\n★CBDCAはAUC5～6★  \nｼｱﾉｺﾊﾞﾗﾐﾝ：PEM投与開始1週間前に投与、9週間毎（PEM投与に関係なく）\nパンビタン末：PEM投与開始1週間前より内服開始。PEM投与後3週間は継続\n術前導入3クールまで。呼内：補正CCｒ算出法　sCr値＋0.2","21日","3コース","非小細胞肺癌","呼吸器外科","オプジーボ","危 240mg/24mL ｵﾌﾟｼﾞｰﾎﾞ点滴静注（希釈液:生食orTZ）","4291427A3027","注射","３０ 分で",360,"BODY","mg",null,"d1",{"$f":"IFERROR(VLOOKUP(__レジメンマスタ[[#This Row],[YJコード①]],[1]!__前投薬リスト[#Data],4,FALSE)&\"\",\"\")","v":""},null,"ペメトレキセド","危 800mg/32mL ﾍﾟﾒﾄﾚｷｾﾄﾞ点滴静注液「NK」（希釈液:生食）（先:ｱﾘﾑﾀ）","4229401A3026","注射","１０ 分で",500,"㎡","mg",null,"d1",{"$f":"IFERROR(VLOOKUP(__レジメンマスタ[[#This Row],[YJコード②]],[1]!__前投薬リスト[#Data],4,FALSE)&\"\",\"\")","v":"(ステ)"},null,"カルボプラチン","危〈毒〉ｶﾙﾎﾞﾌﾟﾗﾁﾝ点滴静注液「NK」150mg/15mL（先:ﾊﾟﾗﾌﾟﾗﾁﾝ）","4291403A2092","注射",null,6,"AUC","mg",null,"d1",{"$f":"IFERROR(VLOOKUP(__レジメンマスタ[[#This Row],[YJコード③]],[1]!__前投薬リスト[#Data],4,FALSE)&\"\",\"\")","v":""},null,null,null,null,null,null,null,null,null,null,null,{"$f":"IFERROR(VLOOKUP(__レジメンマスタ[[#This Row],[YJコード④]],[1]!__前投薬リスト[#Data],4,FALSE)&\"\",\"\")","v":""},null,null,null,null,null,null,null,null,null,null,null,{"$f":"IFERROR(VLOOKUP(__レジメンマスタ[[#This Row],[YJコード⑤]],[1]!__前投薬リスト[#Data],4,FALSE)&\"\",\"\")","v":""},null,null,null,null,null,null,null,null,null,null,null,{"$f":"IFERROR(VLOOKUP(__レジメンマスタ[[#This Row],[YJコード⑥]],[1]!__前投薬リスト[#Data],4,FALSE)&\"\",\"\")","v":""},null,null,null,null,null,null,null,null,null,null,null,{"$f":"IFERROR(VLOOKUP(__レジメンマスタ[[#This Row],[YJコード⑦]],[1]!__前投薬リスト[#Data],4,FALSE)&\"\",\"\")","v":""}]
["RES0063","ニボルマブ+CBDCA+PTX（術前導入療法）","　　　　　  Ｗ1 　　　　Ｗ2　　　　　 Ｗ3\nNivo  ↓×××××× ××××××× ××××××× \nCBDCA ↓×××××× ××××××× ×××××××  \nPTX   ↓×××××× ××××××× ××××××× \n★CBDCAはAUC5～6★ \n術前導入3クールまで。呼内：補正CCｒ算出法　sCr値＋0.2","21日","3コース","非小細胞肺癌","呼吸器内科","オプジーボ","危 240mg/24mL ｵﾌﾟｼﾞｰﾎﾞ点滴静注（希釈液:生食orTZ）","4291427A3027","注射","３０ 分で",360,"BODY","mg",null,"d1",{"$f":"IFERROR(VLOOKUP(__レジメンマスタ[[#This Row],[YJコード①]],[1]!__前投薬リスト[#Data],4,FALSE)&\"\",\"\")","v":""},null,"パクリタキセル","危〈毒〉100mg/16.7mL ﾊﾟｸﾘﾀｷｾﾙ注「NK」（希釈液:生食orTZ）（先:ﾀｷｿｰﾙ）","4240406A2046","注射",null,200,"㎡","mg",null,"d1",{"$f":"IFERROR(VLOOKUP(__レジメンマスタ[[#This Row],[YJコード②]],[1]!__前投薬リスト[#Data],4,FALSE)&\"\",\"\")","v":"抗ヒス,H2B,ステ"},null,"カルボプラチン","危〈毒〉ｶﾙﾎﾞﾌﾟﾗﾁﾝ点滴静注液「NK」150mg/15mL（先:ﾊﾟﾗﾌﾟﾗﾁﾝ）","4291403A2092","注射",null,6,"AUC","mg",null,"d1",{"$f":"IFERROR(VLOOKUP(__レジメンマスタ[[#This Row],[YJコード③]],[1]!__前投薬リスト[#Data],4,FALSE)&\"\",\"\")","v":""},null,null,null,null,null,null,null,null,null,null,null,{"$f":"IFERROR(VLOOKUP(__レジメンマスタ[[#This Row],[YJコード④]],[1]!__前投薬リスト[#Data],4,FALSE)&\"\",\"\")","v":""},null,null,null,null,null,null,null,null,null,null,null,{"$f":"IFERROR(VLOOKUP(__レジメンマスタ[[#This Row],[YJコード⑤]],[1]!__前投薬リスト[#Data],4,FALSE)&\"\",\"\")","v":""},null,null,null,null,null,null,null,null,null,null,null,{"$f":"IFERROR(VLOOKUP(__レジメンマスタ[[#This Row],[YJコード⑥]],[1]!__前投薬リスト[#Data],4,FALSE)&\"\",\"\")","v":""},null,null,null,null,null,null,null,null,null,null,null,{"$f":"IFERROR(VLOOKUP(__レジメンマスタ[[#This Row],[YJコード⑦]],[1]!__前投薬リスト[#Data],4,FALSE)&\"\",\"\")","v":""}]
["RES0064","エンハーツ","　　　　　 　　　　 Ｗ1 　　　　Ｗ2　　　　　 Ｗ3\nエンハーツ  ↓×××××× ××××××× ××××××× ","21日",null,"非小細胞肺癌","呼吸器内科","エンハーツ","危 ｴﾝﾊｰﾂ点滴静注用 100mg（溶解液:Aq）","4291452D1029","注射","初回９０分、２回目以降３０分まで短縮可",5.4,"kg","mg",null,"d1",{"$f":"IFERROR(VLOOKUP(__レジメンマスタ[[#This Row],[YJコード①]],[1]!__前投薬リスト[#Data],4,FALSE)&\"\",\"\")","v":""},null,null,null,null,null,null,null,null,null,null,null,{"$f":"IFERROR(VLOOKUP(__レジメンマスタ[[#This Row],[YJコード②]],[1]!__前投薬リスト[#Data],4,FALSE)&\"\",\"\")","v":""},null,null,null,null,null,null,null,null,null,null,null,{"$f":"IFERROR(VLOOKUP(__レジメンマスタ[[#This Row],[YJコード③]],[1]!__前投薬リスト[#Data],4,FALSE)&\"\",\"\")","v":""},null,null,null,null,null,null,null,null,null,null,null,{"$f":"IFERROR(VLOOKUP(__レジメンマスタ[[#This Row],[YJコード④]],[1]!__前投薬リスト[#Data],4,FALSE)&\"\",\"\")","v":""},null,null,null,null,null,null,null,null,null,null,null,{"$f":"IFERROR(VLOOKUP(__レジメンマスタ[[#This Row],[YJコード⑤]],[1]!__前投薬リスト[#Data],4,FALSE)&\"\",\"\")","v":""},null,null,null,null,null,null,null,null,null,null,null,{"$f":"IFERROR(VLOOKUP(__レジメンマスタ[[#This Row],[YJコード⑥]],[1]!__前投薬リスト[#Data],4,FALSE)&\"\",\"\")","v":""},null,null,null,null,null,null,null,null,null,null,null,{"$f":"IFERROR(VLOOKUP(__レジメンマスタ[[#This Row],[YJコード⑦]],[1]!__前投薬リスト[#Data],4,FALSE)&\"\",\"\")","v":""}]
["RES0065","CDDP＋PEM＋ｵｼﾒﾙﾁﾆﾌﾞ","　　　　　 Ｗ1 　　　　Ｗ2　　　　　 Ｗ3 \nCDDP ↓×××××× ××××××× ×××××××  \nPEM  ↓×××××× ××××××× ×××××××\nOSIM ↓↓↓↓↓↓↓ ↓↓↓↓↓↓↓ ↓↓↓↓↓↓↓ \nｼｱﾉｺﾊﾞﾗﾐﾝ：PEM投与開始1週間前に投与、9週間毎（PEM投与に関係なく）\nパンビタン末：PEM投与開始1週間前より内服開始。PEM投与後3週間は継続\nオシメルチニブは連日内服。CDDPは4クールまで","21日","4コース","非小細胞肺癌","血液内科","シスプラチン","危〈毒〉50mg/100mL ｼｽﾌﾟﾗﾁﾝ点滴静注「ﾏﾙｺ」（先:ﾗﾝﾀﾞ）","4291401A3111","注射","１ 時間で",75,"㎡","mg",null,"d1",{"$f":"IFERROR(VLOOKUP(__レジメンマスタ[[#This Row],[YJコード①]],[1]!__前投薬リスト[#Data],4,FALSE)&\"\",\"\")","v":""},"4回","ペメトレキセド","危 500mg/20mL ﾍﾟﾒﾄﾚｷｾﾄﾞ点滴静注液「NK」（希釈液:生食）（先:ｱﾘﾑﾀ）","4229401A2020","注射","１０ 分で",500,"㎡","mg",null,"d1",{"$f":"IFERROR(VLOOKUP(__レジメンマスタ[[#This Row],[YJコード②]],[1]!__前投薬リスト[#Data],4,FALSE)&\"\",\"\")","v":"(ステ)"},"∞","タグリッソ",null,"4291045F2023","経口",null,80,"BODY","mg",null,"連日",{"$f":"IFERROR(VLOOKUP(__レジメンマスタ[[#This Row],[YJコード③]],[1]!__前投薬リスト[#Data],4,FALSE)&\"\",\"\")","v":""},"∞",null,null,null,null,null,null,null,null,null,null,{"$f":"IFERROR(VLOOKUP(__レジメンマスタ[[#This Row],[YJコード④]],[1]!__前投薬リスト[#Data],4,FALSE)&\"\",\"\")","v":""},null,null,null,null,null,null,null,null,null,null,null,{"$f":"IFERROR(VLOOKUP(__レジメンマスタ[[#This Row],[YJコード⑤]],[1]!__前投薬リスト[#Data],4,FALSE)&\"\",\"\")","v":""},null,null,null,null,null,null,null,null,null,null,null,{"$f":"IFERROR(VLOOKUP(__レジメンマスタ[[#This Row],[YJコード⑥]],[1]!__前投薬リスト[#Data],4,FALSE)&\"\",\"\")","v":""},null,null,null,null,null,null,null,null,null,null,null,{"$f":"IFERROR(VLOOKUP(__レジメンマスタ[[#This Row],[YJコード⑦]],[1]!__前投薬リスト[#Data],4,FALSE)&\"\",\"\")","v":""}]
["RES0066","CBDCA+PEM+オシメルチニブ","　　　　　 Ｗ1 　　　　Ｗ2　　　　　 Ｗ3 \nCBDCA ↓×××××× ××××××× ×××××××  \nPEM  　↓×××××× ××××××× ×××××××\nOSIM 　↓↓↓↓↓↓↓ ↓↓↓↓↓↓↓ ↓↓↓↓↓↓↓ \nｼｱﾉｺﾊﾞﾗﾐﾝ：PEM投与開始1週間前に投与、9週間毎（PEM投与に関係なく）\nパンビタン末：PEM投与開始1週間前より内服開始。PEM投与後3週間は継続\nオシメルチニブは連日内服。呼内：補正CCｒ算出法　sCr値＋0.2\nCBDCAは4コースまで","21日","4コース","非小細胞肺癌","呼吸器内科","カルボプラチン","危〈毒〉ｶﾙﾎﾞﾌﾟﾗﾁﾝ点滴静注液「NK」150mg/15mL（先:ﾊﾟﾗﾌﾟﾗﾁﾝ）","4291403A2092","注射",null,5,"AUC","mg",null,"d1",{"$f":"IFERROR(VLOOKUP(__レジメンマスタ[[#This Row],[YJコード①]],[1]!__前投薬リスト[#Data],4,FALSE)&\"\",\"\")","v":""},"4回","ペメトレキセド","危 500mg/20mL ﾍﾟﾒﾄﾚｷｾﾄﾞ点滴静注液「NK」（希釈液:生食）（先:ｱﾘﾑﾀ）","4229401A2020","注射","１０ 分で",500,"㎡","mg",null,"d1",{"$f":"IFERROR(VLOOKUP(__レジメンマスタ[[#This Row],[YJコード②]],[1]!__前投薬リスト[#Data],4,FALSE)&\"\",\"\")","v":"(ステ)"},"∞","タグリッソ",null,"4291045F2023","経口",null,80,"BODY","mg",null,"連日",{"$f":"IFERROR(VLOOKUP(__レジメンマスタ[[#This Row],[YJコード③]],[1]!__前投薬リスト[#Data],4,FALSE)&\"\",\"\")","v":""},"∞",null,null,null,null,null,null,null,null,null,null,{"$f":"IFERROR(VLOOKUP(__レジメンマスタ[[#This Row],[YJコード④]],[1]!__前投薬リスト[#Data],4,FALSE)&\"\",\"\")","v":""},null,null,null,null,null,null,null,null,null,null,null,{"$f":"IFERROR(VLOOKUP(__レジメンマスタ[[#This Row],[YJコード⑤]],[1]!__前投薬リスト[#Data],4,FALSE)&\"\",\"\")","v":""},null,null,null,null,null,null,null,null,null,null,null,{"$f":"IFERROR(VLOOKUP(__レジメンマスタ[[#This Row],[YJコード⑥]],[1]!__前投薬リスト[#Data],4,FALSE)&\"\",\"\")","v":""},null,null,null,null,null,null,null,null,null,null,null,{"$f":"IFERROR(VLOOKUP(__レジメンマスタ[[#This Row],[YJコード⑦]],[1]!__前投薬リスト[#Data],4,FALSE)&\"\",\"\")","v":""}]
["RES0067","Pembro＋CDDP＋PEM","　　　　　 Ｗ1 　　　　Ｗ2　　　　　 Ｗ3\nPemb ↓×××××× ××××××× ×××××××  \nCDDP ↓×××××× ××××××× ×××××××  \nPEM  ↓×××××× ××××××× ×××××××  \nｼｱﾉｺﾊﾞﾗﾐﾝ：PEM投与開始1週間前に投与、9週間毎（PEM投与に関係なく）\nパンビタン末：PEM投与開始1週間前より内服開始。PEM投与後3週間は継続\n4コース施行後→【手術】→術後はキイトルーダ単剤で13クール","21日","4＋13コース","非小細胞肺癌","呼吸器内科","キイトルーダ","危 ｷｲﾄﾙｰﾀﾞ点滴静注 100mg/4mL（希釈液:生食orTZ）","4291435A2025","注射","３０ 分で",200,"BODY","mg",null,"d1",{"$f":"IFERROR(VLOOKUP(__レジメンマスタ[[#This Row],[YJコード①]],[1]!__前投薬リスト[#Data],4,FALSE)&\"\",\"\")","v":""},"4＋13","シスプラチン","危〈毒〉50mg/100mL ｼｽﾌﾟﾗﾁﾝ点滴静注「ﾏﾙｺ」（先:ﾗﾝﾀﾞ）","4291401A3111","注射",null,75,"㎡","mg",null,"d1",{"$f":"IFERROR(VLOOKUP(__レジメンマスタ[[#This Row],[YJコード②]],[1]!__前投薬リスト[#Data],4,FALSE)&\"\",\"\")","v":""},"4回","ペメトレキセド","危 800mg/32mL ﾍﾟﾒﾄﾚｷｾﾄﾞ点滴静注液「NK」（希釈液:生食）（先:ｱﾘﾑﾀ）","4229401A3026","注射","１０ 分で",500,"㎡","mg",null,"d1",{"$f":"IFERROR(VLOOKUP(__レジメンマスタ[[#This Row],[YJコード③]],[1]!__前投薬リスト[#Data],4,FALSE)&\"\",\"\")","v":"(ステ)"},"4回",null,null,null,null,null,null,null,null,null,null,{"$f":"IFERROR(VLOOKUP(__レジメンマスタ[[#This Row],[YJコード④]],[1]!__前投薬リスト[#Data],4,FALSE)&\"\",\"\")","v":""},null,null,null,null,null,null,null,null,null,null,null,{"$f":"IFERROR(VLOOKUP(__レジメンマスタ[[#This Row],[YJコード⑤]],[1]!__前投薬リスト[#Data],4,FALSE)&\"\",\"\")","v":""},null,null,null,null,null,null,null,null,null,null,null,{"$f":"IFERROR(VLOOKUP(__レジメンマスタ[[#This Row],[YJコード⑥]],[1]!__前投薬リスト[#Data],4,FALSE)&\"\",\"\")","v":""},null,null,null,null,null,null,null,null,null,null,null,{"$f":"IFERROR(VLOOKUP(__レジメンマスタ[[#This Row],[YJコード⑦]],[1]!__前投薬リスト[#Data],4,FALSE)&\"\",\"\")","v":""}]
["RES0068","Pembro＋CDDP＋GEM","　　　　　 Ｗ1 　　　　Ｗ2　　　　　 Ｗ3\nPemb ↓×××××× ××××××× ×××××××  \nCDDP ↓×××××× ××××××× ×××××××  \nGEM  ↓×××××× ↓×××××× ×××××××  \nGEM:溶解液確認→Tzで行う方針の場合Tzへ変更\n4コース施行後→【手術】→術後はキイトルーダ単剤で13クール","21日","4＋13コース","非小細胞肺癌","呼吸器外科","キイトルーダ","危 ｷｲﾄﾙｰﾀﾞ点滴静注 100mg/4mL（希釈液:生食orTZ）","4291435A2025","注射","３０ 分で",200,"BODY","mg",null,"d1",{"$f":"IFERROR(VLOOKUP(__レジメンマスタ[[#This Row],[YJコード①]],[1]!__前投薬リスト[#Data],4,FALSE)&\"\",\"\")","v":""},"4＋13","シスプラチン","危〈毒〉50mg/100mL ｼｽﾌﾟﾗﾁﾝ点滴静注「ﾏﾙｺ」（先:ﾗﾝﾀﾞ）","4291401A3111","注射","１ 時間で",75,"㎡","mg",null,"d1",{"$f":"IFERROR(VLOOKUP(__レジメンマスタ[[#This Row],[YJコード②]],[1]!__前投薬リスト[#Data],4,FALSE)&\"\",\"\")","v":""},"4ｺｰｽ","ゲムシタビン","危 1g ｹﾞﾑｼﾀﾋﾞﾝ点滴静注用「ﾔｸﾙﾄ」（溶解液:生食）（先:ｼﾞｪﾑｻﾞｰﾙ）","4224403D2061","注射","３０ 分で",1000,"㎡","mg",null,"d1,8",{"$f":"IFERROR(VLOOKUP(__レジメンマスタ[[#This Row],[YJコード③]],[1]!__前投薬リスト[#Data],4,FALSE)&\"\",\"\")","v":""},"4ｺｰｽ",null,null,null,null,null,null,null,null,null,null,{"$f":"IFERROR(VLOOKUP(__レジメンマスタ[[#This Row],[YJコード④]],[1]!__前投薬リスト[#Data],4,FALSE)&\"\",\"\")","v":""},null,null,null,null,null,null,null,null,null,null,null,{"$f":"IFERROR(VLOOKUP(__レジメンマスタ[[#This Row],[YJコード⑤]],[1]!__前投薬リスト[#Data],4,FALSE)&\"\",\"\")","v":""},null,null,null,null,null,null,null,null,null,null,null,{"$f":"IFERROR(VLOOKUP(__レジメンマスタ[[#This Row],[YJコード⑥]],[1]!__前投薬リスト[#Data],4,FALSE)&\"\",\"\")","v":""},null,null,null,null,null,null,null,null,null,null,null,{"$f":"IFERROR(VLOOKUP(__レジメンマスタ[[#This Row],[YJコード⑦]],[1]!__前投薬リスト[#Data],4,FALSE)&\"\",\"\")","v":""}]
["RES0069","【治験】CBDCA+PEM+ABP234 or Pembro","1ｺｰｽ3週間　4ｺｰｽまで　5ｺｰｽ目以降はCBDCA抜きで維持療法\n（維持療法は維持療法開始日より最長24ヶ月継続）→制限年月日を患者特記事項に記載\nｼｱﾉｺﾊﾞﾗﾐﾝ：PEM投与開始1週間前に投与、9週間毎（PEM投与に関係なく）\nパンビタン末：PEM投与開始1週間前より内服開始。PEM投与後3週間は継続\n★★運用★★抗がん薬はすべて治験用を使用（輸液等は当院採用薬を使用）\n・治療することが決定してから治験薬が交付されます\n・レジメンチェックは通常通り行い、治験薬が交付されるまでは「薬品不足　セット監査未」の札を立てて、他の薬だけセットしてください\n・治験薬が交付されたら、調剤・監査して、ミキシング室へ持って行ってください\n・ミキシングは講習を受けた薬剤師がミキシングしてください（監査は誰でも可）","21日","4コース","非小細胞肺癌","呼吸器内科","キイトルーダ","危 ｷｲﾄﾙｰﾀﾞ点滴静注 100mg/4mL（希釈液:生食orTZ）","4291435A2025","注射","３０ 分で",200,"BODY","mg",null,"d1",{"$f":"IFERROR(VLOOKUP(__レジメンマスタ[[#This Row],[YJコード①]],[1]!__前投薬リスト[#Data],4,FALSE)&\"\",\"\")","v":""},null,"カルボプラチン","危〈毒〉ｶﾙﾎﾞﾌﾟﾗﾁﾝ点滴静注液「NK」150mg/15mL（先:ﾊﾟﾗﾌﾟﾗﾁﾝ）","4291403A2092","注射",null,5,"AUC","mg",null,"d1",{"$f":"IFERROR(VLOOKUP(__レジメンマスタ[[#This Row],[YJコード②]],[1]!__前投薬リスト[#Data],4,FALSE)&\"\",\"\")","v":""},"4回","ペメトレキセド","危 800mg/32mL ﾍﾟﾒﾄﾚｷｾﾄﾞ点滴静注液「NK」（希釈液:生食）（先:ｱﾘﾑﾀ）","4229401A3026","注射","１０ 分で",500,"㎡","mg",null,"d1",{"$f":"IFERROR(VLOOKUP(__レジメンマスタ[[#This Row],[YJコード③]],[1]!__前投薬リスト[#Data],4,FALSE)&\"\",\"\")","v":"(ステ)"},null,null,null,null,null,null,null,null,null,null,null,{"$f":"IFERROR(VLOOKUP(__レジメンマスタ[[#This Row],[YJコード④]],[1]!__前投薬リスト[#Data],4,FALSE)&\"\",\"\")","v":""},null,null,null,null,null,null,null,null,null,null,null,{"$f":"IFERROR(VLOOKUP(__レジメンマスタ[[#This Row],[YJコード⑤]],[1]!__前投薬リスト[#Data],4,FALSE)&\"\",\"\")","v":""},null,null,null,null,null,null,null,null,null,null,null,{"$f":"IFERROR(VLOOKUP(__レジメンマスタ[[#This Row],[YJコード⑥]],[1]!__前投薬リスト[#Data],4,FALSE)&\"\",\"\")","v":""},null,null,null,null,null,null,null,null,null,null,null,{"$f":"IFERROR(VLOOKUP(__レジメンマスタ[[#This Row],[YJコード⑦]],[1]!__前投薬リスト[#Data],4,FALSE)&\"\",\"\")","v":""}]
["RES0070-12","CBDCA+PEM+アミバンタマブ（80kg以上）","　　　　　 Ｗ1 　　　　　   　　Ｗ2　　　　　    Ｗ3 \nCBDCA ↓××××××   　× ×××××× 　× ××××××  \nPEM   ↓××××××   　× ××××××　 × ××××××\nAmiva ↓(↓)×××××  (↓)××××××  (↓)×××××× ※()1ｸｰﾙ目のみ\nｼｱﾉｺﾊﾞﾗﾐﾝ：PEM投与開始1週間前に投与、9週間毎（PEM投与に関係なく）\nパンビタン末：PEM投与開始1週間前より内服開始。PEM投与後3週間は継続\n呼内：補正CCｒ算出法　sCr値＋0.2。CBDCAは4コースまで\n","21日","4コース","非小細胞肺癌","呼吸器内科","カルボプラチン",null,"4291403A2092","注射",null,5,"AUC","mg",null,"d1",{"$f":"IFERROR(VLOOKUP(__レジメンマスタ[[#This Row],[YJコード①]],[1]!__前投薬リスト[#Data],4,FALSE)&\"\",\"\")","v":""},"4回","ペメトレキセド",null,"4229401A2020","注射","１０ 分で",500,"㎡","mg",null,"d1",{"$f":"IFERROR(VLOOKUP(__レジメンマスタ[[#This Row],[YJコード②]],[1]!__前投薬リスト[#Data],4,FALSE)&\"\",\"\")","v":"(ステ)"},"∞","ライブリバント",null,"4291473A1024","注射",null,350,"BODY","mg",null,"1C:d1",{"$f":"IFERROR(VLOOKUP(__レジメンマスタ[[#This Row],[YJコード③]],[1]!__前投薬リスト[#Data],4,FALSE)&\"\",\"\")","v":"①d1,2:抗ﾋｽ,ｽﾃ,解,(H2B)d8以降:抗ﾋｽ,解,(H2B,ｽﾃ)"},null,"ライブリバント",null,"4291473A1024","注射",null,1400,"BODY","mg",null,"1C:d2",{"$f":"IFERROR(VLOOKUP(__レジメンマスタ[[#This Row],[YJコード④]],[1]!__前投薬リスト[#Data],4,FALSE)&\"\",\"\")","v":"①d1,2:抗ﾋｽ,ｽﾃ,解,(H2B)d8以降:抗ﾋｽ,解,(H2B,ｽﾃ)"},null,"ライブリバント",null,"4291473A1024","注射",null,1750,"BODY","mg",null,"1C:d8,15\n2C:d1",{"$f":"IFERROR(VLOOKUP(__レジメンマスタ[[#This Row],[YJコード⑤]],[1]!__前投薬リスト[#Data],4,FALSE)&\"\",\"\")","v":"①d1,2:抗ﾋｽ,ｽﾃ,解,(H2B)d8以降:抗ﾋｽ,解,(H2B,ｽﾃ)"},null,"ライブリバント",null,"4291473A1024","注射",null,2100,"BODY","mg",null,"3C～:d1",{"$f":"IFERROR(VLOOKUP(__レジメンマスタ[[#This Row],[YJコード⑥]],[1]!__前投薬リスト[#Data],4,FALSE)&\"\",\"\")","v":"①d1,2:抗ﾋｽ,ｽﾃ,解,(H2B)d8以降:抗ﾋｽ,解,(H2B,ｽﾃ)"},null,null,null,null,null,null,null,null,null,null,null,{"$f":"IFERROR(VLOOKUP(__レジメンマスタ[[#This Row],[YJコード⑦]],[1]!__前投薬リスト[#Data],4,FALSE)&\"\",\"\")","v":""}]
["RES0070-11","CBDCA+PEM+アミバンタマブ（80kg未満）","　　　　　 Ｗ1 　　　　　   　　Ｗ2　　　　　    Ｗ3 \nCBDCA ↓××××××   　× ×××××× 　× ××××××  \nPEM   ↓××××××   　× ××××××　 × ××××××\nAmiva ↓(↓)×××××  (↓)××××××  (↓)×××××× ※()1ｸｰﾙ目のみ\nｼｱﾉｺﾊﾞﾗﾐﾝ：PEM投与開始1週間前に投与、9週間毎（PEM投与に関係なく）\nパンビタン末：PEM投与開始1週間前より内服開始。PEM投与後3週間は継続\n呼内：補正CCｒ算出法　sCr値＋0.2。CBDCAは4コースまで\n","21日","4コース","非小細胞肺癌","呼吸器内科","カルボプラチン",null,"4291403A2092","注射",null,5,"AUC","mg",null,"d1",{"$f":"IFERROR(VLOOKUP(__レジメンマスタ[[#This Row],[YJコード①]],[1]!__前投薬リスト[#Data],4,FALSE)&\"\",\"\")","v":""},"4回","ペメトレキセド",null,"4229401A2020","注射","１０ 分で",500,"㎡","mg",null,"d1",{"$f":"IFERROR(VLOOKUP(__レジメンマスタ[[#This Row],[YJコード②]],[1]!__前投薬リスト[#Data],4,FALSE)&\"\",\"\")","v":"(ステ)"},"∞","ライブリバント",null,"4291473A1024","注射",null,350,"BODY","mg",null,"1C:d1",{"$f":"IFERROR(VLOOKUP(__レジメンマスタ[[#This Row],[YJコード③]],[1]!__前投薬リスト[#Data],4,FALSE)&\"\",\"\")","v":"①d1,2:抗ﾋｽ,ｽﾃ,解,(H2B)d8以降:抗ﾋｽ,解,(H2B,ｽﾃ)"},null,"ライブリバント",null,"4291473A1024","注射",null,1050,"BODY","mg",null,"1C:d2",{"$f":"IFERROR(VLOOKUP(__レジメンマスタ[[#This Row],[YJコード④]],[1]!__前投薬リスト[#Data],4,FALSE)&\"\",\"\")","v":"①d1,2:抗ﾋｽ,ｽﾃ,解,(H2B)d8以降:抗ﾋｽ,解,(H2B,ｽﾃ)"},null,"ライブリバント",null,"4291473A1024","注射",null,1400,"BODY","mg",null,"1C:d8,15\n2C:d1",{"$f":"IFERROR(VLOOKUP(__レジメンマスタ[[#This Row],[YJコード⑤]],[1]!__前投薬リスト[#Data],4,FALSE)&\"\",\"\")","v":"①d1,2:抗ﾋｽ,ｽﾃ,解,(H2B)d8以降:抗ﾋｽ,解,(H2B,ｽﾃ)"},null,"ライブリバント",null,"4291473A1024","注射",null,1750,"BODY","mg",null,"3C～:d1",{"$f":"IFERROR(VLOOKUP(__レジメンマスタ[[#This Row],[YJコード⑥]],[1]!__前投薬リスト[#Data],4,FALSE)&\"\",\"\")","v":"①d1,2:抗ﾋｽ,ｽﾃ,解,(H2B)d8以降:抗ﾋｽ,解,(H2B,ｽﾃ)"},null,null,null,null,null,null,null,null,null,null,null,{"$f":"IFERROR(VLOOKUP(__レジメンマスタ[[#This Row],[YJコード⑦]],[1]!__前投薬リスト[#Data],4,FALSE)&\"\",\"\")","v":""}]
["RES0071","イムデトラ","　　　　　    Ｗ1 　　　　　Ｗ2　　　　　 Ｗ3　　　　　　　Ｗ4\n※1C目　 ↓×××××× ↓×××××× ↓×××××× ×××××××\n2C以降　 ↓×××××× ×××××××\n1コース目はd1,d8,15に投与（4週間）\n2コース目以降はd1に投与（2週間毎）\n","28日→14日",null,"小細胞肺癌","呼吸器内科","イムデトラ",null,"4291477D1029","注射","１ 時間で",1,"BODY","mg",null,"1C:d1",{"$f":"IFERROR(VLOOKUP(__レジメンマスタ[[#This Row],[YJコード①]],[1]!__前投薬リスト[#Data],4,FALSE)&\"\",\"\")","v":"①d1,8→ステ"},null,"イムデトラ",null,"4291477D2025","注射","１ 時間で",10,"BODY","mg",null,"1C:d8,15\n2C～：d1",{"$f":"IFERROR(VLOOKUP(__レジメンマスタ[[#This Row],[YJコード②]],[1]!__前投薬リスト[#Data],4,FALSE)&\"\",\"\")","v":"①d1,8→ステ"},null,null,null,null,null,null,null,null,null,null,null,{"$f":"IFERROR(VLOOKUP(__レジメンマスタ[[#This Row],[YJコード③]],[1]!__前投薬リスト[#Data],4,FALSE)&\"\",\"\")","v":""},null,null,null,null,null,null,null,null,null,null,null,{"$f":"IFERROR(VLOOKUP(__レジメンマスタ[[#This Row],[YJコード④]],[1]!__前投薬リスト[#Data],4,FALSE)&\"\",\"\")","v":""},null,null,null,null,null,null,null,null,null,null,null,{"$f":"IFERROR(VLOOKUP(__レジメンマスタ[[#This Row],[YJコード⑤]],[1]!__前投薬リスト[#Data],4,FALSE)&\"\",\"\")","v":""},null,null,null,null,null,null,null,null,null,null,null,{"$f":"IFERROR(VLOOKUP(__レジメンマスタ[[#This Row],[YJコード⑥]],[1]!__前投薬リスト[#Data],4,FALSE)&\"\",\"\")","v":""},null,null,null,null,null,null,null,null,null,null,null,{"$f":"IFERROR(VLOOKUP(__レジメンマスタ[[#This Row],[YJコード⑦]],[1]!__前投薬リスト[#Data],4,FALSE)&\"\",\"\")","v":""}]
["RES0072-01","デュルバルマブ（小細胞肺癌）"," ４週間ごとに投与             \n  投与期間：24ヶ月→制限年月日を患者特記事項に記載\n   　　　　　　　　W1  　　　　　 W2～4  \nイミフィンジ  ↓××××××  ×××××××  \n","28日","2年間","小細胞肺癌","呼吸器内科","イミフィンジ","危 500mg/10mL ｲﾐﾌｨﾝｼﾞ点滴静注（希釈液:生食orTZ）","4291443A2020","注射","６０ 分で",1500,"BODY","mg",null,"d1",{"$f":"IFERROR(VLOOKUP(__レジメンマスタ[[#This Row],[YJコード①]],[1]!__前投薬リスト[#Data],4,FALSE)&\"\",\"\")","v":""},null,null,null,null,null,null,null,null,"mg",null,null,{"$f":"IFERROR(VLOOKUP(__レジメンマスタ[[#This Row],[YJコード②]],[1]!__前投薬リスト[#Data],4,FALSE)&\"\",\"\")","v":""},null,null,null,null,null,null,null,null,null,null,null,{"$f":"IFERROR(VLOOKUP(__レジメンマスタ[[#This Row],[YJコード③]],[1]!__前投薬リスト[#Data],4,FALSE)&\"\",\"\")","v":""},null,null,null,null,null,null,null,null,null,null,null,{"$f":"IFERROR(VLOOKUP(__レジメンマスタ[[#This Row],[YJコード④]],[1]!__前投薬リスト[#Data],4,FALSE)&\"\",\"\")","v":""},null,null,null,null,null,null,null,null,null,null,null,{"$f":"IFERROR(VLOOKUP(__レジメンマスタ[[#This Row],[YJコード⑤]],[1]!__前投薬リスト[#Data],4,FALSE)&\"\",\"\")","v":""},null,null,null,null,null,null,null,null,null,null,null,{"$f":"IFERROR(VLOOKUP(__レジメンマスタ[[#This Row],[YJコード⑥]],[1]!__前投薬リスト[#Data],4,FALSE)&\"\",\"\")","v":""},null,null,null,null,null,null,null,null,null,null,null,{"$f":"IFERROR(VLOOKUP(__レジメンマスタ[[#This Row],[YJコード⑦]],[1]!__前投薬リスト[#Data],4,FALSE)&\"\",\"\")","v":""}]
["RES0072-02","デュルバルマブ（小細胞肺癌、体重30kg以下）"," ４週間ごとに投与             \n  投与期間：24ヶ月→制限年月日を患者特記事項に記載\n   　　　　　　　　W1  　　　　　 W2～4\nイミフィンジ  ↓××××××  ×××××××  \n","28日","2年間","小細胞肺癌","呼吸器内科","イミフィンジ","危 500mg/10mL ｲﾐﾌｨﾝｼﾞ点滴静注（希釈液:生食orTZ）","4291443A2020","注射","６０ 分で",20,"kg","mg",null,"d1",{"$f":"IFERROR(VLOOKUP(__レジメンマスタ[[#This Row],[YJコード①]],[1]!__前投薬リスト[#Data],4,FALSE)&\"\",\"\")","v":""},null,null,null,null,null,null,null,null,"mg",null,null,{"$f":"IFERROR(VLOOKUP(__レジメンマスタ[[#This Row],[YJコード②]],[1]!__前投薬リスト[#Data],4,FALSE)&\"\",\"\")","v":""},null,null,null,null,null,null,null,null,null,null,null,{"$f":"IFERROR(VLOOKUP(__レジメンマスタ[[#This Row],[YJコード③]],[1]!__前投薬リスト[#Data],4,FALSE)&\"\",\"\")","v":""},null,null,null,null,null,null,null,null,null,null,null,{"$f":"IFERROR(VLOOKUP(__レジメンマスタ[[#This Row],[YJコード④]],[1]!__前投薬リスト[#Data],4,FALSE)&\"\",\"\")","v":""},null,null,null,null,null,null,null,null,null,null,null,{"$f":"IFERROR(VLOOKUP(__レジメンマスタ[[#This Row],[YJコード⑤]],[1]!__前投薬リスト[#Data],4,FALSE)&\"\",\"\")","v":""},null,null,null,null,null,null,null,null,null,null,null,{"$f":"IFERROR(VLOOKUP(__レジメンマスタ[[#This Row],[YJコード⑥]],[1]!__前投薬リスト[#Data],4,FALSE)&\"\",\"\")","v":""},null,null,null,null,null,null,null,null,null,null,null,{"$f":"IFERROR(VLOOKUP(__レジメンマスタ[[#This Row],[YJコード⑦]],[1]!__前投薬リスト[#Data],4,FALSE)&\"\",\"\")","v":""}]
["RES0073-12","ラゼルチニブ＋アミバンタマブ(80kg以上)","　　　　　    Ｗ1 　　　　　Ｗ2　　　　　 Ｗ3　　　　　　Ｗ4\n※1C目　 ↓↓××××× ↓×××××× ↓×××××× ↓××××××\n2C以降　 ↓×××××× ××××××× ↓×××××× ×××××××\nラズクルーズは連日投与\n","28日",null,"非小細胞肺癌",null,"ライブリバント",null,"4291473A1024","注射",null,350,"BODY","mg",null,"1C:d1",{"$f":"IFERROR(VLOOKUP(__レジメンマスタ[[#This Row],[YJコード①]],[1]!__前投薬リスト[#Data],4,FALSE)&\"\",\"\")","v":"①d1,2:抗ﾋｽ,ｽﾃ,解,(H2B)d8以降:抗ﾋｽ,解,(H2B,ｽﾃ)"},null,"ライブリバント",null,"4291473A1024","注射",null,1050,"BODY","mg",null,"1C:d2",{"$f":"IFERROR(VLOOKUP(__レジメンマスタ[[#This Row],[YJコード②]],[1]!__前投薬リスト[#Data],4,FALSE)&\"\",\"\")","v":"①d1,2:抗ﾋｽ,ｽﾃ,解,(H2B)d8以降:抗ﾋｽ,解,(H2B,ｽﾃ)"},null,"ライブリバント",null,"4291473A1024","注射",null,1400,"BODY","mg",null,"1C:d8,15,22\n2C～:d1,15",{"$f":"IFERROR(VLOOKUP(__レジメンマスタ[[#This Row],[YJコード③]],[1]!__前投薬リスト[#Data],4,FALSE)&\"\",\"\")","v":"①d1,2:抗ﾋｽ,ｽﾃ,解,(H2B)d8以降:抗ﾋｽ,解,(H2B,ｽﾃ)"},null,null,null,null,null,null,null,null,null,null,null,{"$f":"IFERROR(VLOOKUP(__レジメンマスタ[[#This Row],[YJコード④]],[1]!__前投薬リスト[#Data],4,FALSE)&\"\",\"\")","v":""},null,null,null,null,null,null,null,null,null,null,null,{"$f":"IFERROR(VLOOKUP(__レジメンマスタ[[#This Row],[YJコード⑤]],[1]!__前投薬リスト[#Data],4,FALSE)&\"\",\"\")","v":""},null,null,null,null,null,null,null,null,null,null,null,{"$f":"IFERROR(VLOOKUP(__レジメンマスタ[[#This Row],[YJコード⑥]],[1]!__前投薬リスト[#Data],4,FALSE)&\"\",\"\")","v":""},null,null,null,null,null,null,null,null,null,null,null,{"$f":"IFERROR(VLOOKUP(__レジメンマスタ[[#This Row],[YJコード⑦]],[1]!__前投薬リスト[#Data],4,FALSE)&\"\",\"\")","v":""}]
["RES0073-11","ラゼルチニブ＋アミバンタマブ(80kg未満)","　　　　　    Ｗ1 　　　　　Ｗ2　　　　　 Ｗ3　　　　　　Ｗ4\n※1C目　 ↓↓××××× ↓×××××× ↓×××××× ↓××××××\n2C以降　 ↓×××××× ××××××× ↓×××××× ×××××××\nラズクルーズは連日投与\n","28日",null,"非小細胞肺癌",null,"ライブリバント",null,"4291473A1024","注射",null,350,"BODY","mg",null,"1C:d1",{"$f":"IFERROR(VLOOKUP(__レジメンマスタ[[#This Row],[YJコード①]],[1]!__前投薬リスト[#Data],4,FALSE)&\"\",\"\")","v":"①d1,2:抗ﾋｽ,ｽﾃ,解,(H2B)d8以降:抗ﾋｽ,解,(H2B,ｽﾃ)"},null,"ライブリバント",null,"4291473A1024","注射",null,700,"BODY","mg",null,"1C:d2",{"$f":"IFERROR(VLOOKUP(__レジメンマスタ[[#This Row],[YJコード②]],[1]!__前投薬リスト[#Data],4,FALSE)&\"\",\"\")","v":"①d1,2:抗ﾋｽ,ｽﾃ,解,(H2B)d8以降:抗ﾋｽ,解,(H2B,ｽﾃ)"},null,"ライブリバント",null,"4291473A1024","注射",null,1050,"BODY","mg",null,"1C:d8,15,22\n2C～:d1,15",{"$f":"IFERROR(VLOOKUP(__レジメンマスタ[[#This Row],[YJコード③]],[1]!__前投薬リスト[#Data],4,FALSE)&\"\",\"\")","v":"①d1,2:抗ﾋｽ,ｽﾃ,解,(H2B)d8以降:抗ﾋｽ,解,(H2B,ｽﾃ)"},null,null,null,null,null,null,null,null,null,null,null,{"$f":"IFERROR(VLOOKUP(__レジメンマスタ[[#This Row],[YJコード④]],[1]!__前投薬リスト[#Data],4,FALSE)&\"\",\"\")","v":""},null,null,null,null,null,null,null,null,null,null,null,{"$f":"IFERROR(VLOOKUP(__レジメンマスタ[[#This Row],[YJコード⑤]],[1]!__前投薬リスト[#Data],4,FALSE)&\"\",\"\")","v":""},null,null,null,null,null,null,null,null,null,null,null,{"$f":"IFERROR(VLOOKUP(__レジメンマスタ[[#This Row],[YJコード⑥]],[1]!__前投薬リスト[#Data],4,FALSE)&\"\",\"\")","v":""},null,null,null,null,null,null,null,null,null,null,null,{"$f":"IFERROR(VLOOKUP(__レジメンマスタ[[#This Row],[YJコード⑦]],[1]!__前投薬リスト[#Data],4,FALSE)&\"\",\"\")","v":""}]
["RES0074","（作成中）Pembro+CBDCA+PEM（中皮腫）","　　　　　  Ｗ1 　　　　Ｗ2　　　　　 Ｗ3\nPmbro ↓×××××× ××××××× ××××××× \nCBDCA ↓×××××× ××××××× ×××××××  \nPEM   ↓×××××× ××××××× ×××××××\n★CBDCAはAUC5～6★   \nｼｱﾉｺﾊﾞﾗﾐﾝ：PEM投与開始1週間前に投与、9週間毎（PEM投与に関係なく）\nパンビタン末：PEM投与開始1週間前より内服開始。PEM投与後3週間は継続\n6クール以降はPembro単独の維持療法へ。呼内：補正CCｒ算出法　sCr値＋0.2","21日","6クール","悪性胸膜中皮腫","呼吸器内科","キイトルーダ","危 ｷｲﾄﾙｰﾀﾞ点滴静注 100mg/4mL（希釈液:生食orTZ）","4291435A2025","注射","３０ 分で",200,"BODY","mg",null,"d1",{"$f":"IFERROR(VLOOKUP(__レジメンマスタ[[#This Row],[YJコード①]],[1]!__前投薬リスト[#Data],4,FALSE)&\"\",\"\")","v":""},"∞","カルボプラチン","危〈毒〉ｶﾙﾎﾞﾌﾟﾗﾁﾝ点滴静注液「NK」150mg/15mL（先:ﾊﾟﾗﾌﾟﾗﾁﾝ）","4291403A2092","注射","１ 時間で",6,"AUC","mg",null,"d1",{"$f":"IFERROR(VLOOKUP(__レジメンマスタ[[#This Row],[YJコード②]],[1]!__前投薬リスト[#Data],4,FALSE)&\"\",\"\")","v":""},"6回","ペメトレキセド","危 800mg/32mL ﾍﾟﾒﾄﾚｷｾﾄﾞ点滴静注液「NK」（希釈液:生食）（先:ｱﾘﾑﾀ）","4229401A3026","注射","１０ 分で",500,"㎡","mg",null,"d1",{"$f":"IFERROR(VLOOKUP(__レジメンマスタ[[#This Row],[YJコード③]],[1]!__前投薬リスト[#Data],4,FALSE)&\"\",\"\")","v":"(ステ)"},"6回",null,null,null,null,null,null,null,null,null,null,{"$f":"IFERROR(VLOOKUP(__レジメンマスタ[[#This Row],[YJコード④]],[1]!__前投薬リスト[#Data],4,FALSE)&\"\",\"\")","v":""},null,null,null,null,null,null,null,null,null,null,null,{"$f":"IFERROR(VLOOKUP(__レジメンマスタ[[#This Row],[YJコード⑤]],[1]!__前投薬リスト[#Data],4,FALSE)&\"\",\"\")","v":""},null,null,null,null,null,null,null,null,null,null,null,{"$f":"IFERROR(VLOOKUP(__レジメンマスタ[[#This Row],[YJコード⑥]],[1]!__前投薬リスト[#Data],4,FALSE)&\"\",\"\")","v":""},null,null,null,null,null,null,null,null,null,null,null,{"$f":"IFERROR(VLOOKUP(__レジメンマスタ[[#This Row],[YJコード⑦]],[1]!__前投薬リスト[#Data],4,FALSE)&\"\",\"\")","v":""}]
["RES0075-1","デュルバルマブ+CBDCA+PTX(術前）","　　　　　  Ｗ1 　　　　Ｗ2　　　　　 Ｗ3\nPmbro ↓×××××× ××××××× ××××××× \nCBDCA ↓×××××× ××××××× ×××××××  \nPTX   ↓×××××× ××××××× ×××××××\n★CBDCAはAUC6★   \n4クール施行後に手術しDUR術後療法へ（レジメン変更へ）","21日","4クール","非小細胞肺癌","呼吸器外科","イミフィンジ","危 500mg/10mL ｲﾐﾌｨﾝｼﾞ点滴静注（希釈液:生食orTZ）","4291443A2020","注射","６０ 分で",1500,"BODY","mg",null,"d1",{"$f":"IFERROR(VLOOKUP(__レジメンマスタ[[#This Row],[YJコード①]],[1]!__前投薬リスト[#Data],4,FALSE)&\"\",\"\")","v":""},null,"パクリタキセル","危〈毒〉100mg/16.7mL ﾊﾟｸﾘﾀｷｾﾙ注「NK」（希釈液:生食orTZ）（先:ﾀｷｿｰﾙ）","4240406A2046","注射","3時間",200,"㎡","mg",null,"d1",{"$f":"IFERROR(VLOOKUP(__レジメンマスタ[[#This Row],[YJコード②]],[1]!__前投薬リスト[#Data],4,FALSE)&\"\",\"\")","v":"抗ヒス,H2B,ステ"},null,"カルボプラチン","危〈毒〉ｶﾙﾎﾞﾌﾟﾗﾁﾝ点滴静注液「NK」150mg/15mL（先:ﾊﾟﾗﾌﾟﾗﾁﾝ）","4291403A2092","注射","１ 時間で",6,"AUC","mg","中","d1",null,"4回",null,null,null,null,null,null,null,null,null,null,{"$f":"IFERROR(VLOOKUP(__レジメンマスタ[[#This Row],[YJコード④]],[1]!__前投薬リスト[#Data],4,FALSE)&\"\",\"\")","v":""},null,null,null,null,null,null,null,null,null,null,null,{"$f":"IFERROR(VLOOKUP(__レジメンマスタ[[#This Row],[YJコード⑤]],[1]!__前投薬リスト[#Data],4,FALSE)&\"\",\"\")","v":""},null,null,null,null,null,null,null,null,null,null,null,{"$f":"IFERROR(VLOOKUP(__レジメンマスタ[[#This Row],[YJコード⑥]],[1]!__前投薬リスト[#Data],4,FALSE)&\"\",\"\")","v":""},null,null,null,null,null,null,null,null,null,null,null,{"$f":"IFERROR(VLOOKUP(__レジメンマスタ[[#This Row],[YJコード⑦]],[1]!__前投薬リスト[#Data],4,FALSE)&\"\",\"\")","v":""}]
["RES0075-2","デュルバルマブ+CBDCA+PTX(術前　BW30kg以下)","　　　　　  Ｗ1 　　　　Ｗ2　　　　　 Ｗ3\nPmbro ↓×××××× ××××××× ××××××× \nCBDCA ↓×××××× ××××××× ×××××××  \nPTX   ↓×××××× ××××××× ×××××××\n★CBDCAはAUC6★   \n4クール施行後に手術しDUR術後療法へ（レジメン変更へ）","21日","4クール","非小細胞肺癌","呼吸器外科","イミフィンジ","危 500mg/10mL ｲﾐﾌｨﾝｼﾞ点滴静注（希釈液:生食orTZ）","4291443A2020","注射","６０ 分で",20,"kg","mg",null,"d1",{"$f":"IFERROR(VLOOKUP(__レジメンマスタ[[#This Row],[YJコード①]],[1]!__前投薬リスト[#Data],4,FALSE)&\"\",\"\")","v":""},null,"パクリタキセル","危〈毒〉100mg/16.7mL ﾊﾟｸﾘﾀｷｾﾙ注「NK」（希釈液:生食orTZ）（先:ﾀｷｿｰﾙ）","4240406A2046","注射","3時間",200,"㎡","mg",null,"d1",{"$f":"IFERROR(VLOOKUP(__レジメンマスタ[[#This Row],[YJコード②]],[1]!__前投薬リスト[#Data],4,FALSE)&\"\",\"\")","v":"抗ヒス,H2B,ステ"},null,"カルボプラチン","危〈毒〉ｶﾙﾎﾞﾌﾟﾗﾁﾝ点滴静注液「NK」150mg/15mL（先:ﾊﾟﾗﾌﾟﾗﾁﾝ）","4291403A2092","注射","１ 時間で",6,"AUC","mg","中","d1",null,"4回",null,null,null,null,null,null,null,null,null,null,{"$f":"IFERROR(VLOOKUP(__レジメンマスタ[[#This Row],[YJコード④]],[1]!__前投薬リスト[#Data],4,FALSE)&\"\",\"\")","v":""},null,null,null,null,null,null,null,null,null,null,null,{"$f":"IFERROR(VLOOKUP(__レジメンマスタ[[#This Row],[YJコード⑤]],[1]!__前投薬リスト[#Data],4,FALSE)&\"\",\"\")","v":""},null,null,null,null,null,null,null,null,null,null,null,{"$f":"IFERROR(VLOOKUP(__レジメンマスタ[[#This Row],[YJコード⑥]],[1]!__前投薬リスト[#Data],4,FALSE)&\"\",\"\")","v":""},null,null,null,null,null,null,null,null,null,null,null,{"$f":"IFERROR(VLOOKUP(__レジメンマスタ[[#This Row],[YJコード⑦]],[1]!__前投薬リスト[#Data],4,FALSE)&\"\",\"\")","v":""}]
["RES0075-3","デュルバルマブ+CBDCA+PTX(術後）"," ４週間ごとに投与  12回まで\n　　　　　W1  　　  　 W2～W4  \nDUR  ↓××××××  ×××××××  \n","28日","12回","非小細胞肺癌","呼吸器外科","イミフィンジ","危 500mg/10mL ｲﾐﾌｨﾝｼﾞ点滴静注（希釈液:生食orTZ）","4291443A2020","注射","６０ 分で",1500,"BODY","mg",null,"d1",{"$f":"IFERROR(VLOOKUP(__レジメンマスタ[[#This Row],[YJコード①]],[1]!__前投薬リスト[#Data],4,FALSE)&\"\",\"\")","v":""},"12回",null,null,null,null,null,null,null,null,null,null,{"$f":"IFERROR(VLOOKUP(__レジメンマスタ[[#This Row],[YJコード②]],[1]!__前投薬リスト[#Data],4,FALSE)&\"\",\"\")","v":""},null,null,null,null,null,null,null,null,null,null,null,{"$f":"IFERROR(VLOOKUP(__レジメンマスタ[[#This Row],[YJコード③]],[1]!__前投薬リスト[#Data],4,FALSE)&\"\",\"\")","v":""},null,null,null,null,null,null,null,null,null,null,null,{"$f":"IFERROR(VLOOKUP(__レジメンマスタ[[#This Row],[YJコード④]],[1]!__前投薬リスト[#Data],4,FALSE)&\"\",\"\")","v":""},null,null,null,null,null,null,null,null,null,null,null,{"$f":"IFERROR(VLOOKUP(__レジメンマスタ[[#This Row],[YJコード⑤]],[1]!__前投薬リスト[#Data],4,FALSE)&\"\",\"\")","v":""},null,null,null,null,null,null,null,null,null,null,null,{"$f":"IFERROR(VLOOKUP(__レジメンマスタ[[#This Row],[YJコード⑥]],[1]!__前投薬リスト[#Data],4,FALSE)&\"\",\"\")","v":""},null,null,null,null,null,null,null,null,null,null,null,{"$f":"IFERROR(VLOOKUP(__レジメンマスタ[[#This Row],[YJコード⑦]],[1]!__前投薬リスト[#Data],4,FALSE)&\"\",\"\")","v":""}]
["RES0075-4","デュルバルマブ+CBDCA+PTX(術後　BW30kg以下)"," ４週間ごとに投与  12回まで\n　　　　　W1  　　  　 W2～W4  \nDUR  ↓××××××  ×××××××  \n","28日","12回","非小細胞肺癌","呼吸器外科","イミフィンジ","危 500mg/10mL ｲﾐﾌｨﾝｼﾞ点滴静注（希釈液:生食orTZ）","4291443A2020","注射","６０ 分で",20,"kg","mg",null,"d1",{"$f":"IFERROR(VLOOKUP(__レジメンマスタ[[#This Row],[YJコード①]],[1]!__前投薬リスト[#Data],4,FALSE)&\"\",\"\")","v":""},"12回",null,null,null,null,null,null,null,null,null,null,{"$f":"IFERROR(VLOOKUP(__レジメンマスタ[[#This Row],[YJコード②]],[1]!__前投薬リスト[#Data],4,FALSE)&\"\",\"\")","v":""},null,null,null,null,null,null,null,null,null,null,null,{"$f":"IFERROR(VLOOKUP(__レジメンマスタ[[#This Row],[YJコード③]],[1]!__前投薬リスト[#Data],4,FALSE)&\"\",\"\")","v":""},null,null,null,null,null,null,null,null,null,null,null,{"$f":"IFERROR(VLOOKUP(__レジメンマスタ[[#This Row],[YJコード④]],[1]!__前投薬リスト[#Data],4,FALSE)&\"\",\"\")","v":""},null,null,null,null,null,null,null,null,null,null,null,{"$f":"IFERROR(VLOOKUP(__レジメンマスタ[[#This Row],[YJコード⑤]],[1]!__前投薬リスト[#Data],4,FALSE)&\"\",\"\")","v":""},null,null,null,null,null,null,null,null,null,null,null,{"$f":"IFERROR(VLOOKUP(__レジメンマスタ[[#This Row],[YJコード⑥]],[1]!__前投薬リスト[#Data],4,FALSE)&\"\",\"\")","v":""},null,null,null,null,null,null,null,null,null,null,null,{"$f":"IFERROR(VLOOKUP(__レジメンマスタ[[#This Row],[YJコード⑦]],[1]!__前投薬リスト[#Data],4,FALSE)&\"\",\"\")","v":""}]
["RES0076-1","デュルバルマブ+CDDP+GEM(術前）","　　　　　  Ｗ1 　　　　Ｗ2　　　　　 Ｗ3\nDUR   ↓×××××× ××××××× ××××××× \nCDDP  ↓×××××× ××××××× ×××××××  \nGEM   ↓×××××× ↓×××××× ×××××××\n\n4クール施行後に手術しDUR術後療法へ（レジメン変更へ）。\nGEM:溶解液確認→Tzで行う方針の場合Tzへ変更","21日","4クール","非小細胞肺癌","呼吸器外科","イミフィンジ","危 500mg/10mL ｲﾐﾌｨﾝｼﾞ点滴静注（希釈液:生食orTZ）","4291443A2020","注射","６０ 分で",1500,"BODY","mg",null,"d1",{"$f":"IFERROR(VLOOKUP(__レジメンマスタ[[#This Row],[YJコード①]],[1]!__前投薬リスト[#Data],4,FALSE)&\"\",\"\")","v":""},null,"シスプラチン","危〈毒〉50mg/100mL ｼｽﾌﾟﾗﾁﾝ点滴静注「ﾏﾙｺ」（先:ﾗﾝﾀﾞ）","4291401A3111","注射","１ 時間で",75,"㎡","mg","高","d1",{"$f":"IFERROR(VLOOKUP(__レジメンマスタ[[#This Row],[YJコード②]],[1]!__前投薬リスト[#Data],4,FALSE)&\"\",\"\")","v":""},"4回","ゲムシタビン","危 1g ｹﾞﾑｼﾀﾋﾞﾝ点滴静注用「ﾔｸﾙﾄ」（溶解液:生食）（先:ｼﾞｪﾑｻﾞｰﾙ）","4224403D2061","注射","３０ 分で",1000,"㎡","mg","軽","d1,8",{"$f":"IFERROR(VLOOKUP(__レジメンマスタ[[#This Row],[YJコード②]],[1]!__前投薬リスト[#Data],4,FALSE)&\"\",\"\")","v":""},null,null,null,null,null,null,null,null,null,null,null,{"$f":"IFERROR(VLOOKUP(__レジメンマスタ[[#This Row],[YJコード④]],[1]!__前投薬リスト[#Data],4,FALSE)&\"\",\"\")","v":""},null,null,null,null,null,null,null,null,null,null,null,{"$f":"IFERROR(VLOOKUP(__レジメンマスタ[[#This Row],[YJコード⑤]],[1]!__前投薬リスト[#Data],4,FALSE)&\"\",\"\")","v":""},null,null,null,null,null,null,null,null,null,null,null,{"$f":"IFERROR(VLOOKUP(__レジメンマスタ[[#This Row],[YJコード⑥]],[1]!__前投薬リスト[#Data],4,FALSE)&\"\",\"\")","v":""},null,null,null,null,null,null,null,null,null,null,null,{"$f":"IFERROR(VLOOKUP(__レジメンマスタ[[#This Row],[YJコード⑦]],[1]!__前投薬リスト[#Data],4,FALSE)&\"\",\"\")","v":""}]
["RES0076-2","デュルバルマブ+CDDP+GEM(術前　BW30kg以下）","　　　　　  Ｗ1 　　　　Ｗ2　　　　　 Ｗ3\nDUR   ↓×××××× ××××××× ××××××× \nCDDP  ↓×××××× ××××××× ×××××××  \nGEM   ↓×××××× ↓×××××× ×××××××\n\n4クール施行後に手術しDUR術後療法へ（レジメン変更へ）。\nGEM:溶解液確認→Tzで行う方針の場合Tzへ変更","21日","4クール","非小細胞肺癌","呼吸器外科","イミフィンジ","危 500mg/10mL ｲﾐﾌｨﾝｼﾞ点滴静注（希釈液:生食orTZ）","4291443A2020","注射","６０ 分で",20,"kg","mg",null,"d1",{"$f":"IFERROR(VLOOKUP(__レジメンマスタ[[#This Row],[YJコード①]],[1]!__前投薬リスト[#Data],4,FALSE)&\"\",\"\")","v":""},null,"シスプラチン","危〈毒〉50mg/100mL ｼｽﾌﾟﾗﾁﾝ点滴静注「ﾏﾙｺ」（先:ﾗﾝﾀﾞ）","4291401A3111","注射","１ 時間で",75,"㎡","mg","高","d1",{"$f":"IFERROR(VLOOKUP(__レジメンマスタ[[#This Row],[YJコード②]],[1]!__前投薬リスト[#Data],4,FALSE)&\"\",\"\")","v":""},"4回","ゲムシタビン","危 1g ｹﾞﾑｼﾀﾋﾞﾝ点滴静注用「ﾔｸﾙﾄ」（溶解液:生食）（先:ｼﾞｪﾑｻﾞｰﾙ）","4224403D2061","注射","３０ 分で",1000,"㎡","mg","軽","d1,8",{"$f":"IFERROR(VLOOKUP(__レジメンマスタ[[#This Row],[YJコード②]],[1]!__前投薬リスト[#Data],4,FALSE)&\"\",\"\")","v":""},null,null,null,null,null,null,null,null,null,null,null,{"$f":"IFERROR(VLOOKUP(__レジメンマスタ[[#This Row],[YJコード④]],[1]!__前投薬リスト[#Data],4,FALSE)&\"\",\"\")","v":""},null,null,null,null,null,null,null,null,null,null,null,{"$f":"IFERROR(VLOOKUP(__レジメンマスタ[[#This Row],[YJコード⑤]],[1]!__前投薬リスト[#Data],4,FALSE)&\"\",\"\")","v":""},null,null,null,null,null,null,null,null,null,null,null,{"$f":"IFERROR(VLOOKUP(__レジメンマスタ[[#This Row],[YJコード⑥]],[1]!__前投薬リスト[#Data],4,FALSE)&\"\",\"\")","v":""},null,null,null,null,null,null,null,null,null,null,null,{"$f":"IFERROR(VLOOKUP(__レジメンマスタ[[#This Row],[YJコード⑦]],[1]!__前投薬リスト[#Data],4,FALSE)&\"\",\"\")","v":""}]
["RES0076-3","デュルバルマブ+CDDP+GEM(術後）"," ４週間ごとに投与  12回まで\n　　　　　W1  　　  　 W2～W4  \nDUR  ↓××××××  ×××××××  \n","28日","12回","非小細胞肺癌","呼吸器外科","イミフィンジ","危 500mg/10mL ｲﾐﾌｨﾝｼﾞ点滴静注（希釈液:生食orTZ）","4291443A2020","注射","６０ 分で",1500,"BODY","mg",null,"d1",{"$f":"IFERROR(VLOOKUP(__レジメンマスタ[[#This Row],[YJコード①]],[1]!__前投薬リスト[#Data],4,FALSE)&\"\",\"\")","v":""},"12回",null,null,null,null,null,null,null,null,null,null,{"$f":"IFERROR(VLOOKUP(__レジメンマスタ[[#This Row],[YJコード②]],[1]!__前投薬リスト[#Data],4,FALSE)&\"\",\"\")","v":""},null,null,null,null,null,null,null,null,null,null,null,{"$f":"IFERROR(VLOOKUP(__レジメンマスタ[[#This Row],[YJコード③]],[1]!__前投薬リスト[#Data],4,FALSE)&\"\",\"\")","v":""},null,null,null,null,null,null,null,null,null,null,null,{"$f":"IFERROR(VLOOKUP(__レジメンマスタ[[#This Row],[YJコード④]],[1]!__前投薬リスト[#Data],4,FALSE)&\"\",\"\")","v":""},null,null,null,null,null,null,null,null,null,null,null,{"$f":"IFERROR(VLOOKUP(__レジメンマスタ[[#This Row],[YJコード⑤]],[1]!__前投薬リスト[#Data],4,FALSE)&\"\",\"\")","v":""},null,null,null,null,null,null,null,null,null,null,null,{"$f":"IFERROR(VLOOKUP(__レジメンマスタ[[#This Row],[YJコード⑥]],[1]!__前投薬リスト[#Data],4,FALSE)&\"\",\"\")","v":""},null,null,null,null,null,null,null,null,null,null,null,{"$f":"IFERROR(VLOOKUP(__レジメンマスタ[[#This Row],[YJコード⑦]],[1]!__前投薬リスト[#Data],4,FALSE)&\"\",\"\")","v":""}]
["RES0076-4","デュルバルマブ+CDDP+GEM(術後　BW30kg以下)"," ４週間ごとに投与  12回まで\n　　　　　W1  　　  　 W2～W4  \nDUR  ↓××××××  ×××××××  \n","28日","12回","非小細胞肺癌","呼吸器外科","イミフィンジ","危 500mg/10mL ｲﾐﾌｨﾝｼﾞ点滴静注（希釈液:生食orTZ）","4291443A2020","注射","６０ 分で",20,"kg","mg",null,"d1",{"$f":"IFERROR(VLOOKUP(__レジメンマスタ[[#This Row],[YJコード①]],[1]!__前投薬リスト[#Data],4,FALSE)&\"\",\"\")","v":""},"12回",null,null,null,null,null,null,null,null,null,null,{"$f":"IFERROR(VLOOKUP(__レジメンマスタ[[#This Row],[YJコード②]],[1]!__前投薬リスト[#Data],4,FALSE)&\"\",\"\")","v":""},null,null,null,null,null,null,null,null,null,null,null,{"$f":"IFERROR(VLOOKUP(__レジメンマスタ[[#This Row],[YJコード③]],[1]!__前投薬リスト[#Data],4,FALSE)&\"\",\"\")","v":""},null,null,null,null,null,null,null,null,null,null,null,{"$f":"IFERROR(VLOOKUP(__レジメンマスタ[[#This Row],[YJコード④]],[1]!__前投薬リスト[#Data],4,FALSE)&\"\",\"\")","v":""},null,null,null,null,null,null,null,null,null,null,null,{"$f":"IFERROR(VLOOKUP(__レジメンマスタ[[#This Row],[YJコード⑤]],[1]!__前投薬リスト[#Data],4,FALSE)&\"\",\"\")","v":""},null,null,null,null,null,null,null,null,null,null,null,{"$f":"IFERROR(VLOOKUP(__レジメンマスタ[[#This Row],[YJコード⑥]],[1]!__前投薬リスト[#Data],4,FALSE)&\"\",\"\")","v":""},null,null,null,null,null,null,null,null,null,null,null,{"$f":"IFERROR(VLOOKUP(__レジメンマスタ[[#This Row],[YJコード⑦]],[1]!__前投薬リスト[#Data],4,FALSE)&\"\",\"\")","v":""}]
["RES0077-1","デュルバルマブ+CBDCA+GEM(術前）","　　　　　  Ｗ1 　　　　Ｗ2　　　　　 Ｗ3\nDUR   ↓×××××× ××××××× ××××××× \nCBDCA ↓×××××× ××××××× ×××××××  \nGEM   ↓×××××× ↓×××××× ×××××××\n\n4クール施行後に手術しDUR術後療法へ（レジメン変更へ）。\nGEM:溶解液確認→Tzで行う方針の場合Tzへ変更","21日","4クール","非小細胞肺癌","呼吸器外科","イミフィンジ","危 500mg/10mL ｲﾐﾌｨﾝｼﾞ点滴静注（希釈液:生食orTZ）","4291443A2020","注射","６０ 分で",1500,"BODY","mg",null,"d1",{"$f":"IFERROR(VLOOKUP(__レジメンマスタ[[#This Row],[YJコード①]],[1]!__前投薬リスト[#Data],4,FALSE)&\"\",\"\")","v":""},null,"カルボプラチン","危〈毒〉ｶﾙﾎﾞﾌﾟﾗﾁﾝ点滴静注液「NK」150mg/15mL（先:ﾊﾟﾗﾌﾟﾗﾁﾝ）","4291403A2092","注射","１ 時間で",5,"AUC","mg","中","d1",{"$f":"IFERROR(VLOOKUP(__レジメンマスタ[[#This Row],[YJコード②]],[1]!__前投薬リスト[#Data],4,FALSE)&\"\",\"\")","v":""},null,"ゲムシタビン","危 1g ｹﾞﾑｼﾀﾋﾞﾝ点滴静注用「ﾔｸﾙﾄ」（溶解液:生食）（先:ｼﾞｪﾑｻﾞｰﾙ）","4224403D2061","注射","３０ 分で",1000,"㎡","mg","軽","d1,8",{"$f":"IFERROR(VLOOKUP(__レジメンマスタ[[#This Row],[YJコード③]],[1]!__前投薬リスト[#Data],4,FALSE)&\"\",\"\")","v":""},null,null,null,null,null,null,null,null,null,null,null,{"$f":"IFERROR(VLOOKUP(__レジメンマスタ[[#This Row],[YJコード④]],[1]!__前投薬リスト[#Data],4,FALSE)&\"\",\"\")","v":""},null,null,null,null,null,null,null,null,null,null,null,{"$f":"IFERROR(VLOOKUP(__レジメンマスタ[[#This Row],[YJコード⑤]],[1]!__前投薬リスト[#Data],4,FALSE)&\"\",\"\")","v":""},null,null,null,null,null,null,null,null,null,null,null,{"$f":"IFERROR(VLOOKUP(__レジメンマスタ[[#This Row],[YJコード⑥]],[1]!__前投薬リスト[#Data],4,FALSE)&\"\",\"\")","v":""},null,null,null,null,null,null,null,null,null,null,null,{"$f":"IFERROR(VLOOKUP(__レジメンマスタ[[#This Row],[YJコード⑦]],[1]!__前投薬リスト[#Data],4,FALSE)&\"\",\"\")","v":""}]
["RES0077-2","デュルバルマブ+CBDCA+GEM(術前　BW30kg以下）","　　　　　  Ｗ1 　　　　Ｗ2　　　　　 Ｗ3\nDUR   ↓×××××× ××××××× ××××××× \nCBDCA ↓×××××× ××××××× ×××××××  \nGEM   ↓×××××× ↓×××××× ×××××××\n\n4クール施行後に手術しDUR術後療法へ（レジメン変更へ）。\nGEM:溶解液確認→Tzで行う方針の場合Tzへ変更","21日","4クール","非小細胞肺癌","呼吸器外科","イミフィンジ","危 500mg/10mL ｲﾐﾌｨﾝｼﾞ点滴静注（希釈液:生食orTZ）","4291443A2020","注射","６０ 分で",20,"kg","mg",null,"d1",{"$f":"IFERROR(VLOOKUP(__レジメンマスタ[[#This Row],[YJコード①]],[1]!__前投薬リスト[#Data],4,FALSE)&\"\",\"\")","v":""},null,"カルボプラチン","危〈毒〉ｶﾙﾎﾞﾌﾟﾗﾁﾝ点滴静注液「NK」150mg/15mL（先:ﾊﾟﾗﾌﾟﾗﾁﾝ）","4291403A2092","注射","１ 時間で",5,"AUC","mg","中","d1",{"$f":"IFERROR(VLOOKUP(__レジメンマスタ[[#This Row],[YJコード②]],[1]!__前投薬リスト[#Data],4,FALSE)&\"\",\"\")","v":""},null,"ゲムシタビン","危 1g ｹﾞﾑｼﾀﾋﾞﾝ点滴静注用「ﾔｸﾙﾄ」（溶解液:生食）（先:ｼﾞｪﾑｻﾞｰﾙ）","4224403D2061","注射","３０ 分で",1000,"㎡","mg","軽","d1,8",{"$f":"IFERROR(VLOOKUP(__レジメンマスタ[[#This Row],[YJコード②]],[1]!__前投薬リスト[#Data],4,FALSE)&\"\",\"\")","v":""},null,null,null,null,null,null,null,null,null,null,null,{"$f":"IFERROR(VLOOKUP(__レジメンマスタ[[#This Row],[YJコード④]],[1]!__前投薬リスト[#Data],4,FALSE)&\"\",\"\")","v":""},null,null,null,null,null,null,null,null,null,null,null,{"$f":"IFERROR(VLOOKUP(__レジメンマスタ[[#This Row],[YJコード⑤]],[1]!__前投薬リスト[#Data],4,FALSE)&\"\",\"\")","v":""},null,null,null,null,null,null,null,null,null,null,null,{"$f":"IFERROR(VLOOKUP(__レジメンマスタ[[#This Row],[YJコード⑥]],[1]!__前投薬リスト[#Data],4,FALSE)&\"\",\"\")","v":""},null,null,null,null,null,null,null,null,null,null,null,{"$f":"IFERROR(VLOOKUP(__レジメンマスタ[[#This Row],[YJコード⑦]],[1]!__前投薬リスト[#Data],4,FALSE)&\"\",\"\")","v":""}]
["RES0077-3","デュルバルマブ+CBDCA+GEM(術後）"," ４週間ごとに投与  12回まで\n　　　　　W1  　　  　 W2～W4  \nDUR  ↓××××××  ×××××××  \n","28日","12回","非小細胞肺癌","呼吸器外科","イミフィンジ","危 500mg/10mL ｲﾐﾌｨﾝｼﾞ点滴静注（希釈液:生食orTZ）","4291443A2020","注射","６０ 分で",1500,"BODY","mg",null,"d1",{"$f":"IFERROR(VLOOKUP(__レジメンマスタ[[#This Row],[YJコード①]],[1]!__前投薬リスト[#Data],4,FALSE)&\"\",\"\")","v":""},"12回",null,null,null,null,null,null,null,"mg",null,null,{"$f":"IFERROR(VLOOKUP(__レジメンマスタ[[#This Row],[YJコード②]],[1]!__前投薬リスト[#Data],4,FALSE)&\"\",\"\")","v":""},null,null,null,null,null,null,null,null,null,null,null,{"$f":"IFERROR(VLOOKUP(__レジメンマスタ[[#This Row],[YJコード③]],[1]!__前投薬リスト[#Data],4,FALSE)&\"\",\"\")","v":""},null,null,null,null,null,null,null,null,null,null,null,{"$f":"IFERROR(VLOOKUP(__レジメンマスタ[[#This Row],[YJコード④]],[1]!__前投薬リスト[#Data],4,FALSE)&\"\",\"\")","v":""},null,null,null,null,null,null,null,null,null,null,null,{"$f":"IFERROR(VLOOKUP(__レジメンマスタ[[#This Row],[YJコード⑤]],[1]!__前投薬リスト[#Data],4,FALSE)&\"\",\"\")","v":""},null,null,null,null,null,null,null,null,null,null,null,{"$f":"IFERROR(VLOOKUP(__レジメンマスタ[[#This Row],[YJコード⑥]],[1]!__前投薬リスト[#Data],4,FALSE)&\"\",\"\")","v":""},null,null,null,null,null,null,null,null,null,null,null,{"$f":"IFERROR(VLOOKUP(__レジメンマスタ[[#This Row],[YJコード⑦]],[1]!__前投薬リスト[#Data],4,FALSE)&\"\",\"\")","v":""}]
["RES0077-4","デュルバルマブ+CBDCA+GEM(術後　BW30kg以下)"," ４週間ごとに投与  12回まで\n　　　　　W1  　　  　 W2～W4  \nDUR  ↓××××××  ×××××××  \n","28日","12回","非小細胞肺癌","呼吸器外科","イミフィンジ","危 500mg/10mL ｲﾐﾌｨﾝｼﾞ点滴静注（希釈液:生食orTZ）","4291443A2020","注射","６０ 分で",20,"kg","mg",null,"d1",{"$f":"IFERROR(VLOOKUP(__レジメンマスタ[[#This Row],[YJコード①]],[1]!__前投薬リスト[#Data],4,FALSE)&\"\",\"\")","v":""},"12回",null,null,null,null,null,null,null,"mg",null,null,{"$f":"IFERROR(VLOOKUP(__レジメンマスタ[[#This Row],[YJコード②]],[1]!__前投薬リスト[#Data],4,FALSE)&\"\",\"\")","v":""},null,null,null,null,null,null,null,null,null,null,null,{"$f":"IFERROR(VLOOKUP(__レジメンマスタ[[#This Row],[YJコード③]],[1]!__前投薬リスト[#Data],4,FALSE)&\"\",\"\")","v":""},null,null,null,null,null,null,null,null,null,null,null,{"$f":"IFERROR(VLOOKUP(__レジメンマスタ[[#This Row],[YJコード④]],[1]!__前投薬リスト[#Data],4,FALSE)&\"\",\"\")","v":""},null,null,null,null,null,null,null,null,null,null,null,{"$f":"IFERROR(VLOOKUP(__レジメンマスタ[[#This Row],[YJコード⑤]],[1]!__前投薬リスト[#Data],4,FALSE)&\"\",\"\")","v":""},null,null,null,null,null,null,null,null,null,null,null,{"$f":"IFERROR(VLOOKUP(__レジメンマスタ[[#This Row],[YJコード⑥]],[1]!__前投薬リスト[#Data],4,FALSE)&\"\",\"\")","v":""},null,null,null,null,null,null,null,null,null,null,null,{"$f":"IFERROR(VLOOKUP(__レジメンマスタ[[#This Row],[YJコード⑦]],[1]!__前投薬リスト[#Data],4,FALSE)&\"\",\"\")","v":""}]
["RES0078-1","デュルバルマブ+CDDP+PEM(術前）","　　　　　  Ｗ1 　　　　Ｗ2　　　　　 Ｗ3\nDUR   ↓×××××× ××××××× ××××××× \nCDDP  ↓×××××× ××××××× ×××××××  \nPEM   ↓×××××× ××××××× ×××××××\n\nｼｱﾉｺﾊﾞﾗﾐﾝ：PEM投与開始1週間前に投与、9週間毎（PEM投与に関係なく）\nパンビタン末：PEM投与開始1週間前より内服開始。PEM投与後3週間は継続\n4クール施行後に手術しDUR術後療法へ（レジメン変更へ）。","21日","4クール","非小細胞肺癌","呼吸器外科","イミフィンジ","危 500mg/10mL ｲﾐﾌｨﾝｼﾞ点滴静注（希釈液:生食orTZ）","4291443A2020","注射","６０ 分で",1500,"BODY","mg",null,"d1",{"$f":"IFERROR(VLOOKUP(__レジメンマスタ[[#This Row],[YJコード①]],[1]!__前投薬リスト[#Data],4,FALSE)&\"\",\"\")","v":""},null,"シスプラチン","危〈毒〉50mg/100mL ｼｽﾌﾟﾗﾁﾝ点滴静注「ﾏﾙｺ」（先:ﾗﾝﾀﾞ）","4291401A3111","注射","１ 時間で",75,"㎡","mg","高","d1",{"$f":"IFERROR(VLOOKUP(__レジメンマスタ[[#This Row],[YJコード②]],[1]!__前投薬リスト[#Data],4,FALSE)&\"\",\"\")","v":""},"4回","ペメトレキセド","危 800mg/32mL ﾍﾟﾒﾄﾚｷｾﾄﾞ点滴静注液「NK」（希釈液:生食）（先:ｱﾘﾑﾀ）","4229401A3026","注射","１０ 分で",500,"㎡","mg",null,"d1",{"$f":"IFERROR(VLOOKUP(__レジメンマスタ[[#This Row],[YJコード③]],[1]!__前投薬リスト[#Data],4,FALSE)&\"\",\"\")","v":"(ステ)"},"4回",null,null,null,null,null,null,null,null,null,null,{"$f":"IFERROR(VLOOKUP(__レジメンマスタ[[#This Row],[YJコード④]],[1]!__前投薬リスト[#Data],4,FALSE)&\"\",\"\")","v":""},null,null,null,null,null,null,null,null,null,null,null,{"$f":"IFERROR(VLOOKUP(__レジメンマスタ[[#This Row],[YJコード⑤]],[1]!__前投薬リスト[#Data],4,FALSE)&\"\",\"\")","v":""},null,null,null,null,null,null,null,null,null,null,null,{"$f":"IFERROR(VLOOKUP(__レジメンマスタ[[#This Row],[YJコード⑥]],[1]!__前投薬リスト[#Data],4,FALSE)&\"\",\"\")","v":""},null,null,null,null,null,null,null,null,null,null,null,{"$f":"IFERROR(VLOOKUP(__レジメンマスタ[[#This Row],[YJコード⑦]],[1]!__前投薬リスト[#Data],4,FALSE)&\"\",\"\")","v":""}]
["RES0078-2","デュルバルマブ+CDDP+PEM(術前　BW30kg以下）","　　　　　  Ｗ1 　　　　Ｗ2　　　　　 Ｗ3\nDUR   ↓×××××× ××××××× ××××××× \nCDDP  ↓×××××× ××××××× ×××××××  \nPEM   ↓×××××× ××××××× ×××××××\n\nｼｱﾉｺﾊﾞﾗﾐﾝ：PEM投与開始1週間前に投与、9週間毎（PEM投与に関係なく）\nパンビタン末：PEM投与開始1週間前より内服開始。PEM投与後3週間は継続\n4クール施行後に手術しDUR術後療法へ（レジメン変更へ）。","21日","4クール","非小細胞肺癌","呼吸器外科","イミフィンジ","危 500mg/10mL ｲﾐﾌｨﾝｼﾞ点滴静注（希釈液:生食orTZ）","4291443A2020","注射","６０ 分で",20,"kg","mg","高","d1",{"$f":"IFERROR(VLOOKUP(__レジメンマスタ[[#This Row],[YJコード①]],[1]!__前投薬リスト[#Data],4,FALSE)&\"\",\"\")","v":""},null,"シスプラチン","危〈毒〉50mg/100mL ｼｽﾌﾟﾗﾁﾝ点滴静注「ﾏﾙｺ」（先:ﾗﾝﾀﾞ）","4291401A3111","注射","１ 時間で",75,"㎡","mg","高","d1",{"$f":"IFERROR(VLOOKUP(__レジメンマスタ[[#This Row],[YJコード②]],[1]!__前投薬リスト[#Data],4,FALSE)&\"\",\"\")","v":""},"4回","ペメトレキセド","危 800mg/32mL ﾍﾟﾒﾄﾚｷｾﾄﾞ点滴静注液「NK」（希釈液:生食）（先:ｱﾘﾑﾀ）","4229401A3026","注射","１０ 分で",500,"㎡","mg",null,"d1",{"$f":"IFERROR(VLOOKUP(__レジメンマスタ[[#This Row],[YJコード③]],[1]!__前投薬リスト[#Data],4,FALSE)&\"\",\"\")","v":"(ステ)"},"4回",null,null,null,null,null,null,null,null,null,null,{"$f":"IFERROR(VLOOKUP(__レジメンマスタ[[#This Row],[YJコード④]],[1]!__前投薬リスト[#Data],4,FALSE)&\"\",\"\")","v":""},null,null,null,null,null,null,null,null,null,null,null,{"$f":"IFERROR(VLOOKUP(__レジメンマスタ[[#This Row],[YJコード⑤]],[1]!__前投薬リスト[#Data],4,FALSE)&\"\",\"\")","v":""},null,null,null,null,null,null,null,null,null,null,null,{"$f":"IFERROR(VLOOKUP(__レジメンマスタ[[#This Row],[YJコード⑥]],[1]!__前投薬リスト[#Data],4,FALSE)&\"\",\"\")","v":""},null,null,null,null,null,null,null,null,null,null,null,{"$f":"IFERROR(VLOOKUP(__レジメンマスタ[[#This Row],[YJコード⑦]],[1]!__前投薬リスト[#Data],4,FALSE)&\"\",\"\")","v":""}]
["RES0078-3","デュルバルマブ+CDDP+PEM(術後）"," ４週間ごとに投与  12回まで\n　　　　　W1  　　  　 W2～W4  \nDUR  ↓××××××  ×××××××  \n","28日","12回","非小細胞肺癌","呼吸器外科","イミフィンジ","危 500mg/10mL ｲﾐﾌｨﾝｼﾞ点滴静注（希釈液:生食orTZ）","4291443A2020","注射","６０ 分で",1500,"BODY","mg",null,"d1",{"$f":"IFERROR(VLOOKUP(__レジメンマスタ[[#This Row],[YJコード①]],[1]!__前投薬リスト[#Data],4,FALSE)&\"\",\"\")","v":""},"12回",null,null,null,null,null,null,null,null,null,null,{"$f":"IFERROR(VLOOKUP(__レジメンマスタ[[#This Row],[YJコード②]],[1]!__前投薬リスト[#Data],4,FALSE)&\"\",\"\")","v":""},null,null,null,null,null,null,null,null,null,null,null,{"$f":"IFERROR(VLOOKUP(__レジメンマスタ[[#This Row],[YJコード③]],[1]!__前投薬リスト[#Data],4,FALSE)&\"\",\"\")","v":""},null,null,null,null,null,null,null,null,null,null,null,{"$f":"IFERROR(VLOOKUP(__レジメンマスタ[[#This Row],[YJコード④]],[1]!__前投薬リスト[#Data],4,FALSE)&\"\",\"\")","v":""},null,null,null,null,null,null,null,null,null,null,null,{"$f":"IFERROR(VLOOKUP(__レジメンマスタ[[#This Row],[YJコード⑤]],[1]!__前投薬リスト[#Data],4,FALSE)&\"\",\"\")","v":""},null,null,null,null,null,null,null,null,null,null,null,{"$f":"IFERROR(VLOOKUP(__レジメンマスタ[[#This Row],[YJコード⑥]],[1]!__前投薬リスト[#Data],4,FALSE)&\"\",\"\")","v":""},null,null,null,null,null,null,null,null,null,null,null,{"$f":"IFERROR(VLOOKUP(__レジメンマスタ[[#This Row],[YJコード⑦]],[1]!__前投薬リスト[#Data],4,FALSE)&\"\",\"\")","v":""}]
["RES0078-4","デュルバルマブ+CDDP+PEM(術後　BW30kg以下)"," ４週間ごとに投与  12回まで\n　　　　　W1  　　  　 W2～W4  \nDUR  ↓××××××  ×××××××  \n","28日","12回","非小細胞肺癌","呼吸器外科","イミフィンジ","危 500mg/10mL ｲﾐﾌｨﾝｼﾞ点滴静注（希釈液:生食orTZ）","4291443A2020","注射","６０ 分で",20,"kg","mg",null,"d1",{"$f":"IFERROR(VLOOKUP(__レジメンマスタ[[#This Row],[YJコード①]],[1]!__前投薬リスト[#Data],4,FALSE)&\"\",\"\")","v":""},"12回",null,null,null,null,null,null,null,null,null,null,{"$f":"IFERROR(VLOOKUP(__レジメンマスタ[[#This Row],[YJコード②]],[1]!__前投薬リスト[#Data],4,FALSE)&\"\",\"\")","v":""},null,null,null,null,null,null,null,null,null,null,null,{"$f":"IFERROR(VLOOKUP(__レジメンマスタ[[#This Row],[YJコード③]],[1]!__前投薬リスト[#Data],4,FALSE)&\"\",\"\")","v":""},null,null,null,null,null,null,null,null,null,null,null,{"$f":"IFERROR(VLOOKUP(__レジメンマスタ[[#This Row],[YJコード④]],[1]!__前投薬リスト[#Data],4,FALSE)&\"\",\"\")","v":""},null,null,null,null,null,null,null,null,null,null,null,{"$f":"IFERROR(VLOOKUP(__レジメンマスタ[[#This Row],[YJコード⑤]],[1]!__前投薬リスト[#Data],4,FALSE)&\"\",\"\")","v":""},null,null,null,null,null,null,null,null,null,null,null,{"$f":"IFERROR(VLOOKUP(__レジメンマスタ[[#This Row],[YJコード⑥]],[1]!__前投薬リスト[#Data],4,FALSE)&\"\",\"\")","v":""},null,null,null,null,null,null,null,null,null,null,null,{"$f":"IFERROR(VLOOKUP(__レジメンマスタ[[#This Row],[YJコード⑦]],[1]!__前投薬リスト[#Data],4,FALSE)&\"\",\"\")","v":""}]
["RES0079-1","デュルバルマブ+CBDCA+PEM(術前）","　　　　　  Ｗ1 　　　　Ｗ2　　　　　 Ｗ3\nDUR   ↓×××××× ××××××× ××××××× \nCBDCA ↓×××××× ××××××× ×××××××  \nPEM   ↓×××××× ××××××× ×××××××\n\nｼｱﾉｺﾊﾞﾗﾐﾝ：PEM投与開始1週間前に投与、9週間毎（PEM投与に関係なく）\nパンビタン末：PEM投与開始1週間前より内服開始。PEM投与後3週間は継続\n4クール施行後に手術しDUR術後療法へ（レジメン変更へ）。","21日","4クール","非小細胞肺癌","呼吸器外科","イミフィンジ","危 500mg/10mL ｲﾐﾌｨﾝｼﾞ点滴静注（希釈液:生食orTZ）","4291443A2020","注射","６０ 分で",1500,"BODY","mg","中","d1",{"$f":"IFERROR(VLOOKUP(__レジメンマスタ[[#This Row],[YJコード①]],[1]!__前投薬リスト[#Data],4,FALSE)&\"\",\"\")","v":""},null,"カルボプラチン","危〈毒〉ｶﾙﾎﾞﾌﾟﾗﾁﾝ点滴静注液「NK」150mg/15mL（先:ﾊﾟﾗﾌﾟﾗﾁﾝ）","4291403A2092","注射","１ 時間で",5,"AUC","mg","中","d1",{"$f":"IFERROR(VLOOKUP(__レジメンマスタ[[#This Row],[YJコード②]],[1]!__前投薬リスト[#Data],4,FALSE)&\"\",\"\")","v":""},"4回","ペメトレキセド","危 800mg/32mL ﾍﾟﾒﾄﾚｷｾﾄﾞ点滴静注液「NK」（希釈液:生食）（先:ｱﾘﾑﾀ）","4229401A3026","注射","１０ 分で",500,"㎡","mg",null,"d1",{"$f":"IFERROR(VLOOKUP(__レジメンマスタ[[#This Row],[YJコード③]],[1]!__前投薬リスト[#Data],4,FALSE)&\"\",\"\")","v":"(ステ)"},"4回",null,null,null,null,null,null,null,null,null,null,{"$f":"IFERROR(VLOOKUP(__レジメンマスタ[[#This Row],[YJコード④]],[1]!__前投薬リスト[#Data],4,FALSE)&\"\",\"\")","v":""},null,null,null,null,null,null,null,null,null,null,null,{"$f":"IFERROR(VLOOKUP(__レジメンマスタ[[#This Row],[YJコード⑤]],[1]!__前投薬リスト[#Data],4,FALSE)&\"\",\"\")","v":""},null,null,null,null,null,null,null,null,null,null,null,{"$f":"IFERROR(VLOOKUP(__レジメンマスタ[[#This Row],[YJコード⑥]],[1]!__前投薬リスト[#Data],4,FALSE)&\"\",\"\")","v":""},null,null,null,null,null,null,null,null,null,null,null,{"$f":"IFERROR(VLOOKUP(__レジメンマスタ[[#This Row],[YJコード⑦]],[1]!__前投薬リスト[#Data],4,FALSE)&\"\",\"\")","v":""}]
["RES0079-2","デュルバルマブ+CBDCA+PEM(術前　BW30kg以下）","　　　　　  Ｗ1 　　　　Ｗ2　　　　　 Ｗ3\nDUR   ↓×××××× ××××××× ××××××× \nCBDCA ↓×××××× ××××××× ×××××××  \nPEM   ↓×××××× ××××××× ×××××××\n\nｼｱﾉｺﾊﾞﾗﾐﾝ：PEM投与開始1週間前に投与、9週間毎（PEM投与に関係なく）\nパンビタン末：PEM投与開始1週間前より内服開始。PEM投与後3週間は継続\n4クール施行後に手術しDUR術後療法へ（レジメン変更へ）。","21日","4クール","非小細胞肺癌","呼吸器外科","イミフィンジ","危 500mg/10mL ｲﾐﾌｨﾝｼﾞ点滴静注（希釈液:生食orTZ）","4291443A2020","注射","６０ 分で",20,"kg","mg","中","d1",{"$f":"IFERROR(VLOOKUP(__レジメンマスタ[[#This Row],[YJコード①]],[1]!__前投薬リスト[#Data],4,FALSE)&\"\",\"\")","v":""},null,"カルボプラチン","危〈毒〉ｶﾙﾎﾞﾌﾟﾗﾁﾝ点滴静注液「NK」150mg/15mL（先:ﾊﾟﾗﾌﾟﾗﾁﾝ）","4291403A2092","注射","１ 時間で",5,"AUC","mg","中","d1",{"$f":"IFERROR(VLOOKUP(__レジメンマスタ[[#This Row],[YJコード②]],[1]!__前投薬リスト[#Data],4,FALSE)&\"\",\"\")","v":""},"4回","ペメトレキセド","危 800mg/32mL ﾍﾟﾒﾄﾚｷｾﾄﾞ点滴静注液「NK」（希釈液:生食）（先:ｱﾘﾑﾀ）","4229401A3026","注射","１０ 分で",500,"㎡","mg",null,"d1",{"$f":"IFERROR(VLOOKUP(__レジメンマスタ[[#This Row],[YJコード③]],[1]!__前投薬リスト[#Data],4,FALSE)&\"\",\"\")","v":"(ステ)"},"4回",null,null,null,null,null,null,null,null,null,null,{"$f":"IFERROR(VLOOKUP(__レジメンマスタ[[#This Row],[YJコード④]],[1]!__前投薬リスト[#Data],4,FALSE)&\"\",\"\")","v":""},null,null,null,null,null,null,null,null,null,null,null,{"$f":"IFERROR(VLOOKUP(__レジメンマスタ[[#This Row],[YJコード⑤]],[1]!__前投薬リスト[#Data],4,FALSE)&\"\",\"\")","v":""},null,null,null,null,null,null,null,null,null,null,null,{"$f":"IFERROR(VLOOKUP(__レジメンマスタ[[#This Row],[YJコード⑥]],[1]!__前投薬リスト[#Data],4,FALSE)&\"\",\"\")","v":""},null,null,null,null,null,null,null,null,null,null,null,{"$f":"IFERROR(VLOOKUP(__レジメンマスタ[[#This Row],[YJコード⑦]],[1]!__前投薬リスト[#Data],4,FALSE)&\"\",\"\")","v":""}]
["RES0079-3","デュルバルマブ+CBDCA+PEM(術後）"," ４週間ごとに投与  12回まで\n　　　　　W1  　　  　 W2～W4  \nDUR  ↓××××××  ×××××××  \n","28日","12回","非小細胞肺癌","呼吸器外科","イミフィンジ","危 500mg/10mL ｲﾐﾌｨﾝｼﾞ点滴静注（希釈液:生食orTZ）","4291443A2020","注射","６０ 分で",1500,"BODY","mg",null,"d1",{"$f":"IFERROR(VLOOKUP(__レジメンマスタ[[#This Row],[YJコード①]],[1]!__前投薬リスト[#Data],4,FALSE)&\"\",\"\")","v":""},"12回",null,null,null,null,null,null,null,"mg",null,null,{"$f":"IFERROR(VLOOKUP(__レジメンマスタ[[#This Row],[YJコード②]],[1]!__前投薬リスト[#Data],4,FALSE)&\"\",\"\")","v":""},null,null,null,null,null,null,null,null,null,null,null,{"$f":"IFERROR(VLOOKUP(__レジメンマスタ[[#This Row],[YJコード③]],[1]!__前投薬リスト[#Data],4,FALSE)&\"\",\"\")","v":""},null,null,null,null,null,null,null,null,null,null,null,{"$f":"IFERROR(VLOOKUP(__レジメンマスタ[[#This Row],[YJコード④]],[1]!__前投薬リスト[#Data],4,FALSE)&\"\",\"\")","v":""},null,null,null,null,null,null,null,null,null,null,null,{"$f":"IFERROR(VLOOKUP(__レジメンマスタ[[#This Row],[YJコード⑤]],[1]!__前投薬リスト[#Data],4,FALSE)&\"\",\"\")","v":""},null,null,null,null,null,null,null,null,null,null,null,{"$f":"IFERROR(VLOOKUP(__レジメンマスタ[[#This Row],[YJコード⑥]],[1]!__前投薬リスト[#Data],4,FALSE)&\"\",\"\")","v":""},null,null,null,null,null,null,null,null,null,null,null,{"$f":"IFERROR(VLOOKUP(__レジメンマスタ[[#This Row],[YJコード⑦]],[1]!__前投薬リスト[#Data],4,FALSE)&\"\",\"\")","v":""}]
["RES0079-4","デュルバルマブ+CBDCA+PEM(術後　BW30kg以下)"," ４週間ごとに投与  12回まで\n　　　　　W1  　　  　 W2～W4  \nDUR  ↓××××××  ×××××××  \n","28日","12回","非小細胞肺癌","呼吸器外科","イミフィンジ","危 500mg/10mL ｲﾐﾌｨﾝｼﾞ点滴静注（希釈液:生食orTZ）","4291443A2020","注射","６０ 分で",20,"kg","mg",null,"d1",{"$f":"IFERROR(VLOOKUP(__レジメンマスタ[[#This Row],[YJコード①]],[1]!__前投薬リスト[#Data],4,FALSE)&\"\",\"\")","v":""},"12回",null,null,null,null,null,null,null,null,null,null,{"$f":"IFERROR(VLOOKUP(__レジメンマスタ[[#This Row],[YJコード②]],[1]!__前投薬リスト[#Data],4,FALSE)&\"\",\"\")","v":""},null,null,null,null,null,null,null,null,null,null,null,{"$f":"IFERROR(VLOOKUP(__レジメンマスタ[[#This Row],[YJコード③]],[1]!__前投薬リスト[#Data],4,FALSE)&\"\",\"\")","v":""},null,null,null,null,null,null,null,null,null,null,null,{"$f":"IFERROR(VLOOKUP(__レジメンマスタ[[#This Row],[YJコード④]],[1]!__前投薬リスト[#Data],4,FALSE)&\"\",\"\")","v":""},null,null,null,null,null,null,null,null,null,null,null,{"$f":"IFERROR(VLOOKUP(__レジメンマスタ[[#This Row],[YJコード⑤]],[1]!__前投薬リスト[#Data],4,FALSE)&\"\",\"\")","v":""},null,null,null,null,null,null,null,null,null,null,null,{"$f":"IFERROR(VLOOKUP(__レジメンマスタ[[#This Row],[YJコード⑥]],[1]!__前投薬リスト[#Data],4,FALSE)&\"\",\"\")","v":""},null,null,null,null,null,null,null,null,null,null,null,{"$f":"IFERROR(VLOOKUP(__レジメンマスタ[[#This Row],[YJコード⑦]],[1]!__前投薬リスト[#Data],4,FALSE)&\"\",\"\")","v":""}]
["SUR0004","CDDP+S1","　　　　　　Ｗ1　　　　　　Ｗ2　　　　 Ｗ3　　　　　　W4～5\nCDDP　××××××× ↓×××××× ××××××× ×××××××\nS-1   ↓↓↓↓↓↓↓ ↓↓↓↓↓↓↓ ↓↓↓↓↓↓↓ ×××××××\nCDDP：4～5週間に1回投与、S1:3週間内服、1～2週間休薬\nS1：初回基準量【テガフール相当量、原則40mg/回未満には減らさない】\n1.25m2未満:40mg/回,1.25m2以上1.5m2未満:50mg/回,1.5m2以上:60mg/回\nCCr≧60：通常用量、60>CCr≧40:一段階減量,40>CCr≧30:二段階減量,\nCCr＜30：禁忌","28-35日","8コース","胃癌","外科","シスプラチン","危〈毒〉50mg/100mL ｼｽﾌﾟﾗﾁﾝ点滴静注「ﾏﾙｺ」（先:ﾗﾝﾀﾞ）","4291401A3111","注射",null,60,"㎡","mg",null,"d1",{"$f":"IFERROR(VLOOKUP(__レジメンマスタ[[#This Row],[YJコード①]],[1]!__前投薬リスト[#Data],4,FALSE)&\"\",\"\")","v":""},null,"エスワン",null,"4229101F2057","経口",null,"80-120/2","BODY","mg",null,"d1-21",{"$f":"IFERROR(VLOOKUP(__レジメンマスタ[[#This Row],[YJコード②]],[1]!__前投薬リスト[#Data],4,FALSE)&\"\",\"\")","v":""},null,null,null,null,null,null,null,null,null,null,null,{"$f":"IFERROR(VLOOKUP(__レジメンマスタ[[#This Row],[YJコード③]],[1]!__前投薬リスト[#Data],4,FALSE)&\"\",\"\")","v":""},null,null,null,null,null,null,null,null,null,null,null,{"$f":"IFERROR(VLOOKUP(__レジメンマスタ[[#This Row],[YJコード④]],[1]!__前投薬リスト[#Data],4,FALSE)&\"\",\"\")","v":""},null,null,null,null,null,null,null,null,null,null,null,{"$f":"IFERROR(VLOOKUP(__レジメンマスタ[[#This Row],[YJコード⑤]],[1]!__前投薬リスト[#Data],4,FALSE)&\"\",\"\")","v":""},null,null,null,null,null,null,null,null,null,null,null,{"$f":"IFERROR(VLOOKUP(__レジメンマスタ[[#This Row],[YJコード⑥]],[1]!__前投薬リスト[#Data],4,FALSE)&\"\",\"\")","v":""},null,null,null,null,null,null,null,null,null,null,null,{"$f":"IFERROR(VLOOKUP(__レジメンマスタ[[#This Row],[YJコード⑦]],[1]!__前投薬リスト[#Data],4,FALSE)&\"\",\"\")","v":""}]
["SUR0007","FOLFOX","　　　　　  Ｗ1 　　　 　Ｗ2　　　　\nl-LV    ↓×××××× ××××××× \nL-OHP   ↓×××××× ×××××××  \nFU bls  ↓×××××× ××××××× \nFU conc ↓×××××× ××××××× \n2週間毎\n★インフューザーポンプ使用時は２．５ｍｌ／ｈｒに輸液量を調製","14日","∞","大腸癌","外科","レボホリナート","危 100mg ﾚﾎﾞﾎﾘﾅｰﾄ点滴静注用「ﾔｸﾙﾄ」（先:ｱｲｿﾎﾞﾘﾝ）","3929407D2060","注射","２ 時間で",200,"㎡","mg",null,"d1",{"$f":"IFERROR(VLOOKUP(__レジメンマスタ[[#This Row],[YJコード①]],[1]!__前投薬リスト[#Data],4,FALSE)&\"\",\"\")","v":""},null,"オキサリプラチン","危〈毒〉100㎎/20mL ｵｷｻﾘﾌﾟﾗﾁﾝ点滴静注液「NK」（先:ｴﾙﾌﾟﾗｯﾄ）","4291410A2092","注射","２ 時間で",85,"㎡","mg",null,"d1",{"$f":"IFERROR(VLOOKUP(__レジメンマスタ[[#This Row],[YJコード②]],[1]!__前投薬リスト[#Data],4,FALSE)&\"\",\"\")","v":""},null,"フルオロウラシル","危 1000mg/20mL ﾌﾙｵﾛｳﾗｼﾙ注「ﾄｰﾜ」（先:5-FU）","4223401A3030","注射","１５ 分で",400,"㎡","mg",null,"d1",{"$f":"IFERROR(VLOOKUP(__レジメンマスタ[[#This Row],[YJコード③]],[1]!__前投薬リスト[#Data],4,FALSE)&\"\",\"\")","v":""},null,"フルオロウラシル","危 1000mg/20mL ﾌﾙｵﾛｳﾗｼﾙ注「ﾄｰﾜ」（先:5-FU）","4223401A3030","注射","４６時間で",2400,"㎡","mg",null,"d1(46hr)",{"$f":"IFERROR(VLOOKUP(__レジメンマスタ[[#This Row],[YJコード④]],[1]!__前投薬リスト[#Data],4,FALSE)&\"\",\"\")","v":""},null,null,null,null,null,null,null,null,null,null,null,{"$f":"IFERROR(VLOOKUP(__レジメンマスタ[[#This Row],[YJコード⑤]],[1]!__前投薬リスト[#Data],4,FALSE)&\"\",\"\")","v":""},null,null,null,null,null,null,null,null,null,null,null,{"$f":"IFERROR(VLOOKUP(__レジメンマスタ[[#This Row],[YJコード⑥]],[1]!__前投薬リスト[#Data],4,FALSE)&\"\",\"\")","v":""},null,null,null,null,null,null,null,null,null,null,null,{"$f":"IFERROR(VLOOKUP(__レジメンマスタ[[#This Row],[YJコード⑦]],[1]!__前投薬リスト[#Data],4,FALSE)&\"\",\"\")","v":""}]
["SUR0008","FOLFIRI","　　　　　  Ｗ1 　　　 　Ｗ2　　　　\nl-LV    ↓×××××× ××××××× \nIRI     ↓×××××× ×××××××  \nFU bls  ↓×××××× ××××××× \nFU conc ↓×××××× ××××××× \n2週間毎\n★インフューザーポンプ使用時は２．５ｍｌ／ｈｒに輸液量を調製","14日","∞","大腸癌","外科","レボホリナート","危 100mg ﾚﾎﾞﾎﾘﾅｰﾄ点滴静注用「ﾔｸﾙﾄ」（先:ｱｲｿﾎﾞﾘﾝ）","3929407D2060","注射","２ 時間で",200,"㎡","mg",null,"d1",{"$f":"IFERROR(VLOOKUP(__レジメンマスタ[[#This Row],[YJコード①]],[1]!__前投薬リスト[#Data],4,FALSE)&\"\",\"\")","v":""},null,"イリノテカン","危 100mg/5mL ｲﾘﾉﾃｶﾝ塩酸塩点滴静注液「NK」（先:ﾄﾎﾟﾃｼﾝ）","4240404A2055","注射","９０ 分で",150,"㎡","mg",null,"d1",{"$f":"IFERROR(VLOOKUP(__レジメンマスタ[[#This Row],[YJコード②]],[1]!__前投薬リスト[#Data],4,FALSE)&\"\",\"\")","v":""},null,"フルオロウラシル","危 1000mg/20mL ﾌﾙｵﾛｳﾗｼﾙ注「ﾄｰﾜ」（先:5-FU）","4223401A3030","注射","１５ 分で",400,"㎡","mg",null,"d1",{"$f":"IFERROR(VLOOKUP(__レジメンマスタ[[#This Row],[YJコード③]],[1]!__前投薬リスト[#Data],4,FALSE)&\"\",\"\")","v":""},null,"フルオロウラシル","危 1000mg/20mL ﾌﾙｵﾛｳﾗｼﾙ注「ﾄｰﾜ」（先:5-FU）","4223401A3030","注射","４６時間で",2400,"㎡","mg",null,"d1(46hr)",{"$f":"IFERROR(VLOOKUP(__レジメンマスタ[[#This Row],[YJコード④]],[1]!__前投薬リスト[#Data],4,FALSE)&\"\",\"\")","v":""},null,null,null,null,null,null,null,null,null,null,null,{"$f":"IFERROR(VLOOKUP(__レジメンマスタ[[#This Row],[YJコード⑤]],[1]!__前投薬リスト[#Data],4,FALSE)&\"\",\"\")","v":""},null,null,null,null,null,null,null,null,null,null,null,{"$f":"IFERROR(VLOOKUP(__レジメンマスタ[[#This Row],[YJコード⑥]],[1]!__前投薬リスト[#Data],4,FALSE)&\"\",\"\")","v":""},null,null,null,null,null,null,null,null,null,null,null,{"$f":"IFERROR(VLOOKUP(__レジメンマスタ[[#This Row],[YJコード⑦]],[1]!__前投薬リスト[#Data],4,FALSE)&\"\",\"\")","v":""}]
["SUR0011","DOC（Tri weekly)：食道癌","　　　　　 W1　　　　　W2～4\nDOC  ↓××××××  ×××××××  \n","21-28日","∞","食道癌","外科","ドセタキセル","危〈毒〉80㎎/4mL ﾄﾞｾﾀｷｾﾙ点滴静注「ﾆﾌﾟﾛ」（先:ﾀｷｿﾃｰﾙ）","4240405A4109","注射","１ 時間で",70,"㎡","mg",null,"d1",{"$f":"IFERROR(VLOOKUP(__レジメンマスタ[[#This Row],[YJコード①]],[1]!__前投薬リスト[#Data],4,FALSE)&\"\",\"\")","v":""},null,null,null,null,null,null,null,null,null,null,null,{"$f":"IFERROR(VLOOKUP(__レジメンマスタ[[#This Row],[YJコード②]],[1]!__前投薬リスト[#Data],4,FALSE)&\"\",\"\")","v":""},null,null,null,null,null,null,null,null,null,null,null,{"$f":"IFERROR(VLOOKUP(__レジメンマスタ[[#This Row],[YJコード③]],[1]!__前投薬リスト[#Data],4,FALSE)&\"\",\"\")","v":""},null,null,null,null,null,null,null,null,null,null,null,{"$f":"IFERROR(VLOOKUP(__レジメンマスタ[[#This Row],[YJコード④]],[1]!__前投薬リスト[#Data],4,FALSE)&\"\",\"\")","v":""},null,null,null,null,null,null,null,null,null,null,null,{"$f":"IFERROR(VLOOKUP(__レジメンマスタ[[#This Row],[YJコード⑤]],[1]!__前投薬リスト[#Data],4,FALSE)&\"\",\"\")","v":""},null,null,null,null,null,null,null,null,null,null,null,{"$f":"IFERROR(VLOOKUP(__レジメンマスタ[[#This Row],[YJコード⑥]],[1]!__前投薬リスト[#Data],4,FALSE)&\"\",\"\")","v":""},null,null,null,null,null,null,null,null,null,null,null,{"$f":"IFERROR(VLOOKUP(__レジメンマスタ[[#This Row],[YJコード⑦]],[1]!__前投薬リスト[#Data],4,FALSE)&\"\",\"\")","v":""}]
["SUR0012-A2","DOC（Tri weekly)：胃癌","　　　　　 W1　　　　　W2～4\nDOC  ↓××××××  ×××××××  \n","21-28日","∞","胃癌","外科","ドセタキセル","危〈毒〉80㎎/4mL ﾄﾞｾﾀｷｾﾙ点滴静注「ﾆﾌﾟﾛ」（先:ﾀｷｿﾃｰﾙ）","4240405A4109","注射","１ 時間で",75,"㎡","mg",null,"d1",{"$f":"IFERROR(VLOOKUP(__レジメンマスタ[[#This Row],[YJコード①]],[1]!__前投薬リスト[#Data],4,FALSE)&\"\",\"\")","v":""},null,null,null,null,null,null,null,null,null,null,null,{"$f":"IFERROR(VLOOKUP(__レジメンマスタ[[#This Row],[YJコード②]],[1]!__前投薬リスト[#Data],4,FALSE)&\"\",\"\")","v":""},null,null,null,null,null,null,null,null,null,null,null,{"$f":"IFERROR(VLOOKUP(__レジメンマスタ[[#This Row],[YJコード③]],[1]!__前投薬リスト[#Data],4,FALSE)&\"\",\"\")","v":""},null,null,null,null,null,null,null,null,null,null,null,{"$f":"IFERROR(VLOOKUP(__レジメンマスタ[[#This Row],[YJコード④]],[1]!__前投薬リスト[#Data],4,FALSE)&\"\",\"\")","v":""},null,null,null,null,null,null,null,null,null,null,null,{"$f":"IFERROR(VLOOKUP(__レジメンマスタ[[#This Row],[YJコード⑤]],[1]!__前投薬リスト[#Data],4,FALSE)&\"\",\"\")","v":""},null,null,null,null,null,null,null,null,null,null,null,{"$f":"IFERROR(VLOOKUP(__レジメンマスタ[[#This Row],[YJコード⑥]],[1]!__前投薬リスト[#Data],4,FALSE)&\"\",\"\")","v":""},null,null,null,null,null,null,null,null,null,null,null,{"$f":"IFERROR(VLOOKUP(__レジメンマスタ[[#This Row],[YJコード⑦]],[1]!__前投薬リスト[#Data],4,FALSE)&\"\",\"\")","v":""}]
["SUR0014","DOC（Bi weekly)","　　　　　 W1　　　　　　W2\nDOC  ↓××××××  ×××××××  \n","14日","∞","食道癌","外科","ドセタキセル","危〈毒〉20㎎/1mL ﾄﾞｾﾀｷｾﾙ点滴静注「ﾆﾌﾟﾛ」（先:ﾀｷｿﾃｰﾙ）","4240405A3102","注射","１ 時間で",35,"㎡","mg",null,"d1",{"$f":"IFERROR(VLOOKUP(__レジメンマスタ[[#This Row],[YJコード①]],[1]!__前投薬リスト[#Data],4,FALSE)&\"\",\"\")","v":""},null,null,null,null,null,null,null,null,null,null,null,{"$f":"IFERROR(VLOOKUP(__レジメンマスタ[[#This Row],[YJコード②]],[1]!__前投薬リスト[#Data],4,FALSE)&\"\",\"\")","v":""},null,null,null,null,null,null,null,null,null,null,null,{"$f":"IFERROR(VLOOKUP(__レジメンマスタ[[#This Row],[YJコード③]],[1]!__前投薬リスト[#Data],4,FALSE)&\"\",\"\")","v":""},null,null,null,null,null,null,null,null,null,null,null,{"$f":"IFERROR(VLOOKUP(__レジメンマスタ[[#This Row],[YJコード④]],[1]!__前投薬リスト[#Data],4,FALSE)&\"\",\"\")","v":""},null,null,null,null,null,null,null,null,null,null,null,{"$f":"IFERROR(VLOOKUP(__レジメンマスタ[[#This Row],[YJコード⑤]],[1]!__前投薬リスト[#Data],4,FALSE)&\"\",\"\")","v":""},null,null,null,null,null,null,null,null,null,null,null,{"$f":"IFERROR(VLOOKUP(__レジメンマスタ[[#This Row],[YJコード⑥]],[1]!__前投薬リスト[#Data],4,FALSE)&\"\",\"\")","v":""},null,null,null,null,null,null,null,null,null,null,null,{"$f":"IFERROR(VLOOKUP(__レジメンマスタ[[#This Row],[YJコード⑦]],[1]!__前投薬リスト[#Data],4,FALSE)&\"\",\"\")","v":""}]
["SUR0015","DOC+S1","　　　　　　Ｗ1　　　　　　Ｗ2　　　  　 Ｗ3　　　　　　\nDOC　↓××××××　×××××××　×××××××\nS-1　↓↓↓↓↓↓↓　↓↓↓↓↓↓↓　×××××××\nDOC：３週間に1回投与、S1:2週間内服、1週間休薬\nS1：初回基準量【テガフール相当量、原則40mg/回未満には減らさない】\n1.25m2未満:40mg/回,1.25m2以上1.5m2未満:50mg/回,1.5m2以上:60mg/回\nCCr≧60：通常用量、60>CCr≧40:一段階減量,40>CCr≧30:二段階減量,\nCCr＜30：禁忌\n","21日","∞","胃癌","外科","ドセタキセル","危〈毒〉20㎎/1mL ﾄﾞｾﾀｷｾﾙ点滴静注「ﾆﾌﾟﾛ」（先:ﾀｷｿﾃｰﾙ）","4240405A3102","注射","１ 時間で",40,"㎡","mg",null,"d1",{"$f":"IFERROR(VLOOKUP(__レジメンマスタ[[#This Row],[YJコード①]],[1]!__前投薬リスト[#Data],4,FALSE)&\"\",\"\")","v":""},null,"エスワン",null,"4229101F2057","経口",null,"80-120/2","BODY","mg",null,"d1-14",{"$f":"IFERROR(VLOOKUP(__レジメンマスタ[[#This Row],[YJコード②]],[1]!__前投薬リスト[#Data],4,FALSE)&\"\",\"\")","v":""},null,null,null,null,null,null,null,null,null,null,null,{"$f":"IFERROR(VLOOKUP(__レジメンマスタ[[#This Row],[YJコード③]],[1]!__前投薬リスト[#Data],4,FALSE)&\"\",\"\")","v":""},null,null,null,null,null,null,null,null,null,null,null,{"$f":"IFERROR(VLOOKUP(__レジメンマスタ[[#This Row],[YJコード④]],[1]!__前投薬リスト[#Data],4,FALSE)&\"\",\"\")","v":""},null,null,null,null,null,null,null,null,null,null,null,{"$f":"IFERROR(VLOOKUP(__レジメンマスタ[[#This Row],[YJコード⑤]],[1]!__前投薬リスト[#Data],4,FALSE)&\"\",\"\")","v":""},null,null,null,null,null,null,null,null,null,null,null,{"$f":"IFERROR(VLOOKUP(__レジメンマスタ[[#This Row],[YJコード⑥]],[1]!__前投薬リスト[#Data],4,FALSE)&\"\",\"\")","v":""},null,null,null,null,null,null,null,null,null,null,null,{"$f":"IFERROR(VLOOKUP(__レジメンマスタ[[#This Row],[YJコード⑦]],[1]!__前投薬リスト[#Data],4,FALSE)&\"\",\"\")","v":""}]
["SUR0016","DOC+CDGP+FU","　　　　　　Ｗ1　　　　　　Ｗ2　　　　 Ｗ3～4　　　　　　\nDOC 　↓××××××　×××××××　×××××××\nCDGP　↓××××××　×××××××　×××××××\n5-FU　↓↓↓↓↓××　×××××××　×××××××\n最大4クールまで","28日","4クール","食道癌","外科","ドセタキセル","危〈毒〉20㎎/1mL ﾄﾞｾﾀｷｾﾙ点滴静注「ﾆﾌﾟﾛ」（先:ﾀｷｿﾃｰﾙ）","4240405A3102","注射","１ 時間で",60,"㎡","mg",null,"d1",{"$f":"IFERROR(VLOOKUP(__レジメンマスタ[[#This Row],[YJコード①]],[1]!__前投薬リスト[#Data],4,FALSE)&\"\",\"\")","v":""},null,"アクプラ",null,"4291405F2021","注射",null,60,"㎡","mg",null,"d1",{"$f":"IFERROR(VLOOKUP(__レジメンマスタ[[#This Row],[YJコード②]],[1]!__前投薬リスト[#Data],4,FALSE)&\"\",\"\")","v":""},null,"フルオロウラシル","危 1000mg/20mL ﾌﾙｵﾛｳﾗｼﾙ注「ﾄｰﾜ」（先:5-FU）","4223401A3030","注射",null,600,"㎡","mg",null,"d1-5",{"$f":"IFERROR(VLOOKUP(__レジメンマスタ[[#This Row],[YJコード③]],[1]!__前投薬リスト[#Data],4,FALSE)&\"\",\"\")","v":""},null,null,null,null,null,null,null,null,null,null,null,{"$f":"IFERROR(VLOOKUP(__レジメンマスタ[[#This Row],[YJコード④]],[1]!__前投薬リスト[#Data],4,FALSE)&\"\",\"\")","v":""},null,null,null,null,null,null,null,null,null,null,null,{"$f":"IFERROR(VLOOKUP(__レジメンマスタ[[#This Row],[YJコード⑤]],[1]!__前投薬リスト[#Data],4,FALSE)&\"\",\"\")","v":""},null,null,null,null,null,null,null,null,null,null,null,{"$f":"IFERROR(VLOOKUP(__レジメンマスタ[[#This Row],[YJコード⑥]],[1]!__前投薬リスト[#Data],4,FALSE)&\"\",\"\")","v":""},null,null,null,null,null,null,null,null,null,null,null,{"$f":"IFERROR(VLOOKUP(__レジメンマスタ[[#This Row],[YJコード⑦]],[1]!__前投薬リスト[#Data],4,FALSE)&\"\",\"\")","v":""}]
["SUR0017-1","DCF","　　　　　　Ｗ1　　　　　　Ｗ2　　　  　 Ｗ3　　　　　　\nDOC　 ↓××××××　×××××××　×××××××\nCDDP　↓××××××　×××××××　×××××××\n5-FU　↓↓↓↓↓××　×××××××　×××××××\n3クール後手術","21日","3クール","食道癌","外科","ドセタキセル","危〈毒〉20㎎/1mL ﾄﾞｾﾀｷｾﾙ点滴静注「ﾆﾌﾟﾛ」（先:ﾀｷｿﾃｰﾙ）","4240405A3102","注射","１ 時間で",70,"㎡","mg",null,"d1",{"$f":"IFERROR(VLOOKUP(__レジメンマスタ[[#This Row],[YJコード①]],[1]!__前投薬リスト[#Data],4,FALSE)&\"\",\"\")","v":""},null,"シスプラチン","危〈毒〉50mg/100mL ｼｽﾌﾟﾗﾁﾝ点滴静注「ﾏﾙｺ」（先:ﾗﾝﾀﾞ）","4291401A3111","注射",null,70,"㎡","mg",null,"d1",{"$f":"IFERROR(VLOOKUP(__レジメンマスタ[[#This Row],[YJコード②]],[1]!__前投薬リスト[#Data],4,FALSE)&\"\",\"\")","v":""},null,"フルオロウラシル","危 1000mg/20mL ﾌﾙｵﾛｳﾗｼﾙ注「ﾄｰﾜ」（先:5-FU）","4223401A3030","注射",null,750,"㎡","mg",null,"d1-5",{"$f":"IFERROR(VLOOKUP(__レジメンマスタ[[#This Row],[YJコード③]],[1]!__前投薬リスト[#Data],4,FALSE)&\"\",\"\")","v":""},null,null,null,null,null,null,null,null,null,null,null,{"$f":"IFERROR(VLOOKUP(__レジメンマスタ[[#This Row],[YJコード④]],[1]!__前投薬リスト[#Data],4,FALSE)&\"\",\"\")","v":""},null,null,null,null,null,null,null,null,null,null,null,{"$f":"IFERROR(VLOOKUP(__レジメンマスタ[[#This Row],[YJコード⑤]],[1]!__前投薬リスト[#Data],4,FALSE)&\"\",\"\")","v":""},null,null,null,null,null,null,null,null,null,null,null,{"$f":"IFERROR(VLOOKUP(__レジメンマスタ[[#This Row],[YJコード⑥]],[1]!__前投薬リスト[#Data],4,FALSE)&\"\",\"\")","v":""},null,null,null,null,null,null,null,null,null,null,null,{"$f":"IFERROR(VLOOKUP(__レジメンマスタ[[#This Row],[YJコード⑦]],[1]!__前投薬リスト[#Data],4,FALSE)&\"\",\"\")","v":""}]
["SUR0017-2","DCF+RT","　　　　　　Ｗ1　　　　　　Ｗ2　　　  　 Ｗ3～4　　　　　　\nDOC　 ↓××××××　×××××××　×××××××\nCDDP　↓××××××　×××××××　×××××××\n5-FU　↓↓↓↓↓××　×××××××　×××××××\n放射線併用期間(60Gy/30回)","28日","RT併用期間","食道癌","外科","ドセタキセル","危〈毒〉20㎎/1mL ﾄﾞｾﾀｷｾﾙ点滴静注「ﾆﾌﾟﾛ」（先:ﾀｷｿﾃｰﾙ）","4240405A3102","注射","１ 時間で",50,"㎡","mg",null,"d1",{"$f":"IFERROR(VLOOKUP(__レジメンマスタ[[#This Row],[YJコード①]],[1]!__前投薬リスト[#Data],4,FALSE)&\"\",\"\")","v":""},null,"シスプラチン","危〈毒〉50mg/100mL ｼｽﾌﾟﾗﾁﾝ点滴静注「ﾏﾙｺ」（先:ﾗﾝﾀﾞ）","4291401A3111","注射",null,60,"㎡","mg",null,"d1",{"$f":"IFERROR(VLOOKUP(__レジメンマスタ[[#This Row],[YJコード②]],[1]!__前投薬リスト[#Data],4,FALSE)&\"\",\"\")","v":""},null,"フルオロウラシル","危 1000mg/20mL ﾌﾙｵﾛｳﾗｼﾙ注「ﾄｰﾜ」（先:5-FU）","4223401A3030","注射",null,600,"㎡","mg",null,"d1-5",{"$f":"IFERROR(VLOOKUP(__レジメンマスタ[[#This Row],[YJコード③]],[1]!__前投薬リスト[#Data],4,FALSE)&\"\",\"\")","v":""},null,null,null,null,null,null,null,null,null,null,null,{"$f":"IFERROR(VLOOKUP(__レジメンマスタ[[#This Row],[YJコード④]],[1]!__前投薬リスト[#Data],4,FALSE)&\"\",\"\")","v":""},null,null,null,null,null,null,null,null,null,null,null,{"$f":"IFERROR(VLOOKUP(__レジメンマスタ[[#This Row],[YJコード⑤]],[1]!__前投薬リスト[#Data],4,FALSE)&\"\",\"\")","v":""},null,null,null,null,null,null,null,null,null,null,null,{"$f":"IFERROR(VLOOKUP(__レジメンマスタ[[#This Row],[YJコード⑥]],[1]!__前投薬リスト[#Data],4,FALSE)&\"\",\"\")","v":""},null,null,null,null,null,null,null,null,null,null,null,{"$f":"IFERROR(VLOOKUP(__レジメンマスタ[[#This Row],[YJコード⑦]],[1]!__前投薬リスト[#Data],4,FALSE)&\"\",\"\")","v":""}]
["SUR0020","CDGP+FU","　　　　　　Ｗ1　　　　　　Ｗ2　　　　 Ｗ3～4　　　　　　\nCDGP　↓××××××　×××××××　×××××××\n5-FU　↓↓↓↓↓××　×××××××　×××××××\n最大4クールまで","28日","4クール","食道癌","外科","アクプラ",null,"4291405F2021","注射",null,80,"㎡","mg",null,"d1",{"$f":"IFERROR(VLOOKUP(__レジメンマスタ[[#This Row],[YJコード①]],[1]!__前投薬リスト[#Data],4,FALSE)&\"\",\"\")","v":""},null,"フルオロウラシル","危 1000mg/20mL ﾌﾙｵﾛｳﾗｼﾙ注「ﾄｰﾜ」（先:5-FU）","4223401A3030","注射",null,800,"㎡","mg",null,"d1-5",{"$f":"IFERROR(VLOOKUP(__レジメンマスタ[[#This Row],[YJコード②]],[1]!__前投薬リスト[#Data],4,FALSE)&\"\",\"\")","v":""},null,null,null,null,null,null,null,null,null,null,null,{"$f":"IFERROR(VLOOKUP(__レジメンマスタ[[#This Row],[YJコード③]],[1]!__前投薬リスト[#Data],4,FALSE)&\"\",\"\")","v":""},null,null,null,null,null,null,null,null,null,null,null,{"$f":"IFERROR(VLOOKUP(__レジメンマスタ[[#This Row],[YJコード④]],[1]!__前投薬リスト[#Data],4,FALSE)&\"\",\"\")","v":""},null,null,null,null,null,null,null,null,null,null,null,{"$f":"IFERROR(VLOOKUP(__レジメンマスタ[[#This Row],[YJコード⑤]],[1]!__前投薬リスト[#Data],4,FALSE)&\"\",\"\")","v":""},null,null,null,null,null,null,null,null,null,null,null,{"$f":"IFERROR(VLOOKUP(__レジメンマスタ[[#This Row],[YJコード⑥]],[1]!__前投薬リスト[#Data],4,FALSE)&\"\",\"\")","v":""},null,null,null,null,null,null,null,null,null,null,null,{"$f":"IFERROR(VLOOKUP(__レジメンマスタ[[#This Row],[YJコード⑦]],[1]!__前投薬リスト[#Data],4,FALSE)&\"\",\"\")","v":""}]
["SUR0021","GEM","  　　　　 W1  　　　　　 W2 　　　　  W3 　　　　　  W4  \nGEM ↓×××××× ↓×××××× ↓×××××× ×××××××  \nGEM:溶解液確認→Tzで行う方針の場合はTzへ変更\n3週連投1週休薬","28日","∞","膵臓癌","外科","ゲムシタビン","危 1g ｹﾞﾑｼﾀﾋﾞﾝ点滴静注用「ﾔｸﾙﾄ」（溶解液:生食）（先:ｼﾞｪﾑｻﾞｰﾙ）","4224403D2061","注射","３０ 分で",1000,"㎡","mg",null,"d1,8,15",{"$f":"IFERROR(VLOOKUP(__レジメンマスタ[[#This Row],[YJコード①]],[1]!__前投薬リスト[#Data],4,FALSE)&\"\",\"\")","v":""},null,null,null,null,null,null,null,null,null,null,null,{"$f":"IFERROR(VLOOKUP(__レジメンマスタ[[#This Row],[YJコード②]],[1]!__前投薬リスト[#Data],4,FALSE)&\"\",\"\")","v":""},null,null,null,null,null,null,null,null,null,null,null,{"$f":"IFERROR(VLOOKUP(__レジメンマスタ[[#This Row],[YJコード③]],[1]!__前投薬リスト[#Data],4,FALSE)&\"\",\"\")","v":""},null,null,null,null,null,null,null,null,null,null,null,{"$f":"IFERROR(VLOOKUP(__レジメンマスタ[[#This Row],[YJコード④]],[1]!__前投薬リスト[#Data],4,FALSE)&\"\",\"\")","v":""},null,null,null,null,null,null,null,null,null,null,null,{"$f":"IFERROR(VLOOKUP(__レジメンマスタ[[#This Row],[YJコード⑤]],[1]!__前投薬リスト[#Data],4,FALSE)&\"\",\"\")","v":""},null,null,null,null,null,null,null,null,null,null,null,{"$f":"IFERROR(VLOOKUP(__レジメンマスタ[[#This Row],[YJコード⑥]],[1]!__前投薬リスト[#Data],4,FALSE)&\"\",\"\")","v":""},null,null,null,null,null,null,null,null,null,null,null,{"$f":"IFERROR(VLOOKUP(__レジメンマスタ[[#This Row],[YJコード⑦]],[1]!__前投薬リスト[#Data],4,FALSE)&\"\",\"\")","v":""}]
["SUR0022-A1","Tri weekly PTX","  　　　　 W1  　　　　　 W2 　　　　  W3 　　\nPTX ↓×××××× ××××××× ×××××××\n","21日","∞","胃癌","外科","パクリタキセル","危〈毒〉100mg/16.7mL ﾊﾟｸﾘﾀｷｾﾙ注「NK」（希釈液:生食orTZ）（先:ﾀｷｿｰﾙ）","4240406A2046","注射",null,210,"㎡","mg",null,"d1",{"$f":"IFERROR(VLOOKUP(__レジメンマスタ[[#This Row],[YJコード①]],[1]!__前投薬リスト[#Data],4,FALSE)&\"\",\"\")","v":"抗ヒス,H2B,ステ"},null,null,null,null,null,null,null,null,null,null,null,{"$f":"IFERROR(VLOOKUP(__レジメンマスタ[[#This Row],[YJコード②]],[1]!__前投薬リスト[#Data],4,FALSE)&\"\",\"\")","v":""},null,null,null,null,null,null,null,null,null,null,null,{"$f":"IFERROR(VLOOKUP(__レジメンマスタ[[#This Row],[YJコード③]],[1]!__前投薬リスト[#Data],4,FALSE)&\"\",\"\")","v":""},null,null,null,null,null,null,null,null,null,null,null,{"$f":"IFERROR(VLOOKUP(__レジメンマスタ[[#This Row],[YJコード④]],[1]!__前投薬リスト[#Data],4,FALSE)&\"\",\"\")","v":""},null,null,null,null,null,null,null,null,null,null,null,{"$f":"IFERROR(VLOOKUP(__レジメンマスタ[[#This Row],[YJコード⑤]],[1]!__前投薬リスト[#Data],4,FALSE)&\"\",\"\")","v":""},null,null,null,null,null,null,null,null,null,null,null,{"$f":"IFERROR(VLOOKUP(__レジメンマスタ[[#This Row],[YJコード⑥]],[1]!__前投薬リスト[#Data],4,FALSE)&\"\",\"\")","v":""},null,null,null,null,null,null,null,null,null,null,null,{"$f":"IFERROR(VLOOKUP(__レジメンマスタ[[#This Row],[YJコード⑦]],[1]!__前投薬リスト[#Data],4,FALSE)&\"\",\"\")","v":""}]
["SUR0022-A2","weekly PTX","  　　　　 W1  　　　　　 W2 　　　　  W3 　　　　　  W4  \nPTX ↓×××××× ↓×××××× ↓×××××× ×××××××  \n3週連投1週休薬","28日","∞","胃癌","外科","パクリタキセル","危〈毒〉100mg/16.7mL ﾊﾟｸﾘﾀｷｾﾙ注「NK」（希釈液:生食orTZ）（先:ﾀｷｿｰﾙ）","4240406A2046","注射",null,80,"㎡","mg",null,"d1,8,15",{"$f":"IFERROR(VLOOKUP(__レジメンマスタ[[#This Row],[YJコード①]],[1]!__前投薬リスト[#Data],4,FALSE)&\"\",\"\")","v":"抗ヒス,H2B,ステ"},null,null,null,null,null,null,null,null,null,null,null,{"$f":"IFERROR(VLOOKUP(__レジメンマスタ[[#This Row],[YJコード②]],[1]!__前投薬リスト[#Data],4,FALSE)&\"\",\"\")","v":""},null,null,null,null,null,null,null,null,null,null,null,{"$f":"IFERROR(VLOOKUP(__レジメンマスタ[[#This Row],[YJコード③]],[1]!__前投薬リスト[#Data],4,FALSE)&\"\",\"\")","v":""},null,null,null,null,null,null,null,null,null,null,null,{"$f":"IFERROR(VLOOKUP(__レジメンマスタ[[#This Row],[YJコード④]],[1]!__前投薬リスト[#Data],4,FALSE)&\"\",\"\")","v":""},null,null,null,null,null,null,null,null,null,null,null,{"$f":"IFERROR(VLOOKUP(__レジメンマスタ[[#This Row],[YJコード⑤]],[1]!__前投薬リスト[#Data],4,FALSE)&\"\",\"\")","v":""},null,null,null,null,null,null,null,null,null,null,null,{"$f":"IFERROR(VLOOKUP(__レジメンマスタ[[#This Row],[YJコード⑥]],[1]!__前投薬リスト[#Data],4,FALSE)&\"\",\"\")","v":""},null,null,null,null,null,null,null,null,null,null,null,{"$f":"IFERROR(VLOOKUP(__レジメンマスタ[[#This Row],[YJコード⑦]],[1]!__前投薬リスト[#Data],4,FALSE)&\"\",\"\")","v":""}]
["SUR0025-A1","CPT-11:胃癌","  　　　 W1　W2　W3　W4　W5\nCPT-11 　○　×　○　×　×  \nまたは\n　　　　 W1　W2　W3　W4　W5　W6　W7\nCPT-11 　○　×　○　×　○　×　×  \n2週間に1回投与を2～3回投与後、3週間以上休薬（添付文書用法）","35-49日","∞","胃癌","外科","イリノテカン","危 100mg/5mL ｲﾘﾉﾃｶﾝ塩酸塩点滴静注液「NK」（先:ﾄﾎﾟﾃｼﾝ）","4240404A2055","注射","９０ 分で",150,"㎡","mg",null,"d1,15,(29)",{"$f":"IFERROR(VLOOKUP(__レジメンマスタ[[#This Row],[YJコード①]],[1]!__前投薬リスト[#Data],4,FALSE)&\"\",\"\")","v":""},null,null,null,null,null,null,null,null,null,null,null,{"$f":"IFERROR(VLOOKUP(__レジメンマスタ[[#This Row],[YJコード②]],[1]!__前投薬リスト[#Data],4,FALSE)&\"\",\"\")","v":""},null,null,null,null,null,null,null,null,null,null,null,{"$f":"IFERROR(VLOOKUP(__レジメンマスタ[[#This Row],[YJコード③]],[1]!__前投薬リスト[#Data],4,FALSE)&\"\",\"\")","v":""},null,null,null,null,null,null,null,null,null,null,null,{"$f":"IFERROR(VLOOKUP(__レジメンマスタ[[#This Row],[YJコード④]],[1]!__前投薬リスト[#Data],4,FALSE)&\"\",\"\")","v":""},null,null,null,null,null,null,null,null,null,null,null,{"$f":"IFERROR(VLOOKUP(__レジメンマスタ[[#This Row],[YJコード⑤]],[1]!__前投薬リスト[#Data],4,FALSE)&\"\",\"\")","v":""},null,null,null,null,null,null,null,null,null,null,null,{"$f":"IFERROR(VLOOKUP(__レジメンマスタ[[#This Row],[YJコード⑥]],[1]!__前投薬リスト[#Data],4,FALSE)&\"\",\"\")","v":""},null,null,null,null,null,null,null,null,null,null,null,{"$f":"IFERROR(VLOOKUP(__レジメンマスタ[[#This Row],[YJコード⑦]],[1]!__前投薬リスト[#Data],4,FALSE)&\"\",\"\")","v":""}]
["SUR0025-A2","ＩＲＩ：大腸癌","  　　　 W1　W2　W3　W4　W5\nCPT-11 　○　×　○　×　×  \nまたは\n　　　　 W1　W2　W3　W4　W5　W6　W7\nCPT-11 　○　×　○　×　○　×　×  \n2週間に1回投与を2～3回投与後、3週間以上休薬（添付文書用法）","63日","∞","大腸癌","外科","イリノテカン","危 100mg/5mL ｲﾘﾉﾃｶﾝ塩酸塩点滴静注液「NK」（先:ﾄﾎﾟﾃｼﾝ）","4240404A2055","注射","９０ 分で",150,"㎡","mg",null,"d1,15,(29)",{"$f":"IFERROR(VLOOKUP(__レジメンマスタ[[#This Row],[YJコード①]],[1]!__前投薬リスト[#Data],4,FALSE)&\"\",\"\")","v":""},null,null,null,null,null,null,null,null,null,null,null,{"$f":"IFERROR(VLOOKUP(__レジメンマスタ[[#This Row],[YJコード②]],[1]!__前投薬リスト[#Data],4,FALSE)&\"\",\"\")","v":""},null,null,null,null,null,null,null,null,null,null,null,{"$f":"IFERROR(VLOOKUP(__レジメンマスタ[[#This Row],[YJコード③]],[1]!__前投薬リスト[#Data],4,FALSE)&\"\",\"\")","v":""},null,null,null,null,null,null,null,null,null,null,null,{"$f":"IFERROR(VLOOKUP(__レジメンマスタ[[#This Row],[YJコード④]],[1]!__前投薬リスト[#Data],4,FALSE)&\"\",\"\")","v":""},null,null,null,null,null,null,null,null,null,null,null,{"$f":"IFERROR(VLOOKUP(__レジメンマスタ[[#This Row],[YJコード⑤]],[1]!__前投薬リスト[#Data],4,FALSE)&\"\",\"\")","v":""},null,null,null,null,null,null,null,null,null,null,null,{"$f":"IFERROR(VLOOKUP(__レジメンマスタ[[#This Row],[YJコード⑥]],[1]!__前投薬リスト[#Data],4,FALSE)&\"\",\"\")","v":""},null,null,null,null,null,null,null,null,null,null,null,{"$f":"IFERROR(VLOOKUP(__レジメンマスタ[[#This Row],[YJコード⑦]],[1]!__前投薬リスト[#Data],4,FALSE)&\"\",\"\")","v":""}]
["SUR0031","CDDP+FU:食道癌","　　　　　　Ｗ1　　　　　　Ｗ2　　　　 Ｗ3～4　　　　　　\nCDDP　↓××××××　×××××××　×××××××\n5-FU　↓↓↓↓↓××　×××××××　×××××××","28日","4クール","食道癌","外科","シスプラチン","危〈毒〉50mg/100mL ｼｽﾌﾟﾗﾁﾝ点滴静注「ﾏﾙｺ」（先:ﾗﾝﾀﾞ）","4291401A3111","注射","２ 時間で",80,"㎡","mg",null,"d1",{"$f":"IFERROR(VLOOKUP(__レジメンマスタ[[#This Row],[YJコード①]],[1]!__前投薬リスト[#Data],4,FALSE)&\"\",\"\")","v":""},null,"フルオロウラシル","危 1000mg/20mL ﾌﾙｵﾛｳﾗｼﾙ注「ﾄｰﾜ」（先:5-FU）","4223401A3030","注射","２４時間持続投与",800,"㎡","mg",null,"d1-5",{"$f":"IFERROR(VLOOKUP(__レジメンマスタ[[#This Row],[YJコード②]],[1]!__前投薬リスト[#Data],4,FALSE)&\"\",\"\")","v":""},null,null,null,null,null,null,null,null,null,null,null,{"$f":"IFERROR(VLOOKUP(__レジメンマスタ[[#This Row],[YJコード③]],[1]!__前投薬リスト[#Data],4,FALSE)&\"\",\"\")","v":""},null,null,null,null,null,null,null,null,null,null,null,{"$f":"IFERROR(VLOOKUP(__レジメンマスタ[[#This Row],[YJコード④]],[1]!__前投薬リスト[#Data],4,FALSE)&\"\",\"\")","v":""},null,null,null,null,null,null,null,null,null,null,null,{"$f":"IFERROR(VLOOKUP(__レジメンマスタ[[#This Row],[YJコード⑤]],[1]!__前投薬リスト[#Data],4,FALSE)&\"\",\"\")","v":""},null,null,null,null,null,null,null,null,null,null,null,{"$f":"IFERROR(VLOOKUP(__レジメンマスタ[[#This Row],[YJコード⑥]],[1]!__前投薬リスト[#Data],4,FALSE)&\"\",\"\")","v":""},null,null,null,null,null,null,null,null,null,null,null,{"$f":"IFERROR(VLOOKUP(__レジメンマスタ[[#This Row],[YJコード⑦]],[1]!__前投薬リスト[#Data],4,FALSE)&\"\",\"\")","v":""}]
["SUR0031-A1","CDDP+FU：胃癌","　　　　　　Ｗ1　　　　　　Ｗ2　　　　 Ｗ3～4　　　　　　\nCDDP　↓××××××　×××××××　×××××××\n5-FU　↓↓↓↓↓××　×××××××　×××××××","28日","4クール","胃癌","外科","シスプラチン","危〈毒〉50mg/100mL ｼｽﾌﾟﾗﾁﾝ点滴静注「ﾏﾙｺ」（先:ﾗﾝﾀﾞ）","4291401A3111","注射","２ 時間で",80,"㎡","mg",null,"d1",{"$f":"IFERROR(VLOOKUP(__レジメンマスタ[[#This Row],[YJコード①]],[1]!__前投薬リスト[#Data],4,FALSE)&\"\",\"\")","v":""},null,"フルオロウラシル","危 1000mg/20mL ﾌﾙｵﾛｳﾗｼﾙ注「ﾄｰﾜ」（先:5-FU）","4223401A3030","注射","２４時間持続投与",800,"㎡","mg",null,"d1-5",{"$f":"IFERROR(VLOOKUP(__レジメンマスタ[[#This Row],[YJコード②]],[1]!__前投薬リスト[#Data],4,FALSE)&\"\",\"\")","v":""},null,null,null,null,null,null,null,null,null,null,null,{"$f":"IFERROR(VLOOKUP(__レジメンマスタ[[#This Row],[YJコード③]],[1]!__前投薬リスト[#Data],4,FALSE)&\"\",\"\")","v":""},null,null,null,null,null,null,null,null,null,null,null,{"$f":"IFERROR(VLOOKUP(__レジメンマスタ[[#This Row],[YJコード④]],[1]!__前投薬リスト[#Data],4,FALSE)&\"\",\"\")","v":""},null,null,null,null,null,null,null,null,null,null,null,{"$f":"IFERROR(VLOOKUP(__レジメンマスタ[[#This Row],[YJコード⑤]],[1]!__前投薬リスト[#Data],4,FALSE)&\"\",\"\")","v":""},null,null,null,null,null,null,null,null,null,null,null,{"$f":"IFERROR(VLOOKUP(__レジメンマスタ[[#This Row],[YJコード⑥]],[1]!__前投薬リスト[#Data],4,FALSE)&\"\",\"\")","v":""},null,null,null,null,null,null,null,null,null,null,null,{"$f":"IFERROR(VLOOKUP(__レジメンマスタ[[#This Row],[YJコード⑦]],[1]!__前投薬リスト[#Data],4,FALSE)&\"\",\"\")","v":""}]
["SUR0035","FOLFOX+BEV","　　　　　  Ｗ1 　　　　 　Ｗ2　　　　\nBev     ↓×××××× ××××××× \nl-LV    ↓×××××× ××××××× \nL-OHP   ↓×××××× ×××××××  \nFU bls  ↓×××××× ××××××× \nFU conc ↓×××××× ××××××× \n2週間毎\n★インフューザーポンプ使用時は２．５ｍｌ／ｈｒに輸液量を調製","14日","∞","大腸癌","外科","ベバシズマブ","危 400mg/16mL ﾍﾞﾊﾞｼｽﾞﾏﾌﾞBS点滴静注「CTNK」（希釈液:生食）（先:ｱﾊﾞｽﾁﾝ）","4291463A2027","注射","初回９０分、２回目６０分、３回目～３０分",5,"kg","mg",null,"d1",{"$f":"IFERROR(VLOOKUP(__レジメンマスタ[[#This Row],[YJコード①]],[1]!__前投薬リスト[#Data],4,FALSE)&\"\",\"\")","v":""},null,"レボホリナート","危 100mg ﾚﾎﾞﾎﾘﾅｰﾄ点滴静注用「ﾔｸﾙﾄ」（先:ｱｲｿﾎﾞﾘﾝ）","3929407D2060","注射","２ 時間で",200,"㎡","mg",null,"d1",{"$f":"IFERROR(VLOOKUP(__レジメンマスタ[[#This Row],[YJコード②]],[1]!__前投薬リスト[#Data],4,FALSE)&\"\",\"\")","v":""},null,"オキサリプラチン","危〈毒〉100㎎/20mL ｵｷｻﾘﾌﾟﾗﾁﾝ点滴静注液「NK」（先:ｴﾙﾌﾟﾗｯﾄ）","4291410A2092","注射","２ 時間で",85,"㎡","mg",null,"d1",{"$f":"IFERROR(VLOOKUP(__レジメンマスタ[[#This Row],[YJコード③]],[1]!__前投薬リスト[#Data],4,FALSE)&\"\",\"\")","v":""},null,"フルオロウラシル","危 1000mg/20mL ﾌﾙｵﾛｳﾗｼﾙ注「ﾄｰﾜ」（先:5-FU）","4223401A3030","注射","１５ 分で",400,"㎡","mg",null,"d1",{"$f":"IFERROR(VLOOKUP(__レジメンマスタ[[#This Row],[YJコード④]],[1]!__前投薬リスト[#Data],4,FALSE)&\"\",\"\")","v":""},null,"フルオロウラシル","危 1000mg/20mL ﾌﾙｵﾛｳﾗｼﾙ注「ﾄｰﾜ」（先:5-FU）","4223401A3030","注射","４６時間で",2400,"㎡","mg",null,"d1(46hr)",{"$f":"IFERROR(VLOOKUP(__レジメンマスタ[[#This Row],[YJコード⑤]],[1]!__前投薬リスト[#Data],4,FALSE)&\"\",\"\")","v":""},null,null,null,null,null,null,null,null,null,null,null,{"$f":"IFERROR(VLOOKUP(__レジメンマスタ[[#This Row],[YJコード⑥]],[1]!__前投薬リスト[#Data],4,FALSE)&\"\",\"\")","v":""},null,null,null,null,null,null,null,null,null,null,null,{"$f":"IFERROR(VLOOKUP(__レジメンマスタ[[#This Row],[YJコード⑦]],[1]!__前投薬リスト[#Data],4,FALSE)&\"\",\"\")","v":""}]
["SUR0036","FOLFIRI+BEV","　　　　　  Ｗ1 　　　　 　Ｗ2　　　　\nBev     ↓×××××× ××××××× \nl-LV    ↓×××××× ××××××× \nIRI     ↓×××××× ×××××××  \nFU bls  ↓×××××× ××××××× \nFU conc ↓×××××× ××××××× \n2週間毎\n★インフューザーポンプ使用時は２．５ｍｌ／ｈｒに輸液量を調製","14日","∞","大腸癌","外科","ベバシズマブ","危 400mg/16mL ﾍﾞﾊﾞｼｽﾞﾏﾌﾞBS点滴静注「CTNK」（希釈液:生食）（先:ｱﾊﾞｽﾁﾝ）","4291463A2027","注射","初回９０分、２回目６０分、３回目～３０分",5,"kg","mg",null,"d1",{"$f":"IFERROR(VLOOKUP(__レジメンマスタ[[#This Row],[YJコード①]],[1]!__前投薬リスト[#Data],4,FALSE)&\"\",\"\")","v":""},null,"レボホリナート","危 100mg ﾚﾎﾞﾎﾘﾅｰﾄ点滴静注用「ﾔｸﾙﾄ」（先:ｱｲｿﾎﾞﾘﾝ）","3929407D2060","注射","２ 時間で",200,"㎡","mg",null,"d1",{"$f":"IFERROR(VLOOKUP(__レジメンマスタ[[#This Row],[YJコード②]],[1]!__前投薬リスト[#Data],4,FALSE)&\"\",\"\")","v":""},null,"イリノテカン","危 100mg/5mL ｲﾘﾉﾃｶﾝ塩酸塩点滴静注液「NK」（先:ﾄﾎﾟﾃｼﾝ）","4240404A2055","注射","９０ 分で",150,"㎡","mg",null,"d1",{"$f":"IFERROR(VLOOKUP(__レジメンマスタ[[#This Row],[YJコード③]],[1]!__前投薬リスト[#Data],4,FALSE)&\"\",\"\")","v":""},null,"フルオロウラシル","危 1000mg/20mL ﾌﾙｵﾛｳﾗｼﾙ注「ﾄｰﾜ」（先:5-FU）","4223401A3030","注射","１５ 分で",400,"㎡","mg",null,"d1",{"$f":"IFERROR(VLOOKUP(__レジメンマスタ[[#This Row],[YJコード④]],[1]!__前投薬リスト[#Data],4,FALSE)&\"\",\"\")","v":""},null,"フルオロウラシル","危 1000mg/20mL ﾌﾙｵﾛｳﾗｼﾙ注「ﾄｰﾜ」（先:5-FU）","4223401A3030","注射","４６時間で",2400,"㎡","mg",null,"d1(46hr)",{"$f":"IFERROR(VLOOKUP(__レジメンマスタ[[#This Row],[YJコード⑤]],[1]!__前投薬リスト[#Data],4,FALSE)&\"\",\"\")","v":""},null,null,null,null,null,null,null,null,null,null,null,{"$f":"IFERROR(VLOOKUP(__レジメンマスタ[[#This Row],[YJコード⑥]],[1]!__前投薬リスト[#Data],4,FALSE)&\"\",\"\")","v":""},null,null,null,null,null,null,null,null,null,null,null,{"$f":"IFERROR(VLOOKUP(__レジメンマスタ[[#This Row],[YJコード⑦]],[1]!__前投薬リスト[#Data],4,FALSE)&\"\",\"\")","v":""}]
["SUR0037","DOC+CDGP","　　　　　　Ｗ1　　　　　　Ｗ2　　　　　\nDOC 　↓××××××　×××××××　\nCDGP　↓××××××　×××××××　\n2週間毎、6クールで評価\n効果判定にてPR以上の症例には3～4週間毎で継続","14日","6クール","食道癌","外科","ドセタキセル","危〈毒〉20㎎/1mL ﾄﾞｾﾀｷｾﾙ点滴静注「ﾆﾌﾟﾛ」（先:ﾀｷｿﾃｰﾙ）","4240405A3102","注射",null,30,"㎡","mg",null,"d1",{"$f":"IFERROR(VLOOKUP(__レジメンマスタ[[#This Row],[YJコード①]],[1]!__前投薬リスト[#Data],4,FALSE)&\"\",\"\")","v":""},null,"アクプラ",null,"4291405F2021","注射",null,40,"㎡","mg",null,"d1",{"$f":"IFERROR(VLOOKUP(__レジメンマスタ[[#This Row],[YJコード②]],[1]!__前投薬リスト[#Data],4,FALSE)&\"\",\"\")","v":""},null,null,null,null,null,null,null,null,null,null,null,{"$f":"IFERROR(VLOOKUP(__レジメンマスタ[[#This Row],[YJコード③]],[1]!__前投薬リスト[#Data],4,FALSE)&\"\",\"\")","v":""},null,null,null,null,null,null,null,null,null,null,null,{"$f":"IFERROR(VLOOKUP(__レジメンマスタ[[#This Row],[YJコード④]],[1]!__前投薬リスト[#Data],4,FALSE)&\"\",\"\")","v":""},null,null,null,null,null,null,null,null,null,null,null,{"$f":"IFERROR(VLOOKUP(__レジメンマスタ[[#This Row],[YJコード⑤]],[1]!__前投薬リスト[#Data],4,FALSE)&\"\",\"\")","v":""},null,null,null,null,null,null,null,null,null,null,null,{"$f":"IFERROR(VLOOKUP(__レジメンマスタ[[#This Row],[YJコード⑥]],[1]!__前投薬リスト[#Data],4,FALSE)&\"\",\"\")","v":""},null,null,null,null,null,null,null,null,null,null,null,{"$f":"IFERROR(VLOOKUP(__レジメンマスタ[[#This Row],[YJコード⑦]],[1]!__前投薬リスト[#Data],4,FALSE)&\"\",\"\")","v":""}]
["SUR0039","FU+MMC","　　　　　　Ｗ1　　　　　　Ｗ2-4　　　　 Ｗ5　　　　　　　Ｗ6-8　　　　\nMMC 　↓××××××　×××××××　↓××××××　×××××××\n5-FU　↓↓↓↓×××　×××××××　↓↓↓↓×××　×××××××\n★マイトマイシン：MAX20mg★","56日","1コースのみ","肛門管癌","外科","フルオロウラシル","危 1000mg/20mL ﾌﾙｵﾛｳﾗｼﾙ注「ﾄｰﾜ」（先:5-FU）","4223401A3030","注射","２４時間持続投与",1000,"㎡","mg",null,"d1-4,29-32",{"$f":"IFERROR(VLOOKUP(__レジメンマスタ[[#This Row],[YJコード①]],[1]!__前投薬リスト[#Data],4,FALSE)&\"\",\"\")","v":""},null,"マイトマイシン","危 臨）ﾏｲﾄﾏｲｼﾝ注用 2mg（溶解液:生食）","4231400D1031","注射","１５分くらいで",10,"㎡","mg",null,"d1,29",{"$f":"IFERROR(VLOOKUP(__レジメンマスタ[[#This Row],[YJコード②]],[1]!__前投薬リスト[#Data],4,FALSE)&\"\",\"\")","v":""},null,null,null,null,null,null,null,null,null,null,null,{"$f":"IFERROR(VLOOKUP(__レジメンマスタ[[#This Row],[YJコード③]],[1]!__前投薬リスト[#Data],4,FALSE)&\"\",\"\")","v":""},null,null,null,null,null,null,null,null,null,null,null,{"$f":"IFERROR(VLOOKUP(__レジメンマスタ[[#This Row],[YJコード④]],[1]!__前投薬リスト[#Data],4,FALSE)&\"\",\"\")","v":""},null,null,null,null,null,null,null,null,null,null,null,{"$f":"IFERROR(VLOOKUP(__レジメンマスタ[[#This Row],[YJコード⑤]],[1]!__前投薬リスト[#Data],4,FALSE)&\"\",\"\")","v":""},null,null,null,null,null,null,null,null,null,null,null,{"$f":"IFERROR(VLOOKUP(__レジメンマスタ[[#This Row],[YJコード⑥]],[1]!__前投薬リスト[#Data],4,FALSE)&\"\",\"\")","v":""},null,null,null,null,null,null,null,null,null,null,null,{"$f":"IFERROR(VLOOKUP(__レジメンマスタ[[#This Row],[YJコード⑦]],[1]!__前投薬リスト[#Data],4,FALSE)&\"\",\"\")","v":""}]
["SUR0040","CET","            W1 　　　　    W1             W1    \nCmab ↓××××××  ↓×××××× ↓××××××     ","7日","∞","大腸癌(RASwild)","外科","アービタックス（初回）","危 ｱｰﾋﾞﾀｯｸｽ注射液 100㎎/20mL","4291415A1021","注射","２ 時間で",400,"㎡","mg",null,"d1",{"$f":"IFERROR(VLOOKUP(__レジメンマスタ[[#This Row],[YJコード①]],[1]!__前投薬リスト[#Data],4,FALSE)&\"\",\"\")","v":"抗ヒス,(ステ)"},null,"アービタックス（2回目以降～）","危 ｱｰﾋﾞﾀｯｸｽ注射液 100㎎/20mL","4291415A1021","注射","１ 時間で",250,"㎡","mg",null,"d1",{"$f":"IFERROR(VLOOKUP(__レジメンマスタ[[#This Row],[YJコード②]],[1]!__前投薬リスト[#Data],4,FALSE)&\"\",\"\")","v":"抗ヒス,(ステ)"},null,null,null,null,null,null,null,null,null,null,null,{"$f":"IFERROR(VLOOKUP(__レジメンマスタ[[#This Row],[YJコード③]],[1]!__前投薬リスト[#Data],4,FALSE)&\"\",\"\")","v":""},null,null,null,null,null,null,null,null,null,null,null,{"$f":"IFERROR(VLOOKUP(__レジメンマスタ[[#This Row],[YJコード④]],[1]!__前投薬リスト[#Data],4,FALSE)&\"\",\"\")","v":""},null,null,null,null,null,null,null,null,null,null,null,{"$f":"IFERROR(VLOOKUP(__レジメンマスタ[[#This Row],[YJコード⑤]],[1]!__前投薬リスト[#Data],4,FALSE)&\"\",\"\")","v":""},null,null,null,null,null,null,null,null,null,null,null,{"$f":"IFERROR(VLOOKUP(__レジメンマスタ[[#This Row],[YJコード⑥]],[1]!__前投薬リスト[#Data],4,FALSE)&\"\",\"\")","v":""},null,null,null,null,null,null,null,null,null,null,null,{"$f":"IFERROR(VLOOKUP(__レジメンマスタ[[#This Row],[YJコード⑦]],[1]!__前投薬リスト[#Data],4,FALSE)&\"\",\"\")","v":""}]
["SUR0041","ＩＲＩ+CET","            W1 　　　　    W2       \nCmab 　↓××××××  ↓××××××　※1週間毎\nCPT-11 ↓××××××  ×××××××  ※2週間毎","14日","∞","大腸癌(RASwild)","外科","アービタックス（初回）","危 ｱｰﾋﾞﾀｯｸｽ注射液 100㎎/20mL","4291415A1021","注射","２ 時間で",400,"㎡","mg",null,"d1",{"$f":"IFERROR(VLOOKUP(__レジメンマスタ[[#This Row],[YJコード①]],[1]!__前投薬リスト[#Data],4,FALSE)&\"\",\"\")","v":"抗ヒス,(ステ)"},null,"アービタックス（2回目以降～）","危 ｱｰﾋﾞﾀｯｸｽ注射液 100㎎/20mL","4291415A1021","注射","１ 時間で",250,"㎡","mg",null,"d1,8",{"$f":"IFERROR(VLOOKUP(__レジメンマスタ[[#This Row],[YJコード②]],[1]!__前投薬リスト[#Data],4,FALSE)&\"\",\"\")","v":"抗ヒス,(ステ)"},null,"イリノテカン","危 100mg/5mL ｲﾘﾉﾃｶﾝ塩酸塩点滴静注液「NK」（先:ﾄﾎﾟﾃｼﾝ）","4240404A2055","注射","９０ 分で",150,"㎡","mg",null,"d1",{"$f":"IFERROR(VLOOKUP(__レジメンマスタ[[#This Row],[YJコード③]],[1]!__前投薬リスト[#Data],4,FALSE)&\"\",\"\")","v":""},null,null,null,null,null,null,null,null,null,null,null,{"$f":"IFERROR(VLOOKUP(__レジメンマスタ[[#This Row],[YJコード④]],[1]!__前投薬リスト[#Data],4,FALSE)&\"\",\"\")","v":""},null,null,null,null,null,null,null,null,null,null,null,{"$f":"IFERROR(VLOOKUP(__レジメンマスタ[[#This Row],[YJコード⑤]],[1]!__前投薬リスト[#Data],4,FALSE)&\"\",\"\")","v":""},null,null,null,null,null,null,null,null,null,null,null,{"$f":"IFERROR(VLOOKUP(__レジメンマスタ[[#This Row],[YJコード⑥]],[1]!__前投薬リスト[#Data],4,FALSE)&\"\",\"\")","v":""},null,null,null,null,null,null,null,null,null,null,null,{"$f":"IFERROR(VLOOKUP(__レジメンマスタ[[#This Row],[YJコード⑦]],[1]!__前投薬リスト[#Data],4,FALSE)&\"\",\"\")","v":""}]
["SUR0042","FOLFIRI+CET","        　　    W1 　　　　    W2       \nCmab 　　↓××××××  ↓××××××　※1週間毎\nFOLFIRI ↓××××××  ×××××××  ※2週間毎","14日","∞","大腸癌(RASwild)","外科","アービタックス（初回）","危 ｱｰﾋﾞﾀｯｸｽ注射液 100㎎/20mL","4291415A1021","注射","２ 時間で",400,"㎡","mg",null,"d1",{"$f":"IFERROR(VLOOKUP(__レジメンマスタ[[#This Row],[YJコード①]],[1]!__前投薬リスト[#Data],4,FALSE)&\"\",\"\")","v":"抗ヒス,(ステ)"},null,"アービタックス（2回目以降～）","危 ｱｰﾋﾞﾀｯｸｽ注射液 100㎎/20mL","4291415A1021","注射","１ 時間で",250,"㎡","mg",null,"d1,8",{"$f":"IFERROR(VLOOKUP(__レジメンマスタ[[#This Row],[YJコード②]],[1]!__前投薬リスト[#Data],4,FALSE)&\"\",\"\")","v":"抗ヒス,(ステ)"},null,"レボホリナート","危 100mg ﾚﾎﾞﾎﾘﾅｰﾄ点滴静注用「ﾔｸﾙﾄ」（先:ｱｲｿﾎﾞﾘﾝ）","3929407D2060","注射","２ 時間で",200,"㎡","mg",null,"d1",{"$f":"IFERROR(VLOOKUP(__レジメンマスタ[[#This Row],[YJコード③]],[1]!__前投薬リスト[#Data],4,FALSE)&\"\",\"\")","v":""},null,"イリノテカン","危 100mg/5mL ｲﾘﾉﾃｶﾝ塩酸塩点滴静注液「NK」（先:ﾄﾎﾟﾃｼﾝ）","4240404A2055","注射","９０ 分で",150,"㎡","mg",null,"d1",{"$f":"IFERROR(VLOOKUP(__レジメンマスタ[[#This Row],[YJコード④]],[1]!__前投薬リスト[#Data],4,FALSE)&\"\",\"\")","v":""},null,"フルオロウラシル","危 1000mg/20mL ﾌﾙｵﾛｳﾗｼﾙ注「ﾄｰﾜ」（先:5-FU）","4223401A3030","注射","１５ 分で",400,"㎡","mg",null,"d1",{"$f":"IFERROR(VLOOKUP(__レジメンマスタ[[#This Row],[YJコード⑤]],[1]!__前投薬リスト[#Data],4,FALSE)&\"\",\"\")","v":""},null,"フルオロウラシル","危 1000mg/20mL ﾌﾙｵﾛｳﾗｼﾙ注「ﾄｰﾜ」（先:5-FU）","4223401A3030","注射","４６時間で",2400,"㎡","mg",null,"d1(46hr)",{"$f":"IFERROR(VLOOKUP(__レジメンマスタ[[#This Row],[YJコード⑥]],[1]!__前投薬リスト[#Data],4,FALSE)&\"\",\"\")","v":""},null,null,null,null,null,null,null,null,null,null,null,{"$f":"IFERROR(VLOOKUP(__レジメンマスタ[[#This Row],[YJコード⑦]],[1]!__前投薬リスト[#Data],4,FALSE)&\"\",\"\")","v":""}]
["SUR0042-1","FOLFIRI+CET(隔週)","        　　    W1 　　　　    W2       \nCmab 　　↓××××××  ×××××××　\nFOLFIRI  ↓××××××  ×××××××  ","14日","∞","大腸癌(RASwild)","外科","アービタックス","危 ｱｰﾋﾞﾀｯｸｽ注射液 100㎎/20mL","4291415A1021","注射","２ 時間で",500,"㎡","mg",null,"d1",{"$f":"IFERROR(VLOOKUP(__レジメンマスタ[[#This Row],[YJコード①]],[1]!__前投薬リスト[#Data],4,FALSE)&\"\",\"\")","v":"抗ヒス,(ステ)"},null,"レボホリナート","危 100mg ﾚﾎﾞﾎﾘﾅｰﾄ点滴静注用「ﾔｸﾙﾄ」（先:ｱｲｿﾎﾞﾘﾝ）","3929407D2060","注射","２ 時間で",200,"㎡","mg",null,"d1",{"$f":"IFERROR(VLOOKUP(__レジメンマスタ[[#This Row],[YJコード②]],[1]!__前投薬リスト[#Data],4,FALSE)&\"\",\"\")","v":""},null,"イリノテカン","危 100mg/5mL ｲﾘﾉﾃｶﾝ塩酸塩点滴静注液「NK」（先:ﾄﾎﾟﾃｼﾝ）","4240404A2055","注射","９０ 分で",150,"㎡","mg",null,"d1",{"$f":"IFERROR(VLOOKUP(__レジメンマスタ[[#This Row],[YJコード③]],[1]!__前投薬リスト[#Data],4,FALSE)&\"\",\"\")","v":""},null,"フルオロウラシル","危 1000mg/20mL ﾌﾙｵﾛｳﾗｼﾙ注「ﾄｰﾜ」（先:5-FU）","4223401A3030","注射","１５ 分で",400,"㎡","mg",null,"d1",{"$f":"IFERROR(VLOOKUP(__レジメンマスタ[[#This Row],[YJコード④]],[1]!__前投薬リスト[#Data],4,FALSE)&\"\",\"\")","v":""},null,"フルオロウラシル","危 1000mg/20mL ﾌﾙｵﾛｳﾗｼﾙ注「ﾄｰﾜ」（先:5-FU）","4223401A3030","注射","４６時間で",2400,"㎡","mg",null,"d1(46hr)",{"$f":"IFERROR(VLOOKUP(__レジメンマスタ[[#This Row],[YJコード⑤]],[1]!__前投薬リスト[#Data],4,FALSE)&\"\",\"\")","v":""},null,null,null,null,null,null,null,null,null,null,null,{"$f":"IFERROR(VLOOKUP(__レジメンマスタ[[#This Row],[YJコード⑥]],[1]!__前投薬リスト[#Data],4,FALSE)&\"\",\"\")","v":""},null,null,null,null,null,null,null,null,null,null,null,{"$f":"IFERROR(VLOOKUP(__レジメンマスタ[[#This Row],[YJコード⑦]],[1]!__前投薬リスト[#Data],4,FALSE)&\"\",\"\")","v":""}]
["SUR0043","GEM＋S1","　　　　　　Ｗ1　　　　　　Ｗ2　　　　　　 Ｗ3　　　　　　\nGEM　↓××××××　↓××××××　×××××××\nS-1　↓↓↓↓↓↓↓　↓↓↓↓↓↓↓　×××××××\nGEM：2週1休、S1:2週間内服、1週間休薬。溶解液確認→Tzで行う方針の場合Tzへ変更\nS1：初回基準量【テガフール相当量、原則40mg/回未満には減らさない】\n1.25m2未満:40mg/回,1.25m2以上1.5m2未満:50mg/回,1.5m2以上:60mg/回\nCCr≧60：通常用量、60>CCr≧40:一段階減量,40>CCr≧30:二段階減量,\nCCr＜30：禁忌","21日","∞","膵臓癌","外科","ゲムシタビン","危 1g ｹﾞﾑｼﾀﾋﾞﾝ点滴静注用「ﾔｸﾙﾄ」（溶解液:生食）（先:ｼﾞｪﾑｻﾞｰﾙ）","4224403D2061","注射","３０ 分で",1000,"㎡","mg",null,"d1,8",{"$f":"IFERROR(VLOOKUP(__レジメンマスタ[[#This Row],[YJコード①]],[1]!__前投薬リスト[#Data],4,FALSE)&\"\",\"\")","v":""},null,"エスワン",null,"4229101F2057","経口",null,"80-120/2","BODY","mg",null,"d1-14",{"$f":"IFERROR(VLOOKUP(__レジメンマスタ[[#This Row],[YJコード②]],[1]!__前投薬リスト[#Data],4,FALSE)&\"\",\"\")","v":""},null,null,null,null,null,null,null,null,null,null,null,{"$f":"IFERROR(VLOOKUP(__レジメンマスタ[[#This Row],[YJコード③]],[1]!__前投薬リスト[#Data],4,FALSE)&\"\",\"\")","v":""},null,null,null,null,null,null,null,null,null,null,null,{"$f":"IFERROR(VLOOKUP(__レジメンマスタ[[#This Row],[YJコード④]],[1]!__前投薬リスト[#Data],4,FALSE)&\"\",\"\")","v":""},null,null,null,null,null,null,null,null,null,null,null,{"$f":"IFERROR(VLOOKUP(__レジメンマスタ[[#This Row],[YJコード⑤]],[1]!__前投薬リスト[#Data],4,FALSE)&\"\",\"\")","v":""},null,null,null,null,null,null,null,null,null,null,null,{"$f":"IFERROR(VLOOKUP(__レジメンマスタ[[#This Row],[YJコード⑥]],[1]!__前投薬リスト[#Data],4,FALSE)&\"\",\"\")","v":""},null,null,null,null,null,null,null,null,null,null,null,{"$f":"IFERROR(VLOOKUP(__レジメンマスタ[[#This Row],[YJコード⑦]],[1]!__前投薬リスト[#Data],4,FALSE)&\"\",\"\")","v":""}]
["SUR0045","PTX＋S1","　　　　　　Ｗ1　　　　　　Ｗ2　　　　　　 Ｗ3　　　　　　\nPTX　↓××××××　↓××××××　×××××××\nS-1　↓↓↓↓↓↓↓　↓↓↓↓↓↓↓　×××××××\nPTX：2週1休、S1:2週間内服、1週間休薬。\nS1：初回基準量【テガフール相当量、原則40mg/回未満には減らさない】\n1.25m2未満:40mg/回,1.25m2以上1.5m2未満:50mg/回,1.5m2以上:60mg/回\nCCr≧60：通常用量、60>CCr≧40:一段階減量,40>CCr≧30:二段階減量,\nCCr＜30：禁忌","21日","∞","胃癌","外科","パクリタキセル","危〈毒〉100mg/16.7mL ﾊﾟｸﾘﾀｷｾﾙ注「NK」（希釈液:生食orTZ）（先:ﾀｷｿｰﾙ）","4240406A2046","注射",null,50,"㎡","mg",null,"d1,8",{"$f":"IFERROR(VLOOKUP(__レジメンマスタ[[#This Row],[YJコード①]],[1]!__前投薬リスト[#Data],4,FALSE)&\"\",\"\")","v":"抗ヒス,H2B,ステ"},null,"エスワン",null,"4229101F2057","経口",null,"80-120/2","BODY","mg",null,"d1-14",{"$f":"IFERROR(VLOOKUP(__レジメンマスタ[[#This Row],[YJコード②]],[1]!__前投薬リスト[#Data],4,FALSE)&\"\",\"\")","v":""},null,null,null,null,null,null,null,null,null,null,null,{"$f":"IFERROR(VLOOKUP(__レジメンマスタ[[#This Row],[YJコード③]],[1]!__前投薬リスト[#Data],4,FALSE)&\"\",\"\")","v":""},null,null,null,null,null,null,null,null,null,null,null,{"$f":"IFERROR(VLOOKUP(__レジメンマスタ[[#This Row],[YJコード④]],[1]!__前投薬リスト[#Data],4,FALSE)&\"\",\"\")","v":""},null,null,null,null,null,null,null,null,null,null,null,{"$f":"IFERROR(VLOOKUP(__レジメンマスタ[[#This Row],[YJコード⑤]],[1]!__前投薬リスト[#Data],4,FALSE)&\"\",\"\")","v":""},null,null,null,null,null,null,null,null,null,null,null,{"$f":"IFERROR(VLOOKUP(__レジメンマスタ[[#This Row],[YJコード⑥]],[1]!__前投薬リスト[#Data],4,FALSE)&\"\",\"\")","v":""},null,null,null,null,null,null,null,null,null,null,null,{"$f":"IFERROR(VLOOKUP(__レジメンマスタ[[#This Row],[YJコード⑦]],[1]!__前投薬リスト[#Data],4,FALSE)&\"\",\"\")","v":""}]
["SUR0046","CAPOX","　　　　　　Ｗ1　　　　　　Ｗ2　　　　　　 Ｗ3　　　　　　\nL-OHP　 ↓××××××　×××××××　×××××××\nCape　　↓↓↓↓↓↓↓　↓↓↓↓↓↓↓　×××××××\nL-OHP：3週間毎、Cape:2週間内服、1週間休薬。\n1回量：1.36㎡未満＝1200mg,1.36~1.66㎡未満=1500mg,1.66~1.96㎡未満=1800mg,1.96㎡以上＝2100mg\nCCｒ＝51～80 ml/min：減量不要\nCCｒ＝30～50ml/min：一段階減量（75％用量）用量は添付文書確認\nCCｒ＝30ml/min:投与禁忌\n","21日","∞","大腸癌","外科","オキサリプラチン","危〈毒〉100㎎/20mL ｵｷｻﾘﾌﾟﾗﾁﾝ点滴静注液「NK」（先:ｴﾙﾌﾟﾗｯﾄ）","4291410A2092","注射","２ 時間で",130,"㎡","mg",null,"d1",{"$f":"IFERROR(VLOOKUP(__レジメンマスタ[[#This Row],[YJコード①]],[1]!__前投薬リスト[#Data],4,FALSE)&\"\",\"\")","v":""},null,"カペシタビン",null,"4223005F1065","経口",null,2000,"㎡","mg",null,"d1-14",{"$f":"IFERROR(VLOOKUP(__レジメンマスタ[[#This Row],[YJコード②]],[1]!__前投薬リスト[#Data],4,FALSE)&\"\",\"\")","v":""},null,null,null,null,null,null,null,null,null,null,null,{"$f":"IFERROR(VLOOKUP(__レジメンマスタ[[#This Row],[YJコード③]],[1]!__前投薬リスト[#Data],4,FALSE)&\"\",\"\")","v":""},null,null,null,null,null,null,null,null,null,null,null,{"$f":"IFERROR(VLOOKUP(__レジメンマスタ[[#This Row],[YJコード④]],[1]!__前投薬リスト[#Data],4,FALSE)&\"\",\"\")","v":""},null,null,null,null,null,null,null,null,null,null,null,{"$f":"IFERROR(VLOOKUP(__レジメンマスタ[[#This Row],[YJコード⑤]],[1]!__前投薬リスト[#Data],4,FALSE)&\"\",\"\")","v":""},null,null,null,null,null,null,null,null,null,null,null,{"$f":"IFERROR(VLOOKUP(__レジメンマスタ[[#This Row],[YJコード⑥]],[1]!__前投薬リスト[#Data],4,FALSE)&\"\",\"\")","v":""},null,null,null,null,null,null,null,null,null,null,null,{"$f":"IFERROR(VLOOKUP(__レジメンマスタ[[#This Row],[YJコード⑦]],[1]!__前投薬リスト[#Data],4,FALSE)&\"\",\"\")","v":""}]
["SUR0047","CAPOX+BEV","　　　　　　Ｗ1　　　　　　Ｗ2　　　　　　　 Ｗ3　　　　　　\nBEV　　↓××××××　×××××××　×××××××\nL-OHP　↓××××××　×××××××　×××××××\nCape　 ↓↓↓↓↓↓↓　↓↓↓↓↓↓↓　×××××××\nL-OHP、BEV：3週間毎、Cape:2週間内服、1週間休薬。\n1回量：1.36㎡未満＝1200mg,1.36~1.66㎡未満=1500mg,1.66~1.96㎡未満=1800mg,1.96㎡以上＝2100mg\nCCｒ＝51～80 ml/min：減量不要\nCCｒ＝30～50ml/min：一段階減量（75％用量）用量は添付文書確認\nCCｒ＝30ml/min:投与禁忌\n","21日","∞","大腸癌","外科","ベバシズマブ","危 400mg/16mL ﾍﾞﾊﾞｼｽﾞﾏﾌﾞBS点滴静注「CTNK」（希釈液:生食）（先:ｱﾊﾞｽﾁﾝ）","4291463A2027","注射","初回９０分、２回目６０分、３回目～３０分",7.5,"kg","mg",null,"d1",{"$f":"IFERROR(VLOOKUP(__レジメンマスタ[[#This Row],[YJコード①]],[1]!__前投薬リスト[#Data],4,FALSE)&\"\",\"\")","v":""},null,"オキサリプラチン","危〈毒〉100㎎/20mL ｵｷｻﾘﾌﾟﾗﾁﾝ点滴静注液「NK」（先:ｴﾙﾌﾟﾗｯﾄ）","4291410A2092","注射","２ 時間で",130,"㎡","mg",null,"d1",{"$f":"IFERROR(VLOOKUP(__レジメンマスタ[[#This Row],[YJコード②]],[1]!__前投薬リスト[#Data],4,FALSE)&\"\",\"\")","v":""},null,"カペシタビン",null,"4223005F1065","経口",null,2000,"㎡","mg",null,"d1-14",{"$f":"IFERROR(VLOOKUP(__レジメンマスタ[[#This Row],[YJコード③]],[1]!__前投薬リスト[#Data],4,FALSE)&\"\",\"\")","v":""},null,null,null,null,null,null,null,null,null,null,null,{"$f":"IFERROR(VLOOKUP(__レジメンマスタ[[#This Row],[YJコード④]],[1]!__前投薬リスト[#Data],4,FALSE)&\"\",\"\")","v":""},null,null,null,null,null,null,null,null,null,null,null,{"$f":"IFERROR(VLOOKUP(__レジメンマスタ[[#This Row],[YJコード⑤]],[1]!__前投薬リスト[#Data],4,FALSE)&\"\",\"\")","v":""},null,null,null,null,null,null,null,null,null,null,null,{"$f":"IFERROR(VLOOKUP(__レジメンマスタ[[#This Row],[YJコード⑥]],[1]!__前投薬リスト[#Data],4,FALSE)&\"\",\"\")","v":""},null,null,null,null,null,null,null,null,null,null,null,{"$f":"IFERROR(VLOOKUP(__レジメンマスタ[[#This Row],[YJコード⑦]],[1]!__前投薬リスト[#Data],4,FALSE)&\"\",\"\")","v":""}]
["SUR0048","Cape+BEV","　　　　　　Ｗ1　　　　　　Ｗ2　　　　　　　 Ｗ3　　　　　　\nBEV　　↓××××××　×××××××　×××××××\nCape 　↓↓↓↓↓↓↓　↓↓↓↓↓↓↓　×××××××\nBEV：3週間毎、Cape:2週間内服、1週間休薬。\n1回量：1.36㎡未満＝1200mg,1.36~1.66㎡未満=1500mg,1.66~1.96㎡未満=1800mg,1.96㎡以上＝2100mg\nCCｒ＝51～80 ml/min：減量不要\nCCｒ＝30～50ml/min：一段階減量（75％用量）用量は添付文書確認\nCCｒ＝30ml/min:投与禁忌\n","21日","∞","大腸癌","外科","ベバシズマブ","危 400mg/16mL ﾍﾞﾊﾞｼｽﾞﾏﾌﾞBS点滴静注「CTNK」（希釈液:生食）（先:ｱﾊﾞｽﾁﾝ）","4291463A2027","注射","初回９０分、２回目６０分、３回目～３０分",7.5,"kg","mg",null,"d1",{"$f":"IFERROR(VLOOKUP(__レジメンマスタ[[#This Row],[YJコード①]],[1]!__前投薬リスト[#Data],4,FALSE)&\"\",\"\")","v":""},null,"カペシタビン",null,"4223005F1065","経口",null,2000,"㎡","mg",null,"d1-14",{"$f":"IFERROR(VLOOKUP(__レジメンマスタ[[#This Row],[YJコード②]],[1]!__前投薬リスト[#Data],4,FALSE)&\"\",\"\")","v":""},null,null,null,null,null,null,null,null,null,null,null,{"$f":"IFERROR(VLOOKUP(__レジメンマスタ[[#This Row],[YJコード③]],[1]!__前投薬リスト[#Data],4,FALSE)&\"\",\"\")","v":""},null,null,null,null,null,null,null,null,null,null,null,{"$f":"IFERROR(VLOOKUP(__レジメンマスタ[[#This Row],[YJコード④]],[1]!__前投薬リスト[#Data],4,FALSE)&\"\",\"\")","v":""},null,null,null,null,null,null,null,null,null,null,null,{"$f":"IFERROR(VLOOKUP(__レジメンマスタ[[#This Row],[YJコード⑤]],[1]!__前投薬リスト[#Data],4,FALSE)&\"\",\"\")","v":""},null,null,null,null,null,null,null,null,null,null,null,{"$f":"IFERROR(VLOOKUP(__レジメンマスタ[[#This Row],[YJコード⑥]],[1]!__前投薬リスト[#Data],4,FALSE)&\"\",\"\")","v":""},null,null,null,null,null,null,null,null,null,null,null,{"$f":"IFERROR(VLOOKUP(__レジメンマスタ[[#This Row],[YJコード⑦]],[1]!__前投薬リスト[#Data],4,FALSE)&\"\",\"\")","v":""}]
["SUR0049","DCS(DOC+CDDP+S1）","　　　　　　Ｗ1　　　　　　Ｗ2　　　　 Ｗ3　　　　　　W4\nDOC　↓×××××× ××××××× ××××××× ×××××××\nCDDP ↓×××××× ××××××× ××××××× ×××××××\nS-1  ↓↓↓↓↓↓↓ ↓↓↓↓↓↓↓ ××××××× ×××××××\nS1:2週間内服、2週間休薬。CDDP：6回まで　以後DOC+S1で継続\nS1：初回基準量【テガフール相当量、原則40mg/回未満には減らさない】\n1.25m2未満:40mg/回,1.25m2以上1.5m2未満:50mg/回,1.5m2以上:60mg/回\nCCr≧60：通常用量、60>CCr≧40:一段階減量,40>CCr≧30:二段階減量,\nCCr＜30：禁忌\n","28日","6クール","胃癌","外科","ドセタキセル","危〈毒〉20㎎/1mL ﾄﾞｾﾀｷｾﾙ点滴静注「ﾆﾌﾟﾛ」（先:ﾀｷｿﾃｰﾙ）","4240405A3102","注射",null,40,"㎡","mg",null,"d1",{"$f":"IFERROR(VLOOKUP(__レジメンマスタ[[#This Row],[YJコード①]],[1]!__前投薬リスト[#Data],4,FALSE)&\"\",\"\")","v":""},"∞","シスプラチン","危〈毒〉50mg/100mL ｼｽﾌﾟﾗﾁﾝ点滴静注「ﾏﾙｺ」（先:ﾗﾝﾀﾞ）","4291401A3111","注射","２ 時間で",60,"㎡","mg",null,"d1",{"$f":"IFERROR(VLOOKUP(__レジメンマスタ[[#This Row],[YJコード②]],[1]!__前投薬リスト[#Data],4,FALSE)&\"\",\"\")","v":""},"6回","エスワン",null,"4229101F2057","経口",null,"80-120/2","BODY","mg",null,"d1-14",{"$f":"IFERROR(VLOOKUP(__レジメンマスタ[[#This Row],[YJコード③]],[1]!__前投薬リスト[#Data],4,FALSE)&\"\",\"\")","v":""},"∞",null,null,null,null,null,null,null,null,null,null,{"$f":"IFERROR(VLOOKUP(__レジメンマスタ[[#This Row],[YJコード④]],[1]!__前投薬リスト[#Data],4,FALSE)&\"\",\"\")","v":""},null,null,null,null,null,null,null,null,null,null,null,{"$f":"IFERROR(VLOOKUP(__レジメンマスタ[[#This Row],[YJコード⑤]],[1]!__前投薬リスト[#Data],4,FALSE)&\"\",\"\")","v":""},null,null,null,null,null,null,null,null,null,null,null,{"$f":"IFERROR(VLOOKUP(__レジメンマスタ[[#This Row],[YJコード⑥]],[1]!__前投薬リスト[#Data],4,FALSE)&\"\",\"\")","v":""},null,null,null,null,null,null,null,null,null,null,null,{"$f":"IFERROR(VLOOKUP(__レジメンマスタ[[#This Row],[YJコード⑦]],[1]!__前投薬リスト[#Data],4,FALSE)&\"\",\"\")","v":""}]
["SUR0050","SOX","　　　　　　Ｗ1　　　　　　Ｗ2　　　　 Ｗ3　　　　　　\nL-OHP　↓××××××　×××××××　×××××××\nS-1　　↓↓↓↓↓↓↓　↓↓↓↓↓↓↓　×××××××\nL-OHP：3週間毎、S1:2週間内服、1週間休薬。\nS1：初回基準量【テガフール相当量、原則40mg/回未満には減らさない】\n1.25m2未満:40mg/回,1.25m2以上1.5m2未満:50mg/回,1.5m2以上:60mg/回\nCCr≧60：通常用量、60>CCr≧40:一段階減量,40>CCr≧30:二段階減量,\nCCr＜30：禁忌","21日","∞","大腸癌","外科","オキサリプラチン","危〈毒〉100㎎/20mL ｵｷｻﾘﾌﾟﾗﾁﾝ点滴静注液「NK」（先:ｴﾙﾌﾟﾗｯﾄ）","4291410A2092","注射","２ 時間で",130,"㎡","mg",null,"d1",{"$f":"IFERROR(VLOOKUP(__レジメンマスタ[[#This Row],[YJコード①]],[1]!__前投薬リスト[#Data],4,FALSE)&\"\",\"\")","v":""},null,"エスワン",null,"4229101F2057","経口",null,"80-120/2","BODY","mg",null,"d1-14",{"$f":"IFERROR(VLOOKUP(__レジメンマスタ[[#This Row],[YJコード②]],[1]!__前投薬リスト[#Data],4,FALSE)&\"\",\"\")","v":""},null,null,null,null,null,null,null,null,null,null,null,{"$f":"IFERROR(VLOOKUP(__レジメンマスタ[[#This Row],[YJコード③]],[1]!__前投薬リスト[#Data],4,FALSE)&\"\",\"\")","v":""},null,null,null,null,null,null,null,null,null,null,null,{"$f":"IFERROR(VLOOKUP(__レジメンマスタ[[#This Row],[YJコード④]],[1]!__前投薬リスト[#Data],4,FALSE)&\"\",\"\")","v":""},null,null,null,null,null,null,null,null,null,null,null,{"$f":"IFERROR(VLOOKUP(__レジメンマスタ[[#This Row],[YJコード⑤]],[1]!__前投薬リスト[#Data],4,FALSE)&\"\",\"\")","v":""},null,null,null,null,null,null,null,null,null,null,null,{"$f":"IFERROR(VLOOKUP(__レジメンマスタ[[#This Row],[YJコード⑥]],[1]!__前投薬リスト[#Data],4,FALSE)&\"\",\"\")","v":""},null,null,null,null,null,null,null,null,null,null,null,{"$f":"IFERROR(VLOOKUP(__レジメンマスタ[[#This Row],[YJコード⑦]],[1]!__前投薬リスト[#Data],4,FALSE)&\"\",\"\")","v":""}]
["SUR0051","S1+IRI","　　　　　　Ｗ1　　　　　　Ｗ2　　　　 Ｗ3　　　　　　W4\nCPT-11↓×××××× ××××××× ↓×××××× ×××××××\nS-1   ↓↓↓↓↓↓↓ ↓↓↓↓↓↓↓ ××××××× ×××××××\nS1:2週間内服、2週間休薬。\nS1：初回基準量【テガフール相当量、原則40mg/回未満には減らさない】\n1.25m2未満:40mg/回,1.25m2以上1.5m2未満:50mg/回,1.5m2以上:60mg/回\nCCr≧60：通常用量、60>CCr≧40:一段階減量,40>CCr≧30:二段階減量,\nCCr＜30：禁忌","28日","∞","大腸癌","外科","イリノテカン","危 100mg/5mL ｲﾘﾉﾃｶﾝ塩酸塩点滴静注液「NK」（先:ﾄﾎﾟﾃｼﾝ）","4240404A2055","注射","９０ 分で",100,"㎡","mg",null,"d1,15",{"$f":"IFERROR(VLOOKUP(__レジメンマスタ[[#This Row],[YJコード①]],[1]!__前投薬リスト[#Data],4,FALSE)&\"\",\"\")","v":""},null,"エスワン",null,"4229101F2057","経口",null,"80-120/2","BODY","mg",null,"d1-14",{"$f":"IFERROR(VLOOKUP(__レジメンマスタ[[#This Row],[YJコード②]],[1]!__前投薬リスト[#Data],4,FALSE)&\"\",\"\")","v":""},null,null,null,null,null,null,null,null,null,null,null,{"$f":"IFERROR(VLOOKUP(__レジメンマスタ[[#This Row],[YJコード③]],[1]!__前投薬リスト[#Data],4,FALSE)&\"\",\"\")","v":""},null,null,null,null,null,null,null,null,null,null,null,{"$f":"IFERROR(VLOOKUP(__レジメンマスタ[[#This Row],[YJコード④]],[1]!__前投薬リスト[#Data],4,FALSE)&\"\",\"\")","v":""},null,null,null,null,null,null,null,null,null,null,null,{"$f":"IFERROR(VLOOKUP(__レジメンマスタ[[#This Row],[YJコード⑤]],[1]!__前投薬リスト[#Data],4,FALSE)&\"\",\"\")","v":""},null,null,null,null,null,null,null,null,null,null,null,{"$f":"IFERROR(VLOOKUP(__レジメンマスタ[[#This Row],[YJコード⑥]],[1]!__前投薬リスト[#Data],4,FALSE)&\"\",\"\")","v":""},null,null,null,null,null,null,null,null,null,null,null,{"$f":"IFERROR(VLOOKUP(__レジメンマスタ[[#This Row],[YJコード⑦]],[1]!__前投薬リスト[#Data],4,FALSE)&\"\",\"\")","v":""}]
["SUR0052","S1+IRI+BEV","　　　　　　Ｗ1　　　　　　Ｗ2　　　　　　 Ｗ3　　　　　　W4\nBEV　 ↓×××××× ××××××× ↓×××××× ×××××××\nCPT-11↓×××××× ××××××× ↓×××××× ×××××××\nS-1   ↓↓↓↓↓↓↓ ↓↓↓↓↓↓↓ ××××××× ×××××××\nS1:2週間内服、2週間休薬。\nS1：初回基準量【テガフール相当量、原則40mg/回未満には減らさない】\n1.25m2未満:40mg/回,1.25m2以上1.5m2未満:50mg/回,1.5m2以上:60mg/回\nCCr≧60：通常用量、60>CCr≧40:一段階減量,40>CCr≧30:二段階減量,\nCCr＜30：禁忌","28日","∞","大腸癌","外科","ベバシズマブ","危 400mg/16mL ﾍﾞﾊﾞｼｽﾞﾏﾌﾞBS点滴静注「CTNK」（希釈液:生食）（先:ｱﾊﾞｽﾁﾝ）","4291463A2027","注射","初回９０分、２回目６０分、３回以降３０分",5,"kg","mg",null,"d1,15",{"$f":"IFERROR(VLOOKUP(__レジメンマスタ[[#This Row],[YJコード①]],[1]!__前投薬リスト[#Data],4,FALSE)&\"\",\"\")","v":""},null,"イリノテカン","危 100mg/5mL ｲﾘﾉﾃｶﾝ塩酸塩点滴静注液「NK」（先:ﾄﾎﾟﾃｼﾝ）","4240404A2055","注射","９０ 分で",100,"㎡","mg",null,"d1,15",{"$f":"IFERROR(VLOOKUP(__レジメンマスタ[[#This Row],[YJコード②]],[1]!__前投薬リスト[#Data],4,FALSE)&\"\",\"\")","v":""},null,"エスワン",null,"4229101F2057","経口",null,"80-120/2","BODY","mg",null,"d1-14",{"$f":"IFERROR(VLOOKUP(__レジメンマスタ[[#This Row],[YJコード③]],[1]!__前投薬リスト[#Data],4,FALSE)&\"\",\"\")","v":""},null,null,null,null,null,null,null,null,null,null,null,{"$f":"IFERROR(VLOOKUP(__レジメンマスタ[[#This Row],[YJコード④]],[1]!__前投薬リスト[#Data],4,FALSE)&\"\",\"\")","v":""},null,null,null,null,null,null,null,null,null,null,null,{"$f":"IFERROR(VLOOKUP(__レジメンマスタ[[#This Row],[YJコード⑤]],[1]!__前投薬リスト[#Data],4,FALSE)&\"\",\"\")","v":""},null,null,null,null,null,null,null,null,null,null,null,{"$f":"IFERROR(VLOOKUP(__レジメンマスタ[[#This Row],[YJコード⑥]],[1]!__前投薬リスト[#Data],4,FALSE)&\"\",\"\")","v":""},null,null,null,null,null,null,null,null,null,null,null,{"$f":"IFERROR(VLOOKUP(__レジメンマスタ[[#This Row],[YJコード⑦]],[1]!__前投薬リスト[#Data],4,FALSE)&\"\",\"\")","v":""}]
["SUR0053","CAPOX+CET","　　　　　　Ｗ1　　　　　　Ｗ2　　　　　　　 Ｗ3　　　　　　\nCET　　↓××××××　↓××××××　↓××××××\nL-OHP　↓××××××　×××××××　×××××××\nCape　 ↓↓↓↓↓↓↓　↓↓↓↓↓↓↓　×××××××\nCET：1週間毎、L-OHP：3週間毎、Cape:2週間内服、1週間休薬。\nCape1回量：1.36㎡未満＝1200mg,1.36~1.66㎡未満=1500mg,1.66~1.96㎡未満=1800mg,1.96㎡以上＝2100mg\nCCｒ＝51～80 ml/min：減量不要\nCCｒ＝30～50ml/min：一段階減量（75％用量）用量は添付文書確認\nCCｒ＝30ml/min:投与禁忌\n","21日","∞","大腸癌(RASwild)","外科","アービタックス（初回）","危 ｱｰﾋﾞﾀｯｸｽ注射液 100㎎/20mL","4291415A1021","注射","２ 時間で",400,"㎡","mg",null,"d1",{"$f":"IFERROR(VLOOKUP(__レジメンマスタ[[#This Row],[YJコード①]],[1]!__前投薬リスト[#Data],4,FALSE)&\"\",\"\")","v":"抗ヒス,(ステ)"},null,"アービタックス（2回目以降～）","危 ｱｰﾋﾞﾀｯｸｽ注射液 100㎎/20mL","4291415A1021","注射","１ 時間で",250,"㎡","mg",null,"d1,8,15",{"$f":"IFERROR(VLOOKUP(__レジメンマスタ[[#This Row],[YJコード②]],[1]!__前投薬リスト[#Data],4,FALSE)&\"\",\"\")","v":"抗ヒス,(ステ)"},null,"オキサリプラチン","危〈毒〉100㎎/20mL ｵｷｻﾘﾌﾟﾗﾁﾝ点滴静注液「NK」（先:ｴﾙﾌﾟﾗｯﾄ）","4291410A2092","注射","２ 時間で",130,"㎡","mg",null,"d1",{"$f":"IFERROR(VLOOKUP(__レジメンマスタ[[#This Row],[YJコード③]],[1]!__前投薬リスト[#Data],4,FALSE)&\"\",\"\")","v":""},null,"カペシタビン",null,"4223005F1065","経口",null,2000,"㎡","mg",null,"d1-14",{"$f":"IFERROR(VLOOKUP(__レジメンマスタ[[#This Row],[YJコード④]],[1]!__前投薬リスト[#Data],4,FALSE)&\"\",\"\")","v":""},null,null,null,null,null,null,null,null,null,null,null,{"$f":"IFERROR(VLOOKUP(__レジメンマスタ[[#This Row],[YJコード⑤]],[1]!__前投薬リスト[#Data],4,FALSE)&\"\",\"\")","v":""},null,null,null,null,null,null,null,null,null,null,null,{"$f":"IFERROR(VLOOKUP(__レジメンマスタ[[#This Row],[YJコード⑥]],[1]!__前投薬リスト[#Data],4,FALSE)&\"\",\"\")","v":""},null,null,null,null,null,null,null,null,null,null,null,{"$f":"IFERROR(VLOOKUP(__レジメンマスタ[[#This Row],[YJコード⑦]],[1]!__前投薬リスト[#Data],4,FALSE)&\"\",\"\")","v":""}]
["SUR0054","FOLFOX+CET","        　　    W1 　　　　    W2       \nCmab 　　↓××××××  ↓××××××　※1週間毎\nFOLFOX 　↓××××××  ×××××××  ※2週間毎","14日","∞","大腸癌(RASwild)","外科","アービタックス（初回）","危 ｱｰﾋﾞﾀｯｸｽ注射液 100㎎/20mL","4291415A1021","注射","２ 時間で",400,"㎡","mg",null,"d1",{"$f":"IFERROR(VLOOKUP(__レジメンマスタ[[#This Row],[YJコード①]],[1]!__前投薬リスト[#Data],4,FALSE)&\"\",\"\")","v":"抗ヒス,(ステ)"},null,"アービタックス（2回目以降～）","危 ｱｰﾋﾞﾀｯｸｽ注射液 100㎎/20mL","4291415A1021","注射","１ 時間で",250,"㎡","mg",null,"d1,8",{"$f":"IFERROR(VLOOKUP(__レジメンマスタ[[#This Row],[YJコード②]],[1]!__前投薬リスト[#Data],4,FALSE)&\"\",\"\")","v":"抗ヒス,(ステ)"},null,"レボホリナート","危 100mg ﾚﾎﾞﾎﾘﾅｰﾄ点滴静注用「ﾔｸﾙﾄ」（先:ｱｲｿﾎﾞﾘﾝ）","3929407D2060","注射","２ 時間で",200,"㎡","mg",null,"d1",{"$f":"IFERROR(VLOOKUP(__レジメンマスタ[[#This Row],[YJコード③]],[1]!__前投薬リスト[#Data],4,FALSE)&\"\",\"\")","v":""},null,"オキサリプラチン","危〈毒〉100㎎/20mL ｵｷｻﾘﾌﾟﾗﾁﾝ点滴静注液「NK」（先:ｴﾙﾌﾟﾗｯﾄ）","4291410A2092","注射","２ 時間で",85,"㎡","mg",null,"d1",{"$f":"IFERROR(VLOOKUP(__レジメンマスタ[[#This Row],[YJコード④]],[1]!__前投薬リスト[#Data],4,FALSE)&\"\",\"\")","v":""},null,"フルオロウラシル","危 1000mg/20mL ﾌﾙｵﾛｳﾗｼﾙ注「ﾄｰﾜ」（先:5-FU）","4223401A3030","注射","１５ 分で",400,"㎡","mg",null,"d1",{"$f":"IFERROR(VLOOKUP(__レジメンマスタ[[#This Row],[YJコード⑤]],[1]!__前投薬リスト[#Data],4,FALSE)&\"\",\"\")","v":""},null,"フルオロウラシル","危 1000mg/20mL ﾌﾙｵﾛｳﾗｼﾙ注「ﾄｰﾜ」（先:5-FU）","4223401A3030","注射","４６時間で",2400,"㎡","mg",null,"d1(46hr)",{"$f":"IFERROR(VLOOKUP(__レジメンマスタ[[#This Row],[YJコード⑥]],[1]!__前投薬リスト[#Data],4,FALSE)&\"\",\"\")","v":""},null,null,null,null,null,null,null,null,null,null,null,{"$f":"IFERROR(VLOOKUP(__レジメンマスタ[[#This Row],[YJコード⑦]],[1]!__前投薬リスト[#Data],4,FALSE)&\"\",\"\")","v":""}]
["SUR0054-1","FOLFOX+CET(隔週)","        　　    W1 　　　　    W2       \nCmab 　　↓××××××  ×××××××　\nFOLFOX 　↓××××××  ×××××××  ","14日","∞","大腸癌(RASwild)","外科","アービタックス","危 ｱｰﾋﾞﾀｯｸｽ注射液 100㎎/20mL","4291415A1021","注射","２ 時間で",500,"㎡","mg",null,"d1",{"$f":"IFERROR(VLOOKUP(__レジメンマスタ[[#This Row],[YJコード①]],[1]!__前投薬リスト[#Data],4,FALSE)&\"\",\"\")","v":"抗ヒス,(ステ)"},null,"レボホリナート","危 100mg ﾚﾎﾞﾎﾘﾅｰﾄ点滴静注用「ﾔｸﾙﾄ」（先:ｱｲｿﾎﾞﾘﾝ）","3929407D2060","注射","２ 時間で",200,"㎡","mg",null,"d1",{"$f":"IFERROR(VLOOKUP(__レジメンマスタ[[#This Row],[YJコード②]],[1]!__前投薬リスト[#Data],4,FALSE)&\"\",\"\")","v":""},null,"オキサリプラチン","危〈毒〉100㎎/20mL ｵｷｻﾘﾌﾟﾗﾁﾝ点滴静注液「NK」（先:ｴﾙﾌﾟﾗｯﾄ）","4291410A2092","注射","２ 時間で",85,"㎡","mg",null,"d1",{"$f":"IFERROR(VLOOKUP(__レジメンマスタ[[#This Row],[YJコード③]],[1]!__前投薬リスト[#Data],4,FALSE)&\"\",\"\")","v":""},null,"フルオロウラシル","危 1000mg/20mL ﾌﾙｵﾛｳﾗｼﾙ注「ﾄｰﾜ」（先:5-FU）","4223401A3030","注射","１５ 分で",400,"㎡","mg",null,"d1",{"$f":"IFERROR(VLOOKUP(__レジメンマスタ[[#This Row],[YJコード④]],[1]!__前投薬リスト[#Data],4,FALSE)&\"\",\"\")","v":""},null,"フルオロウラシル","危 1000mg/20mL ﾌﾙｵﾛｳﾗｼﾙ注「ﾄｰﾜ」（先:5-FU）","4223401A3030","注射","４６時間で",2400,"㎡","mg",null,"d1(46hr)",{"$f":"IFERROR(VLOOKUP(__レジメンマスタ[[#This Row],[YJコード⑤]],[1]!__前投薬リスト[#Data],4,FALSE)&\"\",\"\")","v":""},null,null,null,null,null,null,null,null,null,null,null,{"$f":"IFERROR(VLOOKUP(__レジメンマスタ[[#This Row],[YJコード⑥]],[1]!__前投薬リスト[#Data],4,FALSE)&\"\",\"\")","v":""},null,null,null,null,null,null,null,null,null,null,null,{"$f":"IFERROR(VLOOKUP(__レジメンマスタ[[#This Row],[YJコード⑦]],[1]!__前投薬リスト[#Data],4,FALSE)&\"\",\"\")","v":""}]
["SUR0057","PANI"," 2週間ごとに投与\n　　　　　 W1　　　　　   W2 \nPani ↓×××××× ××××××× ","14日","∞","大腸癌(RASwild)","外科","ベクティビックス","危 ﾍﾞｸﾃｨﾋﾞｯｸｽ点滴静注 100mg/5mL（希釈液:生食）","4291417A1020","注射","１ 時間で",6,"kg","mg",null,"d1",{"$f":"IFERROR(VLOOKUP(__レジメンマスタ[[#This Row],[YJコード①]],[1]!__前投薬リスト[#Data],4,FALSE)&\"\",\"\")","v":""},null,null,null,null,null,null,null,null,null,null,null,{"$f":"IFERROR(VLOOKUP(__レジメンマスタ[[#This Row],[YJコード②]],[1]!__前投薬リスト[#Data],4,FALSE)&\"\",\"\")","v":""},null,null,null,null,null,null,null,null,null,null,null,{"$f":"IFERROR(VLOOKUP(__レジメンマスタ[[#This Row],[YJコード③]],[1]!__前投薬リスト[#Data],4,FALSE)&\"\",\"\")","v":""},null,null,null,null,null,null,null,null,null,null,null,{"$f":"IFERROR(VLOOKUP(__レジメンマスタ[[#This Row],[YJコード④]],[1]!__前投薬リスト[#Data],4,FALSE)&\"\",\"\")","v":""},null,null,null,null,null,null,null,null,null,null,null,{"$f":"IFERROR(VLOOKUP(__レジメンマスタ[[#This Row],[YJコード⑤]],[1]!__前投薬リスト[#Data],4,FALSE)&\"\",\"\")","v":""},null,null,null,null,null,null,null,null,null,null,null,{"$f":"IFERROR(VLOOKUP(__レジメンマスタ[[#This Row],[YJコード⑥]],[1]!__前投薬リスト[#Data],4,FALSE)&\"\",\"\")","v":""},null,null,null,null,null,null,null,null,null,null,null,{"$f":"IFERROR(VLOOKUP(__レジメンマスタ[[#This Row],[YJコード⑦]],[1]!__前投薬リスト[#Data],4,FALSE)&\"\",\"\")","v":""}]
["SUR0058","FOLFOX+PANI","　　　　　  Ｗ1 　　　 　Ｗ2　　　　\nPani    ↓×××××× ××××××× \nl-LV    ↓×××××× ××××××× \nL-OHP   ↓×××××× ×××××××  \nFU bls  ↓×××××× ××××××× \nFU conc ↓×××××× ××××××× \n2週間毎\n★インフューザーポンプ使用時は２．５ｍｌ／ｈｒに輸液量を調製","14日","∞","大腸癌(RASwild)","外科","ベクティビックス","危 ﾍﾞｸﾃｨﾋﾞｯｸｽ点滴静注 100mg/5mL（希釈液:生食）","4291417A1020","注射","１ 時間で",6,"kg","mg",null,"d1",{"$f":"IFERROR(VLOOKUP(__レジメンマスタ[[#This Row],[YJコード①]],[1]!__前投薬リスト[#Data],4,FALSE)&\"\",\"\")","v":""},null,"レボホリナート","危 100mg ﾚﾎﾞﾎﾘﾅｰﾄ点滴静注用「ﾔｸﾙﾄ」（先:ｱｲｿﾎﾞﾘﾝ）","3929407D2060","注射","２ 時間で",200,"㎡","mg",null,"d1",{"$f":"IFERROR(VLOOKUP(__レジメンマスタ[[#This Row],[YJコード②]],[1]!__前投薬リスト[#Data],4,FALSE)&\"\",\"\")","v":""},null,"オキサリプラチン","危〈毒〉100㎎/20mL ｵｷｻﾘﾌﾟﾗﾁﾝ点滴静注液「NK」（先:ｴﾙﾌﾟﾗｯﾄ）","4291410A2092","注射","２ 時間で",85,"㎡","mg",null,"d1",{"$f":"IFERROR(VLOOKUP(__レジメンマスタ[[#This Row],[YJコード③]],[1]!__前投薬リスト[#Data],4,FALSE)&\"\",\"\")","v":""},null,"フルオロウラシル","危 1000mg/20mL ﾌﾙｵﾛｳﾗｼﾙ注「ﾄｰﾜ」（先:5-FU）","4223401A3030","注射","１５ 分で",400,"㎡","mg",null,"d1",{"$f":"IFERROR(VLOOKUP(__レジメンマスタ[[#This Row],[YJコード④]],[1]!__前投薬リスト[#Data],4,FALSE)&\"\",\"\")","v":""},null,"フルオロウラシル","危 1000mg/20mL ﾌﾙｵﾛｳﾗｼﾙ注「ﾄｰﾜ」（先:5-FU）","4223401A3030","注射","４６時間で",2400,"㎡","mg",null,"d1(46hr)",{"$f":"IFERROR(VLOOKUP(__レジメンマスタ[[#This Row],[YJコード⑤]],[1]!__前投薬リスト[#Data],4,FALSE)&\"\",\"\")","v":""},null,null,null,null,null,null,null,null,null,null,null,{"$f":"IFERROR(VLOOKUP(__レジメンマスタ[[#This Row],[YJコード⑥]],[1]!__前投薬リスト[#Data],4,FALSE)&\"\",\"\")","v":""},null,null,null,null,null,null,null,null,null,null,null,{"$f":"IFERROR(VLOOKUP(__レジメンマスタ[[#This Row],[YJコード⑦]],[1]!__前投薬リスト[#Data],4,FALSE)&\"\",\"\")","v":""}]
["SUR0059","FOLFIRI+PANI","　　　　　  Ｗ1 　　　 　Ｗ2　　　　\nPani    ↓×××××× ××××××× \nl-LV    ↓×××××× ××××××× \nIRI     ↓×××××× ×××××××  \nFU bls  ↓×××××× ××××××× \nFU conc ↓×××××× ××××××× \n2週間毎\n★インフューザーポンプ使用時は２．５ｍｌ／ｈｒに輸液量を調製","14日","∞","大腸癌(RASwild)","外科","ベクティビックス","危 ﾍﾞｸﾃｨﾋﾞｯｸｽ点滴静注 100mg/5mL（希釈液:生食）","4291417A1020","注射","１ 時間で",6,"kg","mg",null,"d1",{"$f":"IFERROR(VLOOKUP(__レジメンマスタ[[#This Row],[YJコード①]],[1]!__前投薬リスト[#Data],4,FALSE)&\"\",\"\")","v":""},null,"レボホリナート","危 100mg ﾚﾎﾞﾎﾘﾅｰﾄ点滴静注用「ﾔｸﾙﾄ」（先:ｱｲｿﾎﾞﾘﾝ）","3929407D2060","注射","２ 時間で",200,"㎡","mg",null,"d1",{"$f":"IFERROR(VLOOKUP(__レジメンマスタ[[#This Row],[YJコード②]],[1]!__前投薬リスト[#Data],4,FALSE)&\"\",\"\")","v":""},null,"イリノテカン","危 100mg/5mL ｲﾘﾉﾃｶﾝ塩酸塩点滴静注液「NK」（先:ﾄﾎﾟﾃｼﾝ）","4240404A2055","注射","９０ 分で",150,"㎡","mg",null,"d1",{"$f":"IFERROR(VLOOKUP(__レジメンマスタ[[#This Row],[YJコード③]],[1]!__前投薬リスト[#Data],4,FALSE)&\"\",\"\")","v":""},null,"フルオロウラシル","危 1000mg/20mL ﾌﾙｵﾛｳﾗｼﾙ注「ﾄｰﾜ」（先:5-FU）","4223401A3030","注射","１５ 分で",400,"㎡","mg",null,"d1",{"$f":"IFERROR(VLOOKUP(__レジメンマスタ[[#This Row],[YJコード④]],[1]!__前投薬リスト[#Data],4,FALSE)&\"\",\"\")","v":""},null,"フルオロウラシル","危 1000mg/20mL ﾌﾙｵﾛｳﾗｼﾙ注「ﾄｰﾜ」（先:5-FU）","4223401A3030","注射","４６時間で",2400,"㎡","mg",null,"d1(46hr)",{"$f":"IFERROR(VLOOKUP(__レジメンマスタ[[#This Row],[YJコード⑤]],[1]!__前投薬リスト[#Data],4,FALSE)&\"\",\"\")","v":""},null,null,null,null,null,null,null,null,null,null,null,{"$f":"IFERROR(VLOOKUP(__レジメンマスタ[[#This Row],[YJコード⑥]],[1]!__前投薬リスト[#Data],4,FALSE)&\"\",\"\")","v":""},null,null,null,null,null,null,null,null,null,null,null,{"$f":"IFERROR(VLOOKUP(__レジメンマスタ[[#This Row],[YJコード⑦]],[1]!__前投薬リスト[#Data],4,FALSE)&\"\",\"\")","v":""}]
["SUR0060","CDDP+FU","　　　　　　Ｗ1　　　　　　Ｗ2　　　　 Ｗ3～4　　　　　　\n5-FU　↓↓↓↓↓××　×××××××　×××××××\nCDDP　×↓×××××　×××××××　×××××××","28日","4クール","肛門管癌","外科","フルオロウラシル","危 1000mg/20mL ﾌﾙｵﾛｳﾗｼﾙ注「ﾄｰﾜ」（先:5-FU）","4223401A3030","注射","２４時間持続投与",1000,"㎡","mg",null,"d1-5",{"$f":"IFERROR(VLOOKUP(__レジメンマスタ[[#This Row],[YJコード①]],[1]!__前投薬リスト[#Data],4,FALSE)&\"\",\"\")","v":""},null,"シスプラチン","危〈毒〉50mg/100mL ｼｽﾌﾟﾗﾁﾝ点滴静注「ﾏﾙｺ」（先:ﾗﾝﾀﾞ）","4291401A3111","注射","２ 時間で",100,"㎡","mg",null,"d2",{"$f":"IFERROR(VLOOKUP(__レジメンマスタ[[#This Row],[YJコード②]],[1]!__前投薬リスト[#Data],4,FALSE)&\"\",\"\")","v":""},null,null,null,null,null,null,null,null,null,null,null,{"$f":"IFERROR(VLOOKUP(__レジメンマスタ[[#This Row],[YJコード③]],[1]!__前投薬リスト[#Data],4,FALSE)&\"\",\"\")","v":""},null,null,null,null,null,null,null,null,null,null,null,{"$f":"IFERROR(VLOOKUP(__レジメンマスタ[[#This Row],[YJコード④]],[1]!__前投薬リスト[#Data],4,FALSE)&\"\",\"\")","v":""},null,null,null,null,null,null,null,null,null,null,null,{"$f":"IFERROR(VLOOKUP(__レジメンマスタ[[#This Row],[YJコード⑤]],[1]!__前投薬リスト[#Data],4,FALSE)&\"\",\"\")","v":""},null,null,null,null,null,null,null,null,null,null,null,{"$f":"IFERROR(VLOOKUP(__レジメンマスタ[[#This Row],[YJコード⑥]],[1]!__前投薬リスト[#Data],4,FALSE)&\"\",\"\")","v":""},null,null,null,null,null,null,null,null,null,null,null,{"$f":"IFERROR(VLOOKUP(__レジメンマスタ[[#This Row],[YJコード⑦]],[1]!__前投薬リスト[#Data],4,FALSE)&\"\",\"\")","v":""}]
["SUR0061","FP+トラスツズマブ","　　　　　　Ｗ1　　　　　　Ｗ2　　　　 　　Ｗ3\nTmab　↓××××××　×××××××　×××××××\nCDDP　↓××××××　×××××××　×××××××\n5-FU　↓↓↓↓↓××　×××××××　×××××××\nCDDPは6回まで","21日","6クール","胃癌（Her2+）","外科","トラスツズマブ(初回）","危 ﾄﾗｽﾂｽﾞﾏﾌﾞBS点滴静注用 150mg「NK」（溶解液:Aq,希釈液:生食）（先:ﾊｰｾﾌﾟﾁﾝ）","4291442D2030","注射","９０ 分で",8,"kg","mg",null,"d1",{"$f":"IFERROR(VLOOKUP(__レジメンマスタ[[#This Row],[YJコード①]],[1]!__前投薬リスト[#Data],4,FALSE)&\"\",\"\")","v":""},null,"トラスツズマブ（2回目以降）","危 ﾄﾗｽﾂｽﾞﾏﾌﾞBS点滴静注用 150mg「NK」（溶解液:Aq,希釈液:生食）（先:ﾊｰｾﾌﾟﾁﾝ）","4291442D2030","注射","９０ 分で",6,"kg","mg",null,"d1",{"$f":"IFERROR(VLOOKUP(__レジメンマスタ[[#This Row],[YJコード②]],[1]!__前投薬リスト[#Data],4,FALSE)&\"\",\"\")","v":""},null,"シスプラチン","危〈毒〉50mg/100mL ｼｽﾌﾟﾗﾁﾝ点滴静注「ﾏﾙｺ」（先:ﾗﾝﾀﾞ）","4291401A3111","注射","２ 時間で",80,"㎡","mg",null,"d1",{"$f":"IFERROR(VLOOKUP(__レジメンマスタ[[#This Row],[YJコード③]],[1]!__前投薬リスト[#Data],4,FALSE)&\"\",\"\")","v":""},"6回","フルオロウラシル","危 1000mg/20mL ﾌﾙｵﾛｳﾗｼﾙ注「ﾄｰﾜ」（先:5-FU）","4223401A3030","注射","２４時間持続投与",800,"㎡","mg",null,"d1-5",{"$f":"IFERROR(VLOOKUP(__レジメンマスタ[[#This Row],[YJコード④]],[1]!__前投薬リスト[#Data],4,FALSE)&\"\",\"\")","v":""},null,null,null,null,null,null,null,null,null,null,null,{"$f":"IFERROR(VLOOKUP(__レジメンマスタ[[#This Row],[YJコード⑤]],[1]!__前投薬リスト[#Data],4,FALSE)&\"\",\"\")","v":""},null,null,null,null,null,null,null,null,null,null,null,{"$f":"IFERROR(VLOOKUP(__レジメンマスタ[[#This Row],[YJコード⑥]],[1]!__前投薬リスト[#Data],4,FALSE)&\"\",\"\")","v":""},null,null,null,null,null,null,null,null,null,null,null,{"$f":"IFERROR(VLOOKUP(__レジメンマスタ[[#This Row],[YJコード⑦]],[1]!__前投薬リスト[#Data],4,FALSE)&\"\",\"\")","v":""}]
["SUR0063","XP+トラスツズマブ","　　　　　　Ｗ1　　　　　　Ｗ2　　　　 　　Ｗ3\nTmab　↓××××××　×××××××　×××××××\nCDDP　↓××××××　×××××××　×××××××\nCape　↓↓↓↓↓↓↓　↓↓↓↓↓↓↓　×××××××\nCDDPは6回まで\nCape1回量：1.36㎡未満＝1200mg,1.36~1.66㎡未満=1500mg,1.66~1.96㎡未満=1800mg,1.96㎡以上＝2100mg\nCCｒ＝51～80 ml/min：減量不要\nCCｒ＝30～50ml/min：一段階減量（75％用量）用量は添付文書確認\nCCｒ＝30ml/min:投与禁忌\n","21日","6クール","胃癌（Her2+）","外科","トラスツズマブ(初回）","危 ﾄﾗｽﾂｽﾞﾏﾌﾞBS点滴静注用 150mg「NK」（溶解液:Aq,希釈液:生食）（先:ﾊｰｾﾌﾟﾁﾝ）","4291442D2030","注射","９０ 分で",8,"kg","mg",null,"d1",{"$f":"IFERROR(VLOOKUP(__レジメンマスタ[[#This Row],[YJコード①]],[1]!__前投薬リスト[#Data],4,FALSE)&\"\",\"\")","v":""},null,"トラスツズマブ（2回目以降）","危 ﾄﾗｽﾂｽﾞﾏﾌﾞBS点滴静注用 150mg「NK」（溶解液:Aq,希釈液:生食）（先:ﾊｰｾﾌﾟﾁﾝ）","4291442D2030","注射","９０ 分で",6,"kg","mg",null,"d1",{"$f":"IFERROR(VLOOKUP(__レジメンマスタ[[#This Row],[YJコード②]],[1]!__前投薬リスト[#Data],4,FALSE)&\"\",\"\")","v":""},null,"シスプラチン","危〈毒〉50mg/100mL ｼｽﾌﾟﾗﾁﾝ点滴静注「ﾏﾙｺ」（先:ﾗﾝﾀﾞ）","4291401A3111","注射","２ 時間で",80,"㎡","mg",null,"d1",{"$f":"IFERROR(VLOOKUP(__レジメンマスタ[[#This Row],[YJコード③]],[1]!__前投薬リスト[#Data],4,FALSE)&\"\",\"\")","v":""},"6回","カペシタビン",null,"4223005F1065","経口",null,2000,"㎡","mg",null,"d1-14",{"$f":"IFERROR(VLOOKUP(__レジメンマスタ[[#This Row],[YJコード④]],[1]!__前投薬リスト[#Data],4,FALSE)&\"\",\"\")","v":""},null,null,null,null,null,null,null,null,null,null,null,{"$f":"IFERROR(VLOOKUP(__レジメンマスタ[[#This Row],[YJコード⑤]],[1]!__前投薬リスト[#Data],4,FALSE)&\"\",\"\")","v":""},null,null,null,null,null,null,null,null,null,null,null,{"$f":"IFERROR(VLOOKUP(__レジメンマスタ[[#This Row],[YJコード⑥]],[1]!__前投薬リスト[#Data],4,FALSE)&\"\",\"\")","v":""},null,null,null,null,null,null,null,null,null,null,null,{"$f":"IFERROR(VLOOKUP(__レジメンマスタ[[#This Row],[YJコード⑦]],[1]!__前投薬リスト[#Data],4,FALSE)&\"\",\"\")","v":""}]
["SUR0064","XP","　　　　　　Ｗ1　　　　　　Ｗ2　　　　 　　Ｗ3\nCDDP　↓××××××　×××××××　×××××××\nCape　↓↓↓↓↓↓↓　↓↓↓↓↓↓↓　×××××××\nCDDPは6回まで\n1回量：1.36㎡未満＝1200mg,1.36~1.66㎡未満=1500mg,1.66~1.96㎡未満=1800mg,1.96㎡以上＝2100mg\nCCｒ＝51～80 ml/min：減量不要\nCCｒ＝30～50ml/min：一段階減量（75％用量）用量は添付文書確認\nCCｒ＝30ml/min:投与禁忌\n","21日","6クール","胃癌","外科","シスプラチン","危〈毒〉50mg/100mL ｼｽﾌﾟﾗﾁﾝ点滴静注「ﾏﾙｺ」（先:ﾗﾝﾀﾞ）","4291401A3111","注射","２ 時間で",80,"㎡","mg",null,"d1",{"$f":"IFERROR(VLOOKUP(__レジメンマスタ[[#This Row],[YJコード①]],[1]!__前投薬リスト[#Data],4,FALSE)&\"\",\"\")","v":""},"6回","カペシタビン",null,"4223005F1065","経口",null,2000,"㎡","mg",null,"d1-14",{"$f":"IFERROR(VLOOKUP(__レジメンマスタ[[#This Row],[YJコード②]],[1]!__前投薬リスト[#Data],4,FALSE)&\"\",\"\")","v":""},null,null,null,null,null,null,null,null,null,null,null,{"$f":"IFERROR(VLOOKUP(__レジメンマスタ[[#This Row],[YJコード③]],[1]!__前投薬リスト[#Data],4,FALSE)&\"\",\"\")","v":""},null,null,null,null,null,null,null,null,null,null,null,{"$f":"IFERROR(VLOOKUP(__レジメンマスタ[[#This Row],[YJコード④]],[1]!__前投薬リスト[#Data],4,FALSE)&\"\",\"\")","v":""},null,null,null,null,null,null,null,null,null,null,null,{"$f":"IFERROR(VLOOKUP(__レジメンマスタ[[#This Row],[YJコード⑤]],[1]!__前投薬リスト[#Data],4,FALSE)&\"\",\"\")","v":""},null,null,null,null,null,null,null,null,null,null,null,{"$f":"IFERROR(VLOOKUP(__レジメンマスタ[[#This Row],[YJコード⑥]],[1]!__前投薬リスト[#Data],4,FALSE)&\"\",\"\")","v":""},null,null,null,null,null,null,null,null,null,null,null,{"$f":"IFERROR(VLOOKUP(__レジメンマスタ[[#This Row],[YJコード⑦]],[1]!__前投薬リスト[#Data],4,FALSE)&\"\",\"\")","v":""}]
["SUR0067","GEM＋タルセバ","  　　　　 W1  　　　　　 W2 　　　　  W3 　　　　　  W4  \nGEM ↓×××××× ↓×××××× ↓×××××× ×××××××  \nGEM:溶解液確認→Tzで行う方針の場合はTzへ変更\nGEM：3週連投1週休薬、タルセバ：連日投与","28日","∞","膵臓癌","外科","ゲムシタビン","危 1g ｹﾞﾑｼﾀﾋﾞﾝ点滴静注用「ﾔｸﾙﾄ」（溶解液:生食）（先:ｼﾞｪﾑｻﾞｰﾙ）","4224403D2061","注射","３０ 分で",1000,"㎡","mg",null,"d1,8,15",{"$f":"IFERROR(VLOOKUP(__レジメンマスタ[[#This Row],[YJコード①]],[1]!__前投薬リスト[#Data],4,FALSE)&\"\",\"\")","v":""},null,"エルロチニブ",null,"4291016F2035","経口",null,100,"BODY","mg",null,"連日",{"$f":"IFERROR(VLOOKUP(__レジメンマスタ[[#This Row],[YJコード②]],[1]!__前投薬リスト[#Data],4,FALSE)&\"\",\"\")","v":""},null,null,null,null,null,null,null,null,null,null,null,{"$f":"IFERROR(VLOOKUP(__レジメンマスタ[[#This Row],[YJコード③]],[1]!__前投薬リスト[#Data],4,FALSE)&\"\",\"\")","v":""},null,null,null,null,null,null,null,null,null,null,null,{"$f":"IFERROR(VLOOKUP(__レジメンマスタ[[#This Row],[YJコード④]],[1]!__前投薬リスト[#Data],4,FALSE)&\"\",\"\")","v":""},null,null,null,null,null,null,null,null,null,null,null,{"$f":"IFERROR(VLOOKUP(__レジメンマスタ[[#This Row],[YJコード⑤]],[1]!__前投薬リスト[#Data],4,FALSE)&\"\",\"\")","v":""},null,null,null,null,null,null,null,null,null,null,null,{"$f":"IFERROR(VLOOKUP(__レジメンマスタ[[#This Row],[YJコード⑥]],[1]!__前投薬リスト[#Data],4,FALSE)&\"\",\"\")","v":""},null,null,null,null,null,null,null,null,null,null,null,{"$f":"IFERROR(VLOOKUP(__レジメンマスタ[[#This Row],[YJコード⑦]],[1]!__前投薬リスト[#Data],4,FALSE)&\"\",\"\")","v":""}]
["SUR0073","GC","　　　　　W1  　　　　　 W2  　　　　　　W3   　\nCDDP ↓×××××× ↓×××××× ××××××× \nGEM  ↓×××××× ↓×××××× ×××××××\nGEM：溶解液確認→Tzで行う方針の場合はTzへ変更     ","21日","∞","胆嚢・胆管癌","外科","シスプラチン","危〈毒〉50mg/100mL ｼｽﾌﾟﾗﾁﾝ点滴静注「ﾏﾙｺ」（先:ﾗﾝﾀﾞ）","4291401A3111","注射","２  時間で",25,"㎡","mg",null,"d1,8",{"$f":"IFERROR(VLOOKUP(__レジメンマスタ[[#This Row],[YJコード①]],[1]!__前投薬リスト[#Data],4,FALSE)&\"\",\"\")","v":""},null,"ゲムシタビン","危 1g ｹﾞﾑｼﾀﾋﾞﾝ点滴静注用「ﾔｸﾙﾄ」（溶解液:生食）（先:ｼﾞｪﾑｻﾞｰﾙ）","4224403D2061","注射","３０ 分で",1000,"㎡","mg",null,"d1,8",{"$f":"IFERROR(VLOOKUP(__レジメンマスタ[[#This Row],[YJコード②]],[1]!__前投薬リスト[#Data],4,FALSE)&\"\",\"\")","v":""},null,null,null,null,null,null,null,null,null,null,null,{"$f":"IFERROR(VLOOKUP(__レジメンマスタ[[#This Row],[YJコード③]],[1]!__前投薬リスト[#Data],4,FALSE)&\"\",\"\")","v":""},null,null,null,null,null,null,null,null,null,null,null,{"$f":"IFERROR(VLOOKUP(__レジメンマスタ[[#This Row],[YJコード④]],[1]!__前投薬リスト[#Data],4,FALSE)&\"\",\"\")","v":""},null,null,null,null,null,null,null,null,null,null,null,{"$f":"IFERROR(VLOOKUP(__レジメンマスタ[[#This Row],[YJコード⑤]],[1]!__前投薬リスト[#Data],4,FALSE)&\"\",\"\")","v":""},null,null,null,null,null,null,null,null,null,null,null,{"$f":"IFERROR(VLOOKUP(__レジメンマスタ[[#This Row],[YJコード⑥]],[1]!__前投薬リスト[#Data],4,FALSE)&\"\",\"\")","v":""},null,null,null,null,null,null,null,null,null,null,null,{"$f":"IFERROR(VLOOKUP(__レジメンマスタ[[#This Row],[YJコード⑦]],[1]!__前投薬リスト[#Data],4,FALSE)&\"\",\"\")","v":""}]
["SUR0074","CAPIRI+BEV","　　　　　　Ｗ1　　　　　　Ｗ2　　　　　　　 Ｗ3　　　　　　\nBEV　　 ↓××××××　×××××××　×××××××\nCPT-11　↓××××××　×××××××　×××××××\nCape　　↓↓↓↓↓↓↓　↓↓↓↓↓↓↓　×××××××\nCPT-11、BEV：3週間毎、Cape:2週間内服、1週間休薬。\nCape1回量：1.31㎡未満＝900mg,1.31~1.69㎡未満=1200mg,1.69~2.07㎡未満=1500mg,2.07㎡以上＝1800mg\nCCｒ＝51～80 ml/min：減量不要\nCCｒ＝30～50ml/min：一段階減量（75％用量）用量は添付文書確認\nCCｒ＝30ml/min:投与禁忌","21日","∞","大腸癌","外科","ベバシズマブ","危 400mg/16mL ﾍﾞﾊﾞｼｽﾞﾏﾌﾞBS点滴静注「CTNK」（希釈液:生食）（先:ｱﾊﾞｽﾁﾝ）","4291463A2027","注射","初回９０分、２回目６０分、３回目～３０分",7.5,"kg","mg",null,"d1",{"$f":"IFERROR(VLOOKUP(__レジメンマスタ[[#This Row],[YJコード①]],[1]!__前投薬リスト[#Data],4,FALSE)&\"\",\"\")","v":""},null,"イリノテカン","危 100mg/5mL ｲﾘﾉﾃｶﾝ塩酸塩点滴静注液「NK」（先:ﾄﾎﾟﾃｼﾝ）","4240404A2055","注射","９０ 分で",200,"㎡","mg",null,"d1",{"$f":"IFERROR(VLOOKUP(__レジメンマスタ[[#This Row],[YJコード②]],[1]!__前投薬リスト[#Data],4,FALSE)&\"\",\"\")","v":""},null,"カペシタビン",null,"4223005F1065","経口",null,1600,"㎡","mg",null,"d1-14",{"$f":"IFERROR(VLOOKUP(__レジメンマスタ[[#This Row],[YJコード③]],[1]!__前投薬リスト[#Data],4,FALSE)&\"\",\"\")","v":""},null,null,null,null,null,null,null,null,null,null,null,{"$f":"IFERROR(VLOOKUP(__レジメンマスタ[[#This Row],[YJコード④]],[1]!__前投薬リスト[#Data],4,FALSE)&\"\",\"\")","v":""},null,null,null,null,null,null,null,null,null,null,null,{"$f":"IFERROR(VLOOKUP(__レジメンマスタ[[#This Row],[YJコード⑤]],[1]!__前投薬リスト[#Data],4,FALSE)&\"\",\"\")","v":""},null,null,null,null,null,null,null,null,null,null,null,{"$f":"IFERROR(VLOOKUP(__レジメンマスタ[[#This Row],[YJコード⑥]],[1]!__前投薬リスト[#Data],4,FALSE)&\"\",\"\")","v":""},null,null,null,null,null,null,null,null,null,null,null,{"$f":"IFERROR(VLOOKUP(__レジメンマスタ[[#This Row],[YJコード⑦]],[1]!__前投薬リスト[#Data],4,FALSE)&\"\",\"\")","v":""}]
["SUR0075","CAPIRI","　　　　　　Ｗ1　　　　　　Ｗ2　　　　　　　 Ｗ3　　　　　　\nCPT-11　↓××××××　×××××××　×××××××\nCape　　↓↓↓↓↓↓↓　↓↓↓↓↓↓↓　×××××××\nCPT-11、BEV：3週間毎、Cape:2週間内服、1週間休薬。\nCAPE1回量：1.31㎡未満＝900mg,1.31~1.69㎡未満=1200mg,1.69~2.07㎡未満=1500mg,2.07㎡以上＝1800mg\nCCｒ＝51～80 ml/min：減量不要\nCCｒ＝30～50ml/min：一段階減量（75％用量）用量は添付文書確認\nCCｒ＝30ml/min:投与禁忌\n","21日","∞","大腸癌","外科","イリノテカン","危 100mg/5mL ｲﾘﾉﾃｶﾝ塩酸塩点滴静注液「NK」（先:ﾄﾎﾟﾃｼﾝ）","4240404A2055","注射","９０ 分で",200,"㎡","mg",null,"d1",{"$f":"IFERROR(VLOOKUP(__レジメンマスタ[[#This Row],[YJコード①]],[1]!__前投薬リスト[#Data],4,FALSE)&\"\",\"\")","v":""},null,"カペシタビン",null,"4223005F1065","経口",null,1600,"㎡","mg",null,"d1-14",{"$f":"IFERROR(VLOOKUP(__レジメンマスタ[[#This Row],[YJコード②]],[1]!__前投薬リスト[#Data],4,FALSE)&\"\",\"\")","v":""},null,null,null,null,null,null,null,null,null,null,null,{"$f":"IFERROR(VLOOKUP(__レジメンマスタ[[#This Row],[YJコード③]],[1]!__前投薬リスト[#Data],4,FALSE)&\"\",\"\")","v":""},null,null,null,null,null,null,null,null,null,null,null,{"$f":"IFERROR(VLOOKUP(__レジメンマスタ[[#This Row],[YJコード④]],[1]!__前投薬リスト[#Data],4,FALSE)&\"\",\"\")","v":""},null,null,null,null,null,null,null,null,null,null,null,{"$f":"IFERROR(VLOOKUP(__レジメンマスタ[[#This Row],[YJコード⑤]],[1]!__前投薬リスト[#Data],4,FALSE)&\"\",\"\")","v":""},null,null,null,null,null,null,null,null,null,null,null,{"$f":"IFERROR(VLOOKUP(__レジメンマスタ[[#This Row],[YJコード⑥]],[1]!__前投薬リスト[#Data],4,FALSE)&\"\",\"\")","v":""},null,null,null,null,null,null,null,null,null,null,null,{"$f":"IFERROR(VLOOKUP(__レジメンマスタ[[#This Row],[YJコード⑦]],[1]!__前投薬リスト[#Data],4,FALSE)&\"\",\"\")","v":""}]
["SUR0081-01","FOLFIRINOX","※日本人ではSUR0081-01のmFOLIRINOXを行うことが多い\n　　　　　  Ｗ1 　 　　 　Ｗ2　　　　\nL-OHP   ↓×××××× ××××××× \nl-LV    ↓×××××× ××××××× \nIRI     ↓×××××× ×××××××  \nFU bls  ↓×××××× ××××××× \nFU conc ↓×××××× ××××××× \n2週間毎\n★インフューザーポンプ使用時は２．５ｍｌ／ｈｒに輸液量を調製","14日","∞","膵臓癌","外科","オキサリプラチン","危〈毒〉100㎎/20mL ｵｷｻﾘﾌﾟﾗﾁﾝ点滴静注液「NK」（先:ｴﾙﾌﾟﾗｯﾄ）","4291410A2092","注射","２ 時間で",85,"㎡","mg",null,"d1",{"$f":"IFERROR(VLOOKUP(__レジメンマスタ[[#This Row],[YJコード①]],[1]!__前投薬リスト[#Data],4,FALSE)&\"\",\"\")","v":""},null,"イリノテカン","危 100mg/5mL ｲﾘﾉﾃｶﾝ塩酸塩点滴静注液「NK」（先:ﾄﾎﾟﾃｼﾝ）","4240404A2055","注射","９０ 分で",180,"㎡","mg",null,"d1",{"$f":"IFERROR(VLOOKUP(__レジメンマスタ[[#This Row],[YJコード②]],[1]!__前投薬リスト[#Data],4,FALSE)&\"\",\"\")","v":""},null,"レボホリナート","危 100mg ﾚﾎﾞﾎﾘﾅｰﾄ点滴静注用「ﾔｸﾙﾄ」（先:ｱｲｿﾎﾞﾘﾝ）","3929407D2060","注射","２ 時間で",200,"㎡","mg",null,"d1",{"$f":"IFERROR(VLOOKUP(__レジメンマスタ[[#This Row],[YJコード③]],[1]!__前投薬リスト[#Data],4,FALSE)&\"\",\"\")","v":""},null,"フルオロウラシル","危 1000mg/20mL ﾌﾙｵﾛｳﾗｼﾙ注「ﾄｰﾜ」（先:5-FU）","4223401A3030","注射","１５ 分で",400,"㎡","mg",null,"d1",{"$f":"IFERROR(VLOOKUP(__レジメンマスタ[[#This Row],[YJコード④]],[1]!__前投薬リスト[#Data],4,FALSE)&\"\",\"\")","v":""},null,"フルオロウラシル","危 1000mg/20mL ﾌﾙｵﾛｳﾗｼﾙ注「ﾄｰﾜ」（先:5-FU）","4223401A3030","注射","４６時間で",2400,"㎡","mg",null,"d1(46hr)",{"$f":"IFERROR(VLOOKUP(__レジメンマスタ[[#This Row],[YJコード⑤]],[1]!__前投薬リスト[#Data],4,FALSE)&\"\",\"\")","v":""},null,null,null,null,null,null,null,null,null,null,null,{"$f":"IFERROR(VLOOKUP(__レジメンマスタ[[#This Row],[YJコード⑥]],[1]!__前投薬リスト[#Data],4,FALSE)&\"\",\"\")","v":""},null,null,null,null,null,null,null,null,null,null,null,{"$f":"IFERROR(VLOOKUP(__レジメンマスタ[[#This Row],[YJコード⑦]],[1]!__前投薬リスト[#Data],4,FALSE)&\"\",\"\")","v":""}]
["SUR0081-02","mFOLFIRINOX","　　　　　  Ｗ1 　 　　 　Ｗ2　　　　\nL-OHP   ↓×××××× ××××××× \nl-LV    ↓×××××× ××××××× \nIRI     ↓×××××× ×××××××  \nFU conc ↓×××××× ××××××× \n2週間毎\n★インフューザーポンプ使用時は２．５ｍｌ／ｈｒに輸液量を調製","14日","∞","膵臓癌","外科","オキサリプラチン","危〈毒〉100㎎/20mL ｵｷｻﾘﾌﾟﾗﾁﾝ点滴静注液「NK」（先:ｴﾙﾌﾟﾗｯﾄ）","4291410A2092","注射","２ 時間で",85,"㎡","mg",null,"d1",{"$f":"IFERROR(VLOOKUP(__レジメンマスタ[[#This Row],[YJコード①]],[1]!__前投薬リスト[#Data],4,FALSE)&\"\",\"\")","v":""},null,"イリノテカン","危 100mg/5mL ｲﾘﾉﾃｶﾝ塩酸塩点滴静注液「NK」（先:ﾄﾎﾟﾃｼﾝ）","4240404A2055","注射","９０ 分で",150,"㎡","mg",null,"d1",{"$f":"IFERROR(VLOOKUP(__レジメンマスタ[[#This Row],[YJコード②]],[1]!__前投薬リスト[#Data],4,FALSE)&\"\",\"\")","v":""},null,"レボホリナート","危 100mg ﾚﾎﾞﾎﾘﾅｰﾄ点滴静注用「ﾔｸﾙﾄ」（先:ｱｲｿﾎﾞﾘﾝ）","3929407D2060","注射","２ 時間で",200,"㎡","mg",null,"d1",{"$f":"IFERROR(VLOOKUP(__レジメンマスタ[[#This Row],[YJコード③]],[1]!__前投薬リスト[#Data],4,FALSE)&\"\",\"\")","v":""},null,"フルオロウラシル","危 1000mg/20mL ﾌﾙｵﾛｳﾗｼﾙ注「ﾄｰﾜ」（先:5-FU）","4223401A3030","注射","４６時間で",2400,"㎡","mg",null,"d1(46hr)",{"$f":"IFERROR(VLOOKUP(__レジメンマスタ[[#This Row],[YJコード④]],[1]!__前投薬リスト[#Data],4,FALSE)&\"\",\"\")","v":""},null,null,null,null,null,null,null,null,null,null,null,{"$f":"IFERROR(VLOOKUP(__レジメンマスタ[[#This Row],[YJコード⑤]],[1]!__前投薬リスト[#Data],4,FALSE)&\"\",\"\")","v":""},null,null,null,null,null,null,null,null,null,null,null,{"$f":"IFERROR(VLOOKUP(__レジメンマスタ[[#This Row],[YJコード⑥]],[1]!__前投薬リスト[#Data],4,FALSE)&\"\",\"\")","v":""},null,null,null,null,null,null,null,null,null,null,null,{"$f":"IFERROR(VLOOKUP(__レジメンマスタ[[#This Row],[YJコード⑦]],[1]!__前投薬リスト[#Data],4,FALSE)&\"\",\"\")","v":""}]
["SUR0084","GEM+n-PTX","　　　　　　W1　　　　　　W2　　　　　　　W3　　　　　　W4  \nn-PTX ↓×××××× ↓×××××× ↓×××××× ×××××××  \nGEM   ↓×××××× ↓×××××× ↓×××××× ×××××××  \n3週連続投与、1週休薬\nGEM:溶解液確認→Tzで行う方針の場合はTzへ変更","28日","∞","膵臓癌","外科","アブラキサン","危〈毒〉ｱﾌﾞﾗｷｻﾝ点滴静注用 100mg","4240409D1023","注射","３０ 分で",125,"㎡","mg",null,"d1,8,15",{"$f":"IFERROR(VLOOKUP(__レジメンマスタ[[#This Row],[YJコード①]],[1]!__前投薬リスト[#Data],4,FALSE)&\"\",\"\")","v":""},null,"ゲムシタビン","危 1g ｹﾞﾑｼﾀﾋﾞﾝ点滴静注用「ﾔｸﾙﾄ」（溶解液:生食）（先:ｼﾞｪﾑｻﾞｰﾙ）","4224403D2061","注射","３０ 分で",1000,"㎡","mg",null,"d1,8,15",{"$f":"IFERROR(VLOOKUP(__レジメンマスタ[[#This Row],[YJコード②]],[1]!__前投薬リスト[#Data],4,FALSE)&\"\",\"\")","v":""},null,null,null,null,null,null,null,null,null,null,null,{"$f":"IFERROR(VLOOKUP(__レジメンマスタ[[#This Row],[YJコード③]],[1]!__前投薬リスト[#Data],4,FALSE)&\"\",\"\")","v":""},null,null,null,null,null,null,null,null,null,null,null,{"$f":"IFERROR(VLOOKUP(__レジメンマスタ[[#This Row],[YJコード④]],[1]!__前投薬リスト[#Data],4,FALSE)&\"\",\"\")","v":""},null,null,null,null,null,null,null,null,null,null,null,{"$f":"IFERROR(VLOOKUP(__レジメンマスタ[[#This Row],[YJコード⑤]],[1]!__前投薬リスト[#Data],4,FALSE)&\"\",\"\")","v":""},null,null,null,null,null,null,null,null,null,null,null,{"$f":"IFERROR(VLOOKUP(__レジメンマスタ[[#This Row],[YJコード⑥]],[1]!__前投薬リスト[#Data],4,FALSE)&\"\",\"\")","v":""},null,null,null,null,null,null,null,null,null,null,null,{"$f":"IFERROR(VLOOKUP(__レジメンマスタ[[#This Row],[YJコード⑦]],[1]!__前投薬リスト[#Data],4,FALSE)&\"\",\"\")","v":""}]
["SUR0085","SOX","　　　　　　Ｗ1　　　　　　Ｗ2　　　　 Ｗ3　　　　　　\nL-OHP　↓××××××　×××××××　×××××××\nS-1　　↓↓↓↓↓↓↓　↓↓↓↓↓↓↓　×××××××\nL-OHP：3週間毎、S1:2週間内服、1週間休薬。\nS1：初回基準量【テガフール相当量、原則40mg/回未満には減らさない】\n1.25m2未満:40mg/回,1.25m2以上1.5m2未満:50mg/回,1.5m2以上:60mg/回\nCCr≧60：通常用量、60>CCr≧40:一段階減量,40>CCr≧30:二段階減量,\nCCr＜30：禁忌\n","21日","∞","胃癌","外科","オキサリプラチン","危〈毒〉100㎎/20mL ｵｷｻﾘﾌﾟﾗﾁﾝ点滴静注液「NK」（先:ｴﾙﾌﾟﾗｯﾄ）","4291410A2092","注射","２ 時間で",130,"㎡","mg",null,"d1",{"$f":"IFERROR(VLOOKUP(__レジメンマスタ[[#This Row],[YJコード①]],[1]!__前投薬リスト[#Data],4,FALSE)&\"\",\"\")","v":""},null,"エスワン",null,"4229101F2057","経口",null,"80-120/2","BODY","mg",null,"d1-14",{"$f":"IFERROR(VLOOKUP(__レジメンマスタ[[#This Row],[YJコード②]],[1]!__前投薬リスト[#Data],4,FALSE)&\"\",\"\")","v":""},null,null,null,null,null,null,null,null,null,null,null,{"$f":"IFERROR(VLOOKUP(__レジメンマスタ[[#This Row],[YJコード③]],[1]!__前投薬リスト[#Data],4,FALSE)&\"\",\"\")","v":""},null,null,null,null,null,null,null,null,null,null,null,{"$f":"IFERROR(VLOOKUP(__レジメンマスタ[[#This Row],[YJコード④]],[1]!__前投薬リスト[#Data],4,FALSE)&\"\",\"\")","v":""},null,null,null,null,null,null,null,null,null,null,null,{"$f":"IFERROR(VLOOKUP(__レジメンマスタ[[#This Row],[YJコード⑤]],[1]!__前投薬リスト[#Data],4,FALSE)&\"\",\"\")","v":""},null,null,null,null,null,null,null,null,null,null,null,{"$f":"IFERROR(VLOOKUP(__レジメンマスタ[[#This Row],[YJコード⑥]],[1]!__前投薬リスト[#Data],4,FALSE)&\"\",\"\")","v":""},null,null,null,null,null,null,null,null,null,null,null,{"$f":"IFERROR(VLOOKUP(__レジメンマスタ[[#This Row],[YJコード⑦]],[1]!__前投薬リスト[#Data],4,FALSE)&\"\",\"\")","v":""}]
["SUR0086","CapeOX","　　　　　　Ｗ1　　　　　　Ｗ2　　　　　　 Ｗ3　　　　　　\nL-OHP　 ↓××××××　×××××××　×××××××\nCape　　↓↓↓↓↓↓↓　↓↓↓↓↓↓↓　×××××××\nL-OHP：3週間毎、Cape:2週間内服、1週間休薬。\n1回量：1.36㎡未満＝1200mg,1.36~1.66㎡未満=1500mg,1.66~1.96㎡未満=1800mg,1.96㎡以上＝2100mg\nCCｒ＝51～80 ml/min：減量不要\nCCｒ＝30～50ml/min：一段階減量（75％用量）用量は添付文書確認\nCCｒ＝30ml/min:投与禁忌\n","21日","∞","胃癌","外科","オキサリプラチン","危〈毒〉100㎎/20mL ｵｷｻﾘﾌﾟﾗﾁﾝ点滴静注液「NK」（先:ｴﾙﾌﾟﾗｯﾄ）","4291410A2092","注射","２ 時間で",130,"㎡","mg",null,"d1",{"$f":"IFERROR(VLOOKUP(__レジメンマスタ[[#This Row],[YJコード①]],[1]!__前投薬リスト[#Data],4,FALSE)&\"\",\"\")","v":""},null,"カペシタビン",null,"4223005F1065","経口",null,2000,"㎡","mg",null,"d1-14",{"$f":"IFERROR(VLOOKUP(__レジメンマスタ[[#This Row],[YJコード②]],[1]!__前投薬リスト[#Data],4,FALSE)&\"\",\"\")","v":""},null,null,null,null,null,null,null,null,null,null,null,{"$f":"IFERROR(VLOOKUP(__レジメンマスタ[[#This Row],[YJコード③]],[1]!__前投薬リスト[#Data],4,FALSE)&\"\",\"\")","v":""},null,null,null,null,null,null,null,null,null,null,null,{"$f":"IFERROR(VLOOKUP(__レジメンマスタ[[#This Row],[YJコード④]],[1]!__前投薬リスト[#Data],4,FALSE)&\"\",\"\")","v":""},null,null,null,null,null,null,null,null,null,null,null,{"$f":"IFERROR(VLOOKUP(__レジメンマスタ[[#This Row],[YJコード⑤]],[1]!__前投薬リスト[#Data],4,FALSE)&\"\",\"\")","v":""},null,null,null,null,null,null,null,null,null,null,null,{"$f":"IFERROR(VLOOKUP(__レジメンマスタ[[#This Row],[YJコード⑥]],[1]!__前投薬リスト[#Data],4,FALSE)&\"\",\"\")","v":""},null,null,null,null,null,null,null,null,null,null,null,{"$f":"IFERROR(VLOOKUP(__レジメンマスタ[[#This Row],[YJコード⑦]],[1]!__前投薬リスト[#Data],4,FALSE)&\"\",\"\")","v":""}]
["SUR0087","CapeOX＋トラスツズマブ","　　　　　　Ｗ1　　　　　　Ｗ2　　　　　　 Ｗ3\nTmab　 ↓××××××　×××××××　×××××××　　　\nL-OHP　↓××××××　×××××××　×××××××\nCape 　↓↓↓↓↓↓↓　↓↓↓↓↓↓↓　×××××××\nTmab,L-OHP：3週間毎、Cape:2週間内服、1週間休薬。\nCape1回量：1.36㎡未満＝1200mg,1.36~1.66㎡未満=1500mg,1.66~1.96㎡未満=1800mg,1.96㎡以上＝2100mg\nCCｒ＝51～80 ml/min：減量不要\nCCｒ＝30～50ml/min：一段階減量（75％用量）用量は添付文書確認\nCCｒ＝30ml/min:投与禁忌\n","21日","∞","胃癌（Her2+）","外科","トラスツズマブ(初回）","危 ﾄﾗｽﾂｽﾞﾏﾌﾞBS点滴静注用 150mg「NK」（溶解液:Aq,希釈液:生食）（先:ﾊｰｾﾌﾟﾁﾝ）","4291442D2030","注射","９０ 分で",8,"kg","mg",null,"d1",{"$f":"IFERROR(VLOOKUP(__レジメンマスタ[[#This Row],[YJコード①]],[1]!__前投薬リスト[#Data],4,FALSE)&\"\",\"\")","v":""},null,"トラスツズマブ（2回目以降）","危 ﾄﾗｽﾂｽﾞﾏﾌﾞBS点滴静注用 150mg「NK」（溶解液:Aq,希釈液:生食）（先:ﾊｰｾﾌﾟﾁﾝ）","4291442D2030","注射","９０ 分で",6,"kg","mg",null,"d1",{"$f":"IFERROR(VLOOKUP(__レジメンマスタ[[#This Row],[YJコード②]],[1]!__前投薬リスト[#Data],4,FALSE)&\"\",\"\")","v":""},null,"オキサリプラチン","危〈毒〉100㎎/20mL ｵｷｻﾘﾌﾟﾗﾁﾝ点滴静注液「NK」（先:ｴﾙﾌﾟﾗｯﾄ）","4291410A2092","注射","２ 時間で",130,"㎡","mg",null,"d1",{"$f":"IFERROR(VLOOKUP(__レジメンマスタ[[#This Row],[YJコード③]],[1]!__前投薬リスト[#Data],4,FALSE)&\"\",\"\")","v":""},null,"カペシタビン",null,"4223005F1065","経口",null,2000,"㎡","mg",null,"d1-14",{"$f":"IFERROR(VLOOKUP(__レジメンマスタ[[#This Row],[YJコード④]],[1]!__前投薬リスト[#Data],4,FALSE)&\"\",\"\")","v":""},null,null,null,null,null,null,null,null,null,null,null,{"$f":"IFERROR(VLOOKUP(__レジメンマスタ[[#This Row],[YJコード⑤]],[1]!__前投薬リスト[#Data],4,FALSE)&\"\",\"\")","v":""},null,null,null,null,null,null,null,null,null,null,null,{"$f":"IFERROR(VLOOKUP(__レジメンマスタ[[#This Row],[YJコード⑥]],[1]!__前投薬リスト[#Data],4,FALSE)&\"\",\"\")","v":""},null,null,null,null,null,null,null,null,null,null,null,{"$f":"IFERROR(VLOOKUP(__レジメンマスタ[[#This Row],[YJコード⑦]],[1]!__前投薬リスト[#Data],4,FALSE)&\"\",\"\")","v":""}]
["SUR0088","DXR","　　　　　　Ｗ1　　　　　　Ｗ2　　　　 Ｗ3\nDXR　↓××××××　×××××××　×××××××　　　\n60～75mg/㎡/回　　500mg/㎡まで","21日","500mg/㎡まで","軟部腫瘍","乳腺・内分泌外科","ドキソルビシン","危 50mg ﾄﾞｷｿﾙﾋﾞｼﾝ塩酸塩注射用「NK」（溶解液:生食orAq）（先:ｱﾄﾞﾘｱｼﾝ）","4235402D2028","注射","３０ 分で",75,"㎡","mg",null,"d1",{"$f":"IFERROR(VLOOKUP(__レジメンマスタ[[#This Row],[YJコード①]],[1]!__前投薬リスト[#Data],4,FALSE)&\"\",\"\")","v":""},null,null,null,null,null,null,null,null,null,null,null,{"$f":"IFERROR(VLOOKUP(__レジメンマスタ[[#This Row],[YJコード②]],[1]!__前投薬リスト[#Data],4,FALSE)&\"\",\"\")","v":""},null,null,null,null,null,null,null,null,null,null,null,{"$f":"IFERROR(VLOOKUP(__レジメンマスタ[[#This Row],[YJコード③]],[1]!__前投薬リスト[#Data],4,FALSE)&\"\",\"\")","v":""},null,null,null,null,null,null,null,null,null,null,null,{"$f":"IFERROR(VLOOKUP(__レジメンマスタ[[#This Row],[YJコード④]],[1]!__前投薬リスト[#Data],4,FALSE)&\"\",\"\")","v":""},null,null,null,null,null,null,null,null,null,null,null,{"$f":"IFERROR(VLOOKUP(__レジメンマスタ[[#This Row],[YJコード⑤]],[1]!__前投薬リスト[#Data],4,FALSE)&\"\",\"\")","v":""},null,null,null,null,null,null,null,null,null,null,null,{"$f":"IFERROR(VLOOKUP(__レジメンマスタ[[#This Row],[YJコード⑥]],[1]!__前投薬リスト[#Data],4,FALSE)&\"\",\"\")","v":""},null,null,null,null,null,null,null,null,null,null,null,{"$f":"IFERROR(VLOOKUP(__レジメンマスタ[[#This Row],[YJコード⑦]],[1]!__前投薬リスト[#Data],4,FALSE)&\"\",\"\")","v":""}]
["SUR0089","Rmab+PTX","  　　　　　 W1  　　　　　 W2 　　　　  W3 　　　　　  W4\nRmab  ↓×××××× ××××××× ↓×××××× ×××××××  \nPTX   ↓×××××× ↓×××××× ↓×××××× ×××××××  \n","28日","∞","胃癌","外科","サイラムザ","危 500mg/50mL ｻｲﾗﾑｻﾞ点滴静注液（希釈液:生食）","4291429A2020","注射","６０ 分で",8,"kg","mg",null,"d1,15",{"$f":"IFERROR(VLOOKUP(__レジメンマスタ[[#This Row],[YJコード①]],[1]!__前投薬リスト[#Data],4,FALSE)&\"\",\"\")","v":"(抗ヒス)"},null,"パクリタキセル","危〈毒〉100mg/16.7mL ﾊﾟｸﾘﾀｷｾﾙ注「NK」（希釈液:生食orTZ）（先:ﾀｷｿｰﾙ）","4240406A2046","注射","１　時間で",80,"㎡","mg",null,"d1,8,15",{"$f":"IFERROR(VLOOKUP(__レジメンマスタ[[#This Row],[YJコード②]],[1]!__前投薬リスト[#Data],4,FALSE)&\"\",\"\")","v":"抗ヒス,H2B,ステ"},null,null,null,null,null,null,null,null,null,null,null,{"$f":"IFERROR(VLOOKUP(__レジメンマスタ[[#This Row],[YJコード③]],[1]!__前投薬リスト[#Data],4,FALSE)&\"\",\"\")","v":""},null,null,null,null,null,null,null,null,null,null,null,{"$f":"IFERROR(VLOOKUP(__レジメンマスタ[[#This Row],[YJコード④]],[1]!__前投薬リスト[#Data],4,FALSE)&\"\",\"\")","v":""},null,null,null,null,null,null,null,null,null,null,null,{"$f":"IFERROR(VLOOKUP(__レジメンマスタ[[#This Row],[YJコード⑤]],[1]!__前投薬リスト[#Data],4,FALSE)&\"\",\"\")","v":""},null,null,null,null,null,null,null,null,null,null,null,{"$f":"IFERROR(VLOOKUP(__レジメンマスタ[[#This Row],[YJコード⑥]],[1]!__前投薬リスト[#Data],4,FALSE)&\"\",\"\")","v":""},null,null,null,null,null,null,null,null,null,null,null,{"$f":"IFERROR(VLOOKUP(__レジメンマスタ[[#This Row],[YJコード⑦]],[1]!__前投薬リスト[#Data],4,FALSE)&\"\",\"\")","v":""}]
["SUR0090","FP+RT","　　　　　　W1              W2            W3～4       \nCDDP  ↓××××××  ×××××××  ×××××××      \n5-FU  ↓↓↓↓×××  ×××××××  ×××××××    \n放射線併用期間のみ","28日","RT併用期間","食道癌","外科","シスプラチン","危〈毒〉50mg/100mL ｼｽﾌﾟﾗﾁﾝ点滴静注「ﾏﾙｺ」（先:ﾗﾝﾀﾞ）","4291401A3111","注射","２ 時間で",70,"㎡","mg",null,"d1",{"$f":"IFERROR(VLOOKUP(__レジメンマスタ[[#This Row],[YJコード①]],[1]!__前投薬リスト[#Data],4,FALSE)&\"\",\"\")","v":""},null,"フルオロウラシル","危 1000mg/20mL ﾌﾙｵﾛｳﾗｼﾙ注「ﾄｰﾜ」（先:5-FU）","4223401A3030","注射","２４時間持続投与",700,"㎡","mg",null,"d1-4",{"$f":"IFERROR(VLOOKUP(__レジメンマスタ[[#This Row],[YJコード②]],[1]!__前投薬リスト[#Data],4,FALSE)&\"\",\"\")","v":""},null,null,null,null,null,null,null,null,null,null,null,{"$f":"IFERROR(VLOOKUP(__レジメンマスタ[[#This Row],[YJコード③]],[1]!__前投薬リスト[#Data],4,FALSE)&\"\",\"\")","v":""},null,null,null,null,null,null,null,null,null,null,null,{"$f":"IFERROR(VLOOKUP(__レジメンマスタ[[#This Row],[YJコード④]],[1]!__前投薬リスト[#Data],4,FALSE)&\"\",\"\")","v":""},null,null,null,null,null,null,null,null,null,null,null,{"$f":"IFERROR(VLOOKUP(__レジメンマスタ[[#This Row],[YJコード⑤]],[1]!__前投薬リスト[#Data],4,FALSE)&\"\",\"\")","v":""},null,null,null,null,null,null,null,null,null,null,null,{"$f":"IFERROR(VLOOKUP(__レジメンマスタ[[#This Row],[YJコード⑥]],[1]!__前投薬リスト[#Data],4,FALSE)&\"\",\"\")","v":""},null,null,null,null,null,null,null,null,null,null,null,{"$f":"IFERROR(VLOOKUP(__レジメンマスタ[[#This Row],[YJコード⑦]],[1]!__前投薬リスト[#Data],4,FALSE)&\"\",\"\")","v":""}]
["SUR0091","FOLFIRI+RAM","　　　　　  Ｗ1 　　　 　Ｗ2　　　　\nRmab    ↓×××××× ××××××× \nl-LV    ↓×××××× ××××××× \nIRI     ↓×××××× ×××××××  \nFU bls  ↓×××××× ××××××× \nFU conc ↓×××××× ××××××× \n2週間毎\n★インフューザーポンプ使用時は２．５ｍｌ／ｈｒに輸液量を調製","14日","∞","大腸癌","外科","サイラムザ","危 500mg/50mL ｻｲﾗﾑｻﾞ点滴静注液（希釈液:生食）","4291429A2020","注射","６０ 分で",8,"kg","mg",null,"d1",{"$f":"IFERROR(VLOOKUP(__レジメンマスタ[[#This Row],[YJコード①]],[1]!__前投薬リスト[#Data],4,FALSE)&\"\",\"\")","v":"(抗ヒス)"},null,"レボホリナート","危 100mg ﾚﾎﾞﾎﾘﾅｰﾄ点滴静注用「ﾔｸﾙﾄ」（先:ｱｲｿﾎﾞﾘﾝ）","3929407D2060","注射","２ 時間で",200,"㎡","mg",null,"d1",{"$f":"IFERROR(VLOOKUP(__レジメンマスタ[[#This Row],[YJコード②]],[1]!__前投薬リスト[#Data],4,FALSE)&\"\",\"\")","v":""},null,"イリノテカン","危 100mg/5mL ｲﾘﾉﾃｶﾝ塩酸塩点滴静注液「NK」（先:ﾄﾎﾟﾃｼﾝ）","4240404A2055","注射","９０ 分で",150,"㎡","mg",null,"d1",{"$f":"IFERROR(VLOOKUP(__レジメンマスタ[[#This Row],[YJコード③]],[1]!__前投薬リスト[#Data],4,FALSE)&\"\",\"\")","v":""},null,"フルオロウラシル","危 1000mg/20mL ﾌﾙｵﾛｳﾗｼﾙ注「ﾄｰﾜ」（先:5-FU）","4223401A3030","注射","１５ 分で",400,"㎡","mg",null,"d1",{"$f":"IFERROR(VLOOKUP(__レジメンマスタ[[#This Row],[YJコード④]],[1]!__前投薬リスト[#Data],4,FALSE)&\"\",\"\")","v":""},null,"フルオロウラシル","危 1000mg/20mL ﾌﾙｵﾛｳﾗｼﾙ注「ﾄｰﾜ」（先:5-FU）","4223401A3030","注射","４６時間で",2400,"㎡","mg",null,"d1(46hr)",{"$f":"IFERROR(VLOOKUP(__レジメンマスタ[[#This Row],[YJコード⑤]],[1]!__前投薬リスト[#Data],4,FALSE)&\"\",\"\")","v":""},null,null,null,null,null,null,null,null,null,null,null,{"$f":"IFERROR(VLOOKUP(__レジメンマスタ[[#This Row],[YJコード⑥]],[1]!__前投薬リスト[#Data],4,FALSE)&\"\",\"\")","v":""},null,null,null,null,null,null,null,null,null,null,null,{"$f":"IFERROR(VLOOKUP(__レジメンマスタ[[#This Row],[YJコード⑦]],[1]!__前投薬リスト[#Data],4,FALSE)&\"\",\"\")","v":""}]
["SUR0092","SOX+BEV","　　　　　　Ｗ1　　　　　　Ｗ2　　　  　 Ｗ3\nBeva 　↓××××××　×××××××　×××××××　　　　　　\nL-OHP　↓××××××　×××××××　×××××××\nS-1　　↓↓↓↓↓↓↓　↓↓↓↓↓↓↓　×××××××\nBeva、L-OHP：3週間毎、S1:2週間内服、1週間休薬。\nS1：初回基準量【テガフール相当量、原則40mg/回未満には減らさない】\n1.25m2未満:40mg/回,1.25m2以上1.5m2未満:50mg/回,1.5m2以上:60mg/回\nCCr≧60：通常用量、60>CCr≧40:一段階減量,40>CCr≧30:二段階減量,\nCCr＜30：禁忌","21日","∞","大腸癌","外科","ベバシズマブ","危 400mg/16mL ﾍﾞﾊﾞｼｽﾞﾏﾌﾞBS点滴静注「CTNK」（希釈液:生食）（先:ｱﾊﾞｽﾁﾝ）","4291463A2027","注射","初回９０分、２回目６０分、３回目～３０分",7.5,"kg","mg",null,"d1",{"$f":"IFERROR(VLOOKUP(__レジメンマスタ[[#This Row],[YJコード①]],[1]!__前投薬リスト[#Data],4,FALSE)&\"\",\"\")","v":""},null,"オキサリプラチン","危〈毒〉100㎎/20mL ｵｷｻﾘﾌﾟﾗﾁﾝ点滴静注液「NK」（先:ｴﾙﾌﾟﾗｯﾄ）","4291410A2092","注射","２ 時間で",130,"㎡","mg",null,"d1",{"$f":"IFERROR(VLOOKUP(__レジメンマスタ[[#This Row],[YJコード②]],[1]!__前投薬リスト[#Data],4,FALSE)&\"\",\"\")","v":""},null,"エスワン",null,"4229101F2057","経口",null,"80-120/2","BODY","mg",null,"d1-14",{"$f":"IFERROR(VLOOKUP(__レジメンマスタ[[#This Row],[YJコード③]],[1]!__前投薬リスト[#Data],4,FALSE)&\"\",\"\")","v":""},null,null,null,null,null,null,null,null,null,null,null,{"$f":"IFERROR(VLOOKUP(__レジメンマスタ[[#This Row],[YJコード④]],[1]!__前投薬リスト[#Data],4,FALSE)&\"\",\"\")","v":""},null,null,null,null,null,null,null,null,null,null,null,{"$f":"IFERROR(VLOOKUP(__レジメンマスタ[[#This Row],[YJコード⑤]],[1]!__前投薬リスト[#Data],4,FALSE)&\"\",\"\")","v":""},null,null,null,null,null,null,null,null,null,null,null,{"$f":"IFERROR(VLOOKUP(__レジメンマスタ[[#This Row],[YJコード⑥]],[1]!__前投薬リスト[#Data],4,FALSE)&\"\",\"\")","v":""},null,null,null,null,null,null,null,null,null,null,null,{"$f":"IFERROR(VLOOKUP(__レジメンマスタ[[#This Row],[YJコード⑦]],[1]!__前投薬リスト[#Data],4,FALSE)&\"\",\"\")","v":""}]
["SUR0093","FOLFOXIRI＋BEV","　　　　　  Ｗ1 　 　　 　Ｗ2　　　　\nBeva    ↓×××××× ××××××× \nIRI     ↓×××××× ×××××××  \nL-OHP   ↓×××××× ××××××× \nl-LV    ↓×××××× ××××××× \nFU conc ↓×××××× ××××××× \n2週間毎\n★インフューザーポンプ使用時は５ｍｌ／ｈｒに輸液量を調製★\n（2.5mL/hrではありません！！）","14日","∞","大腸癌","外科","ベバシズマブ","危 400mg/16mL ﾍﾞﾊﾞｼｽﾞﾏﾌﾞBS点滴静注「CTNK」（希釈液:生食）（先:ｱﾊﾞｽﾁﾝ）","4291463A2027","注射","初回９０分、２回目６０分、３回目～３０分",5,"kg","mg",null,"d1",{"$f":"IFERROR(VLOOKUP(__レジメンマスタ[[#This Row],[YJコード①]],[1]!__前投薬リスト[#Data],4,FALSE)&\"\",\"\")","v":""},null,"イリノテカン","危 100mg/5mL ｲﾘﾉﾃｶﾝ塩酸塩点滴静注液「NK」（先:ﾄﾎﾟﾃｼﾝ）","4240404A2055","注射","９０ 分で",165,"㎡","mg",null,"d1",{"$f":"IFERROR(VLOOKUP(__レジメンマスタ[[#This Row],[YJコード②]],[1]!__前投薬リスト[#Data],4,FALSE)&\"\",\"\")","v":""},null,"オキサリプラチン","危〈毒〉100㎎/20mL ｵｷｻﾘﾌﾟﾗﾁﾝ点滴静注液「NK」（先:ｴﾙﾌﾟﾗｯﾄ）","4291410A2092","注射","２ 時間で",85,"㎡","mg",null,"d1",{"$f":"IFERROR(VLOOKUP(__レジメンマスタ[[#This Row],[YJコード③]],[1]!__前投薬リスト[#Data],4,FALSE)&\"\",\"\")","v":""},null,"レボホリナート","危 100mg ﾚﾎﾞﾎﾘﾅｰﾄ点滴静注用「ﾔｸﾙﾄ」（先:ｱｲｿﾎﾞﾘﾝ）","3929407D2060","注射","２ 時間で",200,"㎡","mg",null,"d1",{"$f":"IFERROR(VLOOKUP(__レジメンマスタ[[#This Row],[YJコード④]],[1]!__前投薬リスト[#Data],4,FALSE)&\"\",\"\")","v":""},null,"フルオロウラシル","危 1000mg/20mL ﾌﾙｵﾛｳﾗｼﾙ注「ﾄｰﾜ」（先:5-FU）","4223401A3030","注射","４６時間で",3200,"㎡","mg",null,"d1(46hr)",{"$f":"IFERROR(VLOOKUP(__レジメンマスタ[[#This Row],[YJコード⑤]],[1]!__前投薬リスト[#Data],4,FALSE)&\"\",\"\")","v":""},null,null,null,null,null,null,null,null,null,null,null,{"$f":"IFERROR(VLOOKUP(__レジメンマスタ[[#This Row],[YJコード⑥]],[1]!__前投薬リスト[#Data],4,FALSE)&\"\",\"\")","v":""},null,null,null,null,null,null,null,null,null,null,null,{"$f":"IFERROR(VLOOKUP(__レジメンマスタ[[#This Row],[YJコード⑦]],[1]!__前投薬リスト[#Data],4,FALSE)&\"\",\"\")","v":""}]
["SUR0094","FOLFIRI+AFL","　　　　　  Ｗ1 　　　 　Ｗ2　　　　\nAFL     ↓×××××× ××××××× \nl-LV    ↓×××××× ××××××× \nIRI     ↓×××××× ×××××××  \nFU bls  ↓×××××× ××××××× \nFU conc ↓×××××× ××××××× \n2週間毎\n★インフューザーポンプ使用時は２．５ｍｌ／ｈｒに輸液量を調製\n※IRIの添付文書用量は150mg/㎡まで","14日","∞","大腸癌","外科","ザルトラップ",null,"4291436A2020","注射",null,4,"kg","mg",null,"d1",{"$f":"IFERROR(VLOOKUP(__レジメンマスタ[[#This Row],[YJコード①]],[1]!__前投薬リスト[#Data],4,FALSE)&\"\",\"\")","v":""},null,"レボホリナート","危 100mg ﾚﾎﾞﾎﾘﾅｰﾄ点滴静注用「ﾔｸﾙﾄ」（先:ｱｲｿﾎﾞﾘﾝ）","3929407D2060","注射","２ 時間で",200,"㎡","mg",null,"d1",{"$f":"IFERROR(VLOOKUP(__レジメンマスタ[[#This Row],[YJコード②]],[1]!__前投薬リスト[#Data],4,FALSE)&\"\",\"\")","v":""},null,"イリノテカン","危 100mg/5mL ｲﾘﾉﾃｶﾝ塩酸塩点滴静注液「NK」（先:ﾄﾎﾟﾃｼﾝ）","4240404A2055","注射","９０ 分で",180,"㎡","mg",null,"d1",{"$f":"IFERROR(VLOOKUP(__レジメンマスタ[[#This Row],[YJコード③]],[1]!__前投薬リスト[#Data],4,FALSE)&\"\",\"\")","v":""},null,"フルオロウラシル","危 1000mg/20mL ﾌﾙｵﾛｳﾗｼﾙ注「ﾄｰﾜ」（先:5-FU）","4223401A3030","注射","１５ 分で",400,"㎡","mg",null,"d1",{"$f":"IFERROR(VLOOKUP(__レジメンマスタ[[#This Row],[YJコード④]],[1]!__前投薬リスト[#Data],4,FALSE)&\"\",\"\")","v":""},null,"フルオロウラシル","危 1000mg/20mL ﾌﾙｵﾛｳﾗｼﾙ注「ﾄｰﾜ」（先:5-FU）","4223401A3030","注射","４６時間で",2400,"㎡","mg",null,"d1(46hr)",{"$f":"IFERROR(VLOOKUP(__レジメンマスタ[[#This Row],[YJコード⑤]],[1]!__前投薬リスト[#Data],4,FALSE)&\"\",\"\")","v":""},null,null,null,null,null,null,null,null,null,null,null,{"$f":"IFERROR(VLOOKUP(__レジメンマスタ[[#This Row],[YJコード⑥]],[1]!__前投薬リスト[#Data],4,FALSE)&\"\",\"\")","v":""},null,null,null,null,null,null,null,null,null,null,null,{"$f":"IFERROR(VLOOKUP(__レジメンマスタ[[#This Row],[YJコード⑦]],[1]!__前投薬リスト[#Data],4,FALSE)&\"\",\"\")","v":""}]
["SUR0095-01","オプジーボ"," 2週間ごとに投与\n　　　　　　　　　 W1　　　　　   W2 \nオプジーボ ↓×××××× ××××××× ","14日","∞","胃癌","外科","オプジーボ","危 240mg/24mL ｵﾌﾟｼﾞｰﾎﾞ点滴静注（希釈液:生食orTZ）","4291427A3027","注射","３０ 分で",240,"BODY","mg",null,"d1",{"$f":"IFERROR(VLOOKUP(__レジメンマスタ[[#This Row],[YJコード①]],[1]!__前投薬リスト[#Data],4,FALSE)&\"\",\"\")","v":""},null,null,null,null,null,null,null,null,null,null,null,{"$f":"IFERROR(VLOOKUP(__レジメンマスタ[[#This Row],[YJコード②]],[1]!__前投薬リスト[#Data],4,FALSE)&\"\",\"\")","v":""},null,null,null,null,null,null,null,null,null,null,null,{"$f":"IFERROR(VLOOKUP(__レジメンマスタ[[#This Row],[YJコード③]],[1]!__前投薬リスト[#Data],4,FALSE)&\"\",\"\")","v":""},null,null,null,null,null,null,null,null,null,null,null,{"$f":"IFERROR(VLOOKUP(__レジメンマスタ[[#This Row],[YJコード④]],[1]!__前投薬リスト[#Data],4,FALSE)&\"\",\"\")","v":""},null,null,null,null,null,null,null,null,null,null,null,{"$f":"IFERROR(VLOOKUP(__レジメンマスタ[[#This Row],[YJコード⑤]],[1]!__前投薬リスト[#Data],4,FALSE)&\"\",\"\")","v":""},null,null,null,null,null,null,null,null,null,null,null,{"$f":"IFERROR(VLOOKUP(__レジメンマスタ[[#This Row],[YJコード⑥]],[1]!__前投薬リスト[#Data],4,FALSE)&\"\",\"\")","v":""},null,null,null,null,null,null,null,null,null,null,null,{"$f":"IFERROR(VLOOKUP(__レジメンマスタ[[#This Row],[YJコード⑦]],[1]!__前投薬リスト[#Data],4,FALSE)&\"\",\"\")","v":""}]
["SUR0095-02","オプジーボ（4週間毎）"," ４週間ごとに投与\n　　　　　　　　　W1　　　    W2～W4\nオプジーボ ↓××××××  ××××××","28日","∞","胃癌","外科","オプジーボ","危 240mg/24mL ｵﾌﾟｼﾞｰﾎﾞ点滴静注（希釈液:生食orTZ）","4291427A3027","注射","３０ 分で",480,"BODY","mg",null,"d1",{"$f":"IFERROR(VLOOKUP(__レジメンマスタ[[#This Row],[YJコード①]],[1]!__前投薬リスト[#Data],4,FALSE)&\"\",\"\")","v":""},null,null,null,null,null,null,null,null,null,null,null,{"$f":"IFERROR(VLOOKUP(__レジメンマスタ[[#This Row],[YJコード②]],[1]!__前投薬リスト[#Data],4,FALSE)&\"\",\"\")","v":""},null,null,null,null,null,null,null,null,null,null,null,{"$f":"IFERROR(VLOOKUP(__レジメンマスタ[[#This Row],[YJコード③]],[1]!__前投薬リスト[#Data],4,FALSE)&\"\",\"\")","v":""},null,null,null,null,null,null,null,null,null,null,null,{"$f":"IFERROR(VLOOKUP(__レジメンマスタ[[#This Row],[YJコード④]],[1]!__前投薬リスト[#Data],4,FALSE)&\"\",\"\")","v":""},null,null,null,null,null,null,null,null,null,null,null,{"$f":"IFERROR(VLOOKUP(__レジメンマスタ[[#This Row],[YJコード⑤]],[1]!__前投薬リスト[#Data],4,FALSE)&\"\",\"\")","v":""},null,null,null,null,null,null,null,null,null,null,null,{"$f":"IFERROR(VLOOKUP(__レジメンマスタ[[#This Row],[YJコード⑥]],[1]!__前投薬リスト[#Data],4,FALSE)&\"\",\"\")","v":""},null,null,null,null,null,null,null,null,null,null,null,{"$f":"IFERROR(VLOOKUP(__レジメンマスタ[[#This Row],[YJコード⑦]],[1]!__前投薬リスト[#Data],4,FALSE)&\"\",\"\")","v":""}]
["SUR0097","Weekly　n-PTX","  　　　　　 W1  　　　　　 W2 　　　　  W3 　　　　　  W4  \nn-PTX  ↓×××××× ↓×××××× ↓×××××× ×××××××  \n3週投与、1週休薬","28日","∞","胃癌","外科","アブラキサン","危〈毒〉ｱﾌﾞﾗｷｻﾝ点滴静注用 100mg","4240409D1023","注射","３０ 分で",100,"㎡","mg",null,"d1,8,15",{"$f":"IFERROR(VLOOKUP(__レジメンマスタ[[#This Row],[YJコード①]],[1]!__前投薬リスト[#Data],4,FALSE)&\"\",\"\")","v":""},null,null,null,null,null,null,null,null,null,null,null,{"$f":"IFERROR(VLOOKUP(__レジメンマスタ[[#This Row],[YJコード②]],[1]!__前投薬リスト[#Data],4,FALSE)&\"\",\"\")","v":""},null,null,null,null,null,null,null,null,null,null,null,{"$f":"IFERROR(VLOOKUP(__レジメンマスタ[[#This Row],[YJコード③]],[1]!__前投薬リスト[#Data],4,FALSE)&\"\",\"\")","v":""},null,null,null,null,null,null,null,null,null,null,null,{"$f":"IFERROR(VLOOKUP(__レジメンマスタ[[#This Row],[YJコード④]],[1]!__前投薬リスト[#Data],4,FALSE)&\"\",\"\")","v":""},null,null,null,null,null,null,null,null,null,null,null,{"$f":"IFERROR(VLOOKUP(__レジメンマスタ[[#This Row],[YJコード⑤]],[1]!__前投薬リスト[#Data],4,FALSE)&\"\",\"\")","v":""},null,null,null,null,null,null,null,null,null,null,null,{"$f":"IFERROR(VLOOKUP(__レジメンマスタ[[#This Row],[YJコード⑥]],[1]!__前投薬リスト[#Data],4,FALSE)&\"\",\"\")","v":""},null,null,null,null,null,null,null,null,null,null,null,{"$f":"IFERROR(VLOOKUP(__レジメンマスタ[[#This Row],[YJコード⑦]],[1]!__前投薬リスト[#Data],4,FALSE)&\"\",\"\")","v":""}]
["SUR0097-01","Tri weekly n-PTX","  　　　　　 W1  　　　　　 W2 　　　　  W3 　　　　\nn-PTX  ↓×××××× ××××××× ×××××××  ","21日","∞","胃癌","外科","アブラキサン","危〈毒〉ｱﾌﾞﾗｷｻﾝ点滴静注用 100mg","4240409D1023","注射","３０ 分で",260,"㎡","mg",null,"d1",{"$f":"IFERROR(VLOOKUP(__レジメンマスタ[[#This Row],[YJコード①]],[1]!__前投薬リスト[#Data],4,FALSE)&\"\",\"\")","v":""},null,null,null,null,null,null,null,null,null,null,null,{"$f":"IFERROR(VLOOKUP(__レジメンマスタ[[#This Row],[YJコード②]],[1]!__前投薬リスト[#Data],4,FALSE)&\"\",\"\")","v":""},null,null,null,null,null,null,null,null,null,null,null,{"$f":"IFERROR(VLOOKUP(__レジメンマスタ[[#This Row],[YJコード③]],[1]!__前投薬リスト[#Data],4,FALSE)&\"\",\"\")","v":""},null,null,null,null,null,null,null,null,null,null,null,{"$f":"IFERROR(VLOOKUP(__レジメンマスタ[[#This Row],[YJコード④]],[1]!__前投薬リスト[#Data],4,FALSE)&\"\",\"\")","v":""},null,null,null,null,null,null,null,null,null,null,null,{"$f":"IFERROR(VLOOKUP(__レジメンマスタ[[#This Row],[YJコード⑤]],[1]!__前投薬リスト[#Data],4,FALSE)&\"\",\"\")","v":""},null,null,null,null,null,null,null,null,null,null,null,{"$f":"IFERROR(VLOOKUP(__レジメンマスタ[[#This Row],[YJコード⑥]],[1]!__前投薬リスト[#Data],4,FALSE)&\"\",\"\")","v":""},null,null,null,null,null,null,null,null,null,null,null,{"$f":"IFERROR(VLOOKUP(__レジメンマスタ[[#This Row],[YJコード⑦]],[1]!__前投薬リスト[#Data],4,FALSE)&\"\",\"\")","v":""}]
["SUR0098","SOX＋トラスツズマブ","　　　　　　Ｗ1　　　　　　Ｗ2　　　　 Ｗ3\nTmab　 ↓××××××　×××××××　×××××××　　　　　　\nL-OHP　↓××××××　×××××××　×××××××\nS-1　　↓↓↓↓↓↓↓　↓↓↓↓↓↓↓　×××××××\nTmab、L-OHP：3週間毎、S1:2週間内服、1週間休薬。\nS1：初回基準量【テガフール相当量、原則40mg/回未満には減らさない】\n1.25m2未満:40mg/回,1.25m2以上1.5m2未満:50mg/回,1.5m2以上:60mg/回\nCCr≧60：通常用量、60>CCr≧40:一段階減量,40>CCr≧30:二段階減量,\nCCr＜30：禁忌","21日","∞","胃癌（Her2+）","外科","トラスツズマブ(初回）","危 ﾄﾗｽﾂｽﾞﾏﾌﾞBS点滴静注用 150mg「NK」（溶解液:Aq,希釈液:生食）（先:ﾊｰｾﾌﾟﾁﾝ）","4291442D2030","注射","９０ 分で",8,"kg","mg",null,"d1",{"$f":"IFERROR(VLOOKUP(__レジメンマスタ[[#This Row],[YJコード①]],[1]!__前投薬リスト[#Data],4,FALSE)&\"\",\"\")","v":""},null,"トラスツズマブ（2回目以降）","危 ﾄﾗｽﾂｽﾞﾏﾌﾞBS点滴静注用 150mg「NK」（溶解液:Aq,希釈液:生食）（先:ﾊｰｾﾌﾟﾁﾝ）","4291442D2030","注射","２回目以降、３０分まで短縮可",6,"kg","mg",null,"d1",{"$f":"IFERROR(VLOOKUP(__レジメンマスタ[[#This Row],[YJコード②]],[1]!__前投薬リスト[#Data],4,FALSE)&\"\",\"\")","v":""},null,"オキサリプラチン","危〈毒〉100㎎/20mL ｵｷｻﾘﾌﾟﾗﾁﾝ点滴静注液「NK」（先:ｴﾙﾌﾟﾗｯﾄ）","4291410A2092","注射","２ 時間で",130,"㎡","mg",null,"d1",{"$f":"IFERROR(VLOOKUP(__レジメンマスタ[[#This Row],[YJコード③]],[1]!__前投薬リスト[#Data],4,FALSE)&\"\",\"\")","v":""},null,"エスワン",null,"4229101F2057","経口",null,"80-120/2","BODY","mg",null,"d1-14",{"$f":"IFERROR(VLOOKUP(__レジメンマスタ[[#This Row],[YJコード④]],[1]!__前投薬リスト[#Data],4,FALSE)&\"\",\"\")","v":""},null,null,null,null,null,null,null,null,null,null,null,{"$f":"IFERROR(VLOOKUP(__レジメンマスタ[[#This Row],[YJコード⑤]],[1]!__前投薬リスト[#Data],4,FALSE)&\"\",\"\")","v":""},null,null,null,null,null,null,null,null,null,null,null,{"$f":"IFERROR(VLOOKUP(__レジメンマスタ[[#This Row],[YJコード⑥]],[1]!__前投薬リスト[#Data],4,FALSE)&\"\",\"\")","v":""},null,null,null,null,null,null,null,null,null,null,null,{"$f":"IFERROR(VLOOKUP(__レジメンマスタ[[#This Row],[YJコード⑦]],[1]!__前投薬リスト[#Data],4,FALSE)&\"\",\"\")","v":""}]
["SUR0099","Rmab+n-PTX","  　　　　　 W1  　　　　　 W2 　　　　  W3 　　　　　  W4\nRmab　 ↓×××××× ××××××× ↓×××××× ×××××××  \nn-PTX  ↓×××××× ↓×××××× ↓×××××× ×××××××  \n","28日","∞","胃癌","外科","サイラムザ","危 500mg/50mL ｻｲﾗﾑｻﾞ点滴静注液（希釈液:生食）","4291429A2020","注射","１ 時間で",8,"kg","mg",null,"d1,15",{"$f":"IFERROR(VLOOKUP(__レジメンマスタ[[#This Row],[YJコード①]],[1]!__前投薬リスト[#Data],4,FALSE)&\"\",\"\")","v":"(抗ヒス)"},null,"アブラキサン","危〈毒〉ｱﾌﾞﾗｷｻﾝ点滴静注用 100mg","4240409D1023","注射","３０ 分で",100,"㎡","mg",null,"d1,8,15",{"$f":"IFERROR(VLOOKUP(__レジメンマスタ[[#This Row],[YJコード②]],[1]!__前投薬リスト[#Data],4,FALSE)&\"\",\"\")","v":""},null,null,null,null,null,null,null,null,null,null,null,{"$f":"IFERROR(VLOOKUP(__レジメンマスタ[[#This Row],[YJコード③]],[1]!__前投薬リスト[#Data],4,FALSE)&\"\",\"\")","v":""},null,null,null,null,null,null,null,null,null,null,null,{"$f":"IFERROR(VLOOKUP(__レジメンマスタ[[#This Row],[YJコード④]],[1]!__前投薬リスト[#Data],4,FALSE)&\"\",\"\")","v":""},null,null,null,null,null,null,null,null,null,null,null,{"$f":"IFERROR(VLOOKUP(__レジメンマスタ[[#This Row],[YJコード⑤]],[1]!__前投薬リスト[#Data],4,FALSE)&\"\",\"\")","v":""},null,null,null,null,null,null,null,null,null,null,null,{"$f":"IFERROR(VLOOKUP(__レジメンマスタ[[#This Row],[YJコード⑥]],[1]!__前投薬リスト[#Data],4,FALSE)&\"\",\"\")","v":""},null,null,null,null,null,null,null,null,null,null,null,{"$f":"IFERROR(VLOOKUP(__レジメンマスタ[[#This Row],[YJコード⑦]],[1]!__前投薬リスト[#Data],4,FALSE)&\"\",\"\")","v":""}]
["SUR0100","ハラヴェン","  　　　　　　　　W1 　　　　　  W2 　　　　  W3  \nハラヴェン ↓×××××× ↓×××××× ×××××××  \n1週間間隔で2週連続、1週間休薬","21日","∞","軟部腫瘍","外科","ハラヴェン(先発品）","危 ﾊﾗｳﾞｪﾝ静注 1mg/2mL（希釈液:生食）","4291420A1022","注射","２～５分で",1.4,"㎡","mg",null,"d1,8",{"$f":"IFERROR(VLOOKUP(__レジメンマスタ[[#This Row],[YJコード①]],[1]!__前投薬リスト[#Data],4,FALSE)&\"\",\"\")","v":""},null,null,null,null,null,null,null,null,null,null,null,{"$f":"IFERROR(VLOOKUP(__レジメンマスタ[[#This Row],[YJコード②]],[1]!__前投薬リスト[#Data],4,FALSE)&\"\",\"\")","v":""},null,null,null,null,null,null,null,null,null,null,null,{"$f":"IFERROR(VLOOKUP(__レジメンマスタ[[#This Row],[YJコード③]],[1]!__前投薬リスト[#Data],4,FALSE)&\"\",\"\")","v":""},null,null,null,null,null,null,null,null,null,null,null,{"$f":"IFERROR(VLOOKUP(__レジメンマスタ[[#This Row],[YJコード④]],[1]!__前投薬リスト[#Data],4,FALSE)&\"\",\"\")","v":""},null,null,null,null,null,null,null,null,null,null,null,{"$f":"IFERROR(VLOOKUP(__レジメンマスタ[[#This Row],[YJコード⑤]],[1]!__前投薬リスト[#Data],4,FALSE)&\"\",\"\")","v":""},null,null,null,null,null,null,null,null,null,null,null,{"$f":"IFERROR(VLOOKUP(__レジメンマスタ[[#This Row],[YJコード⑥]],[1]!__前投薬リスト[#Data],4,FALSE)&\"\",\"\")","v":""},null,null,null,null,null,null,null,null,null,null,null,{"$f":"IFERROR(VLOOKUP(__レジメンマスタ[[#This Row],[YJコード⑦]],[1]!__前投薬リスト[#Data],4,FALSE)&\"\",\"\")","v":""}]
["SUR0101","weekly　PTX","  　　　　 W1  　　　　　 W2 　　　　  W3～6　　　　  W7  \nPTX ↓×××××× ↓×××××× ↓×××××× ×××××××  \n6週連投1週休薬","42日","∞","食道癌","外科","パクリタキセル","危〈毒〉100mg/16.7mL ﾊﾟｸﾘﾀｷｾﾙ注「NK」（希釈液:生食orTZ）（先:ﾀｷｿｰﾙ）","4240406A2046","注射","１　時間で",100,"㎡","mg",null,"d1,8,15,22,29,36",{"$f":"IFERROR(VLOOKUP(__レジメンマスタ[[#This Row],[YJコード①]],[1]!__前投薬リスト[#Data],4,FALSE)&\"\",\"\")","v":"抗ヒス,H2B,ステ"},null,null,null,null,null,null,null,null,null,null,null,{"$f":"IFERROR(VLOOKUP(__レジメンマスタ[[#This Row],[YJコード②]],[1]!__前投薬リスト[#Data],4,FALSE)&\"\",\"\")","v":""},null,null,null,null,null,null,null,null,null,null,null,{"$f":"IFERROR(VLOOKUP(__レジメンマスタ[[#This Row],[YJコード③]],[1]!__前投薬リスト[#Data],4,FALSE)&\"\",\"\")","v":""},null,null,null,null,null,null,null,null,null,null,null,{"$f":"IFERROR(VLOOKUP(__レジメンマスタ[[#This Row],[YJコード④]],[1]!__前投薬リスト[#Data],4,FALSE)&\"\",\"\")","v":""},null,null,null,null,null,null,null,null,null,null,null,{"$f":"IFERROR(VLOOKUP(__レジメンマスタ[[#This Row],[YJコード⑤]],[1]!__前投薬リスト[#Data],4,FALSE)&\"\",\"\")","v":""},null,null,null,null,null,null,null,null,null,null,null,{"$f":"IFERROR(VLOOKUP(__レジメンマスタ[[#This Row],[YJコード⑥]],[1]!__前投薬リスト[#Data],4,FALSE)&\"\",\"\")","v":""},null,null,null,null,null,null,null,null,null,null,null,{"$f":"IFERROR(VLOOKUP(__レジメンマスタ[[#This Row],[YJコード⑦]],[1]!__前投薬リスト[#Data],4,FALSE)&\"\",\"\")","v":""}]
["SUR0103","FOLFOX6","　　　　　  Ｗ1 　　　 　Ｗ2　　　　\nl-LV    ↓×××××× ××××××× \nL-OHP   ↓×××××× ×××××××  \nFU bls  ↓×××××× ××××××× \nFU conc ↓×××××× ××××××× \n2週間毎\n★インフューザーポンプ使用時は２．５ｍｌ／ｈｒに輸液量を調製","14日","∞","食道癌","外科","レボホリナート","危 100mg ﾚﾎﾞﾎﾘﾅｰﾄ点滴静注用「ﾔｸﾙﾄ」（先:ｱｲｿﾎﾞﾘﾝ）","3929407D2060","注射","２ 時間で",200,"㎡","mg",null,"d1",{"$f":"IFERROR(VLOOKUP(__レジメンマスタ[[#This Row],[YJコード①]],[1]!__前投薬リスト[#Data],4,FALSE)&\"\",\"\")","v":""},null,"オキサリプラチン","危〈毒〉100㎎/20mL ｵｷｻﾘﾌﾟﾗﾁﾝ点滴静注液「NK」（先:ｴﾙﾌﾟﾗｯﾄ）","4291410A2092","注射","２ 時間で",85,"㎡","mg",null,"d1",{"$f":"IFERROR(VLOOKUP(__レジメンマスタ[[#This Row],[YJコード②]],[1]!__前投薬リスト[#Data],4,FALSE)&\"\",\"\")","v":""},null,"フルオロウラシル","危 1000mg/20mL ﾌﾙｵﾛｳﾗｼﾙ注「ﾄｰﾜ」（先:5-FU）","4223401A3030","注射","１５ 分で",400,"㎡","mg",null,"d1",{"$f":"IFERROR(VLOOKUP(__レジメンマスタ[[#This Row],[YJコード③]],[1]!__前投薬リスト[#Data],4,FALSE)&\"\",\"\")","v":""},null,"フルオロウラシル","危 1000mg/20mL ﾌﾙｵﾛｳﾗｼﾙ注「ﾄｰﾜ」（先:5-FU）","4223401A3030","注射","４６時間で",2400,"㎡","mg",null,"d1(46hr)",{"$f":"IFERROR(VLOOKUP(__レジメンマスタ[[#This Row],[YJコード④]],[1]!__前投薬リスト[#Data],4,FALSE)&\"\",\"\")","v":""},null,null,null,null,null,null,null,null,null,null,null,{"$f":"IFERROR(VLOOKUP(__レジメンマスタ[[#This Row],[YJコード⑤]],[1]!__前投薬リスト[#Data],4,FALSE)&\"\",\"\")","v":""},null,null,null,null,null,null,null,null,null,null,null,{"$f":"IFERROR(VLOOKUP(__レジメンマスタ[[#This Row],[YJコード⑥]],[1]!__前投薬リスト[#Data],4,FALSE)&\"\",\"\")","v":""},null,null,null,null,null,null,null,null,null,null,null,{"$f":"IFERROR(VLOOKUP(__レジメンマスタ[[#This Row],[YJコード⑦]],[1]!__前投薬リスト[#Data],4,FALSE)&\"\",\"\")","v":""}]
["SUR0104","FOLFOX6+RT","　　　　　  Ｗ1 　　　 　Ｗ2　　　　\nl-LV    ↓×××××× ××××××× \nL-OHP   ↓×××××× ×××××××  \nFU bls  ↓×××××× ××××××× \nFU conc ↓×××××× ××××××× \n2週間毎\n★インフューザーポンプ使用時は２．５ｍｌ／ｈｒに輸液量を調製","14日","RT併用期間","食道癌","外科","レボホリナート","危 100mg ﾚﾎﾞﾎﾘﾅｰﾄ点滴静注用「ﾔｸﾙﾄ」（先:ｱｲｿﾎﾞﾘﾝ）","3929407D2060","注射","２ 時間で",200,"㎡","mg",null,"d1",{"$f":"IFERROR(VLOOKUP(__レジメンマスタ[[#This Row],[YJコード①]],[1]!__前投薬リスト[#Data],4,FALSE)&\"\",\"\")","v":""},null,"オキサリプラチン","危〈毒〉100㎎/20mL ｵｷｻﾘﾌﾟﾗﾁﾝ点滴静注液「NK」（先:ｴﾙﾌﾟﾗｯﾄ）","4291410A2092","注射","２ 時間で",85,"㎡","mg",null,"d1",{"$f":"IFERROR(VLOOKUP(__レジメンマスタ[[#This Row],[YJコード②]],[1]!__前投薬リスト[#Data],4,FALSE)&\"\",\"\")","v":""},null,"フルオロウラシル","危 1000mg/20mL ﾌﾙｵﾛｳﾗｼﾙ注「ﾄｰﾜ」（先:5-FU）","4223401A3030","注射","１５ 分で",400,"㎡","mg",null,"d1",{"$f":"IFERROR(VLOOKUP(__レジメンマスタ[[#This Row],[YJコード③]],[1]!__前投薬リスト[#Data],4,FALSE)&\"\",\"\")","v":""},null,"フルオロウラシル","危 1000mg/20mL ﾌﾙｵﾛｳﾗｼﾙ注「ﾄｰﾜ」（先:5-FU）","4223401A3030","注射","４６時間で",1600,"㎡","mg",null,"d1(46hr)",{"$f":"IFERROR(VLOOKUP(__レジメンマスタ[[#This Row],[YJコード④]],[1]!__前投薬リスト[#Data],4,FALSE)&\"\",\"\")","v":""},null,null,null,null,null,null,null,null,null,null,null,{"$f":"IFERROR(VLOOKUP(__レジメンマスタ[[#This Row],[YJコード⑤]],[1]!__前投薬リスト[#Data],4,FALSE)&\"\",\"\")","v":""},null,null,null,null,null,null,null,null,null,null,null,{"$f":"IFERROR(VLOOKUP(__レジメンマスタ[[#This Row],[YJコード⑥]],[1]!__前投薬リスト[#Data],4,FALSE)&\"\",\"\")","v":""},null,null,null,null,null,null,null,null,null,null,null,{"$f":"IFERROR(VLOOKUP(__レジメンマスタ[[#This Row],[YJコード⑦]],[1]!__前投薬リスト[#Data],4,FALSE)&\"\",\"\")","v":""}]
["SUR0105","FOLFOX6","　　　　　  Ｗ1 　　　 　Ｗ2　　　　\nl-LV    ↓×××××× ××××××× \nL-OHP   ↓×××××× ×××××××  \nFU bls  ↓×××××× ××××××× \nFU conc ↓×××××× ××××××× \n2週間毎\n★インフューザーポンプ使用時は２．５ｍｌ／ｈｒに輸液量を調製","14日","∞","胃癌","外科","レボホリナート","危 100mg ﾚﾎﾞﾎﾘﾅｰﾄ点滴静注用「ﾔｸﾙﾄ」（先:ｱｲｿﾎﾞﾘﾝ）","3929407D2060","注射","２ 時間で",200,"㎡","mg",null,"d1",{"$f":"IFERROR(VLOOKUP(__レジメンマスタ[[#This Row],[YJコード①]],[1]!__前投薬リスト[#Data],4,FALSE)&\"\",\"\")","v":""},null,"オキサリプラチン","危〈毒〉100㎎/20mL ｵｷｻﾘﾌﾟﾗﾁﾝ点滴静注液「NK」（先:ｴﾙﾌﾟﾗｯﾄ）","4291410A2092","注射","２ 時間で",85,"㎡","mg",null,"d1",{"$f":"IFERROR(VLOOKUP(__レジメンマスタ[[#This Row],[YJコード②]],[1]!__前投薬リスト[#Data],4,FALSE)&\"\",\"\")","v":""},null,"フルオロウラシル","危 1000mg/20mL ﾌﾙｵﾛｳﾗｼﾙ注「ﾄｰﾜ」（先:5-FU）","4223401A3030","注射","１５ 分で",400,"㎡","mg",null,"d1",{"$f":"IFERROR(VLOOKUP(__レジメンマスタ[[#This Row],[YJコード③]],[1]!__前投薬リスト[#Data],4,FALSE)&\"\",\"\")","v":""},null,"フルオロウラシル","危 1000mg/20mL ﾌﾙｵﾛｳﾗｼﾙ注「ﾄｰﾜ」（先:5-FU）","4223401A3030","注射","４６時間で",2400,"㎡","mg",null,"d1(46hr)",{"$f":"IFERROR(VLOOKUP(__レジメンマスタ[[#This Row],[YJコード④]],[1]!__前投薬リスト[#Data],4,FALSE)&\"\",\"\")","v":""},null,null,null,null,null,null,null,null,null,null,null,{"$f":"IFERROR(VLOOKUP(__レジメンマスタ[[#This Row],[YJコード⑤]],[1]!__前投薬リスト[#Data],4,FALSE)&\"\",\"\")","v":""},null,null,null,null,null,null,null,null,null,null,null,{"$f":"IFERROR(VLOOKUP(__レジメンマスタ[[#This Row],[YJコード⑥]],[1]!__前投薬リスト[#Data],4,FALSE)&\"\",\"\")","v":""},null,null,null,null,null,null,null,null,null,null,null,{"$f":"IFERROR(VLOOKUP(__レジメンマスタ[[#This Row],[YJコード⑦]],[1]!__前投薬リスト[#Data],4,FALSE)&\"\",\"\")","v":""}]
["SUR0106","mFOLFIRINOX","SUR0081-02に移行しました","14日","∞","膵臓癌","外科",null,null,null,null,null,null,null,null,null,null,{"$f":"IFERROR(VLOOKUP(__レジメンマスタ[[#This Row],[YJコード①]],[1]!__前投薬リスト[#Data],4,FALSE)&\"\",\"\")","v":""},null,null,null,null,null,null,null,null,null,null,null,{"$f":"IFERROR(VLOOKUP(__レジメンマスタ[[#This Row],[YJコード②]],[1]!__前投薬リスト[#Data],4,FALSE)&\"\",\"\")","v":""},null,null,null,null,null,null,null,null,null,null,null,{"$f":"IFERROR(VLOOKUP(__レジメンマスタ[[#This Row],[YJコード③]],[1]!__前投薬リスト[#Data],4,FALSE)&\"\",\"\")","v":""},null,null,null,null,null,null,null,null,null,null,null,{"$f":"IFERROR(VLOOKUP(__レジメンマスタ[[#This Row],[YJコード④]],[1]!__前投薬リスト[#Data],4,FALSE)&\"\",\"\")","v":""},null,null,null,null,null,null,null,null,null,null,null,{"$f":"IFERROR(VLOOKUP(__レジメンマスタ[[#This Row],[YJコード⑤]],[1]!__前投薬リスト[#Data],4,FALSE)&\"\",\"\")","v":""},null,null,null,null,null,null,null,null,null,null,null,{"$f":"IFERROR(VLOOKUP(__レジメンマスタ[[#This Row],[YJコード⑥]],[1]!__前投薬リスト[#Data],4,FALSE)&\"\",\"\")","v":""},null,null,null,null,null,null,null,null,null,null,null,{"$f":"IFERROR(VLOOKUP(__レジメンマスタ[[#This Row],[YJコード⑦]],[1]!__前投薬リスト[#Data],4,FALSE)&\"\",\"\")","v":""}]
["SUR0109","オプジーボ"," 2週間ごとに投与\n　　　　　　　　　 W1　　　　　   W2 \nオプジーボ ↓×××××× ××××××× ","14日","∞","食道癌","外科","オプジーボ","危 240mg/24mL ｵﾌﾟｼﾞｰﾎﾞ点滴静注（希釈液:生食orTZ）","4291427A3027","注射","３０ 分で",240,"BODY","mg",null,"d1",{"$f":"IFERROR(VLOOKUP(__レジメンマスタ[[#This Row],[YJコード①]],[1]!__前投薬リスト[#Data],4,FALSE)&\"\",\"\")","v":""},null,null,null,null,null,null,null,null,null,null,null,{"$f":"IFERROR(VLOOKUP(__レジメンマスタ[[#This Row],[YJコード②]],[1]!__前投薬リスト[#Data],4,FALSE)&\"\",\"\")","v":""},null,null,null,null,null,null,null,null,null,null,null,{"$f":"IFERROR(VLOOKUP(__レジメンマスタ[[#This Row],[YJコード③]],[1]!__前投薬リスト[#Data],4,FALSE)&\"\",\"\")","v":""},null,null,null,null,null,null,null,null,null,null,null,{"$f":"IFERROR(VLOOKUP(__レジメンマスタ[[#This Row],[YJコード④]],[1]!__前投薬リスト[#Data],4,FALSE)&\"\",\"\")","v":""},null,null,null,null,null,null,null,null,null,null,null,{"$f":"IFERROR(VLOOKUP(__レジメンマスタ[[#This Row],[YJコード⑤]],[1]!__前投薬リスト[#Data],4,FALSE)&\"\",\"\")","v":""},null,null,null,null,null,null,null,null,null,null,null,{"$f":"IFERROR(VLOOKUP(__レジメンマスタ[[#This Row],[YJコード⑥]],[1]!__前投薬リスト[#Data],4,FALSE)&\"\",\"\")","v":""},null,null,null,null,null,null,null,null,null,null,null,{"$f":"IFERROR(VLOOKUP(__レジメンマスタ[[#This Row],[YJコード⑦]],[1]!__前投薬リスト[#Data],4,FALSE)&\"\",\"\")","v":""}]
["SUR0109-02","オプジーボ（4週間毎）"," ４週間ごとに投与\n　　　　　　　　　W1　　　    W2～W4\nオプジーボ ↓××××××  ××××××","28日","∞","食道癌","外科","オプジーボ","危 240mg/24mL ｵﾌﾟｼﾞｰﾎﾞ点滴静注（希釈液:生食orTZ）","4291427A3027","注射","３０ 分で",480,"BODY","mg",null,"d1",{"$f":"IFERROR(VLOOKUP(__レジメンマスタ[[#This Row],[YJコード①]],[1]!__前投薬リスト[#Data],4,FALSE)&\"\",\"\")","v":""},null,null,null,null,null,null,null,null,null,null,null,{"$f":"IFERROR(VLOOKUP(__レジメンマスタ[[#This Row],[YJコード②]],[1]!__前投薬リスト[#Data],4,FALSE)&\"\",\"\")","v":""},null,null,null,null,null,null,null,null,null,null,null,{"$f":"IFERROR(VLOOKUP(__レジメンマスタ[[#This Row],[YJコード③]],[1]!__前投薬リスト[#Data],4,FALSE)&\"\",\"\")","v":""},null,null,null,null,null,null,null,null,null,null,null,{"$f":"IFERROR(VLOOKUP(__レジメンマスタ[[#This Row],[YJコード④]],[1]!__前投薬リスト[#Data],4,FALSE)&\"\",\"\")","v":""},null,null,null,null,null,null,null,null,null,null,null,{"$f":"IFERROR(VLOOKUP(__レジメンマスタ[[#This Row],[YJコード⑤]],[1]!__前投薬リスト[#Data],4,FALSE)&\"\",\"\")","v":""},null,null,null,null,null,null,null,null,null,null,null,{"$f":"IFERROR(VLOOKUP(__レジメンマスタ[[#This Row],[YJコード⑥]],[1]!__前投薬リスト[#Data],4,FALSE)&\"\",\"\")","v":""},null,null,null,null,null,null,null,null,null,null,null,{"$f":"IFERROR(VLOOKUP(__レジメンマスタ[[#This Row],[YJコード⑦]],[1]!__前投薬リスト[#Data],4,FALSE)&\"\",\"\")","v":""}]
["SUR0109-11","オプジーボ（術後補助療法）"," 2週間ごとに投与             \n  投与期間：12ヶ月→制限年月日を患者特記事項に記載\n   　　　　　　　　W1  　　　　　 W2  \nオプジーボ  ↓××××××  ×××××××  \n","14日","1年間","食道癌","外科","オプジーボ","危 240mg/24mL ｵﾌﾟｼﾞｰﾎﾞ点滴静注（希釈液:生食orTZ）","4291427A3027","注射","３０ 分で",240,"BODY","mg",null,"d1",{"$f":"IFERROR(VLOOKUP(__レジメンマスタ[[#This Row],[YJコード①]],[1]!__前投薬リスト[#Data],4,FALSE)&\"\",\"\")","v":""},null,null,null,null,null,null,null,null,null,null,null,{"$f":"IFERROR(VLOOKUP(__レジメンマスタ[[#This Row],[YJコード②]],[1]!__前投薬リスト[#Data],4,FALSE)&\"\",\"\")","v":""},null,null,null,null,null,null,null,null,null,null,null,{"$f":"IFERROR(VLOOKUP(__レジメンマスタ[[#This Row],[YJコード③]],[1]!__前投薬リスト[#Data],4,FALSE)&\"\",\"\")","v":""},null,null,null,null,null,null,null,null,null,null,null,{"$f":"IFERROR(VLOOKUP(__レジメンマスタ[[#This Row],[YJコード④]],[1]!__前投薬リスト[#Data],4,FALSE)&\"\",\"\")","v":""},null,null,null,null,null,null,null,null,null,null,null,{"$f":"IFERROR(VLOOKUP(__レジメンマスタ[[#This Row],[YJコード⑤]],[1]!__前投薬リスト[#Data],4,FALSE)&\"\",\"\")","v":""},null,null,null,null,null,null,null,null,null,null,null,{"$f":"IFERROR(VLOOKUP(__レジメンマスタ[[#This Row],[YJコード⑥]],[1]!__前投薬リスト[#Data],4,FALSE)&\"\",\"\")","v":""},null,null,null,null,null,null,null,null,null,null,null,{"$f":"IFERROR(VLOOKUP(__レジメンマスタ[[#This Row],[YJコード⑦]],[1]!__前投薬リスト[#Data],4,FALSE)&\"\",\"\")","v":""}]
["SUR0109-12","オプジーボ（術後補助療法、4週間毎）"," ４週間ごとに投与             \n  投与期間：12ヶ月→制限年月日を患者特記事項に記載\n   　　　　　　　　W1  　　  　 W2～W4  \nオプジーボ  ↓××××××  ×××××××  \n","28日","1年間","食道癌","外科","オプジーボ","危 240mg/24mL ｵﾌﾟｼﾞｰﾎﾞ点滴静注（希釈液:生食orTZ）","4291427A3027","注射","３０ 分で",480,"BODY","mg",null,"d1",{"$f":"IFERROR(VLOOKUP(__レジメンマスタ[[#This Row],[YJコード①]],[1]!__前投薬リスト[#Data],4,FALSE)&\"\",\"\")","v":""},null,null,null,null,null,null,null,null,null,null,null,{"$f":"IFERROR(VLOOKUP(__レジメンマスタ[[#This Row],[YJコード②]],[1]!__前投薬リスト[#Data],4,FALSE)&\"\",\"\")","v":""},null,null,null,null,null,null,null,null,null,null,null,{"$f":"IFERROR(VLOOKUP(__レジメンマスタ[[#This Row],[YJコード③]],[1]!__前投薬リスト[#Data],4,FALSE)&\"\",\"\")","v":""},null,null,null,null,null,null,null,null,null,null,null,{"$f":"IFERROR(VLOOKUP(__レジメンマスタ[[#This Row],[YJコード④]],[1]!__前投薬リスト[#Data],4,FALSE)&\"\",\"\")","v":""},null,null,null,null,null,null,null,null,null,null,null,{"$f":"IFERROR(VLOOKUP(__レジメンマスタ[[#This Row],[YJコード⑤]],[1]!__前投薬リスト[#Data],4,FALSE)&\"\",\"\")","v":""},null,null,null,null,null,null,null,null,null,null,null,{"$f":"IFERROR(VLOOKUP(__レジメンマスタ[[#This Row],[YJコード⑥]],[1]!__前投薬リスト[#Data],4,FALSE)&\"\",\"\")","v":""},null,null,null,null,null,null,null,null,null,null,null,{"$f":"IFERROR(VLOOKUP(__レジメンマスタ[[#This Row],[YJコード⑦]],[1]!__前投薬リスト[#Data],4,FALSE)&\"\",\"\")","v":""}]
["SUR0111-11","ザノサー（Weekly）","  　　　　 W1  　　　　　 W1 　　　　  W1\nSTZ ↓×××××× ↓×××××× ↓×××××× \n毎週投与\n12週までの認容性が有効な場合は、1回1250mg/㎡に増量可能\n18週までの認容性が有効な場合は、1回1500mg/㎡に増量可能","7日","∞","膵・消化管神経内分泌腫瘍","外科","ザノサー","危 臨）ｻﾞﾉｻｰ点滴静注用 1g","4219406D1026","注射","３０ 分で",1000,"㎡","mg",null,"d1",{"$f":"IFERROR(VLOOKUP(__レジメンマスタ[[#This Row],[YJコード①]],[1]!__前投薬リスト[#Data],4,FALSE)&\"\",\"\")","v":""},null,"ザノサー(13週以降増量用)","危 臨）ｻﾞﾉｻｰ点滴静注用 1g","4219406D1026","注射","３０ 分で",1250,"㎡","mg",null,"d1",{"$f":"IFERROR(VLOOKUP(__レジメンマスタ[[#This Row],[YJコード②]],[1]!__前投薬リスト[#Data],4,FALSE)&\"\",\"\")","v":""},null,"ザノサー(19週以降増量用)","危 臨）ｻﾞﾉｻｰ点滴静注用 1g","4219406D1026","注射","３０ 分で",1500,"㎡","mg",null,"d1",{"$f":"IFERROR(VLOOKUP(__レジメンマスタ[[#This Row],[YJコード③]],[1]!__前投薬リスト[#Data],4,FALSE)&\"\",\"\")","v":""},null,null,null,null,null,null,null,null,null,null,null,{"$f":"IFERROR(VLOOKUP(__レジメンマスタ[[#This Row],[YJコード④]],[1]!__前投薬リスト[#Data],4,FALSE)&\"\",\"\")","v":""},null,null,null,null,null,null,null,null,null,null,null,{"$f":"IFERROR(VLOOKUP(__レジメンマスタ[[#This Row],[YJコード⑤]],[1]!__前投薬リスト[#Data],4,FALSE)&\"\",\"\")","v":""},null,null,null,null,null,null,null,null,null,null,null,{"$f":"IFERROR(VLOOKUP(__レジメンマスタ[[#This Row],[YJコード⑥]],[1]!__前投薬リスト[#Data],4,FALSE)&\"\",\"\")","v":""},null,null,null,null,null,null,null,null,null,null,null,{"$f":"IFERROR(VLOOKUP(__レジメンマスタ[[#This Row],[YJコード⑦]],[1]!__前投薬リスト[#Data],4,FALSE)&\"\",\"\")","v":""}]
["SUR0111-20","ザノサー（daily:6週毎）","　　　D1  D2　D3　D4　D5・・・・・・D42  \nSTZ 　↓　↓　↓　↓　↓ ×××××××  \n5日間連続投与し、37日間休薬","42日","∞","膵・消化管神経内分泌腫瘍","外科","ザノサー","危 臨）ｻﾞﾉｻｰ点滴静注用 1g","4219406D1026","注射","３０ 分で",500,"㎡","mg",null,"d1-5",{"$f":"IFERROR(VLOOKUP(__レジメンマスタ[[#This Row],[YJコード①]],[1]!__前投薬リスト[#Data],4,FALSE)&\"\",\"\")","v":""},null,null,null,null,null,null,null,null,null,null,null,{"$f":"IFERROR(VLOOKUP(__レジメンマスタ[[#This Row],[YJコード②]],[1]!__前投薬リスト[#Data],4,FALSE)&\"\",\"\")","v":""},null,null,null,null,null,null,null,null,null,null,null,{"$f":"IFERROR(VLOOKUP(__レジメンマスタ[[#This Row],[YJコード③]],[1]!__前投薬リスト[#Data],4,FALSE)&\"\",\"\")","v":""},null,null,null,null,null,null,null,null,null,null,null,{"$f":"IFERROR(VLOOKUP(__レジメンマスタ[[#This Row],[YJコード④]],[1]!__前投薬リスト[#Data],4,FALSE)&\"\",\"\")","v":""},null,null,null,null,null,null,null,null,null,null,null,{"$f":"IFERROR(VLOOKUP(__レジメンマスタ[[#This Row],[YJコード⑤]],[1]!__前投薬リスト[#Data],4,FALSE)&\"\",\"\")","v":""},null,null,null,null,null,null,null,null,null,null,null,{"$f":"IFERROR(VLOOKUP(__レジメンマスタ[[#This Row],[YJコード⑥]],[1]!__前投薬リスト[#Data],4,FALSE)&\"\",\"\")","v":""},null,null,null,null,null,null,null,null,null,null,null,{"$f":"IFERROR(VLOOKUP(__レジメンマスタ[[#This Row],[YJコード⑦]],[1]!__前投薬リスト[#Data],4,FALSE)&\"\",\"\")","v":""}]
["SUR0112","キイトルーダ"," 3週間ごとに投与 \n             W1　　　　   W2～3   \nPmbro  ↓××××××  ××××××× ","21日","∞","食道癌","外科","キイトルーダ","危 ｷｲﾄﾙｰﾀﾞ点滴静注 100mg/4mL（希釈液:生食orTZ）","4291435A2025","注射","３０ 分で",200,"BODY","mg",null,"d1",{"$f":"IFERROR(VLOOKUP(__レジメンマスタ[[#This Row],[YJコード①]],[1]!__前投薬リスト[#Data],4,FALSE)&\"\",\"\")","v":""},null,null,null,null,null,null,null,null,null,null,null,{"$f":"IFERROR(VLOOKUP(__レジメンマスタ[[#This Row],[YJコード②]],[1]!__前投薬リスト[#Data],4,FALSE)&\"\",\"\")","v":""},null,null,null,null,null,null,null,null,null,null,null,{"$f":"IFERROR(VLOOKUP(__レジメンマスタ[[#This Row],[YJコード③]],[1]!__前投薬リスト[#Data],4,FALSE)&\"\",\"\")","v":""},null,null,null,null,null,null,null,null,null,null,null,{"$f":"IFERROR(VLOOKUP(__レジメンマスタ[[#This Row],[YJコード④]],[1]!__前投薬リスト[#Data],4,FALSE)&\"\",\"\")","v":""},null,null,null,null,null,null,null,null,null,null,null,{"$f":"IFERROR(VLOOKUP(__レジメンマスタ[[#This Row],[YJコード⑤]],[1]!__前投薬リスト[#Data],4,FALSE)&\"\",\"\")","v":""},null,null,null,null,null,null,null,null,null,null,null,{"$f":"IFERROR(VLOOKUP(__レジメンマスタ[[#This Row],[YJコード⑥]],[1]!__前投薬リスト[#Data],4,FALSE)&\"\",\"\")","v":""},null,null,null,null,null,null,null,null,null,null,null,{"$f":"IFERROR(VLOOKUP(__レジメンマスタ[[#This Row],[YJコード⑦]],[1]!__前投薬リスト[#Data],4,FALSE)&\"\",\"\")","v":""}]
["SUR0112-02","キイトルーダ（6週間毎）"," ６週間ごとに投与\n              W1　　　　   W2～6   \nPmbro  ↓××××××  ××××××× ","42日","∞","食道癌","外科","キイトルーダ","危 ｷｲﾄﾙｰﾀﾞ点滴静注 100mg/4mL（希釈液:生食orTZ）","4291435A2025","注射","３０ 分で",400,"BODY","mg",null,"d1",{"$f":"IFERROR(VLOOKUP(__レジメンマスタ[[#This Row],[YJコード①]],[1]!__前投薬リスト[#Data],4,FALSE)&\"\",\"\")","v":""},null,null,null,null,null,null,null,null,null,null,null,{"$f":"IFERROR(VLOOKUP(__レジメンマスタ[[#This Row],[YJコード②]],[1]!__前投薬リスト[#Data],4,FALSE)&\"\",\"\")","v":""},null,null,null,null,null,null,null,null,null,null,null,{"$f":"IFERROR(VLOOKUP(__レジメンマスタ[[#This Row],[YJコード③]],[1]!__前投薬リスト[#Data],4,FALSE)&\"\",\"\")","v":""},null,null,null,null,null,null,null,null,null,null,null,{"$f":"IFERROR(VLOOKUP(__レジメンマスタ[[#This Row],[YJコード④]],[1]!__前投薬リスト[#Data],4,FALSE)&\"\",\"\")","v":""},null,null,null,null,null,null,null,null,null,null,null,{"$f":"IFERROR(VLOOKUP(__レジメンマスタ[[#This Row],[YJコード⑤]],[1]!__前投薬リスト[#Data],4,FALSE)&\"\",\"\")","v":""},null,null,null,null,null,null,null,null,null,null,null,{"$f":"IFERROR(VLOOKUP(__レジメンマスタ[[#This Row],[YJコード⑥]],[1]!__前投薬リスト[#Data],4,FALSE)&\"\",\"\")","v":""},null,null,null,null,null,null,null,null,null,null,null,{"$f":"IFERROR(VLOOKUP(__レジメンマスタ[[#This Row],[YJコード⑦]],[1]!__前投薬リスト[#Data],4,FALSE)&\"\",\"\")","v":""}]
["SUR0113","エンハーツ"," 3週間ごとに投与 \n          　　   W1　　　　   W2～3   \nエンハーツ  ↓××××××  ××××××× ","21日","∞","胃癌（Her2+）","外科","エンハーツ","危 ｴﾝﾊｰﾂ点滴静注用 100mg（溶解液:Aq）","4291452D1029","注射","初回９０分、２回目以降３０分まで短縮可",6.4,"kg","mg",null,"d1",{"$f":"IFERROR(VLOOKUP(__レジメンマスタ[[#This Row],[YJコード①]],[1]!__前投薬リスト[#Data],4,FALSE)&\"\",\"\")","v":""},null,null,null,null,null,null,null,null,null,null,null,{"$f":"IFERROR(VLOOKUP(__レジメンマスタ[[#This Row],[YJコード②]],[1]!__前投薬リスト[#Data],4,FALSE)&\"\",\"\")","v":""},null,null,null,null,null,null,null,null,null,null,null,{"$f":"IFERROR(VLOOKUP(__レジメンマスタ[[#This Row],[YJコード③]],[1]!__前投薬リスト[#Data],4,FALSE)&\"\",\"\")","v":""},null,null,null,null,null,null,null,null,null,null,null,{"$f":"IFERROR(VLOOKUP(__レジメンマスタ[[#This Row],[YJコード④]],[1]!__前投薬リスト[#Data],4,FALSE)&\"\",\"\")","v":""},null,null,null,null,null,null,null,null,null,null,null,{"$f":"IFERROR(VLOOKUP(__レジメンマスタ[[#This Row],[YJコード⑤]],[1]!__前投薬リスト[#Data],4,FALSE)&\"\",\"\")","v":""},null,null,null,null,null,null,null,null,null,null,null,{"$f":"IFERROR(VLOOKUP(__レジメンマスタ[[#This Row],[YJコード⑥]],[1]!__前投薬リスト[#Data],4,FALSE)&\"\",\"\")","v":""},null,null,null,null,null,null,null,null,null,null,null,{"$f":"IFERROR(VLOOKUP(__レジメンマスタ[[#This Row],[YJコード⑦]],[1]!__前投薬リスト[#Data],4,FALSE)&\"\",\"\")","v":""}]
["SUR0114","【大腸癌】オプジーボ・ヤーボイ","２剤併用：3週間毎　4回まで、その後オプジーボ単独（レジメン変更へ）\n                 W1             W2～3  \nオプジーボ ↓××××××   ×××××××   \nヤーボイ   ↓××××××   ×××××××    ","21日","4コース","MSI-High大腸癌","外科","ヤーボイ","危 臨）50mg/10mL ﾔｰﾎﾞｲ点滴静注液","4291430A1026","注射","３０ 分で",1,"kg","mg",null,"d1",{"$f":"IFERROR(VLOOKUP(__レジメンマスタ[[#This Row],[YJコード①]],[1]!__前投薬リスト[#Data],4,FALSE)&\"\",\"\")","v":""},"4コース","ニボルマブ","危 240mg/24mL ｵﾌﾟｼﾞｰﾎﾞ点滴静注（希釈液:生食orTZ）","4291427A3027","注射","３０ 分で",240,"BODY","mg","最小","d1",{"$f":"IFERROR(VLOOKUP(__レジメンマスタ[[#This Row],[YJコード②]],[1]!__前投薬リスト[#Data],4,FALSE)&\"\",\"\")","v":""},"∞",null,null,null,null,null,null,null,null,null,null,{"$f":"IFERROR(VLOOKUP(__レジメンマスタ[[#This Row],[YJコード③]],[1]!__前投薬リスト[#Data],4,FALSE)&\"\",\"\")","v":""},null,null,null,null,null,null,null,null,null,null,null,{"$f":"IFERROR(VLOOKUP(__レジメンマスタ[[#This Row],[YJコード④]],[1]!__前投薬リスト[#Data],4,FALSE)&\"\",\"\")","v":""},null,null,null,null,null,null,null,null,null,null,null,{"$f":"IFERROR(VLOOKUP(__レジメンマスタ[[#This Row],[YJコード⑤]],[1]!__前投薬リスト[#Data],4,FALSE)&\"\",\"\")","v":""},null,null,null,null,null,null,null,null,null,null,null,{"$f":"IFERROR(VLOOKUP(__レジメンマスタ[[#This Row],[YJコード⑥]],[1]!__前投薬リスト[#Data],4,FALSE)&\"\",\"\")","v":""},null,null,null,null,null,null,null,null,null,null,null,{"$f":"IFERROR(VLOOKUP(__レジメンマスタ[[#This Row],[YJコード⑦]],[1]!__前投薬リスト[#Data],4,FALSE)&\"\",\"\")","v":""}]
["SUR0114-02","【大腸癌】オプジーボ・ヤーボイ（維持療法2週間毎）","ヤーボイ併用後：オプジーボ単独で2週間毎\n　　　　　　　　　 W1　　　　　   W2 \nオプジーボ ↓×××××× ××××××× ","14日","∞","MSI-High大腸癌","外科","オプジーボ","危 240mg/24mL ｵﾌﾟｼﾞｰﾎﾞ点滴静注（希釈液:生食orTZ）","4291427A3027","注射","３０ 分で",240,"BODY","mg","最小","d1",{"$f":"IFERROR(VLOOKUP(__レジメンマスタ[[#This Row],[YJコード①]],[1]!__前投薬リスト[#Data],4,FALSE)&\"\",\"\")","v":""},"∞",null,null,null,null,null,null,null,null,null,null,{"$f":"IFERROR(VLOOKUP(__レジメンマスタ[[#This Row],[YJコード②]],[1]!__前投薬リスト[#Data],4,FALSE)&\"\",\"\")","v":""},null,null,null,null,null,null,null,null,null,null,null,{"$f":"IFERROR(VLOOKUP(__レジメンマスタ[[#This Row],[YJコード③]],[1]!__前投薬リスト[#Data],4,FALSE)&\"\",\"\")","v":""},null,null,null,null,null,null,null,null,null,null,null,{"$f":"IFERROR(VLOOKUP(__レジメンマスタ[[#This Row],[YJコード④]],[1]!__前投薬リスト[#Data],4,FALSE)&\"\",\"\")","v":""},null,null,null,null,null,null,null,null,null,null,null,{"$f":"IFERROR(VLOOKUP(__レジメンマスタ[[#This Row],[YJコード⑤]],[1]!__前投薬リスト[#Data],4,FALSE)&\"\",\"\")","v":""},null,null,null,null,null,null,null,null,null,null,null,{"$f":"IFERROR(VLOOKUP(__レジメンマスタ[[#This Row],[YJコード⑥]],[1]!__前投薬リスト[#Data],4,FALSE)&\"\",\"\")","v":""},null,null,null,null,null,null,null,null,null,null,null,{"$f":"IFERROR(VLOOKUP(__レジメンマスタ[[#This Row],[YJコード⑦]],[1]!__前投薬リスト[#Data],4,FALSE)&\"\",\"\")","v":""}]
["SUR0114-03","【大腸癌】オプジーボ・ヤーボイ（維持療法、４週間毎）","ヤーボイ併用後：オプジーボ単独で4週間毎\n　　　　　　　　　W1　　　    W2～W4\nオプジーボ ↓××××××  ×××××××","28日","∞","MSI-High大腸癌","外科","オプジーボ","危 240mg/24mL ｵﾌﾟｼﾞｰﾎﾞ点滴静注（希釈液:生食orTZ）","4291427A3027","注射","３０ 分で",480,"BODY","mg","最小","d1",{"$f":"IFERROR(VLOOKUP(__レジメンマスタ[[#This Row],[YJコード①]],[1]!__前投薬リスト[#Data],4,FALSE)&\"\",\"\")","v":""},"∞",null,null,null,null,null,null,null,null,null,null,{"$f":"IFERROR(VLOOKUP(__レジメンマスタ[[#This Row],[YJコード②]],[1]!__前投薬リスト[#Data],4,FALSE)&\"\",\"\")","v":""},null,null,null,null,null,null,null,null,null,null,null,{"$f":"IFERROR(VLOOKUP(__レジメンマスタ[[#This Row],[YJコード③]],[1]!__前投薬リスト[#Data],4,FALSE)&\"\",\"\")","v":""},null,null,null,null,null,null,null,null,null,null,null,{"$f":"IFERROR(VLOOKUP(__レジメンマスタ[[#This Row],[YJコード④]],[1]!__前投薬リスト[#Data],4,FALSE)&\"\",\"\")","v":""},null,null,null,null,null,null,null,null,null,null,null,{"$f":"IFERROR(VLOOKUP(__レジメンマスタ[[#This Row],[YJコード⑤]],[1]!__前投薬リスト[#Data],4,FALSE)&\"\",\"\")","v":""},null,null,null,null,null,null,null,null,null,null,null,{"$f":"IFERROR(VLOOKUP(__レジメンマスタ[[#This Row],[YJコード⑥]],[1]!__前投薬リスト[#Data],4,FALSE)&\"\",\"\")","v":""},null,null,null,null,null,null,null,null,null,null,null,{"$f":"IFERROR(VLOOKUP(__レジメンマスタ[[#This Row],[YJコード⑦]],[1]!__前投薬リスト[#Data],4,FALSE)&\"\",\"\")","v":""}]
["SUR0115","CET+ビラフトビ+メクトビ","            W1 　　　　    W1             W1    \nCmab 　↓××××××  ↓××××××　↓××××××\nEncra　↓↓↓↓↓↓↓　↓↓↓↓↓↓↓　↓↓↓↓↓↓↓ \nBinim　↓↓↓↓↓↓↓　↓↓↓↓↓↓↓　↓↓↓↓↓↓↓ \nCmab毎週投与\nビラフトビ　300mg／1×、メクトビ90mg／2×　連日内服","7日","∞","大腸癌(BRAF+)","外科","アービタックス（初回）","危 ｱｰﾋﾞﾀｯｸｽ注射液 100㎎/20mL","4291415A1021","注射","２ 時間で",400,"㎡","mg",null,"d1",{"$f":"IFERROR(VLOOKUP(__レジメンマスタ[[#This Row],[YJコード①]],[1]!__前投薬リスト[#Data],4,FALSE)&\"\",\"\")","v":"抗ヒス,(ステ)"},null,"アービタックス（2回目以降～）","危 ｱｰﾋﾞﾀｯｸｽ注射液 100㎎/20mL","4291415A1021","注射","１ 時間で",250,"㎡","mg",null,"d1",{"$f":"IFERROR(VLOOKUP(__レジメンマスタ[[#This Row],[YJコード②]],[1]!__前投薬リスト[#Data],4,FALSE)&\"\",\"\")","v":"抗ヒス,(ステ)"},null,"ビラフトビ",null,"4291057M2025","経口",null,300,"BODY","mg",null,"連日",{"$f":"IFERROR(VLOOKUP(__レジメンマスタ[[#This Row],[YJコード③]],[1]!__前投薬リスト[#Data],4,FALSE)&\"\",\"\")","v":""},null,"メクトビ",null,"4291058F1024","経口",null,"90/2","BODY","mg",null,"連日",{"$f":"IFERROR(VLOOKUP(__レジメンマスタ[[#This Row],[YJコード④]],[1]!__前投薬リスト[#Data],4,FALSE)&\"\",\"\")","v":""},null,null,null,null,null,null,null,null,null,null,null,{"$f":"IFERROR(VLOOKUP(__レジメンマスタ[[#This Row],[YJコード⑤]],[1]!__前投薬リスト[#Data],4,FALSE)&\"\",\"\")","v":""},null,null,null,null,null,null,null,null,null,null,null,{"$f":"IFERROR(VLOOKUP(__レジメンマスタ[[#This Row],[YJコード⑥]],[1]!__前投薬リスト[#Data],4,FALSE)&\"\",\"\")","v":""},null,null,null,null,null,null,null,null,null,null,null,{"$f":"IFERROR(VLOOKUP(__レジメンマスタ[[#This Row],[YJコード⑦]],[1]!__前投薬リスト[#Data],4,FALSE)&\"\",\"\")","v":""}]
["SUR0115-1","CET(隔週)+ビラフトビ+メクトビ","            W1 　　　　    W2           \nCmab 　↓××××××  ×××××××　\nEncra　↓↓↓↓↓↓↓　↓↓↓↓↓↓↓　\nBinim　↓↓↓↓↓↓↓　↓↓↓↓↓↓↓　\nCmab２週間に１回投与\nビラフトビ　300mg／1×、メクトビ90mg／2×　連日内服","14日","∞","大腸癌(BRAF+)","外科","アービタックス","危 ｱｰﾋﾞﾀｯｸｽ注射液 100㎎/20mL","4291415A1021","注射","２ 時間で",500,"㎡","mg",null,"d1",{"$f":"IFERROR(VLOOKUP(__レジメンマスタ[[#This Row],[YJコード①]],[1]!__前投薬リスト[#Data],4,FALSE)&\"\",\"\")","v":"抗ヒス,(ステ)"},null,"ビラフトビ",null,"4291057M2025","経口",null,300,"BODY","mg",null,"連日",{"$f":"IFERROR(VLOOKUP(__レジメンマスタ[[#This Row],[YJコード②]],[1]!__前投薬リスト[#Data],4,FALSE)&\"\",\"\")","v":""},null,"メクトビ",null,"4291058F1024","経口",null,"90/2","BODY","mg",null,"連日",{"$f":"IFERROR(VLOOKUP(__レジメンマスタ[[#This Row],[YJコード③]],[1]!__前投薬リスト[#Data],4,FALSE)&\"\",\"\")","v":""},null,null,null,null,null,null,null,null,null,null,null,{"$f":"IFERROR(VLOOKUP(__レジメンマスタ[[#This Row],[YJコード④]],[1]!__前投薬リスト[#Data],4,FALSE)&\"\",\"\")","v":""},null,null,null,null,null,null,null,null,null,null,null,{"$f":"IFERROR(VLOOKUP(__レジメンマスタ[[#This Row],[YJコード⑤]],[1]!__前投薬リスト[#Data],4,FALSE)&\"\",\"\")","v":""},null,null,null,null,null,null,null,null,null,null,null,{"$f":"IFERROR(VLOOKUP(__レジメンマスタ[[#This Row],[YJコード⑥]],[1]!__前投薬リスト[#Data],4,FALSE)&\"\",\"\")","v":""},null,null,null,null,null,null,null,null,null,null,null,{"$f":"IFERROR(VLOOKUP(__レジメンマスタ[[#This Row],[YJコード⑦]],[1]!__前投薬リスト[#Data],4,FALSE)&\"\",\"\")","v":""}]
["SUR0116","CET+ビラフトビ","            W1 　　　　    W1             W1    \nCmab 　↓××××××  ↓××××××　↓××××××\nEncra　↓↓↓↓↓↓↓　↓↓↓↓↓↓↓　↓↓↓↓↓↓↓ \nCmab毎週投与\nビラフトビ　300mg／1×","7日","∞","大腸癌(BRAF+)","外科","アービタックス（初回）","危 ｱｰﾋﾞﾀｯｸｽ注射液 100㎎/20mL","4291415A1021","注射","２ 時間で",400,"㎡","mg",null,"d1",{"$f":"IFERROR(VLOOKUP(__レジメンマスタ[[#This Row],[YJコード①]],[1]!__前投薬リスト[#Data],4,FALSE)&\"\",\"\")","v":"抗ヒス,(ステ)"},null,"アービタックス（2回目以降～）","危 ｱｰﾋﾞﾀｯｸｽ注射液 100㎎/20mL","4291415A1021","注射","１ 時間で",250,"㎡","mg",null,"d1",{"$f":"IFERROR(VLOOKUP(__レジメンマスタ[[#This Row],[YJコード②]],[1]!__前投薬リスト[#Data],4,FALSE)&\"\",\"\")","v":"抗ヒス,(ステ)"},null,"ビラフトビ",null,"4291057M2025","経口",null,300,"BODY","mg",null,"連日",{"$f":"IFERROR(VLOOKUP(__レジメンマスタ[[#This Row],[YJコード③]],[1]!__前投薬リスト[#Data],4,FALSE)&\"\",\"\")","v":""},null,null,null,null,null,null,null,null,null,null,null,{"$f":"IFERROR(VLOOKUP(__レジメンマスタ[[#This Row],[YJコード④]],[1]!__前投薬リスト[#Data],4,FALSE)&\"\",\"\")","v":""},null,null,null,null,null,null,null,null,null,null,null,{"$f":"IFERROR(VLOOKUP(__レジメンマスタ[[#This Row],[YJコード⑤]],[1]!__前投薬リスト[#Data],4,FALSE)&\"\",\"\")","v":""},null,null,null,null,null,null,null,null,null,null,null,{"$f":"IFERROR(VLOOKUP(__レジメンマスタ[[#This Row],[YJコード⑥]],[1]!__前投薬リスト[#Data],4,FALSE)&\"\",\"\")","v":""},null,null,null,null,null,null,null,null,null,null,null,{"$f":"IFERROR(VLOOKUP(__レジメンマスタ[[#This Row],[YJコード⑦]],[1]!__前投薬リスト[#Data],4,FALSE)&\"\",\"\")","v":""}]
["SUR0116-1","CET(隔週)+ビラフトビ","            W1 　　　　    W2            \nCmab 　↓××××××  ×××××××　\nEncra　↓↓↓↓↓↓↓　↓↓↓↓↓↓↓　\nCmab２週間に１回投与\nビラフトビ　300mg／1×","14日","∞","大腸癌(BRAF+)","外科","アービタックス","危 ｱｰﾋﾞﾀｯｸｽ注射液 100㎎/20mL","4291415A1021","注射","２ 時間で",500,"㎡","mg",null,"d1",{"$f":"IFERROR(VLOOKUP(__レジメンマスタ[[#This Row],[YJコード①]],[1]!__前投薬リスト[#Data],4,FALSE)&\"\",\"\")","v":"抗ヒス,(ステ)"},null,"ビラフトビ",null,"4291057M2025","経口",null,300,"BODY","mg",null,"連日",{"$f":"IFERROR(VLOOKUP(__レジメンマスタ[[#This Row],[YJコード②]],[1]!__前投薬リスト[#Data],4,FALSE)&\"\",\"\")","v":""},null,null,null,null,null,null,null,null,null,null,null,{"$f":"IFERROR(VLOOKUP(__レジメンマスタ[[#This Row],[YJコード③]],[1]!__前投薬リスト[#Data],4,FALSE)&\"\",\"\")","v":""},null,null,null,null,null,null,null,null,null,null,null,{"$f":"IFERROR(VLOOKUP(__レジメンマスタ[[#This Row],[YJコード④]],[1]!__前投薬リスト[#Data],4,FALSE)&\"\",\"\")","v":""},null,null,null,null,null,null,null,null,null,null,null,{"$f":"IFERROR(VLOOKUP(__レジメンマスタ[[#This Row],[YJコード⑤]],[1]!__前投薬リスト[#Data],4,FALSE)&\"\",\"\")","v":""},null,null,null,null,null,null,null,null,null,null,null,{"$f":"IFERROR(VLOOKUP(__レジメンマスタ[[#This Row],[YJコード⑥]],[1]!__前投薬リスト[#Data],4,FALSE)&\"\",\"\")","v":""},null,null,null,null,null,null,null,null,null,null,null,{"$f":"IFERROR(VLOOKUP(__レジメンマスタ[[#This Row],[YJコード⑦]],[1]!__前投薬リスト[#Data],4,FALSE)&\"\",\"\")","v":""}]
["SUR0117","nal-IRI+FU+l-LV","　　　　    　  Ｗ1 　　　 　Ｗ2　　　　\nnalIRI     ↓×××××× ×××××××  \nl-LV       ↓×××××× ××××××× \nFU conc    ↓×××××× ××××××× \n2週間毎\n★インフューザーポンプ使用時は２．５ｍｌ／ｈｒに輸液量を調製","14日","∞","膵臓癌","外科","オニバイド","危 臨）ｵﾆﾊﾞｲﾄﾞ点滴静注 43mg/10mL","4240404A3027","注射","９０ 分で",70,"㎡","mg",null,"d1",{"$f":"IFERROR(VLOOKUP(__レジメンマスタ[[#This Row],[YJコード①]],[1]!__前投薬リスト[#Data],4,FALSE)&\"\",\"\")","v":""},null,"レボホリナート","危 100mg ﾚﾎﾞﾎﾘﾅｰﾄ点滴静注用「ﾔｸﾙﾄ」（先:ｱｲｿﾎﾞﾘﾝ）","3929407D2060","注射","２ 時間で",200,"㎡","mg",null,"d1",{"$f":"IFERROR(VLOOKUP(__レジメンマスタ[[#This Row],[YJコード②]],[1]!__前投薬リスト[#Data],4,FALSE)&\"\",\"\")","v":""},null,"フルオロウラシル","危 1000mg/20mL ﾌﾙｵﾛｳﾗｼﾙ注「ﾄｰﾜ」（先:5-FU）","4223401A3030","注射","４６時間で",2400,"㎡","mg",null,"d1(46hr)",{"$f":"IFERROR(VLOOKUP(__レジメンマスタ[[#This Row],[YJコード③]],[1]!__前投薬リスト[#Data],4,FALSE)&\"\",\"\")","v":""},null,null,null,null,null,null,null,null,null,null,null,{"$f":"IFERROR(VLOOKUP(__レジメンマスタ[[#This Row],[YJコード④]],[1]!__前投薬リスト[#Data],4,FALSE)&\"\",\"\")","v":""},null,null,null,null,null,null,null,null,null,null,null,{"$f":"IFERROR(VLOOKUP(__レジメンマスタ[[#This Row],[YJコード⑤]],[1]!__前投薬リスト[#Data],4,FALSE)&\"\",\"\")","v":""},null,null,null,null,null,null,null,null,null,null,null,{"$f":"IFERROR(VLOOKUP(__レジメンマスタ[[#This Row],[YJコード⑥]],[1]!__前投薬リスト[#Data],4,FALSE)&\"\",\"\")","v":""},null,null,null,null,null,null,null,null,null,null,null,{"$f":"IFERROR(VLOOKUP(__レジメンマスタ[[#This Row],[YJコード⑦]],[1]!__前投薬リスト[#Data],4,FALSE)&\"\",\"\")","v":""}]
["SUR0118","ロンサーフ+BEV","            W1 　　　　    W2          　　 W3　  　　　W4  \nBeva 　↓×××××× ××××××× ↓×××××× ×××××××\nFTD/TPI↓↓↓↓↓×× ↓↓↓↓↓×× ××××××× ×××××××\nもしくは\nFTD/TPI↓↓↓↓↓×× ××××××× ↓↓↓↓↓×× ××××××× \n\nBeva：2週間ごと\nロンサーフ：5日間内服2日休薬を2週、その後2週休薬\nまたは5日間内服9日休薬を繰り返す","28日","∞","大腸癌","外科","ベバシズマブ","危 400mg/16mL ﾍﾞﾊﾞｼｽﾞﾏﾌﾞBS点滴静注「CTNK」（希釈液:生食）（先:ｱﾊﾞｽﾁﾝ）","4291463A2027","注射","初回９０分、２回目６０分、３回目～３０分",5,"kg","mg",null,"d1,15",{"$f":"IFERROR(VLOOKUP(__レジメンマスタ[[#This Row],[YJコード①]],[1]!__前投薬リスト[#Data],4,FALSE)&\"\",\"\")","v":""},null,"ロンサーフ",null,"4299100F2022","経口",null,70,"㎡","mg",null,"d1-5,d8-12\nOr d15-19",{"$f":"IFERROR(VLOOKUP(__レジメンマスタ[[#This Row],[YJコード②]],[1]!__前投薬リスト[#Data],4,FALSE)&\"\",\"\")","v":""},null,null,null,null,null,null,null,null,null,null,null,{"$f":"IFERROR(VLOOKUP(__レジメンマスタ[[#This Row],[YJコード③]],[1]!__前投薬リスト[#Data],4,FALSE)&\"\",\"\")","v":""},null,null,null,null,null,null,null,null,null,null,null,{"$f":"IFERROR(VLOOKUP(__レジメンマスタ[[#This Row],[YJコード④]],[1]!__前投薬リスト[#Data],4,FALSE)&\"\",\"\")","v":""},null,null,null,null,null,null,null,null,null,null,null,{"$f":"IFERROR(VLOOKUP(__レジメンマスタ[[#This Row],[YJコード⑤]],[1]!__前投薬リスト[#Data],4,FALSE)&\"\",\"\")","v":""},null,null,null,null,null,null,null,null,null,null,null,{"$f":"IFERROR(VLOOKUP(__レジメンマスタ[[#This Row],[YJコード⑥]],[1]!__前投薬リスト[#Data],4,FALSE)&\"\",\"\")","v":""},null,null,null,null,null,null,null,null,null,null,null,{"$f":"IFERROR(VLOOKUP(__レジメンマスタ[[#This Row],[YJコード⑦]],[1]!__前投薬リスト[#Data],4,FALSE)&\"\",\"\")","v":""}]
["SUR0119","GCS","　　　　　W1  　　　　　 W2  　　\nCDDP ↓×××××× ××××××× \nGEM  ↓×××××× ×××××××\nS1　 ↓↓↓↓↓↓↓ ×××××××\nGEM：溶解液確認→Tzで行う方針の場合はTzへ変更\nS1:1週間内服、1週間休薬。\nS1：初回基準量【テガフール相当量、原則40mg/回未満には減らさない】\n1.25m2未満:40mg/回,1.25m2以上1.5m2未満:50mg/回,1.5m2以上:60mg/回\nCCr≧60：通常用量、60>CCr≧40:一段階減量,40>CCr≧30:二段階減量,\nCCr＜30：禁忌","14日","∞","胆嚢・胆管癌","外科","シスプラチン","危〈毒〉50mg/100mL ｼｽﾌﾟﾗﾁﾝ点滴静注「ﾏﾙｺ」（先:ﾗﾝﾀﾞ）","4291401A3111","注射","２  時間で",25,"㎡","mg",null,"d1",{"$f":"IFERROR(VLOOKUP(__レジメンマスタ[[#This Row],[YJコード①]],[1]!__前投薬リスト[#Data],4,FALSE)&\"\",\"\")","v":""},null,"ゲムシタビン","危 1g ｹﾞﾑｼﾀﾋﾞﾝ点滴静注用「ﾔｸﾙﾄ」（溶解液:生食）（先:ｼﾞｪﾑｻﾞｰﾙ）","4224403D2061","注射","３０ 分で",1000,"㎡","mg",null,"d1",{"$f":"IFERROR(VLOOKUP(__レジメンマスタ[[#This Row],[YJコード②]],[1]!__前投薬リスト[#Data],4,FALSE)&\"\",\"\")","v":""},null,"エスワン",null,"4229101F2057","経口",null,"80-120/2","BODY","mg",null,"d1-7",{"$f":"IFERROR(VLOOKUP(__レジメンマスタ[[#This Row],[YJコード③]],[1]!__前投薬リスト[#Data],4,FALSE)&\"\",\"\")","v":""},null,null,null,null,null,null,null,null,null,null,null,{"$f":"IFERROR(VLOOKUP(__レジメンマスタ[[#This Row],[YJコード④]],[1]!__前投薬リスト[#Data],4,FALSE)&\"\",\"\")","v":""},null,null,null,null,null,null,null,null,null,null,null,{"$f":"IFERROR(VLOOKUP(__レジメンマスタ[[#This Row],[YJコード⑤]],[1]!__前投薬リスト[#Data],4,FALSE)&\"\",\"\")","v":""},null,null,null,null,null,null,null,null,null,null,null,{"$f":"IFERROR(VLOOKUP(__レジメンマスタ[[#This Row],[YJコード⑥]],[1]!__前投薬リスト[#Data],4,FALSE)&\"\",\"\")","v":""},null,null,null,null,null,null,null,null,null,null,null,{"$f":"IFERROR(VLOOKUP(__レジメンマスタ[[#This Row],[YJコード⑦]],[1]!__前投薬リスト[#Data],4,FALSE)&\"\",\"\")","v":""}]
["SUR0120","Rmab","　　　　　W1  　　　　　 W2  　　\nRmab ↓×××××× ××××××× \n","14日","∞","肝臓癌","消化器内科","サイラムザ","危 500mg/50mL ｻｲﾗﾑｻﾞ点滴静注液（希釈液:生食）","4291429A2020","注射","６０ 分で",8,"kg","mg",null,"d1",{"$f":"IFERROR(VLOOKUP(__レジメンマスタ[[#This Row],[YJコード①]],[1]!__前投薬リスト[#Data],4,FALSE)&\"\",\"\")","v":"(抗ヒス)"},null,null,null,null,null,null,null,null,null,null,null,{"$f":"IFERROR(VLOOKUP(__レジメンマスタ[[#This Row],[YJコード②]],[1]!__前投薬リスト[#Data],4,FALSE)&\"\",\"\")","v":""},null,null,null,null,null,null,null,null,null,null,null,{"$f":"IFERROR(VLOOKUP(__レジメンマスタ[[#This Row],[YJコード③]],[1]!__前投薬リスト[#Data],4,FALSE)&\"\",\"\")","v":""},null,null,null,null,null,null,null,null,null,null,null,{"$f":"IFERROR(VLOOKUP(__レジメンマスタ[[#This Row],[YJコード④]],[1]!__前投薬リスト[#Data],4,FALSE)&\"\",\"\")","v":""},null,null,null,null,null,null,null,null,null,null,null,{"$f":"IFERROR(VLOOKUP(__レジメンマスタ[[#This Row],[YJコード⑤]],[1]!__前投薬リスト[#Data],4,FALSE)&\"\",\"\")","v":""},null,null,null,null,null,null,null,null,null,null,null,{"$f":"IFERROR(VLOOKUP(__レジメンマスタ[[#This Row],[YJコード⑥]],[1]!__前投薬リスト[#Data],4,FALSE)&\"\",\"\")","v":""},null,null,null,null,null,null,null,null,null,null,null,{"$f":"IFERROR(VLOOKUP(__レジメンマスタ[[#This Row],[YJコード⑦]],[1]!__前投薬リスト[#Data],4,FALSE)&\"\",\"\")","v":""}]
["SUR0121","Atezo+Beva"," 3週間ごとに投与 \n             W1　　　　   W2～3   \nAtezo  ↓××××××  ××××××× \nBeva   ↓××××××  ××××××× ","21日","∞","肝臓癌","消化器内科","テセントリク","危 ﾃｾﾝﾄﾘｸ点滴静注 1200mg/20mL（溶解液:生食）","4291441A1024","注射","６０ 分で",1200,"BODY","mg",null,"d1",{"$f":"IFERROR(VLOOKUP(__レジメンマスタ[[#This Row],[YJコード①]],[1]!__前投薬リスト[#Data],4,FALSE)&\"\",\"\")","v":""},null,"アバスチン","危 400mg/16mL ｱﾊﾞｽﾁﾝ点滴静注用","4291413A2029","注射","初回９０分、２回目６０分、３回目～３０分",15,"kg","mg",null,"d1",{"$f":"IFERROR(VLOOKUP(__レジメンマスタ[[#This Row],[YJコード②]],[1]!__前投薬リスト[#Data],4,FALSE)&\"\",\"\")","v":""},null,null,null,null,null,null,null,null,null,null,null,{"$f":"IFERROR(VLOOKUP(__レジメンマスタ[[#This Row],[YJコード③]],[1]!__前投薬リスト[#Data],4,FALSE)&\"\",\"\")","v":""},null,null,null,null,null,null,null,null,null,null,null,{"$f":"IFERROR(VLOOKUP(__レジメンマスタ[[#This Row],[YJコード④]],[1]!__前投薬リスト[#Data],4,FALSE)&\"\",\"\")","v":""},null,null,null,null,null,null,null,null,null,null,null,{"$f":"IFERROR(VLOOKUP(__レジメンマスタ[[#This Row],[YJコード⑤]],[1]!__前投薬リスト[#Data],4,FALSE)&\"\",\"\")","v":""},null,null,null,null,null,null,null,null,null,null,null,{"$f":"IFERROR(VLOOKUP(__レジメンマスタ[[#This Row],[YJコード⑥]],[1]!__前投薬リスト[#Data],4,FALSE)&\"\",\"\")","v":""},null,null,null,null,null,null,null,null,null,null,null,{"$f":"IFERROR(VLOOKUP(__レジメンマスタ[[#This Row],[YJコード⑦]],[1]!__前投薬リスト[#Data],4,FALSE)&\"\",\"\")","v":""}]
["SUR0122-1","アイエーコール","レジメンチェックなし",null,null,"肝臓癌","消化器内科","アイエーコール動注用","危〈毒〉100mg 動注用ｱｲｴｰｺｰﾙ","4291401D1026","注射",null,100,"BODY","mg",null,"d1",{"$f":"IFERROR(VLOOKUP(__レジメンマスタ[[#This Row],[YJコード①]],[1]!__前投薬リスト[#Data],4,FALSE)&\"\",\"\")","v":""},null,null,null,null,null,null,null,null,null,null,null,{"$f":"IFERROR(VLOOKUP(__レジメンマスタ[[#This Row],[YJコード②]],[1]!__前投薬リスト[#Data],4,FALSE)&\"\",\"\")","v":""},null,null,null,null,null,null,null,null,null,null,null,{"$f":"IFERROR(VLOOKUP(__レジメンマスタ[[#This Row],[YJコード③]],[1]!__前投薬リスト[#Data],4,FALSE)&\"\",\"\")","v":""},null,null,null,null,null,null,null,null,null,null,null,{"$f":"IFERROR(VLOOKUP(__レジメンマスタ[[#This Row],[YJコード④]],[1]!__前投薬リスト[#Data],4,FALSE)&\"\",\"\")","v":""},null,null,null,null,null,null,null,null,null,null,null,{"$f":"IFERROR(VLOOKUP(__レジメンマスタ[[#This Row],[YJコード⑤]],[1]!__前投薬リスト[#Data],4,FALSE)&\"\",\"\")","v":""},null,null,null,null,null,null,null,null,null,null,null,{"$f":"IFERROR(VLOOKUP(__レジメンマスタ[[#This Row],[YJコード⑥]],[1]!__前投薬リスト[#Data],4,FALSE)&\"\",\"\")","v":""},null,null,null,null,null,null,null,null,null,null,null,{"$f":"IFERROR(VLOOKUP(__レジメンマスタ[[#This Row],[YJコード⑦]],[1]!__前投薬リスト[#Data],4,FALSE)&\"\",\"\")","v":""}]
["SUR0122","RAM+IRI","　　　　　W1  　　　　　 W2  　　\nRmab 　↓×××××× ××××××× \nCPT-11 ↓×××××× ××××××× \n","14日","∞","胃癌","外科","サイラムザ","危 500mg/50mL ｻｲﾗﾑｻﾞ点滴静注液（希釈液:生食）","4291429A2020","注射","６０ 分で",8,"kg","mg",null,"d1",{"$f":"IFERROR(VLOOKUP(__レジメンマスタ[[#This Row],[YJコード①]],[1]!__前投薬リスト[#Data],4,FALSE)&\"\",\"\")","v":"(抗ヒス)"},null,"イリノテカン","危 100mg/5mL ｲﾘﾉﾃｶﾝ塩酸塩点滴静注液「NK」（先:ﾄﾎﾟﾃｼﾝ）","4240404A2055","注射","９０ 分で",150,"㎡","mg",null,"d1",{"$f":"IFERROR(VLOOKUP(__レジメンマスタ[[#This Row],[YJコード②]],[1]!__前投薬リスト[#Data],4,FALSE)&\"\",\"\")","v":""},null,null,null,null,null,null,null,null,null,null,null,{"$f":"IFERROR(VLOOKUP(__レジメンマスタ[[#This Row],[YJコード③]],[1]!__前投薬リスト[#Data],4,FALSE)&\"\",\"\")","v":""},null,null,null,null,null,null,null,null,null,null,null,{"$f":"IFERROR(VLOOKUP(__レジメンマスタ[[#This Row],[YJコード④]],[1]!__前投薬リスト[#Data],4,FALSE)&\"\",\"\")","v":""},null,null,null,null,null,null,null,null,null,null,null,{"$f":"IFERROR(VLOOKUP(__レジメンマスタ[[#This Row],[YJコード⑤]],[1]!__前投薬リスト[#Data],4,FALSE)&\"\",\"\")","v":""},null,null,null,null,null,null,null,null,null,null,null,{"$f":"IFERROR(VLOOKUP(__レジメンマスタ[[#This Row],[YJコード⑥]],[1]!__前投薬リスト[#Data],4,FALSE)&\"\",\"\")","v":""},null,null,null,null,null,null,null,null,null,null,null,{"$f":"IFERROR(VLOOKUP(__レジメンマスタ[[#This Row],[YJコード⑦]],[1]!__前投薬リスト[#Data],4,FALSE)&\"\",\"\")","v":""}]
["SUR0123","RAM＋ロンサーフ","            W1 　　　　    W2         　 W3  　  　　　W4  \nRam  　↓×××××× ××××××× ↓×××××× ×××××××\nFTD/TPI↓↓↓↓↓×× ↓↓↓↓↓×× ××××××× ×××××××\n","28日","∞","胃癌","外科","サイラムザ","危 500mg/50mL ｻｲﾗﾑｻﾞ点滴静注液（希釈液:生食）","4291429A2020","注射","１  時間で",8,"kg","mg",null,"d1,15",{"$f":"IFERROR(VLOOKUP(__レジメンマスタ[[#This Row],[YJコード①]],[1]!__前投薬リスト[#Data],4,FALSE)&\"\",\"\")","v":"(抗ヒス)"},null,"ロンサーフ",null,"4299100F2022","経口",null,70,"㎡","mg",null,"d1-5,d8-12",{"$f":"IFERROR(VLOOKUP(__レジメンマスタ[[#This Row],[YJコード②]],[1]!__前投薬リスト[#Data],4,FALSE)&\"\",\"\")","v":""},null,null,null,null,null,null,null,null,null,null,null,{"$f":"IFERROR(VLOOKUP(__レジメンマスタ[[#This Row],[YJコード③]],[1]!__前投薬リスト[#Data],4,FALSE)&\"\",\"\")","v":""},null,null,null,null,null,null,null,null,null,null,null,{"$f":"IFERROR(VLOOKUP(__レジメンマスタ[[#This Row],[YJコード④]],[1]!__前投薬リスト[#Data],4,FALSE)&\"\",\"\")","v":""},null,null,null,null,null,null,null,null,null,null,null,{"$f":"IFERROR(VLOOKUP(__レジメンマスタ[[#This Row],[YJコード⑤]],[1]!__前投薬リスト[#Data],4,FALSE)&\"\",\"\")","v":""},null,null,null,null,null,null,null,null,null,null,null,{"$f":"IFERROR(VLOOKUP(__レジメンマスタ[[#This Row],[YJコード⑥]],[1]!__前投薬リスト[#Data],4,FALSE)&\"\",\"\")","v":""},null,null,null,null,null,null,null,null,null,null,null,{"$f":"IFERROR(VLOOKUP(__レジメンマスタ[[#This Row],[YJコード⑦]],[1]!__前投薬リスト[#Data],4,FALSE)&\"\",\"\")","v":""}]
["SUR0124","RAIB-TACE","レジメンチェックなし",null,null,"肝臓癌","消化器内科",null,null,null,"注射",null,null,null,null,null,null,{"$f":"IFERROR(VLOOKUP(__レジメンマスタ[[#This Row],[YJコード①]],[1]!__前投薬リスト[#Data],4,FALSE)&\"\",\"\")","v":""},null,null,null,null,null,null,null,null,null,null,null,{"$f":"IFERROR(VLOOKUP(__レジメンマスタ[[#This Row],[YJコード②]],[1]!__前投薬リスト[#Data],4,FALSE)&\"\",\"\")","v":""},null,null,null,null,null,null,null,null,null,null,null,{"$f":"IFERROR(VLOOKUP(__レジメンマスタ[[#This Row],[YJコード③]],[1]!__前投薬リスト[#Data],4,FALSE)&\"\",\"\")","v":""},null,null,null,null,null,null,null,null,null,null,null,{"$f":"IFERROR(VLOOKUP(__レジメンマスタ[[#This Row],[YJコード④]],[1]!__前投薬リスト[#Data],4,FALSE)&\"\",\"\")","v":""},null,null,null,null,null,null,null,null,null,null,null,{"$f":"IFERROR(VLOOKUP(__レジメンマスタ[[#This Row],[YJコード⑤]],[1]!__前投薬リスト[#Data],4,FALSE)&\"\",\"\")","v":""},null,null,null,null,null,null,null,null,null,null,null,{"$f":"IFERROR(VLOOKUP(__レジメンマスタ[[#This Row],[YJコード⑥]],[1]!__前投薬リスト[#Data],4,FALSE)&\"\",\"\")","v":""},null,null,null,null,null,null,null,null,null,null,null,{"$f":"IFERROR(VLOOKUP(__レジメンマスタ[[#This Row],[YJコード⑦]],[1]!__前投薬リスト[#Data],4,FALSE)&\"\",\"\")","v":""}]
["SUR0125","オプジーボ＋FOLFOX6","　　　　　  Ｗ1 　　　 　Ｗ2　　　　\nNivo    ↓×××××× ××××××× \nl-LV    ↓×××××× ××××××× \nL-OHP   ↓×××××× ×××××××  \nFU bls  ↓×××××× ××××××× \nFU conc ↓×××××× ××××××× \n2週間毎\n★インフューザーポンプ使用時は２．５ｍｌ／ｈｒに輸液量を調製","14日","∞","胃癌","外科","オプジーボ","危 240mg/24mL ｵﾌﾟｼﾞｰﾎﾞ点滴静注（希釈液:生食orTZ）","4291427A3027","注射","３０ 分で",240,"BODY","mg",null,"d1",{"$f":"IFERROR(VLOOKUP(__レジメンマスタ[[#This Row],[YJコード①]],[1]!__前投薬リスト[#Data],4,FALSE)&\"\",\"\")","v":""},null,"レボホリナート","危 100mg ﾚﾎﾞﾎﾘﾅｰﾄ点滴静注用「ﾔｸﾙﾄ」（先:ｱｲｿﾎﾞﾘﾝ）","3929407D2060","注射","２ 時間で",200,"㎡","mg",null,"d1",{"$f":"IFERROR(VLOOKUP(__レジメンマスタ[[#This Row],[YJコード②]],[1]!__前投薬リスト[#Data],4,FALSE)&\"\",\"\")","v":""},null,"オキサリプラチン","危〈毒〉100㎎/20mL ｵｷｻﾘﾌﾟﾗﾁﾝ点滴静注液「NK」（先:ｴﾙﾌﾟﾗｯﾄ）","4291410A2092","注射","２ 時間で",85,"㎡","mg",null,"d1",{"$f":"IFERROR(VLOOKUP(__レジメンマスタ[[#This Row],[YJコード③]],[1]!__前投薬リスト[#Data],4,FALSE)&\"\",\"\")","v":""},null,"フルオロウラシル","危 1000mg/20mL ﾌﾙｵﾛｳﾗｼﾙ注「ﾄｰﾜ」（先:5-FU）","4223401A3030","注射","１５ 分で",400,"㎡","mg",null,"d1",{"$f":"IFERROR(VLOOKUP(__レジメンマスタ[[#This Row],[YJコード④]],[1]!__前投薬リスト[#Data],4,FALSE)&\"\",\"\")","v":""},null,"フルオロウラシル","危 1000mg/20mL ﾌﾙｵﾛｳﾗｼﾙ注「ﾄｰﾜ」（先:5-FU）","4223401A3030","注射","４６時間で",2400,"㎡","mg",null,"d1(46hr)",{"$f":"IFERROR(VLOOKUP(__レジメンマスタ[[#This Row],[YJコード⑤]],[1]!__前投薬リスト[#Data],4,FALSE)&\"\",\"\")","v":""},null,null,null,null,null,null,null,null,null,null,null,{"$f":"IFERROR(VLOOKUP(__レジメンマスタ[[#This Row],[YJコード⑥]],[1]!__前投薬リスト[#Data],4,FALSE)&\"\",\"\")","v":""},null,null,null,null,null,null,null,null,null,null,null,{"$f":"IFERROR(VLOOKUP(__レジメンマスタ[[#This Row],[YJコード⑦]],[1]!__前投薬リスト[#Data],4,FALSE)&\"\",\"\")","v":""}]
["SUR0126","オプジーボ＋SOX","　　　　　　Ｗ1　　　　　　Ｗ2　　　　 Ｗ3\nNivo　 ↓××××××　×××××××　×××××××　　　　　　\nL-OHP　↓××××××　×××××××　×××××××\nS-1　　↓↓↓↓↓↓↓　↓↓↓↓↓↓↓　×××××××\nNivo、L-OHP：3週間毎、S1:2週間内服、1週間休薬。\nS1：初回基準量【テガフール相当量、原則40mg/回未満には減らさない】\n1.25m2未満:40mg/回,1.25m2以上1.5m2未満:50mg/回,1.5m2以上:60mg/回\nCCr≧60：通常用量、60>CCr≧40:一段階減量,40>CCr≧30:二段階減量,\nCCr＜30：禁忌","21日","∞","胃癌","外科","オプジーボ","危 240mg/24mL ｵﾌﾟｼﾞｰﾎﾞ点滴静注（希釈液:生食orTZ）","4291427A3027","注射","３０ 分で",360,"BODY","mg",null,"d1",{"$f":"IFERROR(VLOOKUP(__レジメンマスタ[[#This Row],[YJコード①]],[1]!__前投薬リスト[#Data],4,FALSE)&\"\",\"\")","v":""},null,"オキサリプラチン","危〈毒〉100㎎/20mL ｵｷｻﾘﾌﾟﾗﾁﾝ点滴静注液「NK」（先:ｴﾙﾌﾟﾗｯﾄ）","4291410A2092","注射","２ 時間で",130,"㎡","mg",null,"d1",{"$f":"IFERROR(VLOOKUP(__レジメンマスタ[[#This Row],[YJコード②]],[1]!__前投薬リスト[#Data],4,FALSE)&\"\",\"\")","v":""},null,"エスワン",null,"4229101F2057","経口",null,"80-120/2","BODY","mg",null,"d1-14",{"$f":"IFERROR(VLOOKUP(__レジメンマスタ[[#This Row],[YJコード③]],[1]!__前投薬リスト[#Data],4,FALSE)&\"\",\"\")","v":""},null,null,null,null,null,null,null,null,null,null,null,{"$f":"IFERROR(VLOOKUP(__レジメンマスタ[[#This Row],[YJコード④]],[1]!__前投薬リスト[#Data],4,FALSE)&\"\",\"\")","v":""},null,null,null,null,null,null,null,null,null,null,null,{"$f":"IFERROR(VLOOKUP(__レジメンマスタ[[#This Row],[YJコード⑤]],[1]!__前投薬リスト[#Data],4,FALSE)&\"\",\"\")","v":""},null,null,null,null,null,null,null,null,null,null,null,{"$f":"IFERROR(VLOOKUP(__レジメンマスタ[[#This Row],[YJコード⑥]],[1]!__前投薬リスト[#Data],4,FALSE)&\"\",\"\")","v":""},null,null,null,null,null,null,null,null,null,null,null,{"$f":"IFERROR(VLOOKUP(__レジメンマスタ[[#This Row],[YJコード⑦]],[1]!__前投薬リスト[#Data],4,FALSE)&\"\",\"\")","v":""}]
["SUR0127","FP＋キイトルーダ","　　　　　　Ｗ1　　　　　　Ｗ2　　　　　　　 Ｗ3\nPembro　↓××××××　×××××××　×××××××　　　　　　\nCDDP　　↓××××××　×××××××　×××××××\n5-FU　　↓↓↓↓↓××　×××××××　×××××××\nCDDP併用は6コースまで","21日","6コース","食道癌","外科","キイトルーダ","危 ｷｲﾄﾙｰﾀﾞ点滴静注 100mg/4mL（希釈液:生食orTZ）","4291435A2025","注射","３０ 分で",200,"BODY","mg",null,"d1",{"$f":"IFERROR(VLOOKUP(__レジメンマスタ[[#This Row],[YJコード①]],[1]!__前投薬リスト[#Data],4,FALSE)&\"\",\"\")","v":""},"∞","シスプラチン","危〈毒〉50mg/100mL ｼｽﾌﾟﾗﾁﾝ点滴静注「ﾏﾙｺ」（先:ﾗﾝﾀﾞ）","4291401A3111","注射","２ 時間で",80,"㎡","mg",null,"d1",{"$f":"IFERROR(VLOOKUP(__レジメンマスタ[[#This Row],[YJコード②]],[1]!__前投薬リスト[#Data],4,FALSE)&\"\",\"\")","v":""},"6回","フルオロウラシル","危 1000mg/20mL ﾌﾙｵﾛｳﾗｼﾙ注「ﾄｰﾜ」（先:5-FU）","4223401A3030","注射","２４時間持続投与",800,"㎡","mg",null,"d1-5",{"$f":"IFERROR(VLOOKUP(__レジメンマスタ[[#This Row],[YJコード③]],[1]!__前投薬リスト[#Data],4,FALSE)&\"\",\"\")","v":""},"∞",null,null,null,null,null,null,null,null,null,null,{"$f":"IFERROR(VLOOKUP(__レジメンマスタ[[#This Row],[YJコード④]],[1]!__前投薬リスト[#Data],4,FALSE)&\"\",\"\")","v":""},null,null,null,null,null,null,null,null,null,null,null,{"$f":"IFERROR(VLOOKUP(__レジメンマスタ[[#This Row],[YJコード⑤]],[1]!__前投薬リスト[#Data],4,FALSE)&\"\",\"\")","v":""},null,null,null,null,null,null,null,null,null,null,null,{"$f":"IFERROR(VLOOKUP(__レジメンマスタ[[#This Row],[YJコード⑥]],[1]!__前投薬リスト[#Data],4,FALSE)&\"\",\"\")","v":""},null,null,null,null,null,null,null,null,null,null,null,{"$f":"IFERROR(VLOOKUP(__レジメンマスタ[[#This Row],[YJコード⑦]],[1]!__前投薬リスト[#Data],4,FALSE)&\"\",\"\")","v":""}]
["SUR0128","FP＋オプジーボ","　　　　　　Ｗ1　　　　　　　Ｗ2　　　　　 Ｗ3　　　　　　　W4\nNivo　↓××××××　×××××××　×××××××　×××××××　　　　　　\nCDDP　↓××××××　×××××××　×××××××　×××××××\n5-FU　↓↓↓↓↓××　×××××××　×××××××　×××××××\n","28日","∞","食道癌","外科","オプジーボ","危 240mg/24mL ｵﾌﾟｼﾞｰﾎﾞ点滴静注（希釈液:生食orTZ）","4291427A3027","注射","３０ 分で",480,"BODY","mg",null,"d1",{"$f":"IFERROR(VLOOKUP(__レジメンマスタ[[#This Row],[YJコード①]],[1]!__前投薬リスト[#Data],4,FALSE)&\"\",\"\")","v":""},null,"シスプラチン","危〈毒〉50mg/100mL ｼｽﾌﾟﾗﾁﾝ点滴静注「ﾏﾙｺ」（先:ﾗﾝﾀﾞ）","4291401A3111","注射","２ 時間で",80,"㎡","mg",null,"d1",{"$f":"IFERROR(VLOOKUP(__レジメンマスタ[[#This Row],[YJコード②]],[1]!__前投薬リスト[#Data],4,FALSE)&\"\",\"\")","v":""},null,"フルオロウラシル","危 1000mg/20mL ﾌﾙｵﾛｳﾗｼﾙ注「ﾄｰﾜ」（先:5-FU）","4223401A3030","注射","２４時間持続投与",800,"㎡","mg",null,"d1-5",{"$f":"IFERROR(VLOOKUP(__レジメンマスタ[[#This Row],[YJコード③]],[1]!__前投薬リスト[#Data],4,FALSE)&\"\",\"\")","v":""},null,null,null,null,null,null,null,null,null,null,null,{"$f":"IFERROR(VLOOKUP(__レジメンマスタ[[#This Row],[YJコード④]],[1]!__前投薬リスト[#Data],4,FALSE)&\"\",\"\")","v":""},null,null,null,null,null,null,null,null,null,null,null,{"$f":"IFERROR(VLOOKUP(__レジメンマスタ[[#This Row],[YJコード⑤]],[1]!__前投薬リスト[#Data],4,FALSE)&\"\",\"\")","v":""},null,null,null,null,null,null,null,null,null,null,null,{"$f":"IFERROR(VLOOKUP(__レジメンマスタ[[#This Row],[YJコード⑥]],[1]!__前投薬リスト[#Data],4,FALSE)&\"\",\"\")","v":""},null,null,null,null,null,null,null,null,null,null,null,{"$f":"IFERROR(VLOOKUP(__レジメンマスタ[[#This Row],[YJコード⑦]],[1]!__前投薬リスト[#Data],4,FALSE)&\"\",\"\")","v":""}]
["SUR0129","オプジーボ＋ヤーボイ","　　　　　　 W1　　　　W2～3　　　　　　W4　　　　　W5～6\nIpi　↓×××××× ××××××× ××××××× ××××××× \nNivo ↓×××××× ××××××× ↓×××××× ×××××××  \nヤーボイ：6週間毎　オプジーボ：3週間毎","42日","∞","食道癌","外科","オプジーボ","危 240mg/24mL ｵﾌﾟｼﾞｰﾎﾞ点滴静注（希釈液:生食orTZ）","4291427A3027","注射","３０ 分で",360,"BODY","mg",null,"d1,22",{"$f":"IFERROR(VLOOKUP(__レジメンマスタ[[#This Row],[YJコード①]],[1]!__前投薬リスト[#Data],4,FALSE)&\"\",\"\")","v":""},null,"ヤーボイ","危 臨）50mg/10mL ﾔｰﾎﾞｲ点滴静注液","4291430A1026","注射","３０ 分で",1,"kg","mg",null,"d1",{"$f":"IFERROR(VLOOKUP(__レジメンマスタ[[#This Row],[YJコード②]],[1]!__前投薬リスト[#Data],4,FALSE)&\"\",\"\")","v":""},null,null,null,null,null,null,null,null,null,null,null,{"$f":"IFERROR(VLOOKUP(__レジメンマスタ[[#This Row],[YJコード③]],[1]!__前投薬リスト[#Data],4,FALSE)&\"\",\"\")","v":""},null,null,null,null,null,null,null,null,null,null,null,{"$f":"IFERROR(VLOOKUP(__レジメンマスタ[[#This Row],[YJコード④]],[1]!__前投薬リスト[#Data],4,FALSE)&\"\",\"\")","v":""},null,null,null,null,null,null,null,null,null,null,null,{"$f":"IFERROR(VLOOKUP(__レジメンマスタ[[#This Row],[YJコード⑤]],[1]!__前投薬リスト[#Data],4,FALSE)&\"\",\"\")","v":""},null,null,null,null,null,null,null,null,null,null,null,{"$f":"IFERROR(VLOOKUP(__レジメンマスタ[[#This Row],[YJコード⑥]],[1]!__前投薬リスト[#Data],4,FALSE)&\"\",\"\")","v":""},null,null,null,null,null,null,null,null,null,null,null,{"$f":"IFERROR(VLOOKUP(__レジメンマスタ[[#This Row],[YJコード⑦]],[1]!__前投薬リスト[#Data],4,FALSE)&\"\",\"\")","v":""}]
["SUR0130","トラスツズマブ＋パージェタ","             W1          W2             W3             W4  \nPmab ↓×××××× ××××××× ××××××× ↓××××××  \nTmab ↓×××××× ××××××× ××××××× ↓××××××  \n★前回投与日から6週間以上のときは初回量に戻す★","21日","∞","大腸癌（HER2+)","外科","ペルツズマブ(初回)","危 ﾊﾟｰｼﾞｪﾀ点滴静注 420mg/14mL（希釈液:生食）","4291424A1020","注射",null,840,"BODY","mg",null,"d1",{"$f":"IFERROR(VLOOKUP(__レジメンマスタ[[#This Row],[YJコード①]],[1]!__前投薬リスト[#Data],4,FALSE)&\"\",\"\")","v":""},null,"ペルツズマブ(2回目～)","危 ﾊﾟｰｼﾞｪﾀ点滴静注 420mg/14mL（希釈液:生食）","4291424A1020","注射",null,420,"BODY","mg",null,"d1",{"$f":"IFERROR(VLOOKUP(__レジメンマスタ[[#This Row],[YJコード②]],[1]!__前投薬リスト[#Data],4,FALSE)&\"\",\"\")","v":""},null,"トラスツズマブ(初回)","危 ﾊｰｾﾌﾟﾁﾝ注射用 150mg（溶解液:Aq,希釈液:生食）","4291442D2030","注射","９０ 分で",8,"kg","mg",null,"d1",{"$f":"IFERROR(VLOOKUP(__レジメンマスタ[[#This Row],[YJコード③]],[1]!__前投薬リスト[#Data],4,FALSE)&\"\",\"\")","v":""},null,"トラスツズマブ（2回目以降～）","危 ﾊｰｾﾌﾟﾁﾝ注射用 150mg（溶解液:Aq,希釈液:生食）","4291442D2030","注射","２回目以降は３０分まで短縮可",6,"kg","mg",null,"d1",{"$f":"IFERROR(VLOOKUP(__レジメンマスタ[[#This Row],[YJコード④]],[1]!__前投薬リスト[#Data],4,FALSE)&\"\",\"\")","v":""},null,null,null,null,null,null,null,null,null,null,null,{"$f":"IFERROR(VLOOKUP(__レジメンマスタ[[#This Row],[YJコード⑤]],[1]!__前投薬リスト[#Data],4,FALSE)&\"\",\"\")","v":""},null,null,null,null,null,null,null,null,null,null,null,{"$f":"IFERROR(VLOOKUP(__レジメンマスタ[[#This Row],[YJコード⑥]],[1]!__前投薬リスト[#Data],4,FALSE)&\"\",\"\")","v":""},null,null,null,null,null,null,null,null,null,null,null,{"$f":"IFERROR(VLOOKUP(__レジメンマスタ[[#This Row],[YJコード⑦]],[1]!__前投薬リスト[#Data],4,FALSE)&\"\",\"\")","v":""}]
["SUR0131-1","NewFP（動注）D1・D8","　　　　　　Ｗ1　　　　　　　Ｗ2　　　　　　\n動CDDP　　↓×××××× ↓××××××　　　　　\n5-FU(iv)　↓×××××× ↓××××××\n5-FU(conc)↓↓↓↓↓×× ↓↓↓↓↓××\n（2ｺｰｽ目以降はこちらでも可）\n動CDDP　　↓×××××× ×××××××　　　　　\n5-FU(2h)　↓×××××× ×××××××\n2コース目以降は1ｺｰｽ目と同様の内容、またはd1のみの用法で行う。\n","14日",null,"肝臓癌","消化器内科","アイエーコール動注用","危〈毒〉50mg 動注用ｱｲｴｰｺｰﾙ","4291401D2022","注射","イオパミドール３７０注５ｍＬで溶解",50,"BODY","mg",null,"d1,8",{"$f":"IFERROR(VLOOKUP(__レジメンマスタ[[#This Row],[YJコード①]],[1]!__前投薬リスト[#Data],4,FALSE)&\"\",\"\")","v":""},null,"フルオロウラシル（iv）","危〈毒〉50mg 動注用ｱｲｴｰｺｰﾙ","4291401D2022","注射","イオパミドール３７０注５ｍＬで溶解",250,"BODY","mg",null,"d1,8",{"$f":"IFERROR(VLOOKUP(__レジメンマスタ[[#This Row],[YJコード②]],[1]!__前投薬リスト[#Data],4,FALSE)&\"\",\"\")","v":""},null,"フルオロウラシル持続","危 250mg/5mL ﾌﾙｵﾛｳﾗｼﾙ注「ﾄｰﾜ」（先:5-FU）","4223401A4037","注射","２４ 時間で",250,"BODY","mg",null,"d1-5,8-12",{"$f":"IFERROR(VLOOKUP(__レジメンマスタ[[#This Row],[YJコード③]],[1]!__前投薬リスト[#Data],4,FALSE)&\"\",\"\")","v":""},null,"アイエーコール動注用","危〈毒〉50mg 動注用ｱｲｴｰｺｰﾙ","4291401D2022","注射","イオパミドール３７０注５ｍＬで溶解",20,"BODY","mg",null,"d1(2C以降)",{"$f":"IFERROR(VLOOKUP(__レジメンマスタ[[#This Row],[YJコード④]],[1]!__前投薬リスト[#Data],4,FALSE)&\"\",\"\")","v":""},null,"フルオロウラシル（2h）","危〈毒〉50mg 動注用ｱｲｴｰｺｰﾙ","4291401D2022","注射","イオパミドール３７０注５ｍＬで溶解",500,"BODY","mg",null,"d1(2C以降)",{"$f":"IFERROR(VLOOKUP(__レジメンマスタ[[#This Row],[YJコード⑤]],[1]!__前投薬リスト[#Data],4,FALSE)&\"\",\"\")","v":""},null,null,null,null,null,null,null,null,null,null,null,{"$f":"IFERROR(VLOOKUP(__レジメンマスタ[[#This Row],[YJコード⑥]],[1]!__前投薬リスト[#Data],4,FALSE)&\"\",\"\")","v":""},null,null,null,null,null,null,null,null,null,null,null,{"$f":"IFERROR(VLOOKUP(__レジメンマスタ[[#This Row],[YJコード⑦]],[1]!__前投薬リスト[#Data],4,FALSE)&\"\",\"\")","v":""}]
["SUR0132-11","GC+イミフィンジ","　　　　　W1  　　　　　 W2  　　　　　　W3 \nDur　↓××××××　××××××× ×××××××  　\nCDDP ↓××××××  ↓×××××× ××××××× \nGEM  ↓××××××  ↓×××××× ×××××××\nGEM：溶解液確認→Tzで行う方針の場合はTzへ変更 \n最大8コースまで、その後はイミフィンジのみ4週間毎で継続","21日→28日","∞","胆嚢・胆管癌","外科","イミフィンジ","危 500mg/10mL ｲﾐﾌｨﾝｼﾞ点滴静注（希釈液:生食orTZ）","4291443A2020","注射","６０ 分で",1500,"BODY","mg",null,"d1",{"$f":"IFERROR(VLOOKUP(__レジメンマスタ[[#This Row],[YJコード①]],[1]!__前投薬リスト[#Data],4,FALSE)&\"\",\"\")","v":""},"∞","シスプラチン","危〈毒〉10mg/20mL ｼｽﾌﾟﾗﾁﾝ点滴静注「ﾏﾙｺ」（先:ﾗﾝﾀﾞ）","4291401A1119","注射","２  時間で",25,"㎡","mg",null,"d1,8",{"$f":"IFERROR(VLOOKUP(__レジメンマスタ[[#This Row],[YJコード②]],[1]!__前投薬リスト[#Data],4,FALSE)&\"\",\"\")","v":""},"8コース","ゲムシタビン","危 1g ｹﾞﾑｼﾀﾋﾞﾝ点滴静注用「ﾔｸﾙﾄ」（溶解液:生食）（先:ｼﾞｪﾑｻﾞｰﾙ）","4224403D2061","注射","３０ 分で",1000,"㎡","mg",null,"d1,8",{"$f":"IFERROR(VLOOKUP(__レジメンマスタ[[#This Row],[YJコード③]],[1]!__前投薬リスト[#Data],4,FALSE)&\"\",\"\")","v":""},"8コース",null,null,null,null,null,null,null,null,null,null,{"$f":"IFERROR(VLOOKUP(__レジメンマスタ[[#This Row],[YJコード④]],[1]!__前投薬リスト[#Data],4,FALSE)&\"\",\"\")","v":""},null,null,null,null,null,null,null,null,null,null,null,{"$f":"IFERROR(VLOOKUP(__レジメンマスタ[[#This Row],[YJコード⑤]],[1]!__前投薬リスト[#Data],4,FALSE)&\"\",\"\")","v":""},null,null,null,null,null,null,null,null,null,null,null,{"$f":"IFERROR(VLOOKUP(__レジメンマスタ[[#This Row],[YJコード⑥]],[1]!__前投薬リスト[#Data],4,FALSE)&\"\",\"\")","v":""},null,null,null,null,null,null,null,null,null,null,null,{"$f":"IFERROR(VLOOKUP(__レジメンマスタ[[#This Row],[YJコード⑦]],[1]!__前投薬リスト[#Data],4,FALSE)&\"\",\"\")","v":""}]
["SUR0132-12","GC+イミフィンジ（体重30kg以下）","　　　　　W1  　　　　　 W2  　　　　　　W3 \nDur　↓××××××　××××××× ×××××××  　\nCDDP ↓××××××  ↓×××××× ××××××× \nGEM  ↓××××××  ↓×××××× ×××××××\nGEM：溶解液確認→Tzで行う方針の場合はTzへ変更 \n最大8コースまで、その後はイミフィンジのみ4週間毎で継続","21日→28日","∞","胆嚢・胆管癌","外科","イミフィンジ","危 500mg/10mL ｲﾐﾌｨﾝｼﾞ点滴静注（希釈液:生食orTZ）","4291443A2020","注射","６０ 分で",20,"kg","mg",null,"d1",{"$f":"IFERROR(VLOOKUP(__レジメンマスタ[[#This Row],[YJコード①]],[1]!__前投薬リスト[#Data],4,FALSE)&\"\",\"\")","v":""},"∞","シスプラチン","危〈毒〉10mg/20mL ｼｽﾌﾟﾗﾁﾝ点滴静注「ﾏﾙｺ」（先:ﾗﾝﾀﾞ）","4291401A1119","注射","２  時間で",25,"㎡","mg",null,"d1,8",{"$f":"IFERROR(VLOOKUP(__レジメンマスタ[[#This Row],[YJコード②]],[1]!__前投薬リスト[#Data],4,FALSE)&\"\",\"\")","v":""},"8コース","ゲムシタビン","危 1g ｹﾞﾑｼﾀﾋﾞﾝ点滴静注用「ﾔｸﾙﾄ」（溶解液:生食）（先:ｼﾞｪﾑｻﾞｰﾙ）","4224403D2061","注射","３０ 分で",1000,"㎡","mg",null,"d1,8",{"$f":"IFERROR(VLOOKUP(__レジメンマスタ[[#This Row],[YJコード③]],[1]!__前投薬リスト[#Data],4,FALSE)&\"\",\"\")","v":""},"8コース",null,null,null,null,null,null,null,null,null,null,{"$f":"IFERROR(VLOOKUP(__レジメンマスタ[[#This Row],[YJコード④]],[1]!__前投薬リスト[#Data],4,FALSE)&\"\",\"\")","v":""},null,null,null,null,null,null,null,null,null,null,null,{"$f":"IFERROR(VLOOKUP(__レジメンマスタ[[#This Row],[YJコード⑤]],[1]!__前投薬リスト[#Data],4,FALSE)&\"\",\"\")","v":""},null,null,null,null,null,null,null,null,null,null,null,{"$f":"IFERROR(VLOOKUP(__レジメンマスタ[[#This Row],[YJコード⑥]],[1]!__前投薬リスト[#Data],4,FALSE)&\"\",\"\")","v":""},null,null,null,null,null,null,null,null,null,null,null,{"$f":"IFERROR(VLOOKUP(__レジメンマスタ[[#This Row],[YJコード⑦]],[1]!__前投薬リスト[#Data],4,FALSE)&\"\",\"\")","v":""}]
["SUR0133","PTX","臓器横断８へ移行",null,null,"血管肉腫","外科",null,null,null,"注射",null,null,null,null,null,null,{"$f":"IFERROR(VLOOKUP(__レジメンマスタ[[#This Row],[YJコード①]],[1]!__前投薬リスト[#Data],4,FALSE)&\"\",\"\")","v":""},null,null,null,null,null,null,null,null,null,null,null,{"$f":"IFERROR(VLOOKUP(__レジメンマスタ[[#This Row],[YJコード②]],[1]!__前投薬リスト[#Data],4,FALSE)&\"\",\"\")","v":""},null,null,null,null,null,null,null,null,null,null,null,{"$f":"IFERROR(VLOOKUP(__レジメンマスタ[[#This Row],[YJコード③]],[1]!__前投薬リスト[#Data],4,FALSE)&\"\",\"\")","v":""},null,null,null,null,null,null,null,null,null,null,null,{"$f":"IFERROR(VLOOKUP(__レジメンマスタ[[#This Row],[YJコード④]],[1]!__前投薬リスト[#Data],4,FALSE)&\"\",\"\")","v":""},null,null,null,null,null,null,null,null,null,null,null,{"$f":"IFERROR(VLOOKUP(__レジメンマスタ[[#This Row],[YJコード⑤]],[1]!__前投薬リスト[#Data],4,FALSE)&\"\",\"\")","v":""},null,null,null,null,null,null,null,null,null,null,null,{"$f":"IFERROR(VLOOKUP(__レジメンマスタ[[#This Row],[YJコード⑥]],[1]!__前投薬リスト[#Data],4,FALSE)&\"\",\"\")","v":""},null,null,null,null,null,null,null,null,null,null,null,{"$f":"IFERROR(VLOOKUP(__レジメンマスタ[[#This Row],[YJコード⑦]],[1]!__前投薬リスト[#Data],4,FALSE)&\"\",\"\")","v":""}]
["SUR0134-1","イミフィンジ","　　　　　W1　　　    W2～W4\nDur ↓××××××  ××××××\n4週間毎","28日","∞","肝臓癌","外科","イミフィンジ","危 500mg/10mL ｲﾐﾌｨﾝｼﾞ点滴静注（希釈液:生食orTZ）","4291443A2020","注射","６０ 分で",1500,"BODY","mg",null,"d1",{"$f":"IFERROR(VLOOKUP(__レジメンマスタ[[#This Row],[YJコード①]],[1]!__前投薬リスト[#Data],4,FALSE)&\"\",\"\")","v":""},null,null,null,null,null,null,null,null,null,null,null,{"$f":"IFERROR(VLOOKUP(__レジメンマスタ[[#This Row],[YJコード②]],[1]!__前投薬リスト[#Data],4,FALSE)&\"\",\"\")","v":""},null,null,null,null,null,null,null,null,null,null,null,{"$f":"IFERROR(VLOOKUP(__レジメンマスタ[[#This Row],[YJコード③]],[1]!__前投薬リスト[#Data],4,FALSE)&\"\",\"\")","v":""},null,null,null,null,null,null,null,null,null,null,null,{"$f":"IFERROR(VLOOKUP(__レジメンマスタ[[#This Row],[YJコード④]],[1]!__前投薬リスト[#Data],4,FALSE)&\"\",\"\")","v":""},null,null,null,null,null,null,null,null,null,null,null,{"$f":"IFERROR(VLOOKUP(__レジメンマスタ[[#This Row],[YJコード⑤]],[1]!__前投薬リスト[#Data],4,FALSE)&\"\",\"\")","v":""},null,null,null,null,null,null,null,null,null,null,null,{"$f":"IFERROR(VLOOKUP(__レジメンマスタ[[#This Row],[YJコード⑥]],[1]!__前投薬リスト[#Data],4,FALSE)&\"\",\"\")","v":""},null,null,null,null,null,null,null,null,null,null,null,{"$f":"IFERROR(VLOOKUP(__レジメンマスタ[[#This Row],[YJコード⑦]],[1]!__前投薬リスト[#Data],4,FALSE)&\"\",\"\")","v":""}]
["SUR0134-2","イミフィンジ（体重30kg以下）","　　　　　W1　　　    W2～W4\nDur ↓××××××  ××××××\n4週間毎","28日","∞","肝臓癌","外科","イミフィンジ","危 500mg/10mL ｲﾐﾌｨﾝｼﾞ点滴静注（希釈液:生食orTZ）","4291443A2020","注射","６０ 分で",20,"kg","mg",null,"d1",{"$f":"IFERROR(VLOOKUP(__レジメンマスタ[[#This Row],[YJコード①]],[1]!__前投薬リスト[#Data],4,FALSE)&\"\",\"\")","v":""},null,null,null,null,null,null,null,null,null,null,null,{"$f":"IFERROR(VLOOKUP(__レジメンマスタ[[#This Row],[YJコード②]],[1]!__前投薬リスト[#Data],4,FALSE)&\"\",\"\")","v":""},null,null,null,null,null,null,null,null,null,null,null,{"$f":"IFERROR(VLOOKUP(__レジメンマスタ[[#This Row],[YJコード③]],[1]!__前投薬リスト[#Data],4,FALSE)&\"\",\"\")","v":""},null,null,null,null,null,null,null,null,null,null,null,{"$f":"IFERROR(VLOOKUP(__レジメンマスタ[[#This Row],[YJコード④]],[1]!__前投薬リスト[#Data],4,FALSE)&\"\",\"\")","v":""},null,null,null,null,null,null,null,null,null,null,null,{"$f":"IFERROR(VLOOKUP(__レジメンマスタ[[#This Row],[YJコード⑤]],[1]!__前投薬リスト[#Data],4,FALSE)&\"\",\"\")","v":""},null,null,null,null,null,null,null,null,null,null,null,{"$f":"IFERROR(VLOOKUP(__レジメンマスタ[[#This Row],[YJコード⑥]],[1]!__前投薬リスト[#Data],4,FALSE)&\"\",\"\")","v":""},null,null,null,null,null,null,null,null,null,null,null,{"$f":"IFERROR(VLOOKUP(__レジメンマスタ[[#This Row],[YJコード⑦]],[1]!__前投薬リスト[#Data],4,FALSE)&\"\",\"\")","v":""}]
["SUR0135-01","イジュド＋イミフィンジ（肝細胞癌）","　　　　　　　W1  　　　 W2～4  　  　\nTrem　(↓)×××××× ×××××××  \nDur 　 ↓ ×××××× ×××××××  \nｲｼﾞｭﾄﾞは初回のみ併用、その後はイミフィンジのみ（4週間毎）","28日","∞","肝臓癌","消化器内科","臨）イジュド","危 臨）25mg/1.25mL ｲｼﾞｭﾄﾞ点滴静注（希釈液:生食orTZ）","4291465A1020","注射","６０ 分で",300,"BODY","mg",null,"d1",{"$f":"IFERROR(VLOOKUP(__レジメンマスタ[[#This Row],[YJコード①]],[1]!__前投薬リスト[#Data],4,FALSE)&\"\",\"\")","v":""},null,"イミフィンジ","危 500mg/10mL ｲﾐﾌｨﾝｼﾞ点滴静注（希釈液:生食orTZ）","4291443A2020","注射","６０ 分で",1500,"BODY","mg",null,"d1",{"$f":"IFERROR(VLOOKUP(__レジメンマスタ[[#This Row],[YJコード②]],[1]!__前投薬リスト[#Data],4,FALSE)&\"\",\"\")","v":""},null,null,null,null,null,null,null,null,null,null,null,{"$f":"IFERROR(VLOOKUP(__レジメンマスタ[[#This Row],[YJコード③]],[1]!__前投薬リスト[#Data],4,FALSE)&\"\",\"\")","v":""},null,null,null,null,null,null,null,null,null,null,null,{"$f":"IFERROR(VLOOKUP(__レジメンマスタ[[#This Row],[YJコード④]],[1]!__前投薬リスト[#Data],4,FALSE)&\"\",\"\")","v":""},null,null,null,null,null,null,null,null,null,null,null,{"$f":"IFERROR(VLOOKUP(__レジメンマスタ[[#This Row],[YJコード⑤]],[1]!__前投薬リスト[#Data],4,FALSE)&\"\",\"\")","v":""},null,null,null,null,null,null,null,null,null,null,null,{"$f":"IFERROR(VLOOKUP(__レジメンマスタ[[#This Row],[YJコード⑥]],[1]!__前投薬リスト[#Data],4,FALSE)&\"\",\"\")","v":""},null,null,null,null,null,null,null,null,null,null,null,{"$f":"IFERROR(VLOOKUP(__レジメンマスタ[[#This Row],[YJコード⑦]],[1]!__前投薬リスト[#Data],4,FALSE)&\"\",\"\")","v":""}]
["SUR0135-02","イジュド＋イミフィンジ（体重30kg以下、肝細胞癌）","　　　　　　　W1  　　　 W2～4  　  　\nTrem　(↓)×××××× ×××××××  \nDur 　 ↓ ×××××× ×××××××  \nｲｼﾞｭﾄﾞは初回のみ併用、その後はイミフィンジのみ（4週間毎）","28日","∞","肝臓癌","消化器内科","臨）イジュド","危 臨）25mg/1.25mL ｲｼﾞｭﾄﾞ点滴静注（希釈液:生食orTZ）","4291465A1020","注射","６０ 分で",4,"kg","mg",null,"d1",{"$f":"IFERROR(VLOOKUP(__レジメンマスタ[[#This Row],[YJコード①]],[1]!__前投薬リスト[#Data],4,FALSE)&\"\",\"\")","v":""},null,"イミフィンジ","危 500mg/10mL ｲﾐﾌｨﾝｼﾞ点滴静注（希釈液:生食orTZ）","4291443A2020","注射","６０ 分で",20,"kg","mg",null,"d1",{"$f":"IFERROR(VLOOKUP(__レジメンマスタ[[#This Row],[YJコード②]],[1]!__前投薬リスト[#Data],4,FALSE)&\"\",\"\")","v":""},null,null,null,null,null,null,null,null,null,null,null,{"$f":"IFERROR(VLOOKUP(__レジメンマスタ[[#This Row],[YJコード③]],[1]!__前投薬リスト[#Data],4,FALSE)&\"\",\"\")","v":""},null,null,null,null,null,null,null,null,null,null,null,{"$f":"IFERROR(VLOOKUP(__レジメンマスタ[[#This Row],[YJコード④]],[1]!__前投薬リスト[#Data],4,FALSE)&\"\",\"\")","v":""},null,null,null,null,null,null,null,null,null,null,null,{"$f":"IFERROR(VLOOKUP(__レジメンマスタ[[#This Row],[YJコード⑤]],[1]!__前投薬リスト[#Data],4,FALSE)&\"\",\"\")","v":""},null,null,null,null,null,null,null,null,null,null,null,{"$f":"IFERROR(VLOOKUP(__レジメンマスタ[[#This Row],[YJコード⑥]],[1]!__前投薬リスト[#Data],4,FALSE)&\"\",\"\")","v":""},null,null,null,null,null,null,null,null,null,null,null,{"$f":"IFERROR(VLOOKUP(__レジメンマスタ[[#This Row],[YJコード⑦]],[1]!__前投薬リスト[#Data],4,FALSE)&\"\",\"\")","v":""}]
["SUR0136","FOLFOX（小腸癌）","　　　　　  Ｗ1 　　　 　Ｗ2　　　　\nl-LV    ↓×××××× ××××××× \nL-OHP   ↓×××××× ×××××××  \nFU bls  ↓×××××× ××××××× \nFU conc ↓×××××× ××××××× \n2週間毎\n★インフューザーポンプ使用時は２．５ｍｌ／ｈｒに輸液量を調製","14日","∞","小腸癌","血液内科","レボホリナート","危 100mg ﾚﾎﾞﾎﾘﾅｰﾄ点滴静注用「ﾔｸﾙﾄ」（先:ｱｲｿﾎﾞﾘﾝ）","3929407D2060","注射","２ 時間で",200,"㎡","mg",null,"d1",{"$f":"IFERROR(VLOOKUP(__レジメンマスタ[[#This Row],[YJコード①]],[1]!__前投薬リスト[#Data],4,FALSE)&\"\",\"\")","v":""},null,"オキサリプラチン","危〈毒〉100㎎/20mL ｵｷｻﾘﾌﾟﾗﾁﾝ点滴静注液「NK」（先:ｴﾙﾌﾟﾗｯﾄ）","4291410A2092","注射","２ 時間で",85,"㎡","mg",null,"d1",{"$f":"IFERROR(VLOOKUP(__レジメンマスタ[[#This Row],[YJコード②]],[1]!__前投薬リスト[#Data],4,FALSE)&\"\",\"\")","v":""},null,"フルオロウラシル","危 1000mg/20mL ﾌﾙｵﾛｳﾗｼﾙ注「ﾄｰﾜ」（先:5-FU）","4223401A3030","注射","１５ 分で",400,"㎡","mg",null,"d1",{"$f":"IFERROR(VLOOKUP(__レジメンマスタ[[#This Row],[YJコード③]],[1]!__前投薬リスト[#Data],4,FALSE)&\"\",\"\")","v":""},null,"フルオロウラシル","危 1000mg/20mL ﾌﾙｵﾛｳﾗｼﾙ注「ﾄｰﾜ」（先:5-FU）","4223401A3030","注射","４６時間で",2400,"㎡","mg",null,"d1(46hr)",{"$f":"IFERROR(VLOOKUP(__レジメンマスタ[[#This Row],[YJコード④]],[1]!__前投薬リスト[#Data],4,FALSE)&\"\",\"\")","v":""},null,null,null,null,null,null,null,null,null,null,null,{"$f":"IFERROR(VLOOKUP(__レジメンマスタ[[#This Row],[YJコード⑤]],[1]!__前投薬リスト[#Data],4,FALSE)&\"\",\"\")","v":""},null,null,null,null,null,null,null,null,null,null,null,{"$f":"IFERROR(VLOOKUP(__レジメンマスタ[[#This Row],[YJコード⑥]],[1]!__前投薬リスト[#Data],4,FALSE)&\"\",\"\")","v":""},null,null,null,null,null,null,null,null,null,null,null,{"$f":"IFERROR(VLOOKUP(__レジメンマスタ[[#This Row],[YJコード⑦]],[1]!__前投薬リスト[#Data],4,FALSE)&\"\",\"\")","v":""}]
["SUR0137","【適応外】CAPOX（小腸癌）","　　　　　　Ｗ1　　　　　　Ｗ2　　　　 Ｗ3　　　　　　\nL-OHP　↓××××××　×××××××　×××××××\nCape　　↓↓↓↓↓↓↓　↓↓↓↓↓↓↓　×××××××\nL-OHP：3週間毎、Cape:2週間内服、1週間休薬。\n","21日","∞","小腸癌","外科","オキサリプラチン","危〈毒〉100㎎/20mL ｵｷｻﾘﾌﾟﾗﾁﾝ点滴静注液「NK」（先:ｴﾙﾌﾟﾗｯﾄ）","4291410A2092","注射","２ 時間で",130,"㎡","mg",null,"d1",{"$f":"IFERROR(VLOOKUP(__レジメンマスタ[[#This Row],[YJコード①]],[1]!__前投薬リスト[#Data],4,FALSE)&\"\",\"\")","v":""},null,"カペシタビン",null,"4223005F1065","経口",null,1500,"㎡","mg",null,"d1-14",{"$f":"IFERROR(VLOOKUP(__レジメンマスタ[[#This Row],[YJコード②]],[1]!__前投薬リスト[#Data],4,FALSE)&\"\",\"\")","v":""},null,null,null,null,null,null,null,null,null,null,null,{"$f":"IFERROR(VLOOKUP(__レジメンマスタ[[#This Row],[YJコード③]],[1]!__前投薬リスト[#Data],4,FALSE)&\"\",\"\")","v":""},null,null,null,null,null,null,null,null,null,null,null,{"$f":"IFERROR(VLOOKUP(__レジメンマスタ[[#This Row],[YJコード④]],[1]!__前投薬リスト[#Data],4,FALSE)&\"\",\"\")","v":""},null,null,null,null,null,null,null,null,null,null,null,{"$f":"IFERROR(VLOOKUP(__レジメンマスタ[[#This Row],[YJコード⑤]],[1]!__前投薬リスト[#Data],4,FALSE)&\"\",\"\")","v":""},null,null,null,null,null,null,null,null,null,null,null,{"$f":"IFERROR(VLOOKUP(__レジメンマスタ[[#This Row],[YJコード⑥]],[1]!__前投薬リスト[#Data],4,FALSE)&\"\",\"\")","v":""},null,null,null,null,null,null,null,null,null,null,null,{"$f":"IFERROR(VLOOKUP(__レジメンマスタ[[#This Row],[YJコード⑦]],[1]!__前投薬リスト[#Data],4,FALSE)&\"\",\"\")","v":""}]
["SUR0138","【適応外】CBDCA+PTX","　　　　　　 W1　　　　　　W2　　　　　W3　　　      W4\nCBDCA↓×××××× ××××××× ××××××× ×××××××\nPTX　↓×××××× ↓×××××× ↓×××××× ×××××××\n6コースを目安に\n","28日","6コース","肛門管癌","消化器内科","カルボプラチン","危〈毒〉ｶﾙﾎﾞﾌﾟﾗﾁﾝ点滴静注液「NK」150mg/15mL（先:ﾊﾟﾗﾌﾟﾗﾁﾝ）","4291403A2092","注射","１ 時間で",5,"AUC","mg",null,"d1",{"$f":"IFERROR(VLOOKUP(__レジメンマスタ[[#This Row],[YJコード①]],[1]!__前投薬リスト[#Data],4,FALSE)&\"\",\"\")","v":""},null,"パクリタキセル","危〈毒〉100mg/16.7mL ﾊﾟｸﾘﾀｷｾﾙ注「NK」（希釈液:生食orTZ）（先:ﾀｷｿｰﾙ）","4240406A2046","注射","１ 時間で",80,"㎡","mg",null,"d1,8,15",{"$f":"IFERROR(VLOOKUP(__レジメンマスタ[[#This Row],[YJコード②]],[1]!__前投薬リスト[#Data],4,FALSE)&\"\",\"\")","v":"抗ヒス,H2B,ステ"},null,null,null,null,null,null,null,null,null,null,null,{"$f":"IFERROR(VLOOKUP(__レジメンマスタ[[#This Row],[YJコード③]],[1]!__前投薬リスト[#Data],4,FALSE)&\"\",\"\")","v":""},null,null,null,null,null,null,null,null,null,null,null,{"$f":"IFERROR(VLOOKUP(__レジメンマスタ[[#This Row],[YJコード④]],[1]!__前投薬リスト[#Data],4,FALSE)&\"\",\"\")","v":""},null,null,null,null,null,null,null,null,null,null,null,{"$f":"IFERROR(VLOOKUP(__レジメンマスタ[[#This Row],[YJコード⑤]],[1]!__前投薬リスト[#Data],4,FALSE)&\"\",\"\")","v":""},null,null,null,null,null,null,null,null,null,null,null,{"$f":"IFERROR(VLOOKUP(__レジメンマスタ[[#This Row],[YJコード⑥]],[1]!__前投薬リスト[#Data],4,FALSE)&\"\",\"\")","v":""},null,null,null,null,null,null,null,null,null,null,null,{"$f":"IFERROR(VLOOKUP(__レジメンマスタ[[#This Row],[YJコード⑦]],[1]!__前投薬リスト[#Data],4,FALSE)&\"\",\"\")","v":""}]
["SUR0139","CAPOX+ゾルベツキシマブ","　　　　　　Ｗ1　　　　　　Ｗ2　　　　  　 Ｗ3\nZOL　　↓××××××　×××××××　×××××××　　　　\nL-OHP　↓××××××　×××××××　×××××××\nCape　 ↓↓↓↓↓↓↓　↓↓↓↓↓↓↓　×××××××\nZOL、L-OHP：3週間毎、Cape:2週間内服、1週間休薬。\nCape1回量：1.36㎡未満＝1200mg,1.36~1.66㎡未満=1500mg,1.66~1.96㎡未満=1800mg,1.96㎡以上＝2100mg\nCCｒ＝51～80 ml/min：減量不要\nCCｒ＝30～50ml/min：一段階減量（75％用量）用量は添付文書確認\nCCｒ＝30ml/min:投与禁忌\n※ビロイは2本に分かれています。合計量で投与量を確認","21日","∞","胃癌","外科","臨）ビロイ（初回）","危 臨）ﾋﾞﾛｲ点滴静注用 100mg（溶解液:Aq、希釈液:生食）","4291471D1021","注射","２時間以上かけて",800,"㎡","mg",null,"d1(1C)",{"$f":"IFERROR(VLOOKUP(__レジメンマスタ[[#This Row],[YJコード①]],[1]!__前投薬リスト[#Data],4,FALSE)&\"\",\"\")","v":""},null,"臨）ビロイ（2回目～）","危 臨）ﾋﾞﾛｲ点滴静注用 100mg（溶解液:Aq、希釈液:生食）","4291471D1021","注射","２  時間で",600,"㎡","mg",null,"d1(2C～)",{"$f":"IFERROR(VLOOKUP(__レジメンマスタ[[#This Row],[YJコード②]],[1]!__前投薬リスト[#Data],4,FALSE)&\"\",\"\")","v":""},null,"オキサリプラチン","危〈毒〉100㎎/20mL ｵｷｻﾘﾌﾟﾗﾁﾝ点滴静注液「NK」（先:ｴﾙﾌﾟﾗｯﾄ）","4291410A2092","注射","２ 時間で",130,"㎡","mg",null,"d1",{"$f":"IFERROR(VLOOKUP(__レジメンマスタ[[#This Row],[YJコード③]],[1]!__前投薬リスト[#Data],4,FALSE)&\"\",\"\")","v":""},null,"カペシタビン",null,"4223005F1065","経口",null,2000,"㎡","mg",null,"d1-14",{"$f":"IFERROR(VLOOKUP(__レジメンマスタ[[#This Row],[YJコード④]],[1]!__前投薬リスト[#Data],4,FALSE)&\"\",\"\")","v":""},null,null,null,null,null,null,null,null,null,null,null,{"$f":"IFERROR(VLOOKUP(__レジメンマスタ[[#This Row],[YJコード⑤]],[1]!__前投薬リスト[#Data],4,FALSE)&\"\",\"\")","v":""},null,null,null,null,null,null,null,null,null,null,null,{"$f":"IFERROR(VLOOKUP(__レジメンマスタ[[#This Row],[YJコード⑥]],[1]!__前投薬リスト[#Data],4,FALSE)&\"\",\"\")","v":""},null,null,null,null,null,null,null,null,null,null,null,{"$f":"IFERROR(VLOOKUP(__レジメンマスタ[[#This Row],[YJコード⑦]],[1]!__前投薬リスト[#Data],4,FALSE)&\"\",\"\")","v":""}]
["SUR0140-01","GC＋キイトルーダ","              W1            W2            W3\nPembro ↓×××××× ××××××× ×××××××  \nCDDP　 ↓×××××× ↓×××××× ×××××××  \nGEM　　↓×××××× ↓×××××× ×××××××        \n    GEM：溶解液確認→Tzで行う方針の場合はTzへ変更          \n 1クール3週間、CDDPは最大８コースまで\nその後はキイトルーダ＋GEMのみ継続","21日","8コース","胆嚢・胆管癌","外科","キイトルーダ","危 ｷｲﾄﾙｰﾀﾞ点滴静注 100mg/4mL（希釈液:生食orTZ）","4291435A2025","注射","３０ 分で",200,"BODY","mg",null,"d1",{"$f":"IFERROR(VLOOKUP(__レジメンマスタ[[#This Row],[YJコード①]],[1]!__前投薬リスト[#Data],4,FALSE)&\"\",\"\")","v":""},"∞","シスプラチン","危〈毒〉50mg/100mL ｼｽﾌﾟﾗﾁﾝ点滴静注「ﾏﾙｺ」（先:ﾗﾝﾀﾞ）","4291401A3111","注射","２  時間で",25,"㎡","mg",null,"d1,8",{"$f":"IFERROR(VLOOKUP(__レジメンマスタ[[#This Row],[YJコード②]],[1]!__前投薬リスト[#Data],4,FALSE)&\"\",\"\")","v":""},"8コース","ゲムシタビン","危 1g ｹﾞﾑｼﾀﾋﾞﾝ点滴静注用「ﾔｸﾙﾄ」（溶解液:生食）（先:ｼﾞｪﾑｻﾞｰﾙ）","4224403D2061","注射","３０ 分で",1000,"㎡","mg",null,"d1,8",{"$f":"IFERROR(VLOOKUP(__レジメンマスタ[[#This Row],[YJコード③]],[1]!__前投薬リスト[#Data],4,FALSE)&\"\",\"\")","v":""},"∞",null,null,null,null,null,null,null,null,null,null,{"$f":"IFERROR(VLOOKUP(__レジメンマスタ[[#This Row],[YJコード④]],[1]!__前投薬リスト[#Data],4,FALSE)&\"\",\"\")","v":""},null,null,null,null,null,null,null,null,null,null,null,{"$f":"IFERROR(VLOOKUP(__レジメンマスタ[[#This Row],[YJコード⑤]],[1]!__前投薬リスト[#Data],4,FALSE)&\"\",\"\")","v":""},null,null,null,null,null,null,null,null,null,null,null,{"$f":"IFERROR(VLOOKUP(__レジメンマスタ[[#This Row],[YJコード⑥]],[1]!__前投薬リスト[#Data],4,FALSE)&\"\",\"\")","v":""},null,null,null,null,null,null,null,null,null,null,null,{"$f":"IFERROR(VLOOKUP(__レジメンマスタ[[#This Row],[YJコード⑦]],[1]!__前投薬リスト[#Data],4,FALSE)&\"\",\"\")","v":""}]
["SUR0141","CAPOX+ペムブロリズマブ","　　　　　　Ｗ1　　　　　　Ｗ2　　　　  　 Ｗ3\nPembr　↓××××××　×××××××　×××××××　　　　\nL-OHP　↓××××××　×××××××　×××××××\nCape　 ↓↓↓↓↓↓↓　↓↓↓↓↓↓↓　×××××××\nキイトルーダ、L-OHP：3週間毎、Cape:2週間内服、1週間休薬\n※オキサリプラチンは6コースまで\nその後はキイトルーダ＋カペシタビンのみ継続\nCape1回量：1.36㎡未満＝1200mg,1.36~1.66㎡未満=1500mg,1.66~1.96㎡未満=1800mg,1.96㎡以上＝2100mg\nCCｒ＝51～80 ml/min：減量不要\nCCｒ＝30～50ml/min：一段階減量（75％用量）用量は添付文書確認\nCCｒ＝30ml/min:投与禁忌\n\n","21日","6コース","胃癌","外科","キイトルーダ","危 ｷｲﾄﾙｰﾀﾞ点滴静注 100mg/4mL（希釈液:生食orTZ）","4291435A2025","注射","３０ 分で",200,"BODY","mg",null,"d1",{"$f":"IFERROR(VLOOKUP(__レジメンマスタ[[#This Row],[YJコード①]],[1]!__前投薬リスト[#Data],4,FALSE)&\"\",\"\")","v":""},"∞","オキサリプラチン","危〈毒〉100㎎/20mL ｵｷｻﾘﾌﾟﾗﾁﾝ点滴静注液「NK」（先:ｴﾙﾌﾟﾗｯﾄ）","4291410A2092","注射","２ 時間で",130,"㎡","mg",null,"d1",{"$f":"IFERROR(VLOOKUP(__レジメンマスタ[[#This Row],[YJコード②]],[1]!__前投薬リスト[#Data],4,FALSE)&\"\",\"\")","v":""},"6回","カペシタビン",null,"4223005F1065","経口",null,2000,"㎡","mg",null,"d1-14",{"$f":"IFERROR(VLOOKUP(__レジメンマスタ[[#This Row],[YJコード③]],[1]!__前投薬リスト[#Data],4,FALSE)&\"\",\"\")","v":""},"∞",null,null,null,null,null,null,null,null,null,null,{"$f":"IFERROR(VLOOKUP(__レジメンマスタ[[#This Row],[YJコード④]],[1]!__前投薬リスト[#Data],4,FALSE)&\"\",\"\")","v":""},null,null,null,null,null,null,null,null,null,null,null,{"$f":"IFERROR(VLOOKUP(__レジメンマスタ[[#This Row],[YJコード⑤]],[1]!__前投薬リスト[#Data],4,FALSE)&\"\",\"\")","v":""},null,null,null,null,null,null,null,null,null,null,null,{"$f":"IFERROR(VLOOKUP(__レジメンマスタ[[#This Row],[YJコード⑥]],[1]!__前投薬リスト[#Data],4,FALSE)&\"\",\"\")","v":""},null,null,null,null,null,null,null,null,null,null,null,{"$f":"IFERROR(VLOOKUP(__レジメンマスタ[[#This Row],[YJコード⑦]],[1]!__前投薬リスト[#Data],4,FALSE)&\"\",\"\")","v":""}]
["SUR0142","【適応外】FOLFOX+BEV（小腸癌）","　　　　　  Ｗ1 　　　 　Ｗ2　　　　\nBev     ↓×××××× ××××××× \nl-LV    ↓×××××× ××××××× \nL-OHP   ↓×××××× ×××××××  \nFU bls  ↓×××××× ××××××× \nFU conc ↓×××××× ××××××× \n2週間毎\n★インフューザーポンプ使用時は２．５ｍｌ／ｈｒに輸液量を調製","14日","∞","小腸癌","血液内科","ベバシズマブ","危 400mg/16mL ﾍﾞﾊﾞｼｽﾞﾏﾌﾞBS点滴静注「CTNK」（希釈液:生食）（先:ｱﾊﾞｽﾁﾝ）","4291463A2027","注射","初回９０分、２回目６０分、３回目～３０分",5,"kg","mg",null,"d1",{"$f":"IFERROR(VLOOKUP(__レジメンマスタ[[#This Row],[YJコード①]],[1]!__前投薬リスト[#Data],4,FALSE)&\"\",\"\")","v":""},null,"レボホリナート","危 100mg ﾚﾎﾞﾎﾘﾅｰﾄ点滴静注用「ﾔｸﾙﾄ」（先:ｱｲｿﾎﾞﾘﾝ）","3929407D2060","注射","２ 時間で",200,"㎡","mg",null,"d1",{"$f":"IFERROR(VLOOKUP(__レジメンマスタ[[#This Row],[YJコード②]],[1]!__前投薬リスト[#Data],4,FALSE)&\"\",\"\")","v":""},null,"オキサリプラチン","危〈毒〉100㎎/20mL ｵｷｻﾘﾌﾟﾗﾁﾝ点滴静注液「NK」（先:ｴﾙﾌﾟﾗｯﾄ）","4291410A2092","注射","２ 時間で",85,"㎡","mg",null,"d1",{"$f":"IFERROR(VLOOKUP(__レジメンマスタ[[#This Row],[YJコード③]],[1]!__前投薬リスト[#Data],4,FALSE)&\"\",\"\")","v":""},null,"フルオロウラシル","危 1000mg/20mL ﾌﾙｵﾛｳﾗｼﾙ注「ﾄｰﾜ」（先:5-FU）","4223401A3030","注射","１５ 分で",400,"㎡","mg",null,"d1",{"$f":"IFERROR(VLOOKUP(__レジメンマスタ[[#This Row],[YJコード④]],[1]!__前投薬リスト[#Data],4,FALSE)&\"\",\"\")","v":""},null,"フルオロウラシル","危 1000mg/20mL ﾌﾙｵﾛｳﾗｼﾙ注「ﾄｰﾜ」（先:5-FU）","4223401A3030","注射","４６時間で",2400,"㎡","mg",null,"d1(46hr)",{"$f":"IFERROR(VLOOKUP(__レジメンマスタ[[#This Row],[YJコード⑤]],[1]!__前投薬リスト[#Data],4,FALSE)&\"\",\"\")","v":""},null,null,null,null,null,null,null,null,null,null,null,{"$f":"IFERROR(VLOOKUP(__レジメンマスタ[[#This Row],[YJコード⑥]],[1]!__前投薬リスト[#Data],4,FALSE)&\"\",\"\")","v":""},null,null,null,null,null,null,null,null,null,null,null,{"$f":"IFERROR(VLOOKUP(__レジメンマスタ[[#This Row],[YJコード⑦]],[1]!__前投薬リスト[#Data],4,FALSE)&\"\",\"\")","v":""}]
["SUR0143","【適応外】FOLFIRI+BEV（小腸癌）","　　　　　  Ｗ1 　　　 　Ｗ2　　　　\nBev     ↓×××××× ××××××× \nl-LV    ↓×××××× ××××××× \nIRI     ↓×××××× ×××××××  \nFU bls  ↓×××××× ××××××× \nFU conc ↓×××××× ××××××× \n2週間毎\n★インフューザーポンプ使用時は２．５ｍｌ／ｈｒに輸液量を調製","14日","∞","小腸癌","外科","ベバシズマブ","危 400mg/16mL ﾍﾞﾊﾞｼｽﾞﾏﾌﾞBS点滴静注「CTNK」（希釈液:生食）（先:ｱﾊﾞｽﾁﾝ）","4291463A2027","注射","初回９０分、２回目６０分、３回目～３０分",5,"kg","mg",null,"d1",{"$f":"IFERROR(VLOOKUP(__レジメンマスタ[[#This Row],[YJコード①]],[1]!__前投薬リスト[#Data],4,FALSE)&\"\",\"\")","v":""},null,"レボホリナート","危 100mg ﾚﾎﾞﾎﾘﾅｰﾄ点滴静注用「ﾔｸﾙﾄ」（先:ｱｲｿﾎﾞﾘﾝ）","3929407D2060","注射","２ 時間で",200,"㎡","mg",null,"d1",{"$f":"IFERROR(VLOOKUP(__レジメンマスタ[[#This Row],[YJコード②]],[1]!__前投薬リスト[#Data],4,FALSE)&\"\",\"\")","v":""},null,"イリノテカン","危 100mg/5mL ｲﾘﾉﾃｶﾝ塩酸塩点滴静注液「NK」（先:ﾄﾎﾟﾃｼﾝ）","4240404A2055","注射","９０ 分で",150,"㎡","mg",null,"d1",{"$f":"IFERROR(VLOOKUP(__レジメンマスタ[[#This Row],[YJコード③]],[1]!__前投薬リスト[#Data],4,FALSE)&\"\",\"\")","v":""},null,"フルオロウラシル","危 1000mg/20mL ﾌﾙｵﾛｳﾗｼﾙ注「ﾄｰﾜ」（先:5-FU）","4223401A3030","注射","１５ 分で",400,"㎡","mg",null,"d1",{"$f":"IFERROR(VLOOKUP(__レジメンマスタ[[#This Row],[YJコード④]],[1]!__前投薬リスト[#Data],4,FALSE)&\"\",\"\")","v":""},null,"フルオロウラシル","危 1000mg/20mL ﾌﾙｵﾛｳﾗｼﾙ注「ﾄｰﾜ」（先:5-FU）","4223401A3030","注射","４６時間で",2400,"㎡","mg",null,"d1(46hr)",{"$f":"IFERROR(VLOOKUP(__レジメンマスタ[[#This Row],[YJコード⑤]],[1]!__前投薬リスト[#Data],4,FALSE)&\"\",\"\")","v":""},null,null,null,null,null,null,null,null,null,null,null,{"$f":"IFERROR(VLOOKUP(__レジメンマスタ[[#This Row],[YJコード⑥]],[1]!__前投薬リスト[#Data],4,FALSE)&\"\",\"\")","v":""},null,null,null,null,null,null,null,null,null,null,null,{"$f":"IFERROR(VLOOKUP(__レジメンマスタ[[#This Row],[YJコード⑦]],[1]!__前投薬リスト[#Data],4,FALSE)&\"\",\"\")","v":""}]
["SUR0144","【適応外】CAPOX+BEV（小腸癌）","　　　　　　Ｗ1　　　　　　Ｗ2　　　　　　　 Ｗ3　　　　　　\nBEV　　↓××××××　×××××××　×××××××\nL-OHP　↓××××××　×××××××　×××××××\nCape　 ↓↓↓↓↓↓↓　↓↓↓↓↓↓↓　×××××××\nL-OHP、BEV：3週間毎、Cape:2週間内服、1週間休薬。\n","21日","∞","小腸癌","外科","ベバシズマブ","危 400mg/16mL ﾍﾞﾊﾞｼｽﾞﾏﾌﾞBS点滴静注「CTNK」（希釈液:生食）（先:ｱﾊﾞｽﾁﾝ）","4291463A2027","注射","初回９０分、２回目６０分、３回目～３０分",7.5,"kg","mg",null,"d1",{"$f":"IFERROR(VLOOKUP(__レジメンマスタ[[#This Row],[YJコード①]],[1]!__前投薬リスト[#Data],4,FALSE)&\"\",\"\")","v":""},null,"オキサリプラチン","危〈毒〉100㎎/20mL ｵｷｻﾘﾌﾟﾗﾁﾝ点滴静注液「NK」（先:ｴﾙﾌﾟﾗｯﾄ）","4291410A2092","注射","２ 時間で",130,"㎡","mg",null,"d1",{"$f":"IFERROR(VLOOKUP(__レジメンマスタ[[#This Row],[YJコード②]],[1]!__前投薬リスト[#Data],4,FALSE)&\"\",\"\")","v":""},null,"カペシタビン",null,"4223005F1065","経口",null,1500,"㎡","mg",null,"d1-14",{"$f":"IFERROR(VLOOKUP(__レジメンマスタ[[#This Row],[YJコード③]],[1]!__前投薬リスト[#Data],4,FALSE)&\"\",\"\")","v":""},null,null,null,null,null,null,null,null,null,null,null,{"$f":"IFERROR(VLOOKUP(__レジメンマスタ[[#This Row],[YJコード④]],[1]!__前投薬リスト[#Data],4,FALSE)&\"\",\"\")","v":""},null,null,null,null,null,null,null,null,null,null,null,{"$f":"IFERROR(VLOOKUP(__レジメンマスタ[[#This Row],[YJコード⑤]],[1]!__前投薬リスト[#Data],4,FALSE)&\"\",\"\")","v":""},null,null,null,null,null,null,null,null,null,null,null,{"$f":"IFERROR(VLOOKUP(__レジメンマスタ[[#This Row],[YJコード⑥]],[1]!__前投薬リスト[#Data],4,FALSE)&\"\",\"\")","v":""},null,null,null,null,null,null,null,null,null,null,null,{"$f":"IFERROR(VLOOKUP(__レジメンマスタ[[#This Row],[YJコード⑦]],[1]!__前投薬リスト[#Data],4,FALSE)&\"\",\"\")","v":""}]
["SUR0145","【適応外】FOLFIRI（小腸癌）","　　　　　  Ｗ1 　　　 　Ｗ2　　　　\nl-LV    ↓×××××× ××××××× \nIRI     ↓×××××× ×××××××  \nFU bls  ↓×××××× ××××××× \nFU conc ↓×××××× ××××××× \n2週間毎\n★インフューザーポンプ使用時は２．５ｍｌ／ｈｒに輸液量を調製","14日","∞",null,null,"レボホリナート","危 100mg ﾚﾎﾞﾎﾘﾅｰﾄ点滴静注用「ﾔｸﾙﾄ」（先:ｱｲｿﾎﾞﾘﾝ）","3929407D2060","注射","２ 時間で",200,"㎡","mg",null,"d1",{"$f":"IFERROR(VLOOKUP(__レジメンマスタ[[#This Row],[YJコード①]],[1]!__前投薬リスト[#Data],4,FALSE)&\"\",\"\")","v":""},null,"イリノテカン","危 100mg/5mL ｲﾘﾉﾃｶﾝ塩酸塩点滴静注液「NK」（先:ﾄﾎﾟﾃｼﾝ）","4240404A2055","注射","９０ 分で",150,"㎡","mg",null,"d1",{"$f":"IFERROR(VLOOKUP(__レジメンマスタ[[#This Row],[YJコード②]],[1]!__前投薬リスト[#Data],4,FALSE)&\"\",\"\")","v":""},null,"フルオロウラシル","危 1000mg/20mL ﾌﾙｵﾛｳﾗｼﾙ注「ﾄｰﾜ」（先:5-FU）","4223401A3030","注射","１５ 分で",400,"㎡","mg",null,"d1",{"$f":"IFERROR(VLOOKUP(__レジメンマスタ[[#This Row],[YJコード③]],[1]!__前投薬リスト[#Data],4,FALSE)&\"\",\"\")","v":""},null,"フルオロウラシル","危 1000mg/20mL ﾌﾙｵﾛｳﾗｼﾙ注「ﾄｰﾜ」（先:5-FU）","4223401A3030","注射","４６時間で",2400,"㎡","mg",null,"d1(46hr)",{"$f":"IFERROR(VLOOKUP(__レジメンマスタ[[#This Row],[YJコード④]],[1]!__前投薬リスト[#Data],4,FALSE)&\"\",\"\")","v":""},null,null,null,null,null,null,null,null,null,null,null,{"$f":"IFERROR(VLOOKUP(__レジメンマスタ[[#This Row],[YJコード⑤]],[1]!__前投薬リスト[#Data],4,FALSE)&\"\",\"\")","v":""},null,null,null,null,null,null,null,null,null,null,null,{"$f":"IFERROR(VLOOKUP(__レジメンマスタ[[#This Row],[YJコード⑥]],[1]!__前投薬リスト[#Data],4,FALSE)&\"\",\"\")","v":""},null,null,null,null,null,null,null,null,null,null,null,{"$f":"IFERROR(VLOOKUP(__レジメンマスタ[[#This Row],[YJコード⑦]],[1]!__前投薬リスト[#Data],4,FALSE)&\"\",\"\")","v":""}]
["SUR0146","MMC+Cape+RT","　　　　　　Ｗ1　　　　　Ｗ2～4　　　　 Ｗ5　　　　　\nMMC　 ↓××××××　×××××××　↓××××××　\nCape　↓↓↓↓↓××　↓↓↓↓↓××　×××××××\nCape：5日間内服、2日休薬（放射線治療日内服）を4回\n※カペシタビンは放射線治療に合わせて内服・休薬する\n1回量：1.31㎡未満＝900mg,1.31~1.64㎡未満=1200mg,1.64㎡以上＝1500mg\nCCｒ＝51～80 ml/min：減量不要\nCCｒ＝30～50ml/min：一段階減量（75％用量）用量は添付文書確認\nCCｒ＝30ml/min:投与禁忌","35日",null,"肛門管癌","外科","マイトマイシン","危 臨）ﾏｲﾄﾏｲｼﾝ注用 2mg（溶解液:生食）","4231400D1031","注射","１５分くらいで",10,"㎡","mg",null,"d1,29",{"$f":"IFERROR(VLOOKUP(__レジメンマスタ[[#This Row],[YJコード①]],[1]!__前投薬リスト[#Data],4,FALSE)&\"\",\"\")","v":""},null,"カペシタビン",null,"4223005F1065","経口",null,1650,"㎡","mg",null,"W1-4\n5日内服2日休",{"$f":"IFERROR(VLOOKUP(__レジメンマスタ[[#This Row],[YJコード②]],[1]!__前投薬リスト[#Data],4,FALSE)&\"\",\"\")","v":""},null,null,null,null,null,null,null,null,null,null,null,{"$f":"IFERROR(VLOOKUP(__レジメンマスタ[[#This Row],[YJコード③]],[1]!__前投薬リスト[#Data],4,FALSE)&\"\",\"\")","v":""},null,null,null,null,null,null,null,null,null,null,null,{"$f":"IFERROR(VLOOKUP(__レジメンマスタ[[#This Row],[YJコード④]],[1]!__前投薬リスト[#Data],4,FALSE)&\"\",\"\")","v":""},null,null,null,null,null,null,null,null,null,null,null,{"$f":"IFERROR(VLOOKUP(__レジメンマスタ[[#This Row],[YJコード⑤]],[1]!__前投薬リスト[#Data],4,FALSE)&\"\",\"\")","v":""},null,null,null,null,null,null,null,null,null,null,null,{"$f":"IFERROR(VLOOKUP(__レジメンマスタ[[#This Row],[YJコード⑥]],[1]!__前投薬リスト[#Data],4,FALSE)&\"\",\"\")","v":""},null,null,null,null,null,null,null,null,null,null,null,{"$f":"IFERROR(VLOOKUP(__レジメンマスタ[[#This Row],[YJコード⑦]],[1]!__前投薬リスト[#Data],4,FALSE)&\"\",\"\")","v":""}]
["SUR0147","Pembro＋SOX","　　　　　　Ｗ1　　　　　　Ｗ2　　　　 Ｗ3\nPembro ↓××××××　×××××××　×××××××　　　　　　\nL-OHP　↓××××××　×××××××　×××××××\nS-1　　↓↓↓↓↓↓↓　↓↓↓↓↓↓↓　×××××××\nPembro、L-OHP：3週間毎、S1:2週間内服、1週間休薬。\nS1：初回基準量【テガフール相当量、原則40mg/回未満には減らさない】\n1.25m2未満:40mg/回,1.25m2以上1.5m2未満:50mg/回,1.5m2以上:60mg/回\nCCr≧60：通常用量、60>CCr≧40:一段階減量,40>CCr≧30:二段階減量,\nCCr＜30：禁忌","21日","∞","胃癌","血液内科","キイトルーダ","危 ｷｲﾄﾙｰﾀﾞ点滴静注 100mg/4mL（希釈液:生食orTZ）","4291435A2025","注射","３０ 分で",200,"BODY","mg",null,"d1",{"$f":"IFERROR(VLOOKUP(__レジメンマスタ[[#This Row],[YJコード①]],[1]!__前投薬リスト[#Data],4,FALSE)&\"\",\"\")","v":""},null,"オキサリプラチン","危〈毒〉100㎎/20mL ｵｷｻﾘﾌﾟﾗﾁﾝ点滴静注液「NK」（先:ｴﾙﾌﾟﾗｯﾄ）","4291410A2092","注射","２ 時間で",130,"㎡","mg",null,"d1",{"$f":"IFERROR(VLOOKUP(__レジメンマスタ[[#This Row],[YJコード②]],[1]!__前投薬リスト[#Data],4,FALSE)&\"\",\"\")","v":""},null,"エスワン",null,"4229101F2057","経口",null,"80-120/2","BODY","mg",null,"d1-14",{"$f":"IFERROR(VLOOKUP(__レジメンマスタ[[#This Row],[YJコード③]],[1]!__前投薬リスト[#Data],4,FALSE)&\"\",\"\")","v":""},null,null,null,null,null,null,null,null,null,null,null,{"$f":"IFERROR(VLOOKUP(__レジメンマスタ[[#This Row],[YJコード④]],[1]!__前投薬リスト[#Data],4,FALSE)&\"\",\"\")","v":""},null,null,null,null,null,null,null,null,null,null,null,{"$f":"IFERROR(VLOOKUP(__レジメンマスタ[[#This Row],[YJコード⑤]],[1]!__前投薬リスト[#Data],4,FALSE)&\"\",\"\")","v":""},null,null,null,null,null,null,null,null,null,null,null,{"$f":"IFERROR(VLOOKUP(__レジメンマスタ[[#This Row],[YJコード⑥]],[1]!__前投薬リスト[#Data],4,FALSE)&\"\",\"\")","v":""},null,null,null,null,null,null,null,null,null,null,null,{"$f":"IFERROR(VLOOKUP(__レジメンマスタ[[#This Row],[YJコード⑦]],[1]!__前投薬リスト[#Data],4,FALSE)&\"\",\"\")","v":""}]
["SUR0148","FOLFOX+ゾルベツキシマブ","　　　　　  Ｗ1 　　　 　Ｗ2　　　　\nZOL     ↓×××××× ××××××× \nFOLFOX  ↓×××××× ××××××× \n2週間毎\n★インフューザーポンプ使用時は２．５ｍｌ／ｈｒに輸液量を調製\n※ビロイは2本に分かれています。合計量で投与量を確認","14日","∞","胃癌","外科","臨）ビロイ（初回）","危 臨）ﾋﾞﾛｲ点滴静注用 100mg（溶解液:Aq、希釈液:生食）","4291471D1021","注射","２時間以上かけて",800,"㎡","mg",null,"d1(1C)",{"$f":"IFERROR(VLOOKUP(__レジメンマスタ[[#This Row],[YJコード①]],[1]!__前投薬リスト[#Data],4,FALSE)&\"\",\"\")","v":""},null,"臨）ビロイ（2回目～）","危 臨）ﾋﾞﾛｲ点滴静注用 100mg（溶解液:Aq、希釈液:生食）","4291471D1021","注射","２  時間で",400,"㎡","mg",null,"d1(2C～)",{"$f":"IFERROR(VLOOKUP(__レジメンマスタ[[#This Row],[YJコード②]],[1]!__前投薬リスト[#Data],4,FALSE)&\"\",\"\")","v":""},null,"レボホリナート","危 100mg ﾚﾎﾞﾎﾘﾅｰﾄ点滴静注用「ﾔｸﾙﾄ」（先:ｱｲｿﾎﾞﾘﾝ）","3929407D2060","注射","２ 時間で",200,"㎡","mg",null,"d1",{"$f":"IFERROR(VLOOKUP(__レジメンマスタ[[#This Row],[YJコード③]],[1]!__前投薬リスト[#Data],4,FALSE)&\"\",\"\")","v":""},null,"オキサリプラチン","危〈毒〉100㎎/20mL ｵｷｻﾘﾌﾟﾗﾁﾝ点滴静注液「NK」（先:ｴﾙﾌﾟﾗｯﾄ）","4291410A2092","注射","２ 時間で",85,"㎡","mg",null,"d1",{"$f":"IFERROR(VLOOKUP(__レジメンマスタ[[#This Row],[YJコード④]],[1]!__前投薬リスト[#Data],4,FALSE)&\"\",\"\")","v":""},null,"フルオロウラシル","危 1000mg/20mL ﾌﾙｵﾛｳﾗｼﾙ注「ﾄｰﾜ」（先:5-FU）","4223401A3030","注射","１５ 分で",400,"㎡","mg",null,"d1",{"$f":"IFERROR(VLOOKUP(__レジメンマスタ[[#This Row],[YJコード⑤]],[1]!__前投薬リスト[#Data],4,FALSE)&\"\",\"\")","v":""},null,"フルオロウラシル","危 1000mg/20mL ﾌﾙｵﾛｳﾗｼﾙ注「ﾄｰﾜ」（先:5-FU）","4223401A3030","注射","４６時間で",2400,"㎡","mg",null,"d1(46hr)",{"$f":"IFERROR(VLOOKUP(__レジメンマスタ[[#This Row],[YJコード⑥]],[1]!__前投薬リスト[#Data],4,FALSE)&\"\",\"\")","v":""},null,null,null,null,null,null,null,null,null,null,null,{"$f":"IFERROR(VLOOKUP(__レジメンマスタ[[#This Row],[YJコード⑦]],[1]!__前投薬リスト[#Data],4,FALSE)&\"\",\"\")","v":""}]
["SUR0149-01","オプジーボ・ヤーボイ","ヤーボイ併用：3週間毎4回まで、その後オプジーボ単独（レジメン変更へ）\n                 W1             W2～3  \nオプジーボ ↓××××××   ×××××××   \nヤーボイ   ↓××××××   ×××××××    \n","21日","4コース","肝臓癌","消化器内科","オプジーボ","危 240mg/24mL ｵﾌﾟｼﾞｰﾎﾞ点滴静注（希釈液:生食orTZ）","4291427A3027","注射","３０ 分で",80,"BODY","mg","最小","d1",{"$f":"IFERROR(VLOOKUP(__レジメンマスタ[[#This Row],[YJコード①]],[1]!__前投薬リスト[#Data],4,FALSE)&\"\",\"\")","v":""},"∞","ヤーボイ","危 臨）50mg/10mL ﾔｰﾎﾞｲ点滴静注液","4291430A1026","注射","３０ 分で",3,"kg","mg",null,"d1",{"$f":"IFERROR(VLOOKUP(__レジメンマスタ[[#This Row],[YJコード②]],[1]!__前投薬リスト[#Data],4,FALSE)&\"\",\"\")","v":""},"4回",null,null,null,null,null,null,null,null,null,null,{"$f":"IFERROR(VLOOKUP(__レジメンマスタ[[#This Row],[YJコード③]],[1]!__前投薬リスト[#Data],4,FALSE)&\"\",\"\")","v":""},null,null,null,null,null,null,null,null,null,null,null,{"$f":"IFERROR(VLOOKUP(__レジメンマスタ[[#This Row],[YJコード④]],[1]!__前投薬リスト[#Data],4,FALSE)&\"\",\"\")","v":""},null,null,null,null,null,null,null,null,null,null,null,{"$f":"IFERROR(VLOOKUP(__レジメンマスタ[[#This Row],[YJコード⑤]],[1]!__前投薬リスト[#Data],4,FALSE)&\"\",\"\")","v":""},null,null,null,null,null,null,null,null,null,null,null,{"$f":"IFERROR(VLOOKUP(__レジメンマスタ[[#This Row],[YJコード⑥]],[1]!__前投薬リスト[#Data],4,FALSE)&\"\",\"\")","v":""},null,null,null,null,null,null,null,null,null,null,null,{"$f":"IFERROR(VLOOKUP(__レジメンマスタ[[#This Row],[YJコード⑦]],[1]!__前投薬リスト[#Data],4,FALSE)&\"\",\"\")","v":""}]
["SUR0149-02","オプジーボ・ヤーボイ（維持療法）"," 2週間ごとに投与\n　　　　　　　　　 W1　　　　　   W2 \nオプジーボ ↓×××××× ××××××× ","14日","∞","肝臓癌","消化器内科","オプジーボ","危 240mg/24mL ｵﾌﾟｼﾞｰﾎﾞ点滴静注（希釈液:生食orTZ）","4291427A3027","注射","３０ 分で",240,"BODY","mg","最小","d1",{"$f":"IFERROR(VLOOKUP(__レジメンマスタ[[#This Row],[YJコード①]],[1]!__前投薬リスト[#Data],4,FALSE)&\"\",\"\")","v":""},null,null,null,null,null,null,null,null,null,null,null,{"$f":"IFERROR(VLOOKUP(__レジメンマスタ[[#This Row],[YJコード②]],[1]!__前投薬リスト[#Data],4,FALSE)&\"\",\"\")","v":""},null,null,null,null,null,null,null,null,null,null,null,{"$f":"IFERROR(VLOOKUP(__レジメンマスタ[[#This Row],[YJコード③]],[1]!__前投薬リスト[#Data],4,FALSE)&\"\",\"\")","v":""},null,null,null,null,null,null,null,null,null,null,null,{"$f":"IFERROR(VLOOKUP(__レジメンマスタ[[#This Row],[YJコード④]],[1]!__前投薬リスト[#Data],4,FALSE)&\"\",\"\")","v":""},null,null,null,null,null,null,null,null,null,null,null,{"$f":"IFERROR(VLOOKUP(__レジメンマスタ[[#This Row],[YJコード⑤]],[1]!__前投薬リスト[#Data],4,FALSE)&\"\",\"\")","v":""},null,null,null,null,null,null,null,null,null,null,null,{"$f":"IFERROR(VLOOKUP(__レジメンマスタ[[#This Row],[YJコード⑥]],[1]!__前投薬リスト[#Data],4,FALSE)&\"\",\"\")","v":""},null,null,null,null,null,null,null,null,null,null,null,{"$f":"IFERROR(VLOOKUP(__レジメンマスタ[[#This Row],[YJコード⑦]],[1]!__前投薬リスト[#Data],4,FALSE)&\"\",\"\")","v":""}]
["SUR0149-03","オプジーボ・ヤーボイ（維持療法、４週間毎）"," ４週間ごとに投与\n　　　　　　　　　W1　　　    W2～W4\nオプジーボ ↓××××××  ×××××××","28日","∞","肝臓癌","消化器内科","オプジーボ","危 240mg/24mL ｵﾌﾟｼﾞｰﾎﾞ点滴静注（希釈液:生食orTZ）","4291427A3027","注射","３０ 分で",480,"BODY","mg","最小","d1",{"$f":"IFERROR(VLOOKUP(__レジメンマスタ[[#This Row],[YJコード①]],[1]!__前投薬リスト[#Data],4,FALSE)&\"\",\"\")","v":""},null,null,null,null,null,null,null,null,null,null,null,{"$f":"IFERROR(VLOOKUP(__レジメンマスタ[[#This Row],[YJコード②]],[1]!__前投薬リスト[#Data],4,FALSE)&\"\",\"\")","v":""},null,null,null,null,null,null,null,null,null,null,null,{"$f":"IFERROR(VLOOKUP(__レジメンマスタ[[#This Row],[YJコード③]],[1]!__前投薬リスト[#Data],4,FALSE)&\"\",\"\")","v":""},null,null,null,null,null,null,null,null,null,null,null,{"$f":"IFERROR(VLOOKUP(__レジメンマスタ[[#This Row],[YJコード④]],[1]!__前投薬リスト[#Data],4,FALSE)&\"\",\"\")","v":""},null,null,null,null,null,null,null,null,null,null,null,{"$f":"IFERROR(VLOOKUP(__レジメンマスタ[[#This Row],[YJコード⑤]],[1]!__前投薬リスト[#Data],4,FALSE)&\"\",\"\")","v":""},null,null,null,null,null,null,null,null,null,null,null,{"$f":"IFERROR(VLOOKUP(__レジメンマスタ[[#This Row],[YJコード⑥]],[1]!__前投薬リスト[#Data],4,FALSE)&\"\",\"\")","v":""},null,null,null,null,null,null,null,null,null,null,null,{"$f":"IFERROR(VLOOKUP(__レジメンマスタ[[#This Row],[YJコード⑦]],[1]!__前投薬リスト[#Data],4,FALSE)&\"\",\"\")","v":""}]
["SUR0150","CapeOX＋トラスツズマブ＋ペムブロリズマブ","　　　　　　Ｗ1　　　　　　Ｗ2　　　　　　 Ｗ3\nPemb　 ↓××××××　×××××××　×××××××　　　\nTmab　 ↓××××××　×××××××　×××××××　　　\nL-OHP　↓××××××　×××××××　×××××××\nCape 　↓↓↓↓↓↓↓　↓↓↓↓↓↓↓　×××××××\nPemb,Tmab,L-OHP：3週間毎、Cape:2週間内服、1週間休薬。\nCape1回量：1.36㎡未満＝1200mg,1.36~1.66㎡未満=1500mg,1.66~1.96㎡未満=1800mg,1.96㎡以上＝2100mg\nCCｒ＝51～80 ml/min：減量不要\nCCｒ＝30～50ml/min：一段階減量（75％用量）用量は添付文書確認\nCCｒ＝30ml/min:投与禁忌","21日",null,"胃癌（Her2+）","外科","キイトルーダ","危 ｷｲﾄﾙｰﾀﾞ点滴静注 100mg/4mL（希釈液:生食orTZ）","4291435A2025","注射","３０ 分で",200,"BODY","mg",null,"d1",{"$f":"IFERROR(VLOOKUP(__レジメンマスタ[[#This Row],[YJコード①]],[1]!__前投薬リスト[#Data],4,FALSE)&\"\",\"\")","v":""},null,"トラスツズマブ(初回）","危 ﾄﾗｽﾂｽﾞﾏﾌﾞBS点滴静注用 150mg「NK」（溶解液:Aq,希釈液:生食）（先:ﾊｰｾﾌﾟﾁﾝ）","4291442D2030","注射","９０ 分で",8,"kg","mg",null,"d1",{"$f":"IFERROR(VLOOKUP(__レジメンマスタ[[#This Row],[YJコード②]],[1]!__前投薬リスト[#Data],4,FALSE)&\"\",\"\")","v":""},null,"トラスツズマブ（2回目以降）","危 ﾄﾗｽﾂｽﾞﾏﾌﾞBS点滴静注用 150mg「NK」（溶解液:Aq,希釈液:生食）（先:ﾊｰｾﾌﾟﾁﾝ）","4291442D2030","注射","９０ 分で",6,"kg","mg",null,"d1",{"$f":"IFERROR(VLOOKUP(__レジメンマスタ[[#This Row],[YJコード③]],[1]!__前投薬リスト[#Data],4,FALSE)&\"\",\"\")","v":""},null,"オキサリプラチン","危〈毒〉100㎎/20mL ｵｷｻﾘﾌﾟﾗﾁﾝ点滴静注液「NK」（先:ｴﾙﾌﾟﾗｯﾄ）","4291410A2092","注射","２ 時間で",130,"㎡","mg",null,"d1",{"$f":"IFERROR(VLOOKUP(__レジメンマスタ[[#This Row],[YJコード④]],[1]!__前投薬リスト[#Data],4,FALSE)&\"\",\"\")","v":""},null,"カペシタビン",null,"4223005F1065","経口",null,2000,"㎡","mg",null,"d1-14",{"$f":"IFERROR(VLOOKUP(__レジメンマスタ[[#This Row],[YJコード⑤]],[1]!__前投薬リスト[#Data],4,FALSE)&\"\",\"\")","v":""},null,null,null,null,null,null,null,null,null,null,null,{"$f":"IFERROR(VLOOKUP(__レジメンマスタ[[#This Row],[YJコード⑥]],[1]!__前投薬リスト[#Data],4,FALSE)&\"\",\"\")","v":""},null,null,null,null,null,null,null,null,null,null,null,{"$f":"IFERROR(VLOOKUP(__レジメンマスタ[[#This Row],[YJコード⑦]],[1]!__前投薬リスト[#Data],4,FALSE)&\"\",\"\")","v":""}]
["SUR0151","SOX＋トラスツズマブ＋ペムブロリズマブ","　　　　　　Ｗ1　　　　　　Ｗ2　　　　　　 Ｗ3\nPemb　 ↓××××××　×××××××　×××××××　　　\nTmab　 ↓××××××　×××××××　×××××××　　　\nL-OHP　↓××××××　×××××××　×××××××\nS-1　　↓↓↓↓↓↓↓　↓↓↓↓↓↓↓　×××××××\nPemb,Tmab,L-OHP：3週間毎、S-1:2週間内服、1週間休薬。\nS1：初回基準量【テガフール相当量、原則40mg/回未満には減らさない】\n1.25m2未満:40mg/回,1.25m2以上1.5m2未満:50mg/回,1.5m2以上:60mg/回\nCCr≧60：通常用量、60>CCr≧40:一段階減量,40>CCr≧30:二段階減量,\nCCr＜30：禁忌","21日",null,"胃癌（Her2+）","外科","キイトルーダ","危 ｷｲﾄﾙｰﾀﾞ点滴静注 100mg/4mL（希釈液:生食orTZ）","4291435A2025","注射","３０ 分で",200,"BODY","mg",null,"d1",{"$f":"IFERROR(VLOOKUP(__レジメンマスタ[[#This Row],[YJコード①]],[1]!__前投薬リスト[#Data],4,FALSE)&\"\",\"\")","v":""},null,"トラスツズマブ(初回）","危 ﾄﾗｽﾂｽﾞﾏﾌﾞBS点滴静注用 150mg「NK」（溶解液:Aq,希釈液:生食）（先:ﾊｰｾﾌﾟﾁﾝ）","4291442D2030","注射","９０ 分で",8,"kg","mg",null,"d1",{"$f":"IFERROR(VLOOKUP(__レジメンマスタ[[#This Row],[YJコード②]],[1]!__前投薬リスト[#Data],4,FALSE)&\"\",\"\")","v":""},null,"トラスツズマブ（2回目以降）","危 ﾄﾗｽﾂｽﾞﾏﾌﾞBS点滴静注用 150mg「NK」（溶解液:Aq,希釈液:生食）（先:ﾊｰｾﾌﾟﾁﾝ）","4291442D2030","注射","９０ 分で",6,"kg","mg",null,"d1",{"$f":"IFERROR(VLOOKUP(__レジメンマスタ[[#This Row],[YJコード③]],[1]!__前投薬リスト[#Data],4,FALSE)&\"\",\"\")","v":""},null,"オキサリプラチン","危〈毒〉100㎎/20mL ｵｷｻﾘﾌﾟﾗﾁﾝ点滴静注液「NK」（先:ｴﾙﾌﾟﾗｯﾄ）","4291410A2092","注射","２ 時間で",130,"㎡","mg",null,"d1",{"$f":"IFERROR(VLOOKUP(__レジメンマスタ[[#This Row],[YJコード④]],[1]!__前投薬リスト[#Data],4,FALSE)&\"\",\"\")","v":""},null,"エスワン",null,"4229101F2057","経口",null,"80-120/2","BODY","mg",null,"d1-14",{"$f":"IFERROR(VLOOKUP(__レジメンマスタ[[#This Row],[YJコード⑤]],[1]!__前投薬リスト[#Data],4,FALSE)&\"\",\"\")","v":""},null,null,null,null,null,null,null,null,null,null,null,{"$f":"IFERROR(VLOOKUP(__レジメンマスタ[[#This Row],[YJコード⑥]],[1]!__前投薬リスト[#Data],4,FALSE)&\"\",\"\")","v":""},null,null,null,null,null,null,null,null,null,null,null,{"$f":"IFERROR(VLOOKUP(__レジメンマスタ[[#This Row],[YJコード⑦]],[1]!__前投薬リスト[#Data],4,FALSE)&\"\",\"\")","v":""}]
["SUR0152","FOLFOX+CET＋ビラフトビ","        　　    W1 　　　　    W2       \nCmab 　　↓××××××  ×××××××　\nFOLFOX 　↓××××××  ×××××××\nEncra  　↓↓↓↓↓↓↓　↓↓↓↓↓↓↓ ","14日","∞","大腸癌(BRAF+)","外科","アービタックス","危 ｱｰﾋﾞﾀｯｸｽ注射液 100㎎/20mL","4291415A1021","注射","２ 時間で",500,"㎡","mg",null,"d1",{"$f":"IFERROR(VLOOKUP(__レジメンマスタ[[#This Row],[YJコード①]],[1]!__前投薬リスト[#Data],4,FALSE)&\"\",\"\")","v":"抗ヒス,(ステ)"},null,"レボホリナート","危 100mg ﾚﾎﾞﾎﾘﾅｰﾄ点滴静注用「ﾔｸﾙﾄ」（先:ｱｲｿﾎﾞﾘﾝ）","3929407D2060","注射","２ 時間で",200,"㎡","mg",null,"d1",{"$f":"IFERROR(VLOOKUP(__レジメンマスタ[[#This Row],[YJコード②]],[1]!__前投薬リスト[#Data],4,FALSE)&\"\",\"\")","v":""},null,"オキサリプラチン","危〈毒〉100㎎/20mL ｵｷｻﾘﾌﾟﾗﾁﾝ点滴静注液「NK」（先:ｴﾙﾌﾟﾗｯﾄ）","4291410A2092","注射","２ 時間で",85,"㎡","mg",null,"d1",{"$f":"IFERROR(VLOOKUP(__レジメンマスタ[[#This Row],[YJコード③]],[1]!__前投薬リスト[#Data],4,FALSE)&\"\",\"\")","v":""},null,"フルオロウラシル","危 1000mg/20mL ﾌﾙｵﾛｳﾗｼﾙ注「ﾄｰﾜ」（先:5-FU）","4223401A3030","注射","１５ 分で",400,"㎡","mg",null,"d1",{"$f":"IFERROR(VLOOKUP(__レジメンマスタ[[#This Row],[YJコード④]],[1]!__前投薬リスト[#Data],4,FALSE)&\"\",\"\")","v":""},null,"フルオロウラシル","危 1000mg/20mL ﾌﾙｵﾛｳﾗｼﾙ注「ﾄｰﾜ」（先:5-FU）","4223401A3030","注射","４６時間で",2400,"㎡","mg",null,"d1(46hr)",{"$f":"IFERROR(VLOOKUP(__レジメンマスタ[[#This Row],[YJコード⑤]],[1]!__前投薬リスト[#Data],4,FALSE)&\"\",\"\")","v":""},null,"ビラフトビ",null,"4291057M2025","経口",null,300,"BODY","mg",null,"連日",{"$f":"IFERROR(VLOOKUP(__レジメンマスタ[[#This Row],[YJコード⑥]],[1]!__前投薬リスト[#Data],4,FALSE)&\"\",\"\")","v":""},null,null,null,null,null,null,null,null,null,null,null,{"$f":"IFERROR(VLOOKUP(__レジメンマスタ[[#This Row],[YJコード⑦]],[1]!__前投薬リスト[#Data],4,FALSE)&\"\",\"\")","v":""}]
["URO0002","M-VAC"," 1クール28日間で3クールまで\n           Ｗ1           Ｗ2             Ｗ3            Ｗ4  \nMTX  ↓×××××× ××××××× ↓×××××× ↓×××××× \nVBL  ×↓××××× ××××××× ↓×××××× ↓××××××\nDXR  ×↓××××× ××××××× ××××××× ××××××× \nCDDP ×↓××××× ××××××× ××××××× ××××××× ","28日","3コース","尿路上皮癌","泌尿器科","メソトレキセート","危 200mg/8mL ﾒｿﾄﾚｷｾｰﾄ点滴静注液","4222400A1036","注射",null,30,"㎡","mg",null,"d1,15,22",{"$f":"IFERROR(VLOOKUP(__レジメンマスタ[[#This Row],[YJコード①]],[1]!__前投薬リスト[#Data],4,FALSE)&\"\",\"\")","v":""},null,"エクザール",null,"4240401D2031","注射",null,3,"㎡","mg",null,"d2,15,22",{"$f":"IFERROR(VLOOKUP(__レジメンマスタ[[#This Row],[YJコード②]],[1]!__前投薬リスト[#Data],4,FALSE)&\"\",\"\")","v":""},null,"ドキソルビシン","危 50mg ﾄﾞｷｿﾙﾋﾞｼﾝ塩酸塩注射用「NK」（溶解液:生食orAq）（先:ｱﾄﾞﾘｱｼﾝ）","4235402D2028","注射",null,30,"㎡","mg",null,"d2",{"$f":"IFERROR(VLOOKUP(__レジメンマスタ[[#This Row],[YJコード③]],[1]!__前投薬リスト[#Data],4,FALSE)&\"\",\"\")","v":""},null,"シスプラチン","危〈毒〉50mg/100mL ｼｽﾌﾟﾗﾁﾝ点滴静注「ﾏﾙｺ」（先:ﾗﾝﾀﾞ）","4291401A3111","注射",null,70,"㎡","mg",null,"d2",{"$f":"IFERROR(VLOOKUP(__レジメンマスタ[[#This Row],[YJコード④]],[1]!__前投薬リスト[#Data],4,FALSE)&\"\",\"\")","v":""},null,null,null,null,null,null,null,null,null,null,null,{"$f":"IFERROR(VLOOKUP(__レジメンマスタ[[#This Row],[YJコード⑤]],[1]!__前投薬リスト[#Data],4,FALSE)&\"\",\"\")","v":""},null,null,null,null,null,null,null,null,null,null,null,{"$f":"IFERROR(VLOOKUP(__レジメンマスタ[[#This Row],[YJコード⑥]],[1]!__前投薬リスト[#Data],4,FALSE)&\"\",\"\")","v":""},null,null,null,null,null,null,null,null,null,null,null,{"$f":"IFERROR(VLOOKUP(__レジメンマスタ[[#This Row],[YJコード⑦]],[1]!__前投薬リスト[#Data],4,FALSE)&\"\",\"\")","v":""}]
["URO0006","BLM療法","一週間に一回、最大6回まで\n             Ｗ1             Ｗ1      ・・・・  \nブレオ ↓×××××× ↓××××××   ・・・・  \nBLM360mg/BODY以上で肺障害リスク高まる","7日","6回","陰茎癌","泌尿器科","ブレオマイシン",null,"4234400D5039","注射",null,30,"BODY","mg",null,"d1",{"$f":"IFERROR(VLOOKUP(__レジメンマスタ[[#This Row],[YJコード①]],[1]!__前投薬リスト[#Data],4,FALSE)&\"\",\"\")","v":""},null,null,null,null,null,null,null,null,null,null,null,{"$f":"IFERROR(VLOOKUP(__レジメンマスタ[[#This Row],[YJコード②]],[1]!__前投薬リスト[#Data],4,FALSE)&\"\",\"\")","v":""},null,null,null,null,null,null,null,null,null,null,null,{"$f":"IFERROR(VLOOKUP(__レジメンマスタ[[#This Row],[YJコード③]],[1]!__前投薬リスト[#Data],4,FALSE)&\"\",\"\")","v":""},null,null,null,null,null,null,null,null,null,null,null,{"$f":"IFERROR(VLOOKUP(__レジメンマスタ[[#This Row],[YJコード④]],[1]!__前投薬リスト[#Data],4,FALSE)&\"\",\"\")","v":""},null,null,null,null,null,null,null,null,null,null,null,{"$f":"IFERROR(VLOOKUP(__レジメンマスタ[[#This Row],[YJコード⑤]],[1]!__前投薬リスト[#Data],4,FALSE)&\"\",\"\")","v":""},null,null,null,null,null,null,null,null,null,null,null,{"$f":"IFERROR(VLOOKUP(__レジメンマスタ[[#This Row],[YJコード⑥]],[1]!__前投薬リスト[#Data],4,FALSE)&\"\",\"\")","v":""},null,null,null,null,null,null,null,null,null,null,null,{"$f":"IFERROR(VLOOKUP(__レジメンマスタ[[#This Row],[YJコード⑦]],[1]!__前投薬リスト[#Data],4,FALSE)&\"\",\"\")","v":""}]
["URO0008","エピルビシン膀注","レジメンチェックなしで払い出し\nOP室用と外来用で用量が違うので注意！",null,null,null,null,null,null,null,null,null,null,null,null,null,null,{"$f":"IFERROR(VLOOKUP(__レジメンマスタ[[#This Row],[YJコード①]],[1]!__前投薬リスト[#Data],4,FALSE)&\"\",\"\")","v":""},null,null,null,null,null,null,null,null,null,null,null,{"$f":"IFERROR(VLOOKUP(__レジメンマスタ[[#This Row],[YJコード②]],[1]!__前投薬リスト[#Data],4,FALSE)&\"\",\"\")","v":""},null,null,null,null,null,null,null,null,null,null,null,{"$f":"IFERROR(VLOOKUP(__レジメンマスタ[[#This Row],[YJコード③]],[1]!__前投薬リスト[#Data],4,FALSE)&\"\",\"\")","v":""},null,null,null,null,null,null,null,null,null,null,null,{"$f":"IFERROR(VLOOKUP(__レジメンマスタ[[#This Row],[YJコード④]],[1]!__前投薬リスト[#Data],4,FALSE)&\"\",\"\")","v":""},null,null,null,null,null,null,null,null,null,null,null,{"$f":"IFERROR(VLOOKUP(__レジメンマスタ[[#This Row],[YJコード⑤]],[1]!__前投薬リスト[#Data],4,FALSE)&\"\",\"\")","v":""},null,null,null,null,null,null,null,null,null,null,null,{"$f":"IFERROR(VLOOKUP(__レジメンマスタ[[#This Row],[YJコード⑥]],[1]!__前投薬リスト[#Data],4,FALSE)&\"\",\"\")","v":""},null,null,null,null,null,null,null,null,null,null,null,{"$f":"IFERROR(VLOOKUP(__レジメンマスタ[[#This Row],[YJコード⑦]],[1]!__前投薬リスト[#Data],4,FALSE)&\"\",\"\")","v":""}]
["URO0017","進行陰茎癌化学療法"," 1クール21日間で6クールまで\n           Ｗ1           Ｗ2          Ｗ3 \nCDDP ↓×××××× ××××××× ××××××× \nMTX  ↓×××××× ↓×××××× ×××××××   \nBLM  ↓×××××× ↓×××××× ××××××× \nBLM360mg/BODY以上で肺障害リスク高まる  ","21日","6コース","陰茎癌","泌尿器科","シスプラチン","危〈毒〉50mg/100mL ｼｽﾌﾟﾗﾁﾝ点滴静注「ﾏﾙｺ」（先:ﾗﾝﾀﾞ）","4291401A3111","注射",null,75,"㎡","mg",null,"d1",{"$f":"IFERROR(VLOOKUP(__レジメンマスタ[[#This Row],[YJコード①]],[1]!__前投薬リスト[#Data],4,FALSE)&\"\",\"\")","v":""},null,"メソトレキセート","危 200mg/8mL ﾒｿﾄﾚｷｾｰﾄ点滴静注液","4222400A1036","注射",null,25,"㎡","mg",null,"d1,8",{"$f":"IFERROR(VLOOKUP(__レジメンマスタ[[#This Row],[YJコード②]],[1]!__前投薬リスト[#Data],4,FALSE)&\"\",\"\")","v":""},null,"ブレオマイシン",null,"4234400D5039","注射",null,10,"㎡","mg",null,"d1,8",{"$f":"IFERROR(VLOOKUP(__レジメンマスタ[[#This Row],[YJコード③]],[1]!__前投薬リスト[#Data],4,FALSE)&\"\",\"\")","v":""},null,null,null,null,null,null,null,null,null,null,null,{"$f":"IFERROR(VLOOKUP(__レジメンマスタ[[#This Row],[YJコード④]],[1]!__前投薬リスト[#Data],4,FALSE)&\"\",\"\")","v":""},null,null,null,null,null,null,null,null,null,null,null,{"$f":"IFERROR(VLOOKUP(__レジメンマスタ[[#This Row],[YJコード⑤]],[1]!__前投薬リスト[#Data],4,FALSE)&\"\",\"\")","v":""},null,null,null,null,null,null,null,null,null,null,null,{"$f":"IFERROR(VLOOKUP(__レジメンマスタ[[#This Row],[YJコード⑥]],[1]!__前投薬リスト[#Data],4,FALSE)&\"\",\"\")","v":""},null,null,null,null,null,null,null,null,null,null,null,{"$f":"IFERROR(VLOOKUP(__レジメンマスタ[[#This Row],[YJコード⑦]],[1]!__前投薬リスト[#Data],4,FALSE)&\"\",\"\")","v":""}]
["URO0018","DOC+PSL","          W1         W2～W3   \nDOC ↓×××××× ××××××× \nPSL ↓↓↓↓↓↓↓ ↓↓↓↓↓↓↓ \n","21日","∞","前立腺癌","泌尿器科","ドセタキセル","危〈毒〉80㎎/4mL ﾄﾞｾﾀｷｾﾙ点滴静注「ﾆﾌﾟﾛ」（先:ﾀｷｿﾃｰﾙ）","4240405A4109","注射","１ 時間で",75,"㎡","mg",null,"d1",{"$f":"IFERROR(VLOOKUP(__レジメンマスタ[[#This Row],[YJコード①]],[1]!__前投薬リスト[#Data],4,FALSE)&\"\",\"\")","v":""},null,"プレドニン",null,"2456001F1310",null,null,10,"BODY","mg",null,"連日",{"$f":"IFERROR(VLOOKUP(__レジメンマスタ[[#This Row],[YJコード②]],[1]!__前投薬リスト[#Data],4,FALSE)&\"\",\"\")","v":""},null,null,null,null,null,null,null,null,null,null,null,{"$f":"IFERROR(VLOOKUP(__レジメンマスタ[[#This Row],[YJコード③]],[1]!__前投薬リスト[#Data],4,FALSE)&\"\",\"\")","v":""},null,null,null,null,null,null,null,null,null,null,null,{"$f":"IFERROR(VLOOKUP(__レジメンマスタ[[#This Row],[YJコード④]],[1]!__前投薬リスト[#Data],4,FALSE)&\"\",\"\")","v":""},null,null,null,null,null,null,null,null,null,null,null,{"$f":"IFERROR(VLOOKUP(__レジメンマスタ[[#This Row],[YJコード⑤]],[1]!__前投薬リスト[#Data],4,FALSE)&\"\",\"\")","v":""},null,null,null,null,null,null,null,null,null,null,null,{"$f":"IFERROR(VLOOKUP(__レジメンマスタ[[#This Row],[YJコード⑥]],[1]!__前投薬リスト[#Data],4,FALSE)&\"\",\"\")","v":""},null,null,null,null,null,null,null,null,null,null,null,{"$f":"IFERROR(VLOOKUP(__レジメンマスタ[[#This Row],[YJコード⑦]],[1]!__前投薬リスト[#Data],4,FALSE)&\"\",\"\")","v":""}]
["URO0019","GEM+CDDP"," 1クール4週間、6クールまで\n           W1  　　　　　 W2  　　　　　　W3   　　　　W4  \nCDDP ×↓××××× ××××××× ××××××× ×××××××  \nGEM  ↓×××××× ↓×××××× ↓×××××× ×××××××  \nGEM：溶解液確認→Tzで行う方針の場合はTzへ変更     ","28日","6コース","尿路上皮癌","泌尿器科","ゲムシタビン","危 1g ｹﾞﾑｼﾀﾋﾞﾝ点滴静注用「ﾔｸﾙﾄ」（溶解液:生食）（先:ｼﾞｪﾑｻﾞｰﾙ）","4224403D2061","注射","３０ 分で",1000,"㎡","mg",null,"d1,8,15",{"$f":"IFERROR(VLOOKUP(__レジメンマスタ[[#This Row],[YJコード①]],[1]!__前投薬リスト[#Data],4,FALSE)&\"\",\"\")","v":""},null,"シスプラチン","危〈毒〉50mg/100mL ｼｽﾌﾟﾗﾁﾝ点滴静注「ﾏﾙｺ」（先:ﾗﾝﾀﾞ）","4291401A3111","注射","２ 時間で",70,"㎡","mg",null,"d2",{"$f":"IFERROR(VLOOKUP(__レジメンマスタ[[#This Row],[YJコード②]],[1]!__前投薬リスト[#Data],4,FALSE)&\"\",\"\")","v":""},null,null,null,null,null,null,null,null,null,null,null,{"$f":"IFERROR(VLOOKUP(__レジメンマスタ[[#This Row],[YJコード③]],[1]!__前投薬リスト[#Data],4,FALSE)&\"\",\"\")","v":""},null,null,null,null,null,null,null,null,null,null,null,{"$f":"IFERROR(VLOOKUP(__レジメンマスタ[[#This Row],[YJコード④]],[1]!__前投薬リスト[#Data],4,FALSE)&\"\",\"\")","v":""},null,null,null,null,null,null,null,null,null,null,null,{"$f":"IFERROR(VLOOKUP(__レジメンマスタ[[#This Row],[YJコード⑤]],[1]!__前投薬リスト[#Data],4,FALSE)&\"\",\"\")","v":""},null,null,null,null,null,null,null,null,null,null,null,{"$f":"IFERROR(VLOOKUP(__レジメンマスタ[[#This Row],[YJコード⑥]],[1]!__前投薬リスト[#Data],4,FALSE)&\"\",\"\")","v":""},null,null,null,null,null,null,null,null,null,null,null,{"$f":"IFERROR(VLOOKUP(__レジメンマスタ[[#This Row],[YJコード⑦]],[1]!__前投薬リスト[#Data],4,FALSE)&\"\",\"\")","v":""},null,"・骨髄抑制：感染予防対策の徹底","・嘔吐、悪心：制吐剤で予防。水分摂取も困難な際は病院に連絡"]
["URO0020","VIP","           Ｗ1           Ｗ2          Ｗ3  \nIFM  ↓↓↓↓↓×× ××××××× ×××××××\nETP  ↓↓↓↓↓×× ××××××× ×××××××  \nCDDP ↓↓↓↓↓×× ××××××× ×××××××  \nウロミテキサンの投与量の欄は（1回量）を記入","21日",null,"精巣腫瘍","泌尿器科","イホマイド","危 注射用ｲﾎﾏｲﾄﾞ 1g（溶解液:生食orAq）","4211402D1020","注射",null,1200,"㎡","mg",null,"d1-5",{"$f":"IFERROR(VLOOKUP(__レジメンマスタ[[#This Row],[YJコード①]],[1]!__前投薬リスト[#Data],4,FALSE)&\"\",\"\")","v":""},null,"ウロミテキサン×３",null,"3929406A2026","注射",null,240,"㎡","mg",null,"×３\nd1-5",{"$f":"IFERROR(VLOOKUP(__レジメンマスタ[[#This Row],[YJコード②]],[1]!__前投薬リスト[#Data],4,FALSE)&\"\",\"\")","v":""},null,"エトポシド","危 ｴﾄﾎﾟｼﾄﾞ点滴静注液「ｻﾝﾄﾞ」100mg/5mL（先:ﾗｽﾃｯﾄ）","4240403A2069","注射",null,75,"㎡","mg",null,"d1-5",{"$f":"IFERROR(VLOOKUP(__レジメンマスタ[[#This Row],[YJコード③]],[1]!__前投薬リスト[#Data],4,FALSE)&\"\",\"\")","v":""},null,"シスプラチン","危〈毒〉50mg/100mL ｼｽﾌﾟﾗﾁﾝ点滴静注「ﾏﾙｺ」（先:ﾗﾝﾀﾞ）","4291401A3111","注射",null,20,"㎡","mg",null,"d1-5",{"$f":"IFERROR(VLOOKUP(__レジメンマスタ[[#This Row],[YJコード④]],[1]!__前投薬リスト[#Data],4,FALSE)&\"\",\"\")","v":""},null,null,null,null,null,null,null,null,null,null,null,{"$f":"IFERROR(VLOOKUP(__レジメンマスタ[[#This Row],[YJコード⑤]],[1]!__前投薬リスト[#Data],4,FALSE)&\"\",\"\")","v":""},null,null,null,null,null,null,null,null,null,null,null,{"$f":"IFERROR(VLOOKUP(__レジメンマスタ[[#This Row],[YJコード⑥]],[1]!__前投薬リスト[#Data],4,FALSE)&\"\",\"\")","v":""},null,null,null,null,null,null,null,null,null,null,null,{"$f":"IFERROR(VLOOKUP(__レジメンマスタ[[#This Row],[YJコード⑦]],[1]!__前投薬リスト[#Data],4,FALSE)&\"\",\"\")","v":""}]
["URO0021","トーリセル","1週間毎\n                       W1           W2      \nテムシロリムス  ↓×××××× ↓×××××× ","7日",null,"腎細胞癌","泌尿器科","トーリセル",null,"4291418A1025","注射",null,25,"BODY","mg",null,"d1",{"$f":"IFERROR(VLOOKUP(__レジメンマスタ[[#This Row],[YJコード①]],[1]!__前投薬リスト[#Data],4,FALSE)&\"\",\"\")","v":"抗ヒス"},null,null,null,null,null,null,null,null,null,null,null,{"$f":"IFERROR(VLOOKUP(__レジメンマスタ[[#This Row],[YJコード②]],[1]!__前投薬リスト[#Data],4,FALSE)&\"\",\"\")","v":""},null,null,null,null,null,null,null,null,null,null,null,{"$f":"IFERROR(VLOOKUP(__レジメンマスタ[[#This Row],[YJコード③]],[1]!__前投薬リスト[#Data],4,FALSE)&\"\",\"\")","v":""},null,null,null,null,null,null,null,null,null,null,null,{"$f":"IFERROR(VLOOKUP(__レジメンマスタ[[#This Row],[YJコード④]],[1]!__前投薬リスト[#Data],4,FALSE)&\"\",\"\")","v":""},null,null,null,null,null,null,null,null,null,null,null,{"$f":"IFERROR(VLOOKUP(__レジメンマスタ[[#This Row],[YJコード⑤]],[1]!__前投薬リスト[#Data],4,FALSE)&\"\",\"\")","v":""},null,null,null,null,null,null,null,null,null,null,null,{"$f":"IFERROR(VLOOKUP(__レジメンマスタ[[#This Row],[YJコード⑥]],[1]!__前投薬リスト[#Data],4,FALSE)&\"\",\"\")","v":""},null,null,null,null,null,null,null,null,null,null,null,{"$f":"IFERROR(VLOOKUP(__レジメンマスタ[[#This Row],[YJコード⑦]],[1]!__前投薬リスト[#Data],4,FALSE)&\"\",\"\")","v":""}]
["URO0023","G-Carbo","    GEM：溶解液確認→Tzで行う方針の場合はTzへ変更          \n 1クール3週間、6クールまで\n              W1            W2            W3     \nGEM   ↓×××××× ↓×××××× ×××××××     \nCBDCA ↓×××××× ××××××× ×××××××     ","21日","6コース","尿路上皮癌","泌尿器科","ゲムシタビン","危 1g ｹﾞﾑｼﾀﾋﾞﾝ点滴静注用「ﾔｸﾙﾄ」（溶解液:生食）（先:ｼﾞｪﾑｻﾞｰﾙ）","4224403D2061","注射","３０ 分で",1000,"㎡","mg",null,"d1,8",{"$f":"IFERROR(VLOOKUP(__レジメンマスタ[[#This Row],[YJコード①]],[1]!__前投薬リスト[#Data],4,FALSE)&\"\",\"\")","v":""},null,"カルボプラチン","危〈毒〉ｶﾙﾎﾞﾌﾟﾗﾁﾝ点滴静注液「NK」150mg/15mL（先:ﾊﾟﾗﾌﾟﾗﾁﾝ）","4291403A2092","注射","１ 時間で",5,"AUC","mg",null,"d1",{"$f":"IFERROR(VLOOKUP(__レジメンマスタ[[#This Row],[YJコード②]],[1]!__前投薬リスト[#Data],4,FALSE)&\"\",\"\")","v":""},null,null,null,null,null,null,null,null,null,null,null,{"$f":"IFERROR(VLOOKUP(__レジメンマスタ[[#This Row],[YJコード③]],[1]!__前投薬リスト[#Data],4,FALSE)&\"\",\"\")","v":""},null,null,null,null,null,null,null,null,null,null,null,{"$f":"IFERROR(VLOOKUP(__レジメンマスタ[[#This Row],[YJコード④]],[1]!__前投薬リスト[#Data],4,FALSE)&\"\",\"\")","v":""},null,null,null,null,null,null,null,null,null,null,null,{"$f":"IFERROR(VLOOKUP(__レジメンマスタ[[#This Row],[YJコード⑤]],[1]!__前投薬リスト[#Data],4,FALSE)&\"\",\"\")","v":""},null,null,null,null,null,null,null,null,null,null,null,{"$f":"IFERROR(VLOOKUP(__レジメンマスタ[[#This Row],[YJコード⑥]],[1]!__前投薬リスト[#Data],4,FALSE)&\"\",\"\")","v":""},null,null,null,null,null,null,null,null,null,null,null,{"$f":"IFERROR(VLOOKUP(__レジメンマスタ[[#This Row],[YJコード⑦]],[1]!__前投薬リスト[#Data],4,FALSE)&\"\",\"\")","v":""}]
["URO0024","TIP（精巣腫瘍）"," 1クール21日間、4クールまで\n            Ｗ1            Ｗ2             Ｗ3       \nPTX  ↓××××××  ×××××××  ×××××××       \nIFM  ×↓↓↓↓↓×  ×××××××  ×××××××       \nCDDP ×↓↓↓↓↓×  ×××××××  ×××××××      \nPTX:175～210mg/㎡","21日","4コース","精巣腫瘍","泌尿器科","パクリタキセル","危〈毒〉100mg/16.7mL ﾊﾟｸﾘﾀｷｾﾙ注「NK」（希釈液:生食orTZ）（先:ﾀｷｿｰﾙ）","4240406A2046","注射","３ 時間で",210,"㎡","mg",null,"d1",{"$f":"IFERROR(VLOOKUP(__レジメンマスタ[[#This Row],[YJコード①]],[1]!__前投薬リスト[#Data],4,FALSE)&\"\",\"\")","v":"抗ヒス,H2B,ステ"},null,"イホマイド","危 注射用ｲﾎﾏｲﾄﾞ 1g（溶解液:生食orAq）","4211402D1020","注射",null,1200,"㎡","mg",null,"d2-6",{"$f":"IFERROR(VLOOKUP(__レジメンマスタ[[#This Row],[YJコード②]],[1]!__前投薬リスト[#Data],4,FALSE)&\"\",\"\")","v":""},null,"ウロミテキサン×３",null,"3929406A2026","注射",null,240,"㎡","mg",null,"×３\nd2-6",{"$f":"IFERROR(VLOOKUP(__レジメンマスタ[[#This Row],[YJコード③]],[1]!__前投薬リスト[#Data],4,FALSE)&\"\",\"\")","v":""},null,"シスプラチン","危〈毒〉50mg/100mL ｼｽﾌﾟﾗﾁﾝ点滴静注「ﾏﾙｺ」（先:ﾗﾝﾀﾞ）","4291401A3111","注射",null,20,"㎡","mg",null,"d2-6",{"$f":"IFERROR(VLOOKUP(__レジメンマスタ[[#This Row],[YJコード④]],[1]!__前投薬リスト[#Data],4,FALSE)&\"\",\"\")","v":""},null,null,null,null,null,null,null,null,null,null,null,{"$f":"IFERROR(VLOOKUP(__レジメンマスタ[[#This Row],[YJコード⑤]],[1]!__前投薬リスト[#Data],4,FALSE)&\"\",\"\")","v":""},null,null,null,null,null,null,null,null,null,null,null,{"$f":"IFERROR(VLOOKUP(__レジメンマスタ[[#This Row],[YJコード⑥]],[1]!__前投薬リスト[#Data],4,FALSE)&\"\",\"\")","v":""},null,null,null,null,null,null,null,null,null,null,null,{"$f":"IFERROR(VLOOKUP(__レジメンマスタ[[#This Row],[YJコード⑦]],[1]!__前投薬リスト[#Data],4,FALSE)&\"\",\"\")","v":""}]
["URO0026","CBZ+PSL"," ※最終濃度：0.1～0.26㎎/mｌ              \n3週間毎の投与\n                       W1             W2～W3 \nカバジタキセル   ↓××××××   ××××××× \nPSL 連日","21日","∞","前立腺癌","泌尿器科","ジェブタナ","危〈毒〉臨）ｼﾞｪﾌﾞﾀﾅ点滴静注 60mg（溶解液5.67mL付）","4240410A1020","注射","１ 時間で",25,"㎡","mg",null,"d1",{"$f":"IFERROR(VLOOKUP(__レジメンマスタ[[#This Row],[YJコード①]],[1]!__前投薬リスト[#Data],4,FALSE)&\"\",\"\")","v":"抗ヒス,H2B,ステ"},null,"プレドニン",null,"2456001F1310",null,null,10,"BODY","mg",null,"連日",{"$f":"IFERROR(VLOOKUP(__レジメンマスタ[[#This Row],[YJコード②]],[1]!__前投薬リスト[#Data],4,FALSE)&\"\",\"\")","v":""},null,null,null,null,null,null,null,null,null,null,null,{"$f":"IFERROR(VLOOKUP(__レジメンマスタ[[#This Row],[YJコード③]],[1]!__前投薬リスト[#Data],4,FALSE)&\"\",\"\")","v":""},null,null,null,null,null,null,null,null,null,null,null,{"$f":"IFERROR(VLOOKUP(__レジメンマスタ[[#This Row],[YJコード④]],[1]!__前投薬リスト[#Data],4,FALSE)&\"\",\"\")","v":""},null,null,null,null,null,null,null,null,null,null,null,{"$f":"IFERROR(VLOOKUP(__レジメンマスタ[[#This Row],[YJコード⑤]],[1]!__前投薬リスト[#Data],4,FALSE)&\"\",\"\")","v":""},null,null,null,null,null,null,null,null,null,null,null,{"$f":"IFERROR(VLOOKUP(__レジメンマスタ[[#This Row],[YJコード⑥]],[1]!__前投薬リスト[#Data],4,FALSE)&\"\",\"\")","v":""},null,null,null,null,null,null,null,null,null,null,null,{"$f":"IFERROR(VLOOKUP(__レジメンマスタ[[#This Row],[YJコード⑦]],[1]!__前投薬リスト[#Data],4,FALSE)&\"\",\"\")","v":""}]
["URO0027","カルボプラチン","3週に１回  最大2回 \n               W1 　　　　  W2　　　　   W3 \nCBDCA ↓×××××× ××××××× ××××××× \n","21日","2回","精巣腫瘍","泌尿器科","カルボプラチン","危〈毒〉ｶﾙﾎﾞﾌﾟﾗﾁﾝ点滴静注液「NK」150mg/15mL（先:ﾊﾟﾗﾌﾟﾗﾁﾝ）","4291403A2092","注射",null,7,"AUC","mg",null,"d1",{"$f":"IFERROR(VLOOKUP(__レジメンマスタ[[#This Row],[YJコード①]],[1]!__前投薬リスト[#Data],4,FALSE)&\"\",\"\")","v":""},null,null,null,null,null,null,null,null,null,null,null,{"$f":"IFERROR(VLOOKUP(__レジメンマスタ[[#This Row],[YJコード②]],[1]!__前投薬リスト[#Data],4,FALSE)&\"\",\"\")","v":""},null,null,null,null,null,null,null,null,null,null,null,{"$f":"IFERROR(VLOOKUP(__レジメンマスタ[[#This Row],[YJコード③]],[1]!__前投薬リスト[#Data],4,FALSE)&\"\",\"\")","v":""},null,null,null,null,null,null,null,null,null,null,null,{"$f":"IFERROR(VLOOKUP(__レジメンマスタ[[#This Row],[YJコード④]],[1]!__前投薬リスト[#Data],4,FALSE)&\"\",\"\")","v":""},null,null,null,null,null,null,null,null,null,null,null,{"$f":"IFERROR(VLOOKUP(__レジメンマスタ[[#This Row],[YJコード⑤]],[1]!__前投薬リスト[#Data],4,FALSE)&\"\",\"\")","v":""},null,null,null,null,null,null,null,null,null,null,null,{"$f":"IFERROR(VLOOKUP(__レジメンマスタ[[#This Row],[YJコード⑥]],[1]!__前投薬リスト[#Data],4,FALSE)&\"\",\"\")","v":""},null,null,null,null,null,null,null,null,null,null,null,{"$f":"IFERROR(VLOOKUP(__レジメンマスタ[[#This Row],[YJコード⑦]],[1]!__前投薬リスト[#Data],4,FALSE)&\"\",\"\")","v":""}]
["URO0028","キイトルーダ"," 3週間ごとに投与 \n             W1　　　　   W2～3   \nPmbro  ↓××××××  ××××××× ","21日","∞","尿路上皮癌","泌尿器科","キイトルーダ","危 ｷｲﾄﾙｰﾀﾞ点滴静注 100mg/4mL（希釈液:生食orTZ）","4291435A2025","注射","３０ 分で",200,"BODY","mg",null,"d1",{"$f":"IFERROR(VLOOKUP(__レジメンマスタ[[#This Row],[YJコード①]],[1]!__前投薬リスト[#Data],4,FALSE)&\"\",\"\")","v":""},null,null,null,null,null,null,null,null,null,null,null,{"$f":"IFERROR(VLOOKUP(__レジメンマスタ[[#This Row],[YJコード②]],[1]!__前投薬リスト[#Data],4,FALSE)&\"\",\"\")","v":""},null,null,null,null,null,null,null,null,null,null,null,{"$f":"IFERROR(VLOOKUP(__レジメンマスタ[[#This Row],[YJコード③]],[1]!__前投薬リスト[#Data],4,FALSE)&\"\",\"\")","v":""},null,null,null,null,null,null,null,null,null,null,null,{"$f":"IFERROR(VLOOKUP(__レジメンマスタ[[#This Row],[YJコード④]],[1]!__前投薬リスト[#Data],4,FALSE)&\"\",\"\")","v":""},null,null,null,null,null,null,null,null,null,null,null,{"$f":"IFERROR(VLOOKUP(__レジメンマスタ[[#This Row],[YJコード⑤]],[1]!__前投薬リスト[#Data],4,FALSE)&\"\",\"\")","v":""},null,null,null,null,null,null,null,null,null,null,null,{"$f":"IFERROR(VLOOKUP(__レジメンマスタ[[#This Row],[YJコード⑥]],[1]!__前投薬リスト[#Data],4,FALSE)&\"\",\"\")","v":""},null,null,null,null,null,null,null,null,null,null,null,{"$f":"IFERROR(VLOOKUP(__レジメンマスタ[[#This Row],[YJコード⑦]],[1]!__前投薬リスト[#Data],4,FALSE)&\"\",\"\")","v":""}]
["URO0028-02","キイトルーダ（6週間毎）"," ６週間ごとに投与\n              W1　　　　   W2～6   \nPmbro  ↓××××××  ××××××× ","42日","∞","尿路上皮癌","泌尿器科","キイトルーダ","危 ｷｲﾄﾙｰﾀﾞ点滴静注 100mg/4mL（希釈液:生食orTZ）","4291435A2025","注射","３０ 分で",400,"BODY","mg",null,"d1",{"$f":"IFERROR(VLOOKUP(__レジメンマスタ[[#This Row],[YJコード①]],[1]!__前投薬リスト[#Data],4,FALSE)&\"\",\"\")","v":""},null,null,null,null,null,null,null,null,null,null,null,{"$f":"IFERROR(VLOOKUP(__レジメンマスタ[[#This Row],[YJコード②]],[1]!__前投薬リスト[#Data],4,FALSE)&\"\",\"\")","v":""},null,null,null,null,null,null,null,null,null,null,null,{"$f":"IFERROR(VLOOKUP(__レジメンマスタ[[#This Row],[YJコード③]],[1]!__前投薬リスト[#Data],4,FALSE)&\"\",\"\")","v":""},null,null,null,null,null,null,null,null,null,null,null,{"$f":"IFERROR(VLOOKUP(__レジメンマスタ[[#This Row],[YJコード④]],[1]!__前投薬リスト[#Data],4,FALSE)&\"\",\"\")","v":""},null,null,null,null,null,null,null,null,null,null,null,{"$f":"IFERROR(VLOOKUP(__レジメンマスタ[[#This Row],[YJコード⑤]],[1]!__前投薬リスト[#Data],4,FALSE)&\"\",\"\")","v":""},null,null,null,null,null,null,null,null,null,null,null,{"$f":"IFERROR(VLOOKUP(__レジメンマスタ[[#This Row],[YJコード⑥]],[1]!__前投薬リスト[#Data],4,FALSE)&\"\",\"\")","v":""},null,null,null,null,null,null,null,null,null,null,null,{"$f":"IFERROR(VLOOKUP(__レジメンマスタ[[#This Row],[YJコード⑦]],[1]!__前投薬リスト[#Data],4,FALSE)&\"\",\"\")","v":""}]
["URO0029-1","オプジーボ"," 2週間ごとに投与\n　　　　　　　　　W1　　　　　   W2 \nオプジーボ ↓×××××× ××××××× ","14日","∞","腎細胞癌","泌尿器科","オプジーボ","危 240mg/24mL ｵﾌﾟｼﾞｰﾎﾞ点滴静注（希釈液:生食orTZ）","4291427A3027","注射","３０ 分で",240,"BODY","mg","最小","d1",{"$f":"IFERROR(VLOOKUP(__レジメンマスタ[[#This Row],[YJコード①]],[1]!__前投薬リスト[#Data],4,FALSE)&\"\",\"\")","v":""},null,null,null,null,null,null,null,null,null,null,null,{"$f":"IFERROR(VLOOKUP(__レジメンマスタ[[#This Row],[YJコード②]],[1]!__前投薬リスト[#Data],4,FALSE)&\"\",\"\")","v":""},null,null,null,null,null,null,null,null,null,null,null,{"$f":"IFERROR(VLOOKUP(__レジメンマスタ[[#This Row],[YJコード③]],[1]!__前投薬リスト[#Data],4,FALSE)&\"\",\"\")","v":""},null,null,null,null,null,null,null,null,null,null,null,{"$f":"IFERROR(VLOOKUP(__レジメンマスタ[[#This Row],[YJコード④]],[1]!__前投薬リスト[#Data],4,FALSE)&\"\",\"\")","v":""},null,null,null,null,null,null,null,null,null,null,null,{"$f":"IFERROR(VLOOKUP(__レジメンマスタ[[#This Row],[YJコード⑤]],[1]!__前投薬リスト[#Data],4,FALSE)&\"\",\"\")","v":""},null,null,null,null,null,null,null,null,null,null,null,{"$f":"IFERROR(VLOOKUP(__レジメンマスタ[[#This Row],[YJコード⑥]],[1]!__前投薬リスト[#Data],4,FALSE)&\"\",\"\")","v":""},null,null,null,null,null,null,null,null,null,null,null,{"$f":"IFERROR(VLOOKUP(__レジメンマスタ[[#This Row],[YJコード⑦]],[1]!__前投薬リスト[#Data],4,FALSE)&\"\",\"\")","v":""}]
["URO0029-2","オプジーボ（4週間毎）"," ４週間ごとに投与\n　　　　　　　　 W1　　   W2～W4\nオプジーボ ↓×××××× ×××××××","28日","∞","腎細胞癌","泌尿器科","オプジーボ","危 240mg/24mL ｵﾌﾟｼﾞｰﾎﾞ点滴静注（希釈液:生食orTZ）","4291427A3027","注射","３０ 分で",480,"BODY","mg","最小","d1",{"$f":"IFERROR(VLOOKUP(__レジメンマスタ[[#This Row],[YJコード①]],[1]!__前投薬リスト[#Data],4,FALSE)&\"\",\"\")","v":""},null,null,null,null,null,null,null,null,null,null,null,{"$f":"IFERROR(VLOOKUP(__レジメンマスタ[[#This Row],[YJコード②]],[1]!__前投薬リスト[#Data],4,FALSE)&\"\",\"\")","v":""},null,null,null,null,null,null,null,null,null,null,null,{"$f":"IFERROR(VLOOKUP(__レジメンマスタ[[#This Row],[YJコード③]],[1]!__前投薬リスト[#Data],4,FALSE)&\"\",\"\")","v":""},null,null,null,null,null,null,null,null,null,null,null,{"$f":"IFERROR(VLOOKUP(__レジメンマスタ[[#This Row],[YJコード④]],[1]!__前投薬リスト[#Data],4,FALSE)&\"\",\"\")","v":""},null,null,null,null,null,null,null,null,null,null,null,{"$f":"IFERROR(VLOOKUP(__レジメンマスタ[[#This Row],[YJコード⑤]],[1]!__前投薬リスト[#Data],4,FALSE)&\"\",\"\")","v":""},null,null,null,null,null,null,null,null,null,null,null,{"$f":"IFERROR(VLOOKUP(__レジメンマスタ[[#This Row],[YJコード⑥]],[1]!__前投薬リスト[#Data],4,FALSE)&\"\",\"\")","v":""},null,null,null,null,null,null,null,null,null,null,null,{"$f":"IFERROR(VLOOKUP(__レジメンマスタ[[#This Row],[YJコード⑦]],[1]!__前投薬リスト[#Data],4,FALSE)&\"\",\"\")","v":""}]
["URO0030","ゲムシタビン単剤","   GEM：溶解液確認→Tzで行う方針の場合はTzへ変更           \n３週連投 １週休薬で最高投与回数なし\n　　　　　　 W1  　　　　　 W2 　　　　　  W3 　　　　  W4  \nGEM   ↓×××××× ↓×××××× ↓×××××× ×××××××  ","28日","∞","尿路上皮癌","泌尿器科","ゲムシタビン","危 1g ｹﾞﾑｼﾀﾋﾞﾝ点滴静注用「ﾔｸﾙﾄ」（溶解液:生食）（先:ｼﾞｪﾑｻﾞｰﾙ）","4224403D2061","注射","３０ 分で",1000,"㎡","mg",null,"d1,8,15",{"$f":"IFERROR(VLOOKUP(__レジメンマスタ[[#This Row],[YJコード①]],[1]!__前投薬リスト[#Data],4,FALSE)&\"\",\"\")","v":""},null,null,null,null,null,null,null,null,null,null,null,{"$f":"IFERROR(VLOOKUP(__レジメンマスタ[[#This Row],[YJコード②]],[1]!__前投薬リスト[#Data],4,FALSE)&\"\",\"\")","v":""},null,null,null,null,null,null,null,null,null,null,null,{"$f":"IFERROR(VLOOKUP(__レジメンマスタ[[#This Row],[YJコード③]],[1]!__前投薬リスト[#Data],4,FALSE)&\"\",\"\")","v":""},null,null,null,null,null,null,null,null,null,null,null,{"$f":"IFERROR(VLOOKUP(__レジメンマスタ[[#This Row],[YJコード④]],[1]!__前投薬リスト[#Data],4,FALSE)&\"\",\"\")","v":""},null,null,null,null,null,null,null,null,null,null,null,{"$f":"IFERROR(VLOOKUP(__レジメンマスタ[[#This Row],[YJコード⑤]],[1]!__前投薬リスト[#Data],4,FALSE)&\"\",\"\")","v":""},null,null,null,null,null,null,null,null,null,null,null,{"$f":"IFERROR(VLOOKUP(__レジメンマスタ[[#This Row],[YJコード⑥]],[1]!__前投薬リスト[#Data],4,FALSE)&\"\",\"\")","v":""},null,null,null,null,null,null,null,null,null,null,null,{"$f":"IFERROR(VLOOKUP(__レジメンマスタ[[#This Row],[YJコード⑦]],[1]!__前投薬リスト[#Data],4,FALSE)&\"\",\"\")","v":""}]
["URO0031","照射併用CDDP","1クールのみ","5日","1クール","膀胱癌","泌尿器科","シスプラチン","危〈毒〉50mg/100mL ｼｽﾌﾟﾗﾁﾝ点滴静注「ﾏﾙｺ」（先:ﾗﾝﾀﾞ）","4291401A3111","注射",null,20,"㎡","mg",null,"d1-5",{"$f":"IFERROR(VLOOKUP(__レジメンマスタ[[#This Row],[YJコード①]],[1]!__前投薬リスト[#Data],4,FALSE)&\"\",\"\")","v":""},null,null,null,null,null,null,null,null,null,null,null,{"$f":"IFERROR(VLOOKUP(__レジメンマスタ[[#This Row],[YJコード②]],[1]!__前投薬リスト[#Data],4,FALSE)&\"\",\"\")","v":""},null,null,null,null,null,null,null,null,null,null,null,{"$f":"IFERROR(VLOOKUP(__レジメンマスタ[[#This Row],[YJコード③]],[1]!__前投薬リスト[#Data],4,FALSE)&\"\",\"\")","v":""},null,null,null,null,null,null,null,null,null,null,null,{"$f":"IFERROR(VLOOKUP(__レジメンマスタ[[#This Row],[YJコード④]],[1]!__前投薬リスト[#Data],4,FALSE)&\"\",\"\")","v":""},null,null,null,null,null,null,null,null,null,null,null,{"$f":"IFERROR(VLOOKUP(__レジメンマスタ[[#This Row],[YJコード⑤]],[1]!__前投薬リスト[#Data],4,FALSE)&\"\",\"\")","v":""},null,null,null,null,null,null,null,null,null,null,null,{"$f":"IFERROR(VLOOKUP(__レジメンマスタ[[#This Row],[YJコード⑥]],[1]!__前投薬リスト[#Data],4,FALSE)&\"\",\"\")","v":""},null,null,null,null,null,null,null,null,null,null,null,{"$f":"IFERROR(VLOOKUP(__レジメンマスタ[[#This Row],[YJコード⑦]],[1]!__前投薬リスト[#Data],4,FALSE)&\"\",\"\")","v":""}]
["URO0032-01","オプジーボ・ヤーボイ","ヤーボイ併用：3週間毎4回まで、その後オプジーボ単独（レジメン変更へ）\n                 W1             W2～3  \nオプジーボ ↓××××××   ×××××××   \nヤーボイ   ↓××××××   ×××××××    \n","21日",null,"腎細胞癌","泌尿器科","オプジーボ","危 240mg/24mL ｵﾌﾟｼﾞｰﾎﾞ点滴静注（希釈液:生食orTZ）","4291427A3027","注射","３０ 分で",240,"BODY","mg","最小","d1",{"$f":"IFERROR(VLOOKUP(__レジメンマスタ[[#This Row],[YJコード①]],[1]!__前投薬リスト[#Data],4,FALSE)&\"\",\"\")","v":""},"∞","ヤーボイ","危 臨）50mg/10mL ﾔｰﾎﾞｲ点滴静注液","4291430A1026","注射","３０ 分で",1,"kg","mg",null,"d1",{"$f":"IFERROR(VLOOKUP(__レジメンマスタ[[#This Row],[YJコード②]],[1]!__前投薬リスト[#Data],4,FALSE)&\"\",\"\")","v":""},"4回",null,null,null,null,null,null,null,null,null,null,{"$f":"IFERROR(VLOOKUP(__レジメンマスタ[[#This Row],[YJコード③]],[1]!__前投薬リスト[#Data],4,FALSE)&\"\",\"\")","v":""},null,null,null,null,null,null,null,null,null,null,null,{"$f":"IFERROR(VLOOKUP(__レジメンマスタ[[#This Row],[YJコード④]],[1]!__前投薬リスト[#Data],4,FALSE)&\"\",\"\")","v":""},null,null,null,null,null,null,null,null,null,null,null,{"$f":"IFERROR(VLOOKUP(__レジメンマスタ[[#This Row],[YJコード⑤]],[1]!__前投薬リスト[#Data],4,FALSE)&\"\",\"\")","v":""},null,null,null,null,null,null,null,null,null,null,null,{"$f":"IFERROR(VLOOKUP(__レジメンマスタ[[#This Row],[YJコード⑥]],[1]!__前投薬リスト[#Data],4,FALSE)&\"\",\"\")","v":""},null,null,null,null,null,null,null,null,null,null,null,{"$f":"IFERROR(VLOOKUP(__レジメンマスタ[[#This Row],[YJコード⑦]],[1]!__前投薬リスト[#Data],4,FALSE)&\"\",\"\")","v":""}]
["URO0032-02","オプジーボ・ヤーボイ（維持療法）"," 2週間ごとに投与\n　　　　　　　　　 W1　　　　　   W2 \nオプジーボ ↓×××××× ××××××× ","14日","∞","腎細胞癌","泌尿器科","オプジーボ","危 240mg/24mL ｵﾌﾟｼﾞｰﾎﾞ点滴静注（希釈液:生食orTZ）","4291427A3027","注射","３０ 分で",240,"BODY","mg","最小","d1",{"$f":"IFERROR(VLOOKUP(__レジメンマスタ[[#This Row],[YJコード①]],[1]!__前投薬リスト[#Data],4,FALSE)&\"\",\"\")","v":""},null,null,null,null,null,null,null,null,null,null,null,{"$f":"IFERROR(VLOOKUP(__レジメンマスタ[[#This Row],[YJコード②]],[1]!__前投薬リスト[#Data],4,FALSE)&\"\",\"\")","v":""},null,null,null,null,null,null,null,null,null,null,null,{"$f":"IFERROR(VLOOKUP(__レジメンマスタ[[#This Row],[YJコード③]],[1]!__前投薬リスト[#Data],4,FALSE)&\"\",\"\")","v":""},null,null,null,null,null,null,null,null,null,null,null,{"$f":"IFERROR(VLOOKUP(__レジメンマスタ[[#This Row],[YJコード④]],[1]!__前投薬リスト[#Data],4,FALSE)&\"\",\"\")","v":""},null,null,null,null,null,null,null,null,null,null,null,{"$f":"IFERROR(VLOOKUP(__レジメンマスタ[[#This Row],[YJコード⑤]],[1]!__前投薬リスト[#Data],4,FALSE)&\"\",\"\")","v":""},null,null,null,null,null,null,null,null,null,null,null,{"$f":"IFERROR(VLOOKUP(__レジメンマスタ[[#This Row],[YJコード⑥]],[1]!__前投薬リスト[#Data],4,FALSE)&\"\",\"\")","v":""},null,null,null,null,null,null,null,null,null,null,null,{"$f":"IFERROR(VLOOKUP(__レジメンマスタ[[#This Row],[YJコード⑦]],[1]!__前投薬リスト[#Data],4,FALSE)&\"\",\"\")","v":""}]
["URO0032-03","オプジーボ・ヤーボイ（維持療法、４週間毎）"," ４週間ごとに投与\n　　　　　　　　　W1　　　    W2～W4\nオプジーボ ↓××××××  ×××××××","28日","∞","腎細胞癌","泌尿器科","オプジーボ","危 240mg/24mL ｵﾌﾟｼﾞｰﾎﾞ点滴静注（希釈液:生食orTZ）","4291427A3027","注射","３０ 分で",480,"BODY","mg","最小","d1",{"$f":"IFERROR(VLOOKUP(__レジメンマスタ[[#This Row],[YJコード①]],[1]!__前投薬リスト[#Data],4,FALSE)&\"\",\"\")","v":""},null,null,null,null,null,null,null,null,null,null,null,{"$f":"IFERROR(VLOOKUP(__レジメンマスタ[[#This Row],[YJコード②]],[1]!__前投薬リスト[#Data],4,FALSE)&\"\",\"\")","v":""},null,null,null,null,null,null,null,null,null,null,null,{"$f":"IFERROR(VLOOKUP(__レジメンマスタ[[#This Row],[YJコード③]],[1]!__前投薬リスト[#Data],4,FALSE)&\"\",\"\")","v":""},null,null,null,null,null,null,null,null,null,null,null,{"$f":"IFERROR(VLOOKUP(__レジメンマスタ[[#This Row],[YJコード④]],[1]!__前投薬リスト[#Data],4,FALSE)&\"\",\"\")","v":""},null,null,null,null,null,null,null,null,null,null,null,{"$f":"IFERROR(VLOOKUP(__レジメンマスタ[[#This Row],[YJコード⑤]],[1]!__前投薬リスト[#Data],4,FALSE)&\"\",\"\")","v":""},null,null,null,null,null,null,null,null,null,null,null,{"$f":"IFERROR(VLOOKUP(__レジメンマスタ[[#This Row],[YJコード⑥]],[1]!__前投薬リスト[#Data],4,FALSE)&\"\",\"\")","v":""},null,null,null,null,null,null,null,null,null,null,null,{"$f":"IFERROR(VLOOKUP(__レジメンマスタ[[#This Row],[YJコード⑦]],[1]!__前投薬リスト[#Data],4,FALSE)&\"\",\"\")","v":""}]
["URO0033","dd M-VAC","            Ｗ1            Ｗ2  \nMTX  ↓××××××   ×××××××  \nVBL  ×↓×××××   ×××××××\nDXR  ×↓×××××   ×××××××  \nCDDP ×↓×××××   ×××××××  ","14日","６コース","尿路上皮癌","泌尿器科","メソトレキセート","危 200mg/8mL ﾒｿﾄﾚｷｾｰﾄ点滴静注液","4222400A1036","注射",null,30,"㎡","mg",null,"d1",{"$f":"IFERROR(VLOOKUP(__レジメンマスタ[[#This Row],[YJコード①]],[1]!__前投薬リスト[#Data],4,FALSE)&\"\",\"\")","v":""},null,"エクザール",null,"4240401D2031","注射",null,3,"㎡","mg",null,"d2",{"$f":"IFERROR(VLOOKUP(__レジメンマスタ[[#This Row],[YJコード②]],[1]!__前投薬リスト[#Data],4,FALSE)&\"\",\"\")","v":""},null,"ドキソルビシン","危 50mg ﾄﾞｷｿﾙﾋﾞｼﾝ塩酸塩注射用「NK」（溶解液:生食orAq）（先:ｱﾄﾞﾘｱｼﾝ）","4235402D2028","注射",null,30,"㎡","mg",null,"d2",{"$f":"IFERROR(VLOOKUP(__レジメンマスタ[[#This Row],[YJコード③]],[1]!__前投薬リスト[#Data],4,FALSE)&\"\",\"\")","v":""},null,"シスプラチン","危〈毒〉50mg/100mL ｼｽﾌﾟﾗﾁﾝ点滴静注「ﾏﾙｺ」（先:ﾗﾝﾀﾞ）","4291401A3111","注射",null,70,"㎡","mg",null,"d2",{"$f":"IFERROR(VLOOKUP(__レジメンマスタ[[#This Row],[YJコード④]],[1]!__前投薬リスト[#Data],4,FALSE)&\"\",\"\")","v":""},null,null,null,null,null,null,null,null,null,null,null,{"$f":"IFERROR(VLOOKUP(__レジメンマスタ[[#This Row],[YJコード⑤]],[1]!__前投薬リスト[#Data],4,FALSE)&\"\",\"\")","v":""},null,null,null,null,null,null,null,null,null,null,null,{"$f":"IFERROR(VLOOKUP(__レジメンマスタ[[#This Row],[YJコード⑥]],[1]!__前投薬リスト[#Data],4,FALSE)&\"\",\"\")","v":""},null,null,null,null,null,null,null,null,null,null,null,{"$f":"IFERROR(VLOOKUP(__レジメンマスタ[[#This Row],[YJコード⑦]],[1]!__前投薬リスト[#Data],4,FALSE)&\"\",\"\")","v":""}]
["URO0034","キイトルーダ＋インライタ","※インライタ：10mg／2×　連日内服              \n 3週間ごとに投与\n　　　　　　　　　　W1             W2～3  \nキイトルーダ ↓××××××   ×××××××  \nインライタ   ↓↓↓↓↓↓↓   ↓↓↓↓↓↓↓ \n","21日","∞","腎細胞癌","泌尿器科","キイトルーダ","危 ｷｲﾄﾙｰﾀﾞ点滴静注 100mg/4mL（希釈液:生食orTZ）","4291435A2025","注射","３０ 分で",200,"BODY","mg",null,"d1",{"$f":"IFERROR(VLOOKUP(__レジメンマスタ[[#This Row],[YJコード①]],[1]!__前投薬リスト[#Data],4,FALSE)&\"\",\"\")","v":""},null,"アキシチニブ",null,"4291027F2025","経口",null,"10mg／2","BODY","mg",null,"連日",{"$f":"IFERROR(VLOOKUP(__レジメンマスタ[[#This Row],[YJコード②]],[1]!__前投薬リスト[#Data],4,FALSE)&\"\",\"\")","v":""},null,null,null,null,null,null,null,null,null,null,null,{"$f":"IFERROR(VLOOKUP(__レジメンマスタ[[#This Row],[YJコード③]],[1]!__前投薬リスト[#Data],4,FALSE)&\"\",\"\")","v":""},null,null,null,null,null,null,null,null,null,null,null,{"$f":"IFERROR(VLOOKUP(__レジメンマスタ[[#This Row],[YJコード④]],[1]!__前投薬リスト[#Data],4,FALSE)&\"\",\"\")","v":""},null,null,null,null,null,null,null,null,null,null,null,{"$f":"IFERROR(VLOOKUP(__レジメンマスタ[[#This Row],[YJコード⑤]],[1]!__前投薬リスト[#Data],4,FALSE)&\"\",\"\")","v":""},null,null,null,null,null,null,null,null,null,null,null,{"$f":"IFERROR(VLOOKUP(__レジメンマスタ[[#This Row],[YJコード⑥]],[1]!__前投薬リスト[#Data],4,FALSE)&\"\",\"\")","v":""},null,null,null,null,null,null,null,null,null,null,null,{"$f":"IFERROR(VLOOKUP(__レジメンマスタ[[#This Row],[YJコード⑦]],[1]!__前投薬リスト[#Data],4,FALSE)&\"\",\"\")","v":""}]
["URO0034-02","キイトルーダ＋インライタ（6週間毎）","※インライタ：10mg／2×　連日内服              \n 6週間ごとに投与\n　　　　　　　　　 W1             W2～6  \nキイトルーダ ↓××××××   ×××××××  \nインライタ   ↓↓↓↓↓↓↓   ↓↓↓↓↓↓↓ \n","42日","∞","腎細胞癌","泌尿器科","キイトルーダ","危 ｷｲﾄﾙｰﾀﾞ点滴静注 100mg/4mL（希釈液:生食orTZ）","4291435A2025","注射","３０ 分で",400,"BODY","mg",null,"d1",{"$f":"IFERROR(VLOOKUP(__レジメンマスタ[[#This Row],[YJコード①]],[1]!__前投薬リスト[#Data],4,FALSE)&\"\",\"\")","v":""},null,"アキシチニブ",null,"4291027F2025","経口",null,"10mg／2","BODY","mg",null,"連日",{"$f":"IFERROR(VLOOKUP(__レジメンマスタ[[#This Row],[YJコード②]],[1]!__前投薬リスト[#Data],4,FALSE)&\"\",\"\")","v":""},null,null,null,null,null,null,null,null,null,null,null,{"$f":"IFERROR(VLOOKUP(__レジメンマスタ[[#This Row],[YJコード③]],[1]!__前投薬リスト[#Data],4,FALSE)&\"\",\"\")","v":""},null,null,null,null,null,null,null,null,null,null,null,{"$f":"IFERROR(VLOOKUP(__レジメンマスタ[[#This Row],[YJコード④]],[1]!__前投薬リスト[#Data],4,FALSE)&\"\",\"\")","v":""},null,null,null,null,null,null,null,null,null,null,null,{"$f":"IFERROR(VLOOKUP(__レジメンマスタ[[#This Row],[YJコード⑤]],[1]!__前投薬リスト[#Data],4,FALSE)&\"\",\"\")","v":""},null,null,null,null,null,null,null,null,null,null,null,{"$f":"IFERROR(VLOOKUP(__レジメンマスタ[[#This Row],[YJコード⑥]],[1]!__前投薬リスト[#Data],4,FALSE)&\"\",\"\")","v":""},null,null,null,null,null,null,null,null,null,null,null,{"$f":"IFERROR(VLOOKUP(__レジメンマスタ[[#This Row],[YJコード⑦]],[1]!__前投薬リスト[#Data],4,FALSE)&\"\",\"\")","v":""}]
["URO0035","バベンチオ+インライタ療法","※インライタ：10mg／2×　連日内服              \n 2週間ごとに投与\n　　　　　　　　　W1             W2  \nバベンチオ ↓×××××× ×××××××  \nインライタ ↓↓↓↓↓↓↓ ↓↓↓↓↓↓↓   \n","14日","∞","腎細胞癌","泌尿器科","バベンチオ","危 臨）ﾊﾞﾍﾞﾝﾁｵ点滴静注 200mg/10mL","4291438A1022","注射","６０ 分で",10,"kg","mg",null,"d1",{"$f":"IFERROR(VLOOKUP(__レジメンマスタ[[#This Row],[YJコード①]],[1]!__前投薬リスト[#Data],4,FALSE)&\"\",\"\")","v":"抗ヒス,解"},null,"アキシチニブ",null,"4291027F2025","経口",null,"10mg／2","BODY","mg",null,"連日",{"$f":"IFERROR(VLOOKUP(__レジメンマスタ[[#This Row],[YJコード②]],[1]!__前投薬リスト[#Data],4,FALSE)&\"\",\"\")","v":""},null,null,null,null,null,null,null,null,null,null,null,{"$f":"IFERROR(VLOOKUP(__レジメンマスタ[[#This Row],[YJコード③]],[1]!__前投薬リスト[#Data],4,FALSE)&\"\",\"\")","v":""},null,null,null,null,null,null,null,null,null,null,null,{"$f":"IFERROR(VLOOKUP(__レジメンマスタ[[#This Row],[YJコード④]],[1]!__前投薬リスト[#Data],4,FALSE)&\"\",\"\")","v":""},null,null,null,null,null,null,null,null,null,null,null,{"$f":"IFERROR(VLOOKUP(__レジメンマスタ[[#This Row],[YJコード⑤]],[1]!__前投薬リスト[#Data],4,FALSE)&\"\",\"\")","v":""},null,null,null,null,null,null,null,null,null,null,null,{"$f":"IFERROR(VLOOKUP(__レジメンマスタ[[#This Row],[YJコード⑥]],[1]!__前投薬リスト[#Data],4,FALSE)&\"\",\"\")","v":""},null,null,null,null,null,null,null,null,null,null,null,{"$f":"IFERROR(VLOOKUP(__レジメンマスタ[[#This Row],[YJコード⑦]],[1]!__前投薬リスト[#Data],4,FALSE)&\"\",\"\")","v":""}]
["URO0036","バベンチオ維持療法"," 2週間ごとに投与\n　　　　　　　　　W1          W2  \nバベンチオ ↓×××××× ×××××××  \n","14日","∞","尿路上皮癌","泌尿器科","バベンチオ","危 臨）ﾊﾞﾍﾞﾝﾁｵ点滴静注 200mg/10mL","4291438A1022","注射","６０ 分で",10,"kg","mg",null,"d1",{"$f":"IFERROR(VLOOKUP(__レジメンマスタ[[#This Row],[YJコード①]],[1]!__前投薬リスト[#Data],4,FALSE)&\"\",\"\")","v":"抗ヒス,解"},null,null,null,null,null,null,null,null,null,null,null,{"$f":"IFERROR(VLOOKUP(__レジメンマスタ[[#This Row],[YJコード②]],[1]!__前投薬リスト[#Data],4,FALSE)&\"\",\"\")","v":""},null,null,null,null,null,null,null,null,null,null,null,{"$f":"IFERROR(VLOOKUP(__レジメンマスタ[[#This Row],[YJコード③]],[1]!__前投薬リスト[#Data],4,FALSE)&\"\",\"\")","v":""},null,null,null,null,null,null,null,null,null,null,null,{"$f":"IFERROR(VLOOKUP(__レジメンマスタ[[#This Row],[YJコード④]],[1]!__前投薬リスト[#Data],4,FALSE)&\"\",\"\")","v":""},null,null,null,null,null,null,null,null,null,null,null,{"$f":"IFERROR(VLOOKUP(__レジメンマスタ[[#This Row],[YJコード⑤]],[1]!__前投薬リスト[#Data],4,FALSE)&\"\",\"\")","v":""},null,null,null,null,null,null,null,null,null,null,null,{"$f":"IFERROR(VLOOKUP(__レジメンマスタ[[#This Row],[YJコード⑥]],[1]!__前投薬リスト[#Data],4,FALSE)&\"\",\"\")","v":""},null,null,null,null,null,null,null,null,null,null,null,{"$f":"IFERROR(VLOOKUP(__レジメンマスタ[[#This Row],[YJコード⑦]],[1]!__前投薬リスト[#Data],4,FALSE)&\"\",\"\")","v":""}]
["URO0037","パドセブ"," Max　125mg/回    \n３週連投 １週休薬で最高投与回数なし\n　　　　　　　　　W1            W2           W3            W4 \nパドセブ ↓×××××× ↓×××××× ↓×××××× ×××××××   \n","28日","∞","尿路上皮癌","泌尿器科","パドセブ","危 臨）30mg ﾊﾟﾄﾞｾﾌﾞ点滴静注用（溶解液:Aq）","4291459D1020","注射","３０ 分で",1.25,"kg","mg",null,"d1,8,15",{"$f":"IFERROR(VLOOKUP(__レジメンマスタ[[#This Row],[YJコード①]],[1]!__前投薬リスト[#Data],4,FALSE)&\"\",\"\")","v":""},null,null,null,null,null,null,null,null,null,null,null,{"$f":"IFERROR(VLOOKUP(__レジメンマスタ[[#This Row],[YJコード②]],[1]!__前投薬リスト[#Data],4,FALSE)&\"\",\"\")","v":""},null,null,null,null,null,null,null,null,null,null,null,{"$f":"IFERROR(VLOOKUP(__レジメンマスタ[[#This Row],[YJコード③]],[1]!__前投薬リスト[#Data],4,FALSE)&\"\",\"\")","v":""},null,null,null,null,null,null,null,null,null,null,null,{"$f":"IFERROR(VLOOKUP(__レジメンマスタ[[#This Row],[YJコード④]],[1]!__前投薬リスト[#Data],4,FALSE)&\"\",\"\")","v":""},null,null,null,null,null,null,null,null,null,null,null,{"$f":"IFERROR(VLOOKUP(__レジメンマスタ[[#This Row],[YJコード⑤]],[1]!__前投薬リスト[#Data],4,FALSE)&\"\",\"\")","v":""},null,null,null,null,null,null,null,null,null,null,null,{"$f":"IFERROR(VLOOKUP(__レジメンマスタ[[#This Row],[YJコード⑥]],[1]!__前投薬リスト[#Data],4,FALSE)&\"\",\"\")","v":""},null,null,null,null,null,null,null,null,null,null,null,{"$f":"IFERROR(VLOOKUP(__レジメンマスタ[[#This Row],[YJコード⑦]],[1]!__前投薬リスト[#Data],4,FALSE)&\"\",\"\")","v":""}]
["URO0038","キイトルーダ＋レンビマ","※レンビマ：20mg／1×　連日内服              \n 3週間ごとに投与\n　　　　　　　　　　W1 　　　　  W2～3\nキイトルーダ  ↓×××××× ××××××× \nレンバチニブ  ↓↓↓↓↓↓↓ ↓↓↓↓↓↓↓ ","21日","∞","腎細胞癌","泌尿器科","キイトルーダ","危 ｷｲﾄﾙｰﾀﾞ点滴静注 100mg/4mL（希釈液:生食orTZ）","4291435A2025","注射","３０ 分で",200,"BODY","mg",null,"d1",{"$f":"IFERROR(VLOOKUP(__レジメンマスタ[[#This Row],[YJコード①]],[1]!__前投薬リスト[#Data],4,FALSE)&\"\",\"\")","v":""},null,"レンビマカプセル",null,"4291039M1020","経口",null,20,"BODY","mg",null,"連日",{"$f":"IFERROR(VLOOKUP(__レジメンマスタ[[#This Row],[YJコード②]],[1]!__前投薬リスト[#Data],4,FALSE)&\"\",\"\")","v":""},null,null,null,null,null,null,null,null,null,null,null,{"$f":"IFERROR(VLOOKUP(__レジメンマスタ[[#This Row],[YJコード③]],[1]!__前投薬リスト[#Data],4,FALSE)&\"\",\"\")","v":""},null,null,null,null,null,null,null,null,null,null,null,{"$f":"IFERROR(VLOOKUP(__レジメンマスタ[[#This Row],[YJコード④]],[1]!__前投薬リスト[#Data],4,FALSE)&\"\",\"\")","v":""},null,null,null,null,null,null,null,null,null,null,null,{"$f":"IFERROR(VLOOKUP(__レジメンマスタ[[#This Row],[YJコード⑤]],[1]!__前投薬リスト[#Data],4,FALSE)&\"\",\"\")","v":""},null,null,null,null,null,null,null,null,null,null,null,{"$f":"IFERROR(VLOOKUP(__レジメンマスタ[[#This Row],[YJコード⑥]],[1]!__前投薬リスト[#Data],4,FALSE)&\"\",\"\")","v":""},null,null,null,null,null,null,null,null,null,null,null,{"$f":"IFERROR(VLOOKUP(__レジメンマスタ[[#This Row],[YJコード⑦]],[1]!__前投薬リスト[#Data],4,FALSE)&\"\",\"\")","v":""}]
["URO0039-1","オプジーボ（術後補助療法）"," 2週間ごとに投与             \n  投与期間：12ヶ月→制限年月日を患者特記事項に記載\n   　　　　　　　　W1  　　　　　 W2  \nオプジーボ  ↓××××××  ×××××××  \n","14日","1年間","尿路上皮癌","泌尿器科","オプジーボ","危 240mg/24mL ｵﾌﾟｼﾞｰﾎﾞ点滴静注（希釈液:生食orTZ）","4291427A3027","注射","３０ 分で",240,"BODY","mg","最小","d1",{"$f":"IFERROR(VLOOKUP(__レジメンマスタ[[#This Row],[YJコード①]],[1]!__前投薬リスト[#Data],4,FALSE)&\"\",\"\")","v":""},null,null,null,null,null,null,null,null,null,null,null,{"$f":"IFERROR(VLOOKUP(__レジメンマスタ[[#This Row],[YJコード②]],[1]!__前投薬リスト[#Data],4,FALSE)&\"\",\"\")","v":""},null,null,null,null,null,null,null,null,null,null,null,{"$f":"IFERROR(VLOOKUP(__レジメンマスタ[[#This Row],[YJコード③]],[1]!__前投薬リスト[#Data],4,FALSE)&\"\",\"\")","v":""},null,null,null,null,null,null,null,null,null,null,null,{"$f":"IFERROR(VLOOKUP(__レジメンマスタ[[#This Row],[YJコード④]],[1]!__前投薬リスト[#Data],4,FALSE)&\"\",\"\")","v":""},null,null,null,null,null,null,null,null,null,null,null,{"$f":"IFERROR(VLOOKUP(__レジメンマスタ[[#This Row],[YJコード⑤]],[1]!__前投薬リスト[#Data],4,FALSE)&\"\",\"\")","v":""},null,null,null,null,null,null,null,null,null,null,null,{"$f":"IFERROR(VLOOKUP(__レジメンマスタ[[#This Row],[YJコード⑥]],[1]!__前投薬リスト[#Data],4,FALSE)&\"\",\"\")","v":""},null,null,null,null,null,null,null,null,null,null,null,{"$f":"IFERROR(VLOOKUP(__レジメンマスタ[[#This Row],[YJコード⑦]],[1]!__前投薬リスト[#Data],4,FALSE)&\"\",\"\")","v":""}]
["URO0039-2","オプジーボ（術後補助療法、4週間毎）"," ４週間ごとに投与             \n  投与期間：12ヶ月→制限年月日を患者特記事項に記載\n   　　　　　　　　W1  　　  　 W2～W4  \nオプジーボ  ↓××××××  ×××××××  \n","28日","1年間","尿路上皮癌","泌尿器科","オプジーボ","危 240mg/24mL ｵﾌﾟｼﾞｰﾎﾞ点滴静注（希釈液:生食orTZ）","4291427A3027","注射","３０ 分で",480,"BODY","mg","最小","d1",{"$f":"IFERROR(VLOOKUP(__レジメンマスタ[[#This Row],[YJコード①]],[1]!__前投薬リスト[#Data],4,FALSE)&\"\",\"\")","v":""},null,null,null,null,null,null,null,null,null,null,null,{"$f":"IFERROR(VLOOKUP(__レジメンマスタ[[#This Row],[YJコード②]],[1]!__前投薬リスト[#Data],4,FALSE)&\"\",\"\")","v":""},null,null,null,null,null,null,null,null,null,null,null,{"$f":"IFERROR(VLOOKUP(__レジメンマスタ[[#This Row],[YJコード③]],[1]!__前投薬リスト[#Data],4,FALSE)&\"\",\"\")","v":""},null,null,null,null,null,null,null,null,null,null,null,{"$f":"IFERROR(VLOOKUP(__レジメンマスタ[[#This Row],[YJコード④]],[1]!__前投薬リスト[#Data],4,FALSE)&\"\",\"\")","v":""},null,null,null,null,null,null,null,null,null,null,null,{"$f":"IFERROR(VLOOKUP(__レジメンマスタ[[#This Row],[YJコード⑤]],[1]!__前投薬リスト[#Data],4,FALSE)&\"\",\"\")","v":""},null,null,null,null,null,null,null,null,null,null,null,{"$f":"IFERROR(VLOOKUP(__レジメンマスタ[[#This Row],[YJコード⑥]],[1]!__前投薬リスト[#Data],4,FALSE)&\"\",\"\")","v":""},null,null,null,null,null,null,null,null,null,null,null,{"$f":"IFERROR(VLOOKUP(__レジメンマスタ[[#This Row],[YJコード⑦]],[1]!__前投薬リスト[#Data],4,FALSE)&\"\",\"\")","v":""}]
["URO0040","GP","１コース３週間、最大６コース\n　　　　　 W1 　　　　　  W2 　　　　　  W3     \nPTX ↓××××××  ×××××××  ×××××××     \nGEM ↓××××××  ↓××××××  ×××××××                \n  GEM：溶解液確認→Tzで行う方針の場合はTzへ変更 ","21日","6コース","尿路上皮癌","泌尿器科","パクリタキセル","危〈毒〉100mg/16.7mL ﾊﾟｸﾘﾀｷｾﾙ注「NK」（希釈液:生食orTZ）（先:ﾀｷｿｰﾙ）","4240406A2046","注射",null,175,"㎡","mg",null,"d1",{"$f":"IFERROR(VLOOKUP(__レジメンマスタ[[#This Row],[YJコード①]],[1]!__前投薬リスト[#Data],4,FALSE)&\"\",\"\")","v":"抗ヒス,H2B,ステ"},null,"ゲムシタビン","危 1g ｹﾞﾑｼﾀﾋﾞﾝ点滴静注用「ﾔｸﾙﾄ」（溶解液:生食）（先:ｼﾞｪﾑｻﾞｰﾙ）","4224403D2061","注射","３０ 分で",1000,"㎡","mg",null,"d1,8",{"$f":"IFERROR(VLOOKUP(__レジメンマスタ[[#This Row],[YJコード②]],[1]!__前投薬リスト[#Data],4,FALSE)&\"\",\"\")","v":""},null,null,null,null,null,null,null,null,null,null,null,{"$f":"IFERROR(VLOOKUP(__レジメンマスタ[[#This Row],[YJコード③]],[1]!__前投薬リスト[#Data],4,FALSE)&\"\",\"\")","v":""},null,null,null,null,null,null,null,null,null,null,null,{"$f":"IFERROR(VLOOKUP(__レジメンマスタ[[#This Row],[YJコード④]],[1]!__前投薬リスト[#Data],4,FALSE)&\"\",\"\")","v":""},null,null,null,null,null,null,null,null,null,null,null,{"$f":"IFERROR(VLOOKUP(__レジメンマスタ[[#This Row],[YJコード⑤]],[1]!__前投薬リスト[#Data],4,FALSE)&\"\",\"\")","v":""},null,null,null,null,null,null,null,null,null,null,null,{"$f":"IFERROR(VLOOKUP(__レジメンマスタ[[#This Row],[YJコード⑥]],[1]!__前投薬リスト[#Data],4,FALSE)&\"\",\"\")","v":""},null,null,null,null,null,null,null,null,null,null,null,{"$f":"IFERROR(VLOOKUP(__レジメンマスタ[[#This Row],[YJコード⑦]],[1]!__前投薬リスト[#Data],4,FALSE)&\"\",\"\")","v":""}]
["URO0041","TIP（陰茎癌）"," 1クール21～28日間、4クールまで\n　　　　　　Ｗ1            Ｗ2             Ｗ3       \nPTX  ↓××××××  ×××××××  ×××××××       \nIFM  ↓↓↓××××  ×××××××  ×××××××       \nCDDP ↓↓↓××××  ×××××××  ×××××××\nウロミテキサンの投与量の欄は（1回量）を記入      ","21-28日","4コース","陰茎癌","泌尿器科","パクリタキセル","危〈毒〉100mg/16.7mL ﾊﾟｸﾘﾀｷｾﾙ注「NK」（希釈液:生食orTZ）（先:ﾀｷｿｰﾙ）","4240406A2046","注射",null,175,"㎡","mg",null,"d1",{"$f":"IFERROR(VLOOKUP(__レジメンマスタ[[#This Row],[YJコード①]],[1]!__前投薬リスト[#Data],4,FALSE)&\"\",\"\")","v":"抗ヒス,H2B,ステ"},null,"イホマイド","危 注射用ｲﾎﾏｲﾄﾞ 1g（溶解液:生食orAq）","4211402D1020","注射",null,1200,"㎡","mg",null,"d1-3",{"$f":"IFERROR(VLOOKUP(__レジメンマスタ[[#This Row],[YJコード②]],[1]!__前投薬リスト[#Data],4,FALSE)&\"\",\"\")","v":""},null,"ウロミテキサン×３",null,"3929406A2026","注射",null,240,"㎡","mg",null,"×３\nd1-3",{"$f":"IFERROR(VLOOKUP(__レジメンマスタ[[#This Row],[YJコード③]],[1]!__前投薬リスト[#Data],4,FALSE)&\"\",\"\")","v":""},null,"シスプラチン","危〈毒〉50mg/100mL ｼｽﾌﾟﾗﾁﾝ点滴静注「ﾏﾙｺ」（先:ﾗﾝﾀﾞ）","4291401A3111","注射",null,25,"㎡","mg",null,"d1-3",{"$f":"IFERROR(VLOOKUP(__レジメンマスタ[[#This Row],[YJコード④]],[1]!__前投薬リスト[#Data],4,FALSE)&\"\",\"\")","v":""},null,null,null,null,null,null,null,null,null,null,null,{"$f":"IFERROR(VLOOKUP(__レジメンマスタ[[#This Row],[YJコード⑤]],[1]!__前投薬リスト[#Data],4,FALSE)&\"\",\"\")","v":""},null,null,null,null,null,null,null,null,null,null,null,{"$f":"IFERROR(VLOOKUP(__レジメンマスタ[[#This Row],[YJコード⑥]],[1]!__前投薬リスト[#Data],4,FALSE)&\"\",\"\")","v":""},null,null,null,null,null,null,null,null,null,null,null,{"$f":"IFERROR(VLOOKUP(__レジメンマスタ[[#This Row],[YJコード⑦]],[1]!__前投薬リスト[#Data],4,FALSE)&\"\",\"\")","v":""}]
["URO0042","キイトルーダ（術後補助療法）","3週間ごとに投与                  \n  投与期間：12ヶ月→制限年月日を患者特記事項に記載\n　　　　　　 W1　　　　   W2～3   \nPmbro  ↓××××××  ××××××× ","21日","1年間","腎細胞癌","泌尿器科","キイトルーダ","危 ｷｲﾄﾙｰﾀﾞ点滴静注 100mg/4mL（希釈液:生食orTZ）","4291435A2025","注射","３０ 分で",200,"BODY","mg",null,"d1",{"$f":"IFERROR(VLOOKUP(__レジメンマスタ[[#This Row],[YJコード①]],[1]!__前投薬リスト[#Data],4,FALSE)&\"\",\"\")","v":""},null,null,null,null,null,null,null,null,null,null,null,{"$f":"IFERROR(VLOOKUP(__レジメンマスタ[[#This Row],[YJコード②]],[1]!__前投薬リスト[#Data],4,FALSE)&\"\",\"\")","v":""},null,null,null,null,null,null,null,null,null,null,null,{"$f":"IFERROR(VLOOKUP(__レジメンマスタ[[#This Row],[YJコード③]],[1]!__前投薬リスト[#Data],4,FALSE)&\"\",\"\")","v":""},null,null,null,null,null,null,null,null,null,null,null,{"$f":"IFERROR(VLOOKUP(__レジメンマスタ[[#This Row],[YJコード④]],[1]!__前投薬リスト[#Data],4,FALSE)&\"\",\"\")","v":""},null,null,null,null,null,null,null,null,null,null,null,{"$f":"IFERROR(VLOOKUP(__レジメンマスタ[[#This Row],[YJコード⑤]],[1]!__前投薬リスト[#Data],4,FALSE)&\"\",\"\")","v":""},null,null,null,null,null,null,null,null,null,null,null,{"$f":"IFERROR(VLOOKUP(__レジメンマスタ[[#This Row],[YJコード⑥]],[1]!__前投薬リスト[#Data],4,FALSE)&\"\",\"\")","v":""},null,null,null,null,null,null,null,null,null,null,null,{"$f":"IFERROR(VLOOKUP(__レジメンマスタ[[#This Row],[YJコード⑦]],[1]!__前投薬リスト[#Data],4,FALSE)&\"\",\"\")","v":""}]
["URO0042-02","キイトルーダ（術後補助療法、6週間毎）"," 6週間ごとに投与                  \n  投与期間：12ヶ月→制限年月日を患者特記事項に記載 \n　　　　　　　W1　　　　   W2～6   \nPmbro  ↓××××××  ××××××× ","42日","1年間","腎細胞癌","泌尿器科","キイトルーダ","危 ｷｲﾄﾙｰﾀﾞ点滴静注 100mg/4mL（希釈液:生食orTZ）","4291435A2025","注射","３０ 分で",400,"BODY","mg",null,"d1",{"$f":"IFERROR(VLOOKUP(__レジメンマスタ[[#This Row],[YJコード①]],[1]!__前投薬リスト[#Data],4,FALSE)&\"\",\"\")","v":""},null,null,null,null,null,null,null,null,null,null,null,{"$f":"IFERROR(VLOOKUP(__レジメンマスタ[[#This Row],[YJコード②]],[1]!__前投薬リスト[#Data],4,FALSE)&\"\",\"\")","v":""},null,null,null,null,null,null,null,null,null,null,null,{"$f":"IFERROR(VLOOKUP(__レジメンマスタ[[#This Row],[YJコード③]],[1]!__前投薬リスト[#Data],4,FALSE)&\"\",\"\")","v":""},null,null,null,null,null,null,null,null,null,null,null,{"$f":"IFERROR(VLOOKUP(__レジメンマスタ[[#This Row],[YJコード④]],[1]!__前投薬リスト[#Data],4,FALSE)&\"\",\"\")","v":""},null,null,null,null,null,null,null,null,null,null,null,{"$f":"IFERROR(VLOOKUP(__レジメンマスタ[[#This Row],[YJコード⑤]],[1]!__前投薬リスト[#Data],4,FALSE)&\"\",\"\")","v":""},null,null,null,null,null,null,null,null,null,null,null,{"$f":"IFERROR(VLOOKUP(__レジメンマスタ[[#This Row],[YJコード⑥]],[1]!__前投薬リスト[#Data],4,FALSE)&\"\",\"\")","v":""},null,null,null,null,null,null,null,null,null,null,null,{"$f":"IFERROR(VLOOKUP(__レジメンマスタ[[#This Row],[YJコード⑦]],[1]!__前投薬リスト[#Data],4,FALSE)&\"\",\"\")","v":""}]
["URO0043","EV+Pembro（1～35サイクル目）","パドセブは２週連投 １週休薬で最高投与回数なし \n(パドセブMax 125mg/回)                              \nキイトルーダは3週に1回、最大35サイクル\n　　　　　　　　W1             W2              W3       \nパドセブ ↓××××××  ↓××××××  ×××××××       \nPmbro    ↓××××××  ×××××××  ××××××× ","21日","35コース","尿路上皮癌","泌尿器科","パドセブ","危 臨）30mg ﾊﾟﾄﾞｾﾌﾞ点滴静注用（溶解液:Aq）","4291459D1020","注射","３０ 分で",1.25,"kg","mg",null,"d1,8",{"$f":"IFERROR(VLOOKUP(__レジメンマスタ[[#This Row],[YJコード①]],[1]!__前投薬リスト[#Data],4,FALSE)&\"\",\"\")","v":""},"∞","キイトルーダ","危 ｷｲﾄﾙｰﾀﾞ点滴静注 100mg/4mL（希釈液:生食orTZ）","4291435A2025","注射","３０ 分で",200,"BODY","mg",null,"d1",{"$f":"IFERROR(VLOOKUP(__レジメンマスタ[[#This Row],[YJコード②]],[1]!__前投薬リスト[#Data],4,FALSE)&\"\",\"\")","v":""},"35回",null,null,null,null,null,null,null,null,null,null,{"$f":"IFERROR(VLOOKUP(__レジメンマスタ[[#This Row],[YJコード③]],[1]!__前投薬リスト[#Data],4,FALSE)&\"\",\"\")","v":""},null,null,null,null,null,null,null,null,null,null,null,{"$f":"IFERROR(VLOOKUP(__レジメンマスタ[[#This Row],[YJコード④]],[1]!__前投薬リスト[#Data],4,FALSE)&\"\",\"\")","v":""},null,null,null,null,null,null,null,null,null,null,null,{"$f":"IFERROR(VLOOKUP(__レジメンマスタ[[#This Row],[YJコード⑤]],[1]!__前投薬リスト[#Data],4,FALSE)&\"\",\"\")","v":""},null,null,null,null,null,null,null,null,null,null,null,{"$f":"IFERROR(VLOOKUP(__レジメンマスタ[[#This Row],[YJコード⑥]],[1]!__前投薬リスト[#Data],4,FALSE)&\"\",\"\")","v":""},null,null,null,null,null,null,null,null,null,null,null,{"$f":"IFERROR(VLOOKUP(__レジメンマスタ[[#This Row],[YJコード⑦]],[1]!__前投薬リスト[#Data],4,FALSE)&\"\",\"\")","v":""}]
["URO0044","DOC+darolutamide+ADT併用療法","Doc：3～4週間毎の投与、６回まで\nニュベクオ、PSL：連日内服\n　　　　　　　　　　　　　 W1            W2～W3  \nDOC　　　　　   　  ↓××××××   ×××××××   \nダロルタミド、PSL   ↓↓↓↓↓↓↓   ↓↓↓↓↓↓↓   ","21-28日","6コース","前立腺癌","泌尿器科","ドセタキセル","危〈毒〉80㎎/4mL ﾄﾞｾﾀｷｾﾙ点滴静注「ﾆﾌﾟﾛ」（先:ﾀｷｿﾃｰﾙ）","4240405A4109","注射","１ 時間で",75,"㎡","mg",null,"d1",{"$f":"IFERROR(VLOOKUP(__レジメンマスタ[[#This Row],[YJコード①]],[1]!__前投薬リスト[#Data],4,FALSE)&\"\",\"\")","v":""},null,"ニュベクオ",null,"4291063F1025","経口",null,"1200mg／2","BODY","mg",null,"連日",{"$f":"IFERROR(VLOOKUP(__レジメンマスタ[[#This Row],[YJコード②]],[1]!__前投薬リスト[#Data],4,FALSE)&\"\",\"\")","v":""},null,"プレドニン",null,"2456001F1310","経口",null,10,"BODY","mg",null,"連日",{"$f":"IFERROR(VLOOKUP(__レジメンマスタ[[#This Row],[YJコード③]],[1]!__前投薬リスト[#Data],4,FALSE)&\"\",\"\")","v":""},null,null,null,null,null,null,null,null,null,null,null,{"$f":"IFERROR(VLOOKUP(__レジメンマスタ[[#This Row],[YJコード④]],[1]!__前投薬リスト[#Data],4,FALSE)&\"\",\"\")","v":""},null,null,null,null,null,null,null,null,null,null,null,{"$f":"IFERROR(VLOOKUP(__レジメンマスタ[[#This Row],[YJコード⑤]],[1]!__前投薬リスト[#Data],4,FALSE)&\"\",\"\")","v":""},null,null,null,null,null,null,null,null,null,null,null,{"$f":"IFERROR(VLOOKUP(__レジメンマスタ[[#This Row],[YJコード⑥]],[1]!__前投薬リスト[#Data],4,FALSE)&\"\",\"\")","v":""},null,null,null,null,null,null,null,null,null,null,null,{"$f":"IFERROR(VLOOKUP(__レジメンマスタ[[#This Row],[YJコード⑦]],[1]!__前投薬リスト[#Data],4,FALSE)&\"\",\"\")","v":""}]
["URO0045","GC+ニボルマブ","　　　　　 Ｗ1 　　　　Ｗ2　　　　　 Ｗ3\nNivo ↓×××××× ××××××× ×××××××  \nCDDP ↓×××××× ××××××× ×××××××  \nGEM  ↓×××××× ↓×××××× ×××××××  \nGEM:溶解液確認→Tzで行う方針の場合Tzへ変更\n6コース施行後オプジーボ単独（レジメン変更へ）","21日","6コース","尿路上皮癌","泌尿器科","オプジーボ","危 240mg/24mL ｵﾌﾟｼﾞｰﾎﾞ点滴静注（希釈液:生食orTZ）","4291427A3027","注射","３０ 分で",360,"BODY","mg",null,"d1",{"$f":"IFERROR(VLOOKUP(__レジメンマスタ[[#This Row],[YJコード①]],[1]!__前投薬リスト[#Data],4,FALSE)&\"\",\"\")","v":""},null,"シスプラチン","危〈毒〉50mg/100mL ｼｽﾌﾟﾗﾁﾝ点滴静注「ﾏﾙｺ」（先:ﾗﾝﾀﾞ）","4291401A3111","注射","１ 時間で",70,"㎡","mg",null,"d1",{"$f":"IFERROR(VLOOKUP(__レジメンマスタ[[#This Row],[YJコード②]],[1]!__前投薬リスト[#Data],4,FALSE)&\"\",\"\")","v":""},"6コース","ゲムシタビン","危 1g ｹﾞﾑｼﾀﾋﾞﾝ点滴静注用「ﾔｸﾙﾄ」（溶解液:生食）（先:ｼﾞｪﾑｻﾞｰﾙ）","4224403D2061","注射","３０ 分で",1000,"㎡","mg",null,"d1,8",{"$f":"IFERROR(VLOOKUP(__レジメンマスタ[[#This Row],[YJコード③]],[1]!__前投薬リスト[#Data],4,FALSE)&\"\",\"\")","v":""},"6コース",null,null,null,null,null,null,null,null,null,null,{"$f":"IFERROR(VLOOKUP(__レジメンマスタ[[#This Row],[YJコード④]],[1]!__前投薬リスト[#Data],4,FALSE)&\"\",\"\")","v":""},null,null,null,null,null,null,null,null,null,null,null,{"$f":"IFERROR(VLOOKUP(__レジメンマスタ[[#This Row],[YJコード⑤]],[1]!__前投薬リスト[#Data],4,FALSE)&\"\",\"\")","v":""},null,null,null,null,null,null,null,null,null,null,null,{"$f":"IFERROR(VLOOKUP(__レジメンマスタ[[#This Row],[YJコード⑥]],[1]!__前投薬リスト[#Data],4,FALSE)&\"\",\"\")","v":""},null,null,null,null,null,null,null,null,null,null,null,{"$f":"IFERROR(VLOOKUP(__レジメンマスタ[[#This Row],[YJコード⑦]],[1]!__前投薬リスト[#Data],4,FALSE)&\"\",\"\")","v":""}]
["URO0045-20","GC+ニボルマブ（維持療法）"," 2週間ごとに投与             \n  投与期間：GC+ニボルマブ開始から24ヶ月まで\n→制限年月日を患者特記事項に記載\n   　　　　　　　　W1  　　　　　 W2  \nオプジーボ  ↓××××××  ×××××××  \n","14日","GC開始より2年間","尿路上皮癌","泌尿器科","オプジーボ","危 240mg/24mL ｵﾌﾟｼﾞｰﾎﾞ点滴静注（希釈液:生食orTZ）","4291427A3027","注射","３０ 分で",240,"BODY","mg","最小","d1",{"$f":"IFERROR(VLOOKUP(__レジメンマスタ[[#This Row],[YJコード①]],[1]!__前投薬リスト[#Data],4,FALSE)&\"\",\"\")","v":""},null,null,null,null,null,null,null,null,null,null,null,{"$f":"IFERROR(VLOOKUP(__レジメンマスタ[[#This Row],[YJコード②]],[1]!__前投薬リスト[#Data],4,FALSE)&\"\",\"\")","v":""},null,null,null,null,null,null,null,null,null,null,null,{"$f":"IFERROR(VLOOKUP(__レジメンマスタ[[#This Row],[YJコード③]],[1]!__前投薬リスト[#Data],4,FALSE)&\"\",\"\")","v":""},null,null,null,null,null,null,null,null,null,null,null,{"$f":"IFERROR(VLOOKUP(__レジメンマスタ[[#This Row],[YJコード④]],[1]!__前投薬リスト[#Data],4,FALSE)&\"\",\"\")","v":""},null,null,null,null,null,null,null,null,null,null,null,{"$f":"IFERROR(VLOOKUP(__レジメンマスタ[[#This Row],[YJコード⑤]],[1]!__前投薬リスト[#Data],4,FALSE)&\"\",\"\")","v":""},null,null,null,null,null,null,null,null,null,null,null,{"$f":"IFERROR(VLOOKUP(__レジメンマスタ[[#This Row],[YJコード⑥]],[1]!__前投薬リスト[#Data],4,FALSE)&\"\",\"\")","v":""},null,null,null,null,null,null,null,null,null,null,null,{"$f":"IFERROR(VLOOKUP(__レジメンマスタ[[#This Row],[YJコード⑦]],[1]!__前投薬リスト[#Data],4,FALSE)&\"\",\"\")","v":""}]
["URO0045-30","GC+ニボルマブ（維持療法、4週間毎）"," 4週間ごとに投与             \n  投与期間：GC+ニボルマブ開始から24ヶ月まで\n→制限年月日を患者特記事項に記載\n   　　　　　　　　W1  　　  　 W2～W4  \nオプジーボ  ↓××××××  ×××××××  \n","28日","GC開始より2年間","尿路上皮癌","泌尿器科","オプジーボ","危 240mg/24mL ｵﾌﾟｼﾞｰﾎﾞ点滴静注（希釈液:生食orTZ）","4291427A3027","注射","３０ 分で",480,"BODY","mg","最小","d1",{"$f":"IFERROR(VLOOKUP(__レジメンマスタ[[#This Row],[YJコード①]],[1]!__前投薬リスト[#Data],4,FALSE)&\"\",\"\")","v":""},null,null,null,null,null,null,null,null,null,null,null,{"$f":"IFERROR(VLOOKUP(__レジメンマスタ[[#This Row],[YJコード②]],[1]!__前投薬リスト[#Data],4,FALSE)&\"\",\"\")","v":""},null,null,null,null,null,null,null,null,null,null,null,{"$f":"IFERROR(VLOOKUP(__レジメンマスタ[[#This Row],[YJコード③]],[1]!__前投薬リスト[#Data],4,FALSE)&\"\",\"\")","v":""},null,null,null,null,null,null,null,null,null,null,null,{"$f":"IFERROR(VLOOKUP(__レジメンマスタ[[#This Row],[YJコード④]],[1]!__前投薬リスト[#Data],4,FALSE)&\"\",\"\")","v":""},null,null,null,null,null,null,null,null,null,null,null,{"$f":"IFERROR(VLOOKUP(__レジメンマスタ[[#This Row],[YJコード⑤]],[1]!__前投薬リスト[#Data],4,FALSE)&\"\",\"\")","v":""},null,null,null,null,null,null,null,null,null,null,null,{"$f":"IFERROR(VLOOKUP(__レジメンマスタ[[#This Row],[YJコード⑥]],[1]!__前投薬リスト[#Data],4,FALSE)&\"\",\"\")","v":""},null,null,null,null,null,null,null,null,null,null,null,{"$f":"IFERROR(VLOOKUP(__レジメンマスタ[[#This Row],[YJコード⑦]],[1]!__前投薬リスト[#Data],4,FALSE)&\"\",\"\")","v":""}]
["内服単剤S1：A法","S1：A法","　　　　　　Ｗ1　　　　　　Ｗ2～4　　　　 　　Ｗ5         Ｗ6\nS-1　　↓↓↓↓↓↓↓　↓↓↓↓↓↓↓　××××××× ×××××××\n28日間内服14日休薬\nS1：初回基準量（テガフール相当量、CCｒ＞80 ml/min）\n1.25m2未満:40mg/回,1.25m2以上1.5m2未満:50mg/回,1.5m2以上:60mg/回\n\n増量可能と判断される場合は初回基準量から一段階までとし、75mg/回を限度とする","42日",null,"胃,大腸,頭頚部,NSL,乳,膵,胆道",null,"エスワン",null,"4229101F2057","経口",null,"80-120/2","BODY","mg",null,"d1-28",{"$f":"IFERROR(VLOOKUP(__レジメンマスタ[[#This Row],[YJコード①]],[1]!__前投薬リスト[#Data],4,FALSE)&\"\",\"\")","v":""},null,null,null,null,null,null,null,null,null,null,null,{"$f":"IFERROR(VLOOKUP(__レジメンマスタ[[#This Row],[YJコード②]],[1]!__前投薬リスト[#Data],4,FALSE)&\"\",\"\")","v":""},null,null,null,null,null,null,null,null,null,null,null,{"$f":"IFERROR(VLOOKUP(__レジメンマスタ[[#This Row],[YJコード③]],[1]!__前投薬リスト[#Data],4,FALSE)&\"\",\"\")","v":""},null,null,null,null,null,null,null,null,null,null,null,{"$f":"IFERROR(VLOOKUP(__レジメンマスタ[[#This Row],[YJコード④]],[1]!__前投薬リスト[#Data],4,FALSE)&\"\",\"\")","v":""},null,null,null,null,null,null,null,null,null,null,null,{"$f":"IFERROR(VLOOKUP(__レジメンマスタ[[#This Row],[YJコード⑤]],[1]!__前投薬リスト[#Data],4,FALSE)&\"\",\"\")","v":""},null,null,null,null,null,null,null,null,null,null,null,{"$f":"IFERROR(VLOOKUP(__レジメンマスタ[[#This Row],[YJコード⑥]],[1]!__前投薬リスト[#Data],4,FALSE)&\"\",\"\")","v":""},null,null,null,null,null,null,null,null,null,null,null,{"$f":"IFERROR(VLOOKUP(__レジメンマスタ[[#This Row],[YJコード⑦]],[1]!__前投薬リスト[#Data],4,FALSE)&\"\",\"\")","v":""}]
["内服単剤S1：B法","S1：B法","　　　　　　Ｗ1　　　　　　Ｗ2～3　　　　 　　Ｗ4         Ｗ5\nS-1　　↓↓↓↓↓↓↓　↓↓↓↓↓↓↓　××××××× ×××××××\n21日間内服14日休薬\nS1：初回基準量（テガフール相当量、CCｒ＞80 ml/min）\n1.25m2未満:40mg/回,1.25m2以上1.5m2未満:50mg/回,1.5m2以上:60mg/回","35日",null,"胃,NSL",null,"エスワン",null,"4229101F2057","経口",null,"80-120/2","BODY","mg",null,"d1-21",{"$f":"IFERROR(VLOOKUP(__レジメンマスタ[[#This Row],[YJコード①]],[1]!__前投薬リスト[#Data],4,FALSE)&\"\",\"\")","v":""},null,null,null,null,null,null,null,null,null,null,null,{"$f":"IFERROR(VLOOKUP(__レジメンマスタ[[#This Row],[YJコード②]],[1]!__前投薬リスト[#Data],4,FALSE)&\"\",\"\")","v":""},null,null,null,null,null,null,null,null,null,null,null,{"$f":"IFERROR(VLOOKUP(__レジメンマスタ[[#This Row],[YJコード③]],[1]!__前投薬リスト[#Data],4,FALSE)&\"\",\"\")","v":""},null,null,null,null,null,null,null,null,null,null,null,{"$f":"IFERROR(VLOOKUP(__レジメンマスタ[[#This Row],[YJコード④]],[1]!__前投薬リスト[#Data],4,FALSE)&\"\",\"\")","v":""},null,null,null,null,null,null,null,null,null,null,null,{"$f":"IFERROR(VLOOKUP(__レジメンマスタ[[#This Row],[YJコード⑤]],[1]!__前投薬リスト[#Data],4,FALSE)&\"\",\"\")","v":""},null,null,null,null,null,null,null,null,null,null,null,{"$f":"IFERROR(VLOOKUP(__レジメンマスタ[[#This Row],[YJコード⑥]],[1]!__前投薬リスト[#Data],4,FALSE)&\"\",\"\")","v":""},null,null,null,null,null,null,null,null,null,null,null,{"$f":"IFERROR(VLOOKUP(__レジメンマスタ[[#This Row],[YJコード⑦]],[1]!__前投薬リスト[#Data],4,FALSE)&\"\",\"\")","v":""}]
["内服単剤S1：C法","S1：C法","　　　　　　Ｗ1　　　　　　Ｗ2　　　　 　　Ｗ3       \nS-1　　↓↓↓↓↓↓↓　↓↓↓↓↓↓↓　××××××× \n14日間内服7日休薬\nS1：初回基準量（テガフール相当量、CCｒ＞80 ml/min）\n1.25m2未満:40mg/回,1.25m2以上1.5m2未満:50mg/回,1.5m2以上:60mg/回","21日",null,"胃,大腸,NSL,膵",null,"エスワン",null,"4229101F2057","経口",null,"80-120/2","BODY","mg",null,"d1-14",{"$f":"IFERROR(VLOOKUP(__レジメンマスタ[[#This Row],[YJコード①]],[1]!__前投薬リスト[#Data],4,FALSE)&\"\",\"\")","v":""},null,null,null,null,null,null,null,null,null,null,null,{"$f":"IFERROR(VLOOKUP(__レジメンマスタ[[#This Row],[YJコード②]],[1]!__前投薬リスト[#Data],4,FALSE)&\"\",\"\")","v":""},null,null,null,null,null,null,null,null,null,null,null,{"$f":"IFERROR(VLOOKUP(__レジメンマスタ[[#This Row],[YJコード③]],[1]!__前投薬リスト[#Data],4,FALSE)&\"\",\"\")","v":""},null,null,null,null,null,null,null,null,null,null,null,{"$f":"IFERROR(VLOOKUP(__レジメンマスタ[[#This Row],[YJコード④]],[1]!__前投薬リスト[#Data],4,FALSE)&\"\",\"\")","v":""},null,null,null,null,null,null,null,null,null,null,null,{"$f":"IFERROR(VLOOKUP(__レジメンマスタ[[#This Row],[YJコード⑤]],[1]!__前投薬リスト[#Data],4,FALSE)&\"\",\"\")","v":""},null,null,null,null,null,null,null,null,null,null,null,{"$f":"IFERROR(VLOOKUP(__レジメンマスタ[[#This Row],[YJコード⑥]],[1]!__前投薬リスト[#Data],4,FALSE)&\"\",\"\")","v":""},null,null,null,null,null,null,null,null,null,null,null,{"$f":"IFERROR(VLOOKUP(__レジメンマスタ[[#This Row],[YJコード⑦]],[1]!__前投薬リスト[#Data],4,FALSE)&\"\",\"\")","v":""}]
["内服単剤S1：D法","S1：D法","　　　　　　Ｗ1　　　　　　Ｗ2　　　　 　　Ｗ3          Ｗ4\nS-1　　↓↓↓↓↓↓↓　↓↓↓↓↓↓↓　××××××× ×××××××\n14日間内服14日休薬\nS1：初回基準量（テガフール相当量、CCｒ＞80 ml/min）\n1.25m2未満:40mg/回,1.25m2以上1.5m2未満:50mg/回,1.5m2以上:60mg/回","28日",null,"大腸",null,"エスワン",null,"4229101F2057","経口",null,"80-120/2","BODY","mg",null,"d1-14",{"$f":"IFERROR(VLOOKUP(__レジメンマスタ[[#This Row],[YJコード①]],[1]!__前投薬リスト[#Data],4,FALSE)&\"\",\"\")","v":""},null,null,null,null,null,null,null,null,null,null,null,{"$f":"IFERROR(VLOOKUP(__レジメンマスタ[[#This Row],[YJコード②]],[1]!__前投薬リスト[#Data],4,FALSE)&\"\",\"\")","v":""},null,null,null,null,null,null,null,null,null,null,null,{"$f":"IFERROR(VLOOKUP(__レジメンマスタ[[#This Row],[YJコード③]],[1]!__前投薬リスト[#Data],4,FALSE)&\"\",\"\")","v":""},null,null,null,null,null,null,null,null,null,null,null,{"$f":"IFERROR(VLOOKUP(__レジメンマスタ[[#This Row],[YJコード④]],[1]!__前投薬リスト[#Data],4,FALSE)&\"\",\"\")","v":""},null,null,null,null,null,null,null,null,null,null,null,{"$f":"IFERROR(VLOOKUP(__レジメンマスタ[[#This Row],[YJコード⑤]],[1]!__前投薬リスト[#Data],4,FALSE)&\"\",\"\")","v":""},null,null,null,null,null,null,null,null,null,null,null,{"$f":"IFERROR(VLOOKUP(__レジメンマスタ[[#This Row],[YJコード⑥]],[1]!__前投薬リスト[#Data],4,FALSE)&\"\",\"\")","v":""},null,null,null,null,null,null,null,null,null,null,null,{"$f":"IFERROR(VLOOKUP(__レジメンマスタ[[#This Row],[YJコード⑦]],[1]!__前投薬リスト[#Data],4,FALSE)&\"\",\"\")","v":""}]
["内服単剤S1：E法","S1：E法","　　　　　　Ｗ1　　　　　　Ｗ2　　　　\nS-1　　↓↓↓↓↓↓↓　 ×××××××\n7日間内服7日休薬\nS1：初回基準量（テガフール相当量、CCｒ＞80 ml/min）\n1.25m2未満:40mg/回,1.25m2以上1.5m2未満:50mg/回,1.5m2以上:60mg/回","14日",null,"胆道",null,"エスワン",null,"4229101F2057","経口",null,"80-120/2","BODY","mg",null,"d1-7",{"$f":"IFERROR(VLOOKUP(__レジメンマスタ[[#This Row],[YJコード①]],[1]!__前投薬リスト[#Data],4,FALSE)&\"\",\"\")","v":""},null,null,null,null,null,null,null,null,null,null,null,{"$f":"IFERROR(VLOOKUP(__レジメンマスタ[[#This Row],[YJコード②]],[1]!__前投薬リスト[#Data],4,FALSE)&\"\",\"\")","v":""},null,null,null,null,null,null,null,null,null,null,null,{"$f":"IFERROR(VLOOKUP(__レジメンマスタ[[#This Row],[YJコード③]],[1]!__前投薬リスト[#Data],4,FALSE)&\"\",\"\")","v":""},null,null,null,null,null,null,null,null,null,null,null,{"$f":"IFERROR(VLOOKUP(__レジメンマスタ[[#This Row],[YJコード④]],[1]!__前投薬リスト[#Data],4,FALSE)&\"\",\"\")","v":""},null,null,null,null,null,null,null,null,null,null,null,{"$f":"IFERROR(VLOOKUP(__レジメンマスタ[[#This Row],[YJコード⑤]],[1]!__前投薬リスト[#Data],4,FALSE)&\"\",\"\")","v":""},null,null,null,null,null,null,null,null,null,null,null,{"$f":"IFERROR(VLOOKUP(__レジメンマスタ[[#This Row],[YJコード⑥]],[1]!__前投薬リスト[#Data],4,FALSE)&\"\",\"\")","v":""},null,null,null,null,null,null,null,null,null,null,null,{"$f":"IFERROR(VLOOKUP(__レジメンマスタ[[#This Row],[YJコード⑦]],[1]!__前投薬リスト[#Data],4,FALSE)&\"\",\"\")","v":""}]
["内服単剤S1：F法","S1：F法","　　　　　　Ｗ1　　　　　　Ｗ2　　　　 　　Ｗ3       \nS-1　　↓↓↓↓↓↓↓　↓↓↓↓↓↓↓　×××××××\n14日間内服7日休薬\nS1：初回基準量（テガフール相当量、CCｒ＞80 ml/min）\n1.25m2未満:朝40mg/回、夕20mg/回,1.25m2以上1.5m2未満:40mg/回,1.5m2以上:50mg/回\n★F法はA～E法より1段階少ない★","21日",null,"胆道",null,"エスワン",null,"4229101F2057","経口",null,"80-120/2","BODY","mg",null,"d1-14",{"$f":"IFERROR(VLOOKUP(__レジメンマスタ[[#This Row],[YJコード①]],[1]!__前投薬リスト[#Data],4,FALSE)&\"\",\"\")","v":""},null,null,null,null,null,null,null,null,null,null,null,{"$f":"IFERROR(VLOOKUP(__レジメンマスタ[[#This Row],[YJコード②]],[1]!__前投薬リスト[#Data],4,FALSE)&\"\",\"\")","v":""},null,null,null,null,null,null,null,null,null,null,null,{"$f":"IFERROR(VLOOKUP(__レジメンマスタ[[#This Row],[YJコード③]],[1]!__前投薬リスト[#Data],4,FALSE)&\"\",\"\")","v":""},null,null,null,null,null,null,null,null,null,null,null,{"$f":"IFERROR(VLOOKUP(__レジメンマスタ[[#This Row],[YJコード④]],[1]!__前投薬リスト[#Data],4,FALSE)&\"\",\"\")","v":""},null,null,null,null,null,null,null,null,null,null,null,{"$f":"IFERROR(VLOOKUP(__レジメンマスタ[[#This Row],[YJコード⑤]],[1]!__前投薬リスト[#Data],4,FALSE)&\"\",\"\")","v":""},null,null,null,null,null,null,null,null,null,null,null,{"$f":"IFERROR(VLOOKUP(__レジメンマスタ[[#This Row],[YJコード⑥]],[1]!__前投薬リスト[#Data],4,FALSE)&\"\",\"\")","v":""},null,null,null,null,null,null,null,null,null,null,null,{"$f":"IFERROR(VLOOKUP(__レジメンマスタ[[#This Row],[YJコード⑦]],[1]!__前投薬リスト[#Data],4,FALSE)&\"\",\"\")","v":""}]
["内服単剤S1(乳癌術後補助）","内服単剤S1(乳癌術後補助）","　　　　　　Ｗ1　　　　　　Ｗ2　　　　 　　Ｗ3       \nS-1　　↓↓↓↓↓↓↓　↓↓↓↓↓↓↓　××××××× \n14日間内服7日休薬\n最長1年間まで→制限年月日を患者特記事項に記載\n\nS1：初回基準量（テガフール相当量、CCｒ＞80 ml/min）\n1.25m2未満:40mg/回,1.25m2以上1.5m2未満:50mg/回,1.5m2以上:60mg/回\nCCｒ80～50ml/min（添付文書より）\n1.25m2未満:朝40mg/回、夕20mg/回,1.25m2以上1.5m2未満:40mg/回,1.5m2以上:50mg/回","21日","1年間","乳癌",null,"エスワン",null,"4229101F2057","経口",null,"80-120/2","BODY","mg",null,"d1-14",{"$f":"IFERROR(VLOOKUP(__レジメンマスタ[[#This Row],[YJコード①]],[1]!__前投薬リスト[#Data],4,FALSE)&\"\",\"\")","v":""},null,null,null,null,null,null,null,null,null,null,null,{"$f":"IFERROR(VLOOKUP(__レジメンマスタ[[#This Row],[YJコード②]],[1]!__前投薬リスト[#Data],4,FALSE)&\"\",\"\")","v":""},null,null,null,null,null,null,null,null,null,null,null,{"$f":"IFERROR(VLOOKUP(__レジメンマスタ[[#This Row],[YJコード③]],[1]!__前投薬リスト[#Data],4,FALSE)&\"\",\"\")","v":""},null,null,null,null,null,null,null,null,null,null,null,{"$f":"IFERROR(VLOOKUP(__レジメンマスタ[[#This Row],[YJコード④]],[1]!__前投薬リスト[#Data],4,FALSE)&\"\",\"\")","v":""},null,null,null,null,null,null,null,null,null,null,null,{"$f":"IFERROR(VLOOKUP(__レジメンマスタ[[#This Row],[YJコード⑤]],[1]!__前投薬リスト[#Data],4,FALSE)&\"\",\"\")","v":""},null,null,null,null,null,null,null,null,null,null,null,{"$f":"IFERROR(VLOOKUP(__レジメンマスタ[[#This Row],[YJコード⑥]],[1]!__前投薬リスト[#Data],4,FALSE)&\"\",\"\")","v":""},null,null,null,null,null,null,null,null,null,null,null,{"$f":"IFERROR(VLOOKUP(__レジメンマスタ[[#This Row],[YJコード⑦]],[1]!__前投薬リスト[#Data],4,FALSE)&\"\",\"\")","v":""}]
["内服Cape：A法","カペシタビン：A法","　　　　　　Ｗ1　　　　　　Ｗ2             Ｗ3　　　　 　　Ｗ4 \nCape　↓↓↓↓↓↓↓　↓↓↓↓↓↓↓　↓↓↓↓↓↓↓ ×××××××\n21日間内服7日間休薬\n1回量：1.31㎡未満＝900mg,1.31~1.64㎡未満=1200mg,1.64㎡以上＝1500mg\nCCｒ＝51～80 ml/min：減量不要\nCCｒ＝30～50ml/min：一段階減量（75％用量）用量は添付文書確認\nCCｒ＝30ml/min:投与禁忌","28日",null,"切除不能再発乳癌",null,"カペシタビン",null,"4223005F1065","経口",null,1650,"㎡","mg",null,"d1-21",{"$f":"IFERROR(VLOOKUP(__レジメンマスタ[[#This Row],[YJコード①]],[1]!__前投薬リスト[#Data],4,FALSE)&\"\",\"\")","v":""},null,null,null,null,null,null,null,null,null,null,null,{"$f":"IFERROR(VLOOKUP(__レジメンマスタ[[#This Row],[YJコード②]],[1]!__前投薬リスト[#Data],4,FALSE)&\"\",\"\")","v":""},null,null,null,null,null,null,null,null,null,null,null,{"$f":"IFERROR(VLOOKUP(__レジメンマスタ[[#This Row],[YJコード③]],[1]!__前投薬リスト[#Data],4,FALSE)&\"\",\"\")","v":""},null,null,null,null,null,null,null,null,null,null,null,{"$f":"IFERROR(VLOOKUP(__レジメンマスタ[[#This Row],[YJコード④]],[1]!__前投薬リスト[#Data],4,FALSE)&\"\",\"\")","v":""},null,null,null,null,null,null,null,null,null,null,null,{"$f":"IFERROR(VLOOKUP(__レジメンマスタ[[#This Row],[YJコード⑤]],[1]!__前投薬リスト[#Data],4,FALSE)&\"\",\"\")","v":""},null,null,null,null,null,null,null,null,null,null,null,{"$f":"IFERROR(VLOOKUP(__レジメンマスタ[[#This Row],[YJコード⑥]],[1]!__前投薬リスト[#Data],4,FALSE)&\"\",\"\")","v":""},null,null,null,null,null,null,null,null,null,null,null,{"$f":"IFERROR(VLOOKUP(__レジメンマスタ[[#This Row],[YJコード⑦]],[1]!__前投薬リスト[#Data],4,FALSE)&\"\",\"\")","v":""}]
["内服Cape：B法","カペシタビン：B法","　　　　　　Ｗ1　　　　　　Ｗ2             Ｗ3　　　　 　\nCape　↓↓↓↓↓↓↓　↓↓↓↓↓↓↓　 ×××××××\n14日間内服7日間休薬\n1回量：1.33㎡未満＝1500mg,1.33~1.57㎡未満=1800mg,1.57~1.81㎡未満=2100mg,1.81㎡以上＝2400mg\nCCｒ＝51～80 ml/min：減量不要\nCCｒ＝30～50ml/min：一段階減量（75％用量）用量は添付文書確認\nCCｒ＝30ml/min:投与禁忌","21日",null,"結腸・直腸癌",null,"カペシタビン",null,"4223005F1065","経口",null,2500,"㎡","mg",null,"d1-14",{"$f":"IFERROR(VLOOKUP(__レジメンマスタ[[#This Row],[YJコード①]],[1]!__前投薬リスト[#Data],4,FALSE)&\"\",\"\")","v":""},null,null,null,null,null,null,null,null,null,null,null,{"$f":"IFERROR(VLOOKUP(__レジメンマスタ[[#This Row],[YJコード②]],[1]!__前投薬リスト[#Data],4,FALSE)&\"\",\"\")","v":""},null,null,null,null,null,null,null,null,null,null,null,{"$f":"IFERROR(VLOOKUP(__レジメンマスタ[[#This Row],[YJコード③]],[1]!__前投薬リスト[#Data],4,FALSE)&\"\",\"\")","v":""},null,null,null,null,null,null,null,null,null,null,null,{"$f":"IFERROR(VLOOKUP(__レジメンマスタ[[#This Row],[YJコード④]],[1]!__前投薬リスト[#Data],4,FALSE)&\"\",\"\")","v":""},null,null,null,null,null,null,null,null,null,null,null,{"$f":"IFERROR(VLOOKUP(__レジメンマスタ[[#This Row],[YJコード⑤]],[1]!__前投薬リスト[#Data],4,FALSE)&\"\",\"\")","v":""},null,null,null,null,null,null,null,null,null,null,null,{"$f":"IFERROR(VLOOKUP(__レジメンマスタ[[#This Row],[YJコード⑥]],[1]!__前投薬リスト[#Data],4,FALSE)&\"\",\"\")","v":""},null,null,null,null,null,null,null,null,null,null,null,{"$f":"IFERROR(VLOOKUP(__レジメンマスタ[[#This Row],[YJコード⑦]],[1]!__前投薬リスト[#Data],4,FALSE)&\"\",\"\")","v":""}]
["内服Cape：C法","カペシタビン：C法＋タイケルブ","　　　　　　Ｗ1　　　　　　Ｗ2             Ｗ3　　　　 　\nCape　↓↓↓↓↓↓↓　↓↓↓↓↓↓↓　 ×××××××\n14日間内服7日間休薬\n1回量：1.36㎡未満＝1200mg,1.36~1.66㎡未満=1500mg,1.66~1.96㎡未満=1800mg,1.96㎡以上＝2100mg\nCCｒ＝51～80 ml/min：減量不要\nCCｒ＝30～50ml/min：一段階減量（75％用量）用量は添付文書確認\nCCｒ＝30ml/min:投与禁忌\nタイケルブは連日","21日",null,"切除不能再発乳癌",null,"カペシタビン",null,"4223005F1065","経口",null,2000,"㎡","mg",null,"d1-14",{"$f":"IFERROR(VLOOKUP(__レジメンマスタ[[#This Row],[YJコード①]],[1]!__前投薬リスト[#Data],4,FALSE)&\"\",\"\")","v":""},null,"タイケルブ",null,"4291022F1026","経口",null,1250,"BODY","mg",null,"連日",{"$f":"IFERROR(VLOOKUP(__レジメンマスタ[[#This Row],[YJコード②]],[1]!__前投薬リスト[#Data],4,FALSE)&\"\",\"\")","v":""},null,null,null,null,null,null,null,null,null,null,null,{"$f":"IFERROR(VLOOKUP(__レジメンマスタ[[#This Row],[YJコード③]],[1]!__前投薬リスト[#Data],4,FALSE)&\"\",\"\")","v":""},null,null,null,null,null,null,null,null,null,null,null,{"$f":"IFERROR(VLOOKUP(__レジメンマスタ[[#This Row],[YJコード④]],[1]!__前投薬リスト[#Data],4,FALSE)&\"\",\"\")","v":""},null,null,null,null,null,null,null,null,null,null,null,{"$f":"IFERROR(VLOOKUP(__レジメンマスタ[[#This Row],[YJコード⑤]],[1]!__前投薬リスト[#Data],4,FALSE)&\"\",\"\")","v":""},null,null,null,null,null,null,null,null,null,null,null,{"$f":"IFERROR(VLOOKUP(__レジメンマスタ[[#This Row],[YJコード⑥]],[1]!__前投薬リスト[#Data],4,FALSE)&\"\",\"\")","v":""},null,null,null,null,null,null,null,null,null,null,null,{"$f":"IFERROR(VLOOKUP(__レジメンマスタ[[#This Row],[YJコード⑦]],[1]!__前投薬リスト[#Data],4,FALSE)&\"\",\"\")","v":""}]
["内服Cape：D法","カペシタビン：D法","　　　　　　Ｗ1　　　　　\nCape　↓↓↓↓↓××\n5日間内服2日間休薬　放射線併用期間\n1回量：1.31㎡未満＝900mg,1.31~1.64㎡未満=1200mg,1.64㎡以上＝1500mg\nCCｒ＝51～80 ml/min：減量不要\nCCｒ＝30～50ml/min：一段階減量（75％用量）用量は添付文書確認\nCCｒ＝30ml/min:投与禁忌\n","7日",null,"直腸癌",null,"カペシタビン",null,"4223005F1065","経口",null,1650,"㎡","mg",null,"d1-5",{"$f":"IFERROR(VLOOKUP(__レジメンマスタ[[#This Row],[YJコード①]],[1]!__前投薬リスト[#Data],4,FALSE)&\"\",\"\")","v":""},null,null,null,null,null,null,null,null,null,null,null,{"$f":"IFERROR(VLOOKUP(__レジメンマスタ[[#This Row],[YJコード②]],[1]!__前投薬リスト[#Data],4,FALSE)&\"\",\"\")","v":""},null,null,null,null,null,null,null,null,null,null,null,{"$f":"IFERROR(VLOOKUP(__レジメンマスタ[[#This Row],[YJコード③]],[1]!__前投薬リスト[#Data],4,FALSE)&\"\",\"\")","v":""},null,null,null,null,null,null,null,null,null,null,null,{"$f":"IFERROR(VLOOKUP(__レジメンマスタ[[#This Row],[YJコード④]],[1]!__前投薬リスト[#Data],4,FALSE)&\"\",\"\")","v":""},null,null,null,null,null,null,null,null,null,null,null,{"$f":"IFERROR(VLOOKUP(__レジメンマスタ[[#This Row],[YJコード⑤]],[1]!__前投薬リスト[#Data],4,FALSE)&\"\",\"\")","v":""},null,null,null,null,null,null,null,null,null,null,null,{"$f":"IFERROR(VLOOKUP(__レジメンマスタ[[#This Row],[YJコード⑥]],[1]!__前投薬リスト[#Data],4,FALSE)&\"\",\"\")","v":""},null,null,null,null,null,null,null,null,null,null,null,{"$f":"IFERROR(VLOOKUP(__レジメンマスタ[[#This Row],[YJコード⑦]],[1]!__前投薬リスト[#Data],4,FALSE)&\"\",\"\")","v":""}]
["内服Cape：E法","カペシタビン：E法","　　　　　　Ｗ1　　　　　　Ｗ2             Ｗ3　　　　 　\nCape　↓↓↓↓↓↓↓　↓↓↓↓↓↓↓　 ×××××××\n14日間内服7日間休薬\n1回量：1.31㎡未満＝900mg,1.31~1.69㎡未満=1200mg,1.69~2.07㎡未満=1500mg,2.07㎡以上＝1800mg\nCCｒ＝51～80 ml/min：減量不要\nCCｒ＝30～50ml/min：一段階減量（75％用量）用量は添付文書確認\nCCｒ＝30ml/min:投与禁忌","21日",null,"大腸",null,"カペシタビン",null,"4223005F1065","経口",null,1600,"㎡","mg",null,"d1-14",{"$f":"IFERROR(VLOOKUP(__レジメンマスタ[[#This Row],[YJコード①]],[1]!__前投薬リスト[#Data],4,FALSE)&\"\",\"\")","v":""},null,null,null,null,null,null,null,null,null,null,null,{"$f":"IFERROR(VLOOKUP(__レジメンマスタ[[#This Row],[YJコード②]],[1]!__前投薬リスト[#Data],4,FALSE)&\"\",\"\")","v":""},null,null,null,null,null,null,null,null,null,null,null,{"$f":"IFERROR(VLOOKUP(__レジメンマスタ[[#This Row],[YJコード③]],[1]!__前投薬リスト[#Data],4,FALSE)&\"\",\"\")","v":""},null,null,null,null,null,null,null,null,null,null,null,{"$f":"IFERROR(VLOOKUP(__レジメンマスタ[[#This Row],[YJコード④]],[1]!__前投薬リスト[#Data],4,FALSE)&\"\",\"\")","v":""},null,null,null,null,null,null,null,null,null,null,null,{"$f":"IFERROR(VLOOKUP(__レジメンマスタ[[#This Row],[YJコード⑤]],[1]!__前投薬リスト[#Data],4,FALSE)&\"\",\"\")","v":""},null,null,null,null,null,null,null,null,null,null,null,{"$f":"IFERROR(VLOOKUP(__レジメンマスタ[[#This Row],[YJコード⑥]],[1]!__前投薬リスト[#Data],4,FALSE)&\"\",\"\")","v":""},null,null,null,null,null,null,null,null,null,null,null,{"$f":"IFERROR(VLOOKUP(__レジメンマスタ[[#This Row],[YJコード⑦]],[1]!__前投薬リスト[#Data],4,FALSE)&\"\",\"\")","v":""}]
["UFT(ﾃｶﾞﾌｰﾙｳﾗｼﾙ)","テガフール・ウラシル療法","頭頚部・胃・結腸直腸・肝臓・胆嚢胆管・膵臓・肺・乳・膀胱・前立腺：テガフール相当量300-600mg／日を1日2～3回に分割\n\n子宮頚癌：テガフール相当量600mg／日を1日2～3回に分割\n\n★連日内服★",null,null,null,null,"ユーエフティ",null,"4229100M2035","経口",null,"300-600","BODY","mg",null,null,{"$f":"IFERROR(VLOOKUP(__レジメンマスタ[[#This Row],[YJコード①]],[1]!__前投薬リスト[#Data],4,FALSE)&\"\",\"\")","v":""},null,null,null,null,null,null,null,null,null,null,null,{"$f":"IFERROR(VLOOKUP(__レジメンマスタ[[#This Row],[YJコード②]],[1]!__前投薬リスト[#Data],4,FALSE)&\"\",\"\")","v":""},null,null,null,null,null,null,null,null,null,null,null,{"$f":"IFERROR(VLOOKUP(__レジメンマスタ[[#This Row],[YJコード③]],[1]!__前投薬リスト[#Data],4,FALSE)&\"\",\"\")","v":""},null,null,null,null,null,null,null,null,null,null,null,{"$f":"IFERROR(VLOOKUP(__レジメンマスタ[[#This Row],[YJコード④]],[1]!__前投薬リスト[#Data],4,FALSE)&\"\",\"\")","v":""},null,null,null,null,null,null,null,null,null,null,null,{"$f":"IFERROR(VLOOKUP(__レジメンマスタ[[#This Row],[YJコード⑤]],[1]!__前投薬リスト[#Data],4,FALSE)&\"\",\"\")","v":""},null,null,null,null,null,null,null,null,null,null,null,{"$f":"IFERROR(VLOOKUP(__レジメンマスタ[[#This Row],[YJコード⑥]],[1]!__前投薬リスト[#Data],4,FALSE)&\"\",\"\")","v":""},null,null,null,null,null,null,null,null,null,null,null,{"$f":"IFERROR(VLOOKUP(__レジメンマスタ[[#This Row],[YJコード⑦]],[1]!__前投薬リスト[#Data],4,FALSE)&\"\",\"\")","v":""}]
["UFT(ﾎﾘﾅｰﾄﾃｶﾞﾌｰﾙｳﾗｼﾙ)","ホリナート・テガフール・ウラシル療法","　　　　　　Ｗ1　　　　　　Ｗ2-4             Ｗ5　　　　 　\nUFT　↓↓↓↓↓↓↓　↓↓↓↓↓↓↓　 ×××××××\nLV 　↓↓↓↓↓↓↓　↓↓↓↓↓↓↓　 ×××××××\n28日間内服7日間休薬\nテガフール相当量300-600mg/日(300mg/㎡を基準）を1日3回（約8時間毎）★食事前後1時間は避けて★\nホリナート75mg/日を1日3回（約8時間毎）\n\n※テガフール投与量の目安は添付文書に記載あり","35日",null,"大腸",null,"ユーエフティ",null,"4229100M2035","経口",null,"300-600","BODY","mg",null,"d1-28",{"$f":"IFERROR(VLOOKUP(__レジメンマスタ[[#This Row],[YJコード①]],[1]!__前投薬リスト[#Data],4,FALSE)&\"\",\"\")","v":""},null,"ホリナート",null,"3929004F2048","経口",null,75,"BODY","mg",null,"d1-28",{"$f":"IFERROR(VLOOKUP(__レジメンマスタ[[#This Row],[YJコード②]],[1]!__前投薬リスト[#Data],4,FALSE)&\"\",\"\")","v":""},null,null,null,null,null,null,null,null,null,null,null,{"$f":"IFERROR(VLOOKUP(__レジメンマスタ[[#This Row],[YJコード③]],[1]!__前投薬リスト[#Data],4,FALSE)&\"\",\"\")","v":""},null,null,null,null,null,null,null,null,null,null,null,{"$f":"IFERROR(VLOOKUP(__レジメンマスタ[[#This Row],[YJコード④]],[1]!__前投薬リスト[#Data],4,FALSE)&\"\",\"\")","v":""},null,null,null,null,null,null,null,null,null,null,null,{"$f":"IFERROR(VLOOKUP(__レジメンマスタ[[#This Row],[YJコード⑤]],[1]!__前投薬リスト[#Data],4,FALSE)&\"\",\"\")","v":""},null,null,null,null,null,null,null,null,null,null,null,{"$f":"IFERROR(VLOOKUP(__レジメンマスタ[[#This Row],[YJコード⑥]],[1]!__前投薬リスト[#Data],4,FALSE)&\"\",\"\")","v":""},null,null,null,null,null,null,null,null,null,null,null,{"$f":"IFERROR(VLOOKUP(__レジメンマスタ[[#This Row],[YJコード⑦]],[1]!__前投薬リスト[#Data],4,FALSE)&\"\",\"\")","v":""}]
["ロンサーフ単剤","ロンサーフ単剤","　　　　　　Ｗ1　　　　　　Ｗ2　　　　 　  　Ｗ3          Ｗ4\nTAS-102 ↓↓↓↓↓××　↓↓↓↓↓××　××××××× ×××××××\n35mg/㎡/回、1日2回　食後\n「5日間内服2日間休薬」を2回した後14日休薬\n（または5日間内服9日休薬を繰り返す）\n\nクレアチニン値：1.5mg/dl以上は投薬不可\nその他投与開始基準は添付文書参照","28日",null,"大腸,胃",null,"ロンサーフ",null,"4299100F2022","経口",null,70,"㎡","mg",null,"ｄ1-5、8-12",{"$f":"IFERROR(VLOOKUP(__レジメンマスタ[[#This Row],[YJコード①]],[1]!__前投薬リスト[#Data],4,FALSE)&\"\",\"\")","v":""},null,null,null,null,null,null,null,null,null,null,null,{"$f":"IFERROR(VLOOKUP(__レジメンマスタ[[#This Row],[YJコード②]],[1]!__前投薬リスト[#Data],4,FALSE)&\"\",\"\")","v":""},null,null,null,null,null,null,null,null,null,null,null,{"$f":"IFERROR(VLOOKUP(__レジメンマスタ[[#This Row],[YJコード③]],[1]!__前投薬リスト[#Data],4,FALSE)&\"\",\"\")","v":""},null,null,null,null,null,null,null,null,null,null,null,{"$f":"IFERROR(VLOOKUP(__レジメンマスタ[[#This Row],[YJコード④]],[1]!__前投薬リスト[#Data],4,FALSE)&\"\",\"\")","v":""},null,null,null,null,null,null,null,null,null,null,null,{"$f":"IFERROR(VLOOKUP(__レジメンマスタ[[#This Row],[YJコード⑤]],[1]!__前投薬リスト[#Data],4,FALSE)&\"\",\"\")","v":""},null,null,null,null,null,null,null,null,null,null,null,{"$f":"IFERROR(VLOOKUP(__レジメンマスタ[[#This Row],[YJコード⑥]],[1]!__前投薬リスト[#Data],4,FALSE)&\"\",\"\")","v":""},null,null,null,null,null,null,null,null,null,null,null,{"$f":"IFERROR(VLOOKUP(__レジメンマスタ[[#This Row],[YJコード⑦]],[1]!__前投薬リスト[#Data],4,FALSE)&\"\",\"\")","v":""}]
["フリュザクラ","フリュザクラ","　　  　　Ｗ1　　　　　　Ｗ2             Ｗ3　　　　 　　Ｗ4 \nFruq ↓↓↓↓↓↓↓　↓↓↓↓↓↓↓　↓↓↓↓↓↓↓ ×××××××\n3週内服1週休薬","28日",null,"大腸",null,"フリュザクラ",null,"4291088M2020","経口",null,5,"BODY","mg",null,"d1-21",{"$f":"IFERROR(VLOOKUP(__レジメンマスタ[[#This Row],[YJコード①]],[1]!__前投薬リスト[#Data],4,FALSE)&\"\",\"\")","v":""},null,null,null,null,null,null,null,null,null,null,null,{"$f":"IFERROR(VLOOKUP(__レジメンマスタ[[#This Row],[YJコード②]],[1]!__前投薬リスト[#Data],4,FALSE)&\"\",\"\")","v":""},null,null,null,null,null,null,null,null,null,null,null,{"$f":"IFERROR(VLOOKUP(__レジメンマスタ[[#This Row],[YJコード③]],[1]!__前投薬リスト[#Data],4,FALSE)&\"\",\"\")","v":""},null,null,null,null,null,null,null,null,null,null,null,{"$f":"IFERROR(VLOOKUP(__レジメンマスタ[[#This Row],[YJコード④]],[1]!__前投薬リスト[#Data],4,FALSE)&\"\",\"\")","v":""},null,null,null,null,null,null,null,null,null,null,null,{"$f":"IFERROR(VLOOKUP(__レジメンマスタ[[#This Row],[YJコード⑤]],[1]!__前投薬リスト[#Data],4,FALSE)&\"\",\"\")","v":""},null,null,null,null,null,null,null,null,null,null,null,{"$f":"IFERROR(VLOOKUP(__レジメンマスタ[[#This Row],[YJコード⑥]],[1]!__前投薬リスト[#Data],4,FALSE)&\"\",\"\")","v":""},null,null,null,null,null,null,null,null,null,null,null,{"$f":"IFERROR(VLOOKUP(__レジメンマスタ[[#This Row],[YJコード⑦]],[1]!__前投薬リスト[#Data],4,FALSE)&\"\",\"\")","v":""}]
["スチバーガ","スチバーガ","　　  　　Ｗ1　　　　　　Ｗ2             Ｗ3　　　　 　　Ｗ4 \nRego ↓↓↓↓↓↓↓　↓↓↓↓↓↓↓　↓↓↓↓↓↓↓ ×××××××\n用法：食後\n3週内服1週休薬","28日",null,"大腸,GIST,肝",null,"スチバーガ",null,"4291029F1028","経口",null,160,"BODY","mg",null,"d1-21",{"$f":"IFERROR(VLOOKUP(__レジメンマスタ[[#This Row],[YJコード①]],[1]!__前投薬リスト[#Data],4,FALSE)&\"\",\"\")","v":""},null,null,null,null,null,null,null,null,null,null,null,{"$f":"IFERROR(VLOOKUP(__レジメンマスタ[[#This Row],[YJコード②]],[1]!__前投薬リスト[#Data],4,FALSE)&\"\",\"\")","v":""},null,null,null,null,null,null,null,null,null,null,null,{"$f":"IFERROR(VLOOKUP(__レジメンマスタ[[#This Row],[YJコード③]],[1]!__前投薬リスト[#Data],4,FALSE)&\"\",\"\")","v":""},null,null,null,null,null,null,null,null,null,null,null,{"$f":"IFERROR(VLOOKUP(__レジメンマスタ[[#This Row],[YJコード④]],[1]!__前投薬リスト[#Data],4,FALSE)&\"\",\"\")","v":""},null,null,null,null,null,null,null,null,null,null,null,{"$f":"IFERROR(VLOOKUP(__レジメンマスタ[[#This Row],[YJコード⑤]],[1]!__前投薬リスト[#Data],4,FALSE)&\"\",\"\")","v":""},null,null,null,null,null,null,null,null,null,null,null,{"$f":"IFERROR(VLOOKUP(__レジメンマスタ[[#This Row],[YJコード⑥]],[1]!__前投薬リスト[#Data],4,FALSE)&\"\",\"\")","v":""},null,null,null,null,null,null,null,null,null,null,null,{"$f":"IFERROR(VLOOKUP(__レジメンマスタ[[#This Row],[YJコード⑦]],[1]!__前投薬リスト[#Data],4,FALSE)&\"\",\"\")","v":""}]
["スーテント(GIST,腎細胞癌)","スーテント(GIST,腎細胞癌)","　　  　　Ｗ1　　　　Ｗ2～4             Ｗ5　　　　 　　Ｗ6 \nSUN ↓↓↓↓↓↓↓　↓↓↓↓↓↓↓　××××××× ×××××××\n4週内服2週休薬","42日",null,"GIST,腎細胞癌",null,"スーテント",null,"4291018M1029","経口",null,50,"BODY","mg",null,"d1-28",{"$f":"IFERROR(VLOOKUP(__レジメンマスタ[[#This Row],[YJコード①]],[1]!__前投薬リスト[#Data],4,FALSE)&\"\",\"\")","v":""},null,null,null,null,null,null,null,null,null,null,null,{"$f":"IFERROR(VLOOKUP(__レジメンマスタ[[#This Row],[YJコード②]],[1]!__前投薬リスト[#Data],4,FALSE)&\"\",\"\")","v":""},null,null,null,null,null,null,null,null,null,null,null,{"$f":"IFERROR(VLOOKUP(__レジメンマスタ[[#This Row],[YJコード③]],[1]!__前投薬リスト[#Data],4,FALSE)&\"\",\"\")","v":""},null,null,null,null,null,null,null,null,null,null,null,{"$f":"IFERROR(VLOOKUP(__レジメンマスタ[[#This Row],[YJコード④]],[1]!__前投薬リスト[#Data],4,FALSE)&\"\",\"\")","v":""},null,null,null,null,null,null,null,null,null,null,null,{"$f":"IFERROR(VLOOKUP(__レジメンマスタ[[#This Row],[YJコード⑤]],[1]!__前投薬リスト[#Data],4,FALSE)&\"\",\"\")","v":""},null,null,null,null,null,null,null,null,null,null,null,{"$f":"IFERROR(VLOOKUP(__レジメンマスタ[[#This Row],[YJコード⑥]],[1]!__前投薬リスト[#Data],4,FALSE)&\"\",\"\")","v":""},null,null,null,null,null,null,null,null,null,null,null,{"$f":"IFERROR(VLOOKUP(__レジメンマスタ[[#This Row],[YJコード⑦]],[1]!__前投薬リスト[#Data],4,FALSE)&\"\",\"\")","v":""}]
["スーテント(膵神経内分泌腫瘍)","スーテント(膵神経内分泌腫瘍)","連日内服","連日",null,"膵神経内分泌腫瘍",null,"スーテント",null,"4291018M1029","経口",null,37.5,"BODY","mg",null,"連日",{"$f":"IFERROR(VLOOKUP(__レジメンマスタ[[#This Row],[YJコード①]],[1]!__前投薬リスト[#Data],4,FALSE)&\"\",\"\")","v":""},null,null,null,null,null,null,null,null,null,null,null,{"$f":"IFERROR(VLOOKUP(__レジメンマスタ[[#This Row],[YJコード②]],[1]!__前投薬リスト[#Data],4,FALSE)&\"\",\"\")","v":""},null,null,null,null,null,null,null,null,null,null,null,{"$f":"IFERROR(VLOOKUP(__レジメンマスタ[[#This Row],[YJコード③]],[1]!__前投薬リスト[#Data],4,FALSE)&\"\",\"\")","v":""},null,null,null,null,null,null,null,null,null,null,null,{"$f":"IFERROR(VLOOKUP(__レジメンマスタ[[#This Row],[YJコード④]],[1]!__前投薬リスト[#Data],4,FALSE)&\"\",\"\")","v":""},null,null,null,null,null,null,null,null,null,null,null,{"$f":"IFERROR(VLOOKUP(__レジメンマスタ[[#This Row],[YJコード⑤]],[1]!__前投薬リスト[#Data],4,FALSE)&\"\",\"\")","v":""},null,null,null,null,null,null,null,null,null,null,null,{"$f":"IFERROR(VLOOKUP(__レジメンマスタ[[#This Row],[YJコード⑥]],[1]!__前投薬リスト[#Data],4,FALSE)&\"\",\"\")","v":""},null,null,null,null,null,null,null,null,null,null,null,{"$f":"IFERROR(VLOOKUP(__レジメンマスタ[[#This Row],[YJコード⑦]],[1]!__前投薬リスト[#Data],4,FALSE)&\"\",\"\")","v":""}]
["テモゾロミド(初発：放射線併用)","テモゾロミド(初発：放射線併用)","　　  　　Ｗ1　　　　　　Ｗ2～6       　　Ｗ7～10 \nTemo ↓↓↓↓↓↓↓　↓↓↓↓↓↓↓　 ×××××××\n42日間内服4週間休薬","70日",null,"悪性神経膠腫",null,"テモゾロミド",null,"4219004F2021","経口",null,75,"㎡","mg",null,"d1-42",{"$f":"IFERROR(VLOOKUP(__レジメンマスタ[[#This Row],[YJコード①]],[1]!__前投薬リスト[#Data],4,FALSE)&\"\",\"\")","v":""},null,null,null,null,null,null,null,null,null,null,null,{"$f":"IFERROR(VLOOKUP(__レジメンマスタ[[#This Row],[YJコード②]],[1]!__前投薬リスト[#Data],4,FALSE)&\"\",\"\")","v":""},null,null,null,null,null,null,null,null,null,null,null,{"$f":"IFERROR(VLOOKUP(__レジメンマスタ[[#This Row],[YJコード③]],[1]!__前投薬リスト[#Data],4,FALSE)&\"\",\"\")","v":""},null,null,null,null,null,null,null,null,null,null,null,{"$f":"IFERROR(VLOOKUP(__レジメンマスタ[[#This Row],[YJコード④]],[1]!__前投薬リスト[#Data],4,FALSE)&\"\",\"\")","v":""},null,null,null,null,null,null,null,null,null,null,null,{"$f":"IFERROR(VLOOKUP(__レジメンマスタ[[#This Row],[YJコード⑤]],[1]!__前投薬リスト[#Data],4,FALSE)&\"\",\"\")","v":""},null,null,null,null,null,null,null,null,null,null,null,{"$f":"IFERROR(VLOOKUP(__レジメンマスタ[[#This Row],[YJコード⑥]],[1]!__前投薬リスト[#Data],4,FALSE)&\"\",\"\")","v":""},null,null,null,null,null,null,null,null,null,null,null,{"$f":"IFERROR(VLOOKUP(__レジメンマスタ[[#This Row],[YJコード⑦]],[1]!__前投薬リスト[#Data],4,FALSE)&\"\",\"\")","v":""}]
["テモゾロミド(初発：単剤)","テモゾロミド(初発：単剤)","　　  　　Ｗ1　　　　　　Ｗ2～4\nTemo ↓↓↓↓↓××　 ×××××××\n5日間内服23日休薬\n次クールより200mg/㎡に増量可能","28日",null,"悪性神経膠腫",null,"テモゾロミド",null,"4219004F2021","経口",null,150,"㎡","mg",null,"d1-5",{"$f":"IFERROR(VLOOKUP(__レジメンマスタ[[#This Row],[YJコード①]],[1]!__前投薬リスト[#Data],4,FALSE)&\"\",\"\")","v":""},null,"テモゾロミド",null,"4219004F2021","経口",null,200,"㎡","mg",null,"d1-5(増量時)",{"$f":"IFERROR(VLOOKUP(__レジメンマスタ[[#This Row],[YJコード②]],[1]!__前投薬リスト[#Data],4,FALSE)&\"\",\"\")","v":""},null,null,null,null,null,null,null,null,null,null,null,{"$f":"IFERROR(VLOOKUP(__レジメンマスタ[[#This Row],[YJコード③]],[1]!__前投薬リスト[#Data],4,FALSE)&\"\",\"\")","v":""},null,null,null,null,null,null,null,null,null,null,null,{"$f":"IFERROR(VLOOKUP(__レジメンマスタ[[#This Row],[YJコード④]],[1]!__前投薬リスト[#Data],4,FALSE)&\"\",\"\")","v":""},null,null,null,null,null,null,null,null,null,null,null,{"$f":"IFERROR(VLOOKUP(__レジメンマスタ[[#This Row],[YJコード⑤]],[1]!__前投薬リスト[#Data],4,FALSE)&\"\",\"\")","v":""},null,null,null,null,null,null,null,null,null,null,null,{"$f":"IFERROR(VLOOKUP(__レジメンマスタ[[#This Row],[YJコード⑥]],[1]!__前投薬リスト[#Data],4,FALSE)&\"\",\"\")","v":""},null,null,null,null,null,null,null,null,null,null,null,{"$f":"IFERROR(VLOOKUP(__レジメンマスタ[[#This Row],[YJコード⑦]],[1]!__前投薬リスト[#Data],4,FALSE)&\"\",\"\")","v":""}]
["テモゾロミド(再発：単剤)","テモゾロミド(再発：単剤)","　　  　　Ｗ1　　　　　　Ｗ2～4\nTemo ↓↓↓↓↓××　 ×××××××\n5日間内服23日休薬\n次クールより200mg/㎡に増量可能","28日",null,"悪性神経膠腫",null,"テモゾロミド",null,"4219004F2021","経口",null,150,"㎡","mg",null,"d1-5",{"$f":"IFERROR(VLOOKUP(__レジメンマスタ[[#This Row],[YJコード①]],[1]!__前投薬リスト[#Data],4,FALSE)&\"\",\"\")","v":""},null,"テモゾロミド",null,"4219004F2021","経口",null,200,"㎡","mg",null,"d1-5(増量時)",{"$f":"IFERROR(VLOOKUP(__レジメンマスタ[[#This Row],[YJコード②]],[1]!__前投薬リスト[#Data],4,FALSE)&\"\",\"\")","v":""},null,null,null,null,null,null,null,null,null,null,null,{"$f":"IFERROR(VLOOKUP(__レジメンマスタ[[#This Row],[YJコード③]],[1]!__前投薬リスト[#Data],4,FALSE)&\"\",\"\")","v":""},null,null,null,null,null,null,null,null,null,null,null,{"$f":"IFERROR(VLOOKUP(__レジメンマスタ[[#This Row],[YJコード④]],[1]!__前投薬リスト[#Data],4,FALSE)&\"\",\"\")","v":""},null,null,null,null,null,null,null,null,null,null,null,{"$f":"IFERROR(VLOOKUP(__レジメンマスタ[[#This Row],[YJコード⑤]],[1]!__前投薬リスト[#Data],4,FALSE)&\"\",\"\")","v":""},null,null,null,null,null,null,null,null,null,null,null,{"$f":"IFERROR(VLOOKUP(__レジメンマスタ[[#This Row],[YJコード⑥]],[1]!__前投薬リスト[#Data],4,FALSE)&\"\",\"\")","v":""},null,null,null,null,null,null,null,null,null,null,null,{"$f":"IFERROR(VLOOKUP(__レジメンマスタ[[#This Row],[YJコード⑦]],[1]!__前投薬リスト[#Data],4,FALSE)&\"\",\"\")","v":""}]
["ニンラーロ(+LEN、再発難治)","ニンラーロ(+LEN、再発難治)","　　  　　Ｗ1　　　　　　　Ｗ2             Ｗ3　　　　 　Ｗ4 \nixazo ↓×××××× ↓××××××　↓×××××× ×××××××\nLEN　 ↓↓↓↓↓↓↓ ↓↓↓↓↓↓↓  ↓↓↓↓↓↓↓ ×××××××   \nDEX   ↓×××××× ↓××××××  ↓×××××× ↓×××××× \n\nLEN:3週内服1週休薬\nDEX：40mg/週（75歳以上または過小体重（BMI：18.5kg/㎡未満）20mg/週に適宜減量）。病勢によりさらに減量可。","28日",null,"多発性骨髄腫",null,"ニンラーロ",null,"4291049M3027","経口",null,4,"BODY","mg",null,"d1,8,15",{"$f":"IFERROR(VLOOKUP(__レジメンマスタ[[#This Row],[YJコード①]],[1]!__前投薬リスト[#Data],4,FALSE)&\"\",\"\")","v":""},null,"レナリドミド",null,"4291024M1024","経口",null,25,"BODY","mg",null,"d1-21",{"$f":"IFERROR(VLOOKUP(__レジメンマスタ[[#This Row],[YJコード②]],[1]!__前投薬リスト[#Data],4,FALSE)&\"\",\"\")","v":""},null,"DEX",null,"2454002F3020","他",null,40,"BODY","mg",null,"d1,8,15,22",{"$f":"IFERROR(VLOOKUP(__レジメンマスタ[[#This Row],[YJコード③]],[1]!__前投薬リスト[#Data],4,FALSE)&\"\",\"\")","v":""},null,null,null,null,null,null,null,null,null,null,null,{"$f":"IFERROR(VLOOKUP(__レジメンマスタ[[#This Row],[YJコード④]],[1]!__前投薬リスト[#Data],4,FALSE)&\"\",\"\")","v":""},null,null,null,null,null,null,null,null,null,null,null,{"$f":"IFERROR(VLOOKUP(__レジメンマスタ[[#This Row],[YJコード⑤]],[1]!__前投薬リスト[#Data],4,FALSE)&\"\",\"\")","v":""},null,null,null,null,null,null,null,null,null,null,null,{"$f":"IFERROR(VLOOKUP(__レジメンマスタ[[#This Row],[YJコード⑥]],[1]!__前投薬リスト[#Data],4,FALSE)&\"\",\"\")","v":""},null,null,null,null,null,null,null,null,null,null,null,{"$f":"IFERROR(VLOOKUP(__レジメンマスタ[[#This Row],[YJコード⑦]],[1]!__前投薬リスト[#Data],4,FALSE)&\"\",\"\")","v":""}]
["ニンラーロ(維持)","ニンラーロ(維持)","　　  　　Ｗ1　　　　　　　Ｗ2             Ｗ3　　　　 　Ｗ4 \nixazo ↓××××××　↓××××××　↓×××××× ×××××××\n１～４サイクルは3mg/回、5サイクル以降は4mg/回","28日",null,"多発性骨髄腫",null,"ニンラーロ(4ｻｲｸﾙ目まで)",null,"4291049M3027","経口",null,3,"BODY","mg",null,"1-4C\nd1,8,15",{"$f":"IFERROR(VLOOKUP(__レジメンマスタ[[#This Row],[YJコード①]],[1]!__前投薬リスト[#Data],4,FALSE)&\"\",\"\")","v":""},null,"ニンラーロ(5ｻｲｸﾙ目以降)"," ","4291049M3027","経口",null,4,"BODY","mg",null,"5C～\nd1,8,15",{"$f":"IFERROR(VLOOKUP(__レジメンマスタ[[#This Row],[YJコード②]],[1]!__前投薬リスト[#Data],4,FALSE)&\"\",\"\")","v":""},null,null,null,null,null,null,null,null,null,null,null,{"$f":"IFERROR(VLOOKUP(__レジメンマスタ[[#This Row],[YJコード③]],[1]!__前投薬リスト[#Data],4,FALSE)&\"\",\"\")","v":""},null,null,null,null,null,null,null,null,null,null,null,{"$f":"IFERROR(VLOOKUP(__レジメンマスタ[[#This Row],[YJコード④]],[1]!__前投薬リスト[#Data],4,FALSE)&\"\",\"\")","v":""},null,null,null,null,null,null,null,null,null,null,null,{"$f":"IFERROR(VLOOKUP(__レジメンマスタ[[#This Row],[YJコード⑤]],[1]!__前投薬リスト[#Data],4,FALSE)&\"\",\"\")","v":""},null,null,null,null,null,null,null,null,null,null,null,{"$f":"IFERROR(VLOOKUP(__レジメンマスタ[[#This Row],[YJコード⑥]],[1]!__前投薬リスト[#Data],4,FALSE)&\"\",\"\")","v":""},null,null,null,null,null,null,null,null,null,null,null,{"$f":"IFERROR(VLOOKUP(__レジメンマスタ[[#This Row],[YJコード⑦]],[1]!__前投薬リスト[#Data],4,FALSE)&\"\",\"\")","v":""}]
["レブラミド(MM:A法)","レナリドミド(MM:A法)","　　  　　Ｗ1　　　　　　Ｗ2             Ｗ3　　　　 　　Ｗ4 \nLEN ↓↓↓↓↓↓↓　↓↓↓↓↓↓↓　↓↓↓↓↓↓↓ ×××××××\n3週内服1週休薬\n抗血栓療法併用\nDEX：40mg/週（75歳以上または過小体重（BMI：18.5kg/㎡未満）20mg/週に適宜減量）。病勢によりさらに減量可。","28日",null,"多発性骨髄腫",null,"レナリドミド",null,"4291024M1024","経口",null,25,"BODY","mg",null,"d1-21",{"$f":"IFERROR(VLOOKUP(__レジメンマスタ[[#This Row],[YJコード①]],[1]!__前投薬リスト[#Data],4,FALSE)&\"\",\"\")","v":""},null,null,null,null,null,null,null,null,null,null,null,{"$f":"IFERROR(VLOOKUP(__レジメンマスタ[[#This Row],[YJコード②]],[1]!__前投薬リスト[#Data],4,FALSE)&\"\",\"\")","v":""},null,null,null,null,null,null,null,null,null,null,null,{"$f":"IFERROR(VLOOKUP(__レジメンマスタ[[#This Row],[YJコード③]],[1]!__前投薬リスト[#Data],4,FALSE)&\"\",\"\")","v":""},null,null,null,null,null,null,null,null,null,null,null,{"$f":"IFERROR(VLOOKUP(__レジメンマスタ[[#This Row],[YJコード④]],[1]!__前投薬リスト[#Data],4,FALSE)&\"\",\"\")","v":""},null,null,null,null,null,null,null,null,null,null,null,{"$f":"IFERROR(VLOOKUP(__レジメンマスタ[[#This Row],[YJコード⑤]],[1]!__前投薬リスト[#Data],4,FALSE)&\"\",\"\")","v":""},null,null,null,null,null,null,null,null,null,null,null,{"$f":"IFERROR(VLOOKUP(__レジメンマスタ[[#This Row],[YJコード⑥]],[1]!__前投薬リスト[#Data],4,FALSE)&\"\",\"\")","v":""},null,null,null,null,null,null,null,null,null,null,null,{"$f":"IFERROR(VLOOKUP(__レジメンマスタ[[#This Row],[YJコード⑦]],[1]!__前投薬リスト[#Data],4,FALSE)&\"\",\"\")","v":""}]
["レブラミド(MM:B法)","レナリドミド(MM:B法)","　　  　　Ｗ1　　　　　　Ｗ2             Ｗ3　　　　\nLEN ↓↓↓↓↓↓↓　↓↓↓↓↓↓↓　 ×××××××\n2週内服1週休薬\n抗血栓療法併用\nDEX：40mg/週（75歳以上または過小体重（BMI：18.5kg/㎡未満）20mg/週に適宜減量）。病勢によりさらに減量可。","21日",null,"多発性骨髄腫",null,"レナリドミド",null,"4291024M1024","経口",null,25,"BODY","mg",null,"d1-14",{"$f":"IFERROR(VLOOKUP(__レジメンマスタ[[#This Row],[YJコード①]],[1]!__前投薬リスト[#Data],4,FALSE)&\"\",\"\")","v":""},null,null,null,null,null,null,null,null,null,null,null,{"$f":"IFERROR(VLOOKUP(__レジメンマスタ[[#This Row],[YJコード②]],[1]!__前投薬リスト[#Data],4,FALSE)&\"\",\"\")","v":""},null,null,null,null,null,null,null,null,null,null,null,{"$f":"IFERROR(VLOOKUP(__レジメンマスタ[[#This Row],[YJコード③]],[1]!__前投薬リスト[#Data],4,FALSE)&\"\",\"\")","v":""},null,null,null,null,null,null,null,null,null,null,null,{"$f":"IFERROR(VLOOKUP(__レジメンマスタ[[#This Row],[YJコード④]],[1]!__前投薬リスト[#Data],4,FALSE)&\"\",\"\")","v":""},null,null,null,null,null,null,null,null,null,null,null,{"$f":"IFERROR(VLOOKUP(__レジメンマスタ[[#This Row],[YJコード⑤]],[1]!__前投薬リスト[#Data],4,FALSE)&\"\",\"\")","v":""},null,null,null,null,null,null,null,null,null,null,null,{"$f":"IFERROR(VLOOKUP(__レジメンマスタ[[#This Row],[YJコード⑥]],[1]!__前投薬リスト[#Data],4,FALSE)&\"\",\"\")","v":""},null,null,null,null,null,null,null,null,null,null,null,{"$f":"IFERROR(VLOOKUP(__レジメンマスタ[[#This Row],[YJコード⑦]],[1]!__前投薬リスト[#Data],4,FALSE)&\"\",\"\")","v":""}]
["レブラミド(5q-MDS)","レナリドミド(5q-MDS)","　　  　　Ｗ1　　　　　　Ｗ2             Ｗ3　　　　 　　Ｗ4 \nLEN ↓↓↓↓↓↓↓　↓↓↓↓↓↓↓　↓↓↓↓↓↓↓ ×××××××\n3週内服1週休薬\n抗血栓療法併用","21日",null,"５番染色体長腕部欠損骨髄異形成症候群",null,"レナリドミド",null,"4291024M1024","経口",null,10,"BODY","mg",null,"d1-21",{"$f":"IFERROR(VLOOKUP(__レジメンマスタ[[#This Row],[YJコード①]],[1]!__前投薬リスト[#Data],4,FALSE)&\"\",\"\")","v":""},null,null,null,null,null,null,null,null,null,null,null,{"$f":"IFERROR(VLOOKUP(__レジメンマスタ[[#This Row],[YJコード②]],[1]!__前投薬リスト[#Data],4,FALSE)&\"\",\"\")","v":""},null,null,null,null,null,null,null,null,null,null,null,{"$f":"IFERROR(VLOOKUP(__レジメンマスタ[[#This Row],[YJコード③]],[1]!__前投薬リスト[#Data],4,FALSE)&\"\",\"\")","v":""},null,null,null,null,null,null,null,null,null,null,null,{"$f":"IFERROR(VLOOKUP(__レジメンマスタ[[#This Row],[YJコード④]],[1]!__前投薬リスト[#Data],4,FALSE)&\"\",\"\")","v":""},null,null,null,null,null,null,null,null,null,null,null,{"$f":"IFERROR(VLOOKUP(__レジメンマスタ[[#This Row],[YJコード⑤]],[1]!__前投薬リスト[#Data],4,FALSE)&\"\",\"\")","v":""},null,null,null,null,null,null,null,null,null,null,null,{"$f":"IFERROR(VLOOKUP(__レジメンマスタ[[#This Row],[YJコード⑥]],[1]!__前投薬リスト[#Data],4,FALSE)&\"\",\"\")","v":""},null,null,null,null,null,null,null,null,null,null,null,{"$f":"IFERROR(VLOOKUP(__レジメンマスタ[[#This Row],[YJコード⑦]],[1]!__前投薬リスト[#Data],4,FALSE)&\"\",\"\")","v":""}]
["レブラミド(再発難治ATL)","レブラミド(再発難治ATL)","　　  　　Ｗ1　　　　　　Ｗ2             Ｗ3－　　　\nLEN ↓↓↓↓↓↓↓　↓↓↓↓↓↓↓　↓↓↓↓↓↓↓ \n抗血栓療法併用\n★連日内服★\n！連日内服だが管理上の問題があるため、カレンダー管理を行ってください！","連日",null,"成人T細胞白血病リンパ腫",null,"レブラミド",null,"4291024M1024","経口",null,25,"BODY","mg",null,null,{"$f":"IFERROR(VLOOKUP(__レジメンマスタ[[#This Row],[YJコード①]],[1]!__前投薬リスト[#Data],4,FALSE)&\"\",\"\")","v":""},null,null,null,null,null,null,null,null,null,null,null,{"$f":"IFERROR(VLOOKUP(__レジメンマスタ[[#This Row],[YJコード②]],[1]!__前投薬リスト[#Data],4,FALSE)&\"\",\"\")","v":""},null,null,null,null,null,null,null,null,null,null,null,{"$f":"IFERROR(VLOOKUP(__レジメンマスタ[[#This Row],[YJコード③]],[1]!__前投薬リスト[#Data],4,FALSE)&\"\",\"\")","v":""},null,null,null,null,null,null,null,null,null,null,null,{"$f":"IFERROR(VLOOKUP(__レジメンマスタ[[#This Row],[YJコード④]],[1]!__前投薬リスト[#Data],4,FALSE)&\"\",\"\")","v":""},null,null,null,null,null,null,null,null,null,null,null,{"$f":"IFERROR(VLOOKUP(__レジメンマスタ[[#This Row],[YJコード⑤]],[1]!__前投薬リスト[#Data],4,FALSE)&\"\",\"\")","v":""},null,null,null,null,null,null,null,null,null,null,null,{"$f":"IFERROR(VLOOKUP(__レジメンマスタ[[#This Row],[YJコード⑥]],[1]!__前投薬リスト[#Data],4,FALSE)&\"\",\"\")","v":""},null,null,null,null,null,null,null,null,null,null,null,{"$f":"IFERROR(VLOOKUP(__レジメンマスタ[[#This Row],[YJコード⑦]],[1]!__前投薬リスト[#Data],4,FALSE)&\"\",\"\")","v":""}]
["レブラミド(再発難治FL又はMZL)","レブラミド(再発難治FL又はMZL)","HEM0106へ",null,null,"濾胞性リンパ腫,辺縁帯リンパ腫",null,null,null,null,null,null,null,null,null,null,null,{"$f":"IFERROR(VLOOKUP(__レジメンマスタ[[#This Row],[YJコード①]],[1]!__前投薬リスト[#Data],4,FALSE)&\"\",\"\")","v":""},null,null,null,null,null,null,null,null,null,null,null,{"$f":"IFERROR(VLOOKUP(__レジメンマスタ[[#This Row],[YJコード②]],[1]!__前投薬リスト[#Data],4,FALSE)&\"\",\"\")","v":""},null,null,null,null,null,null,null,null,null,null,null,{"$f":"IFERROR(VLOOKUP(__レジメンマスタ[[#This Row],[YJコード③]],[1]!__前投薬リスト[#Data],4,FALSE)&\"\",\"\")","v":""},null,null,null,null,null,null,null,null,null,null,null,{"$f":"IFERROR(VLOOKUP(__レジメンマスタ[[#This Row],[YJコード④]],[1]!__前投薬リスト[#Data],4,FALSE)&\"\",\"\")","v":""},null,null,null,null,null,null,null,null,null,null,null,{"$f":"IFERROR(VLOOKUP(__レジメンマスタ[[#This Row],[YJコード⑤]],[1]!__前投薬リスト[#Data],4,FALSE)&\"\",\"\")","v":""},null,null,null,null,null,null,null,null,null,null,null,{"$f":"IFERROR(VLOOKUP(__レジメンマスタ[[#This Row],[YJコード⑥]],[1]!__前投薬リスト[#Data],4,FALSE)&\"\",\"\")","v":""},null,null,null,null,null,null,null,null,null,null,null,{"$f":"IFERROR(VLOOKUP(__レジメンマスタ[[#This Row],[YJコード⑦]],[1]!__前投薬リスト[#Data],4,FALSE)&\"\",\"\")","v":""}]
["ポマリスト(DEX)","ポマリスト(DEX)","　　  　　Ｗ1　　　　　　Ｗ2             Ｗ3　　　　 　　Ｗ4 \nPOM ↓↓↓↓↓↓↓　↓↓↓↓↓↓↓　↓↓↓↓↓↓↓ ×××××××\n3週内服1週休薬\n抗血栓療法併用\nDEX：40mg/週（75歳以上または過小体重（BMI：18.5kg/㎡未満）20mg/週に適宜減量）。病勢によりさらに減量可。","28日",null,"多発性骨髄腫",null,"ポマリスト",null,"4291038M4025","経口",null,4,"BODY","mg",null,"d1-21",{"$f":"IFERROR(VLOOKUP(__レジメンマスタ[[#This Row],[YJコード①]],[1]!__前投薬リスト[#Data],4,FALSE)&\"\",\"\")","v":""},null,null,null,null,null,null,null,null,null,null,null,{"$f":"IFERROR(VLOOKUP(__レジメンマスタ[[#This Row],[YJコード②]],[1]!__前投薬リスト[#Data],4,FALSE)&\"\",\"\")","v":""},null,null,null,null,null,null,null,null,null,null,null,{"$f":"IFERROR(VLOOKUP(__レジメンマスタ[[#This Row],[YJコード③]],[1]!__前投薬リスト[#Data],4,FALSE)&\"\",\"\")","v":""},null,null,null,null,null,null,null,null,null,null,null,{"$f":"IFERROR(VLOOKUP(__レジメンマスタ[[#This Row],[YJコード④]],[1]!__前投薬リスト[#Data],4,FALSE)&\"\",\"\")","v":""},null,null,null,null,null,null,null,null,null,null,null,{"$f":"IFERROR(VLOOKUP(__レジメンマスタ[[#This Row],[YJコード⑤]],[1]!__前投薬リスト[#Data],4,FALSE)&\"\",\"\")","v":""},null,null,null,null,null,null,null,null,null,null,null,{"$f":"IFERROR(VLOOKUP(__レジメンマスタ[[#This Row],[YJコード⑥]],[1]!__前投薬リスト[#Data],4,FALSE)&\"\",\"\")","v":""},null,null,null,null,null,null,null,null,null,null,null,{"$f":"IFERROR(VLOOKUP(__レジメンマスタ[[#This Row],[YJコード⑦]],[1]!__前投薬リスト[#Data],4,FALSE)&\"\",\"\")","v":""}]
["ポマリスト(Bor+DEX)","ポマリスト(Bor+DEX)","　　  　　Ｗ1　　　　　　Ｗ2             Ｗ3　　　　\nPOM ↓↓↓↓↓↓↓　↓↓↓↓↓↓↓　 ×××××××\n2週内服1週休薬\n抗血栓療法併用\nDEX：40mg/週（75歳以上または過小体重（BMI：18.5kg/㎡未満）20mg/週に適宜減量）。病勢によりさらに減量可。\nBor(twice)と併用？レジメン申請未のため処方出た場合はケモチームへ","21日",null,"多発性骨髄腫",null,"ポマリスト",null,"4291038M4025","経口",null,4,"BODY","mg",null,"d1-14",{"$f":"IFERROR(VLOOKUP(__レジメンマスタ[[#This Row],[YJコード①]],[1]!__前投薬リスト[#Data],4,FALSE)&\"\",\"\")","v":""},null,null,null,null,null,null,null,null,null,null,null,{"$f":"IFERROR(VLOOKUP(__レジメンマスタ[[#This Row],[YJコード②]],[1]!__前投薬リスト[#Data],4,FALSE)&\"\",\"\")","v":""},null,null,null,null,null,null,null,null,null,null,null,{"$f":"IFERROR(VLOOKUP(__レジメンマスタ[[#This Row],[YJコード③]],[1]!__前投薬リスト[#Data],4,FALSE)&\"\",\"\")","v":""},null,null,null,null,null,null,null,null,null,null,null,{"$f":"IFERROR(VLOOKUP(__レジメンマスタ[[#This Row],[YJコード④]],[1]!__前投薬リスト[#Data],4,FALSE)&\"\",\"\")","v":""},null,null,null,null,null,null,null,null,null,null,null,{"$f":"IFERROR(VLOOKUP(__レジメンマスタ[[#This Row],[YJコード⑤]],[1]!__前投薬リスト[#Data],4,FALSE)&\"\",\"\")","v":""},null,null,null,null,null,null,null,null,null,null,null,{"$f":"IFERROR(VLOOKUP(__レジメンマスタ[[#This Row],[YJコード⑥]],[1]!__前投薬リスト[#Data],4,FALSE)&\"\",\"\")","v":""},null,null,null,null,null,null,null,null,null,null,null,{"$f":"IFERROR(VLOOKUP(__レジメンマスタ[[#This Row],[YJコード⑦]],[1]!__前投薬リスト[#Data],4,FALSE)&\"\",\"\")","v":""}]
["イブランス","イブランス","　　  　　Ｗ1　　　　　　Ｗ2             Ｗ3　　　　 　　Ｗ4 \nPAB　↓↓↓↓↓↓↓　↓↓↓↓↓↓↓　↓↓↓↓↓↓↓ ×××××××\n3週内服1週休薬","28日",null,"乳癌",null,"イブランス",null,"4291051F2029","経口",null,125,"BODY","mg",null,"d1-21",{"$f":"IFERROR(VLOOKUP(__レジメンマスタ[[#This Row],[YJコード①]],[1]!__前投薬リスト[#Data],4,FALSE)&\"\",\"\")","v":""},null,null,null,null,null,null,null,null,null,null,null,{"$f":"IFERROR(VLOOKUP(__レジメンマスタ[[#This Row],[YJコード②]],[1]!__前投薬リスト[#Data],4,FALSE)&\"\",\"\")","v":""},null,null,null,null,null,null,null,null,null,null,null,{"$f":"IFERROR(VLOOKUP(__レジメンマスタ[[#This Row],[YJコード③]],[1]!__前投薬リスト[#Data],4,FALSE)&\"\",\"\")","v":""},null,null,null,null,null,null,null,null,null,null,null,{"$f":"IFERROR(VLOOKUP(__レジメンマスタ[[#This Row],[YJコード④]],[1]!__前投薬リスト[#Data],4,FALSE)&\"\",\"\")","v":""},null,null,null,null,null,null,null,null,null,null,null,{"$f":"IFERROR(VLOOKUP(__レジメンマスタ[[#This Row],[YJコード⑤]],[1]!__前投薬リスト[#Data],4,FALSE)&\"\",\"\")","v":""},null,null,null,null,null,null,null,null,null,null,null,{"$f":"IFERROR(VLOOKUP(__レジメンマスタ[[#This Row],[YJコード⑥]],[1]!__前投薬リスト[#Data],4,FALSE)&\"\",\"\")","v":""},null,null,null,null,null,null,null,null,null,null,null,{"$f":"IFERROR(VLOOKUP(__レジメンマスタ[[#This Row],[YJコード⑦]],[1]!__前投薬リスト[#Data],4,FALSE)&\"\",\"\")","v":""}]
["フルダラ","フルダラ","　　  　　Ｗ1　　　　　　Ｗ2             Ｗ3　　　　 　　Ｗ4 \nFLU　↓↓↓↓↓××　×××××××　××××××× ×××××××\n5日間内服、23日間休薬\n※用量・腎機能に応じた減量の、錠数の目安は添付文書に記載あり","28日",null,"低悪性度B細胞性非ホジキンリンパ腫、マントル細胞リンパ腫、CLL",null,"フルダラ",null,"4229002F1022","経口",null,40,"㎡","mg",null,"d1-5",{"$f":"IFERROR(VLOOKUP(__レジメンマスタ[[#This Row],[YJコード①]],[1]!__前投薬リスト[#Data],4,FALSE)&\"\",\"\")","v":""},null,null,null,null,null,null,null,null,null,null,null,{"$f":"IFERROR(VLOOKUP(__レジメンマスタ[[#This Row],[YJコード②]],[1]!__前投薬リスト[#Data],4,FALSE)&\"\",\"\")","v":""},null,null,null,null,null,null,null,null,null,null,null,{"$f":"IFERROR(VLOOKUP(__レジメンマスタ[[#This Row],[YJコード③]],[1]!__前投薬リスト[#Data],4,FALSE)&\"\",\"\")","v":""},null,null,null,null,null,null,null,null,null,null,null,{"$f":"IFERROR(VLOOKUP(__レジメンマスタ[[#This Row],[YJコード④]],[1]!__前投薬リスト[#Data],4,FALSE)&\"\",\"\")","v":""},null,null,null,null,null,null,null,null,null,null,null,{"$f":"IFERROR(VLOOKUP(__レジメンマスタ[[#This Row],[YJコード⑤]],[1]!__前投薬リスト[#Data],4,FALSE)&\"\",\"\")","v":""},null,null,null,null,null,null,null,null,null,null,null,{"$f":"IFERROR(VLOOKUP(__レジメンマスタ[[#This Row],[YJコード⑥]],[1]!__前投薬リスト[#Data],4,FALSE)&\"\",\"\")","v":""},null,null,null,null,null,null,null,null,null,null,null,{"$f":"IFERROR(VLOOKUP(__レジメンマスタ[[#This Row],[YJコード⑦]],[1]!__前投薬リスト[#Data],4,FALSE)&\"\",\"\")","v":""}]
["ラステットS(肺小細胞癌）","ラステットS(肺小細胞癌）","　　  　　Ｗ1　　　　　　Ｗ2             Ｗ3　　　　 　　Ｗ4 \nETP　↓↓↓↓↓××　×××××××　××××××× ×××××－－\n5日間内服、21日間休薬\n1日175～200mg/body","26日",null,"肺小細胞癌",null,"ラステットS",null,"4240001M1067","経口",null,"175-200","BODY","mg",null,"d1-5",{"$f":"IFERROR(VLOOKUP(__レジメンマスタ[[#This Row],[YJコード①]],[1]!__前投薬リスト[#Data],4,FALSE)&\"\",\"\")","v":""},null,null,null,null,null,null,null,null,null,null,null,{"$f":"IFERROR(VLOOKUP(__レジメンマスタ[[#This Row],[YJコード②]],[1]!__前投薬リスト[#Data],4,FALSE)&\"\",\"\")","v":""},null,null,null,null,null,null,null,null,null,null,null,{"$f":"IFERROR(VLOOKUP(__レジメンマスタ[[#This Row],[YJコード③]],[1]!__前投薬リスト[#Data],4,FALSE)&\"\",\"\")","v":""},null,null,null,null,null,null,null,null,null,null,null,{"$f":"IFERROR(VLOOKUP(__レジメンマスタ[[#This Row],[YJコード④]],[1]!__前投薬リスト[#Data],4,FALSE)&\"\",\"\")","v":""},null,null,null,null,null,null,null,null,null,null,null,{"$f":"IFERROR(VLOOKUP(__レジメンマスタ[[#This Row],[YJコード⑤]],[1]!__前投薬リスト[#Data],4,FALSE)&\"\",\"\")","v":""},null,null,null,null,null,null,null,null,null,null,null,{"$f":"IFERROR(VLOOKUP(__レジメンマスタ[[#This Row],[YJコード⑥]],[1]!__前投薬リスト[#Data],4,FALSE)&\"\",\"\")","v":""},null,null,null,null,null,null,null,null,null,null,null,{"$f":"IFERROR(VLOOKUP(__レジメンマスタ[[#This Row],[YJコード⑦]],[1]!__前投薬リスト[#Data],4,FALSE)&\"\",\"\")","v":""}]
["ラステットS(リンパ腫A法)","ラステットS(リンパ腫A法)","　　  　　Ｗ1　　　　　　Ｗ2             Ｗ3　　　　 　　Ｗ4 \nETP　↓↓↓↓↓××　×××××××　××××××× ×××××－－\n5日間内服、21日間休薬\n1日175～200mg/body\n※CEOP療法の場合はHEM0109へ","26日",null,"リンパ腫",null,"ラステットS",null,"4240001M1067","経口",null,"175-200","BODY","mg",null,"d1-5",{"$f":"IFERROR(VLOOKUP(__レジメンマスタ[[#This Row],[YJコード①]],[1]!__前投薬リスト[#Data],4,FALSE)&\"\",\"\")","v":""},null,null,null,null,null,null,null,null,null,null,null,{"$f":"IFERROR(VLOOKUP(__レジメンマスタ[[#This Row],[YJコード②]],[1]!__前投薬リスト[#Data],4,FALSE)&\"\",\"\")","v":""},null,null,null,null,null,null,null,null,null,null,null,{"$f":"IFERROR(VLOOKUP(__レジメンマスタ[[#This Row],[YJコード③]],[1]!__前投薬リスト[#Data],4,FALSE)&\"\",\"\")","v":""},null,null,null,null,null,null,null,null,null,null,null,{"$f":"IFERROR(VLOOKUP(__レジメンマスタ[[#This Row],[YJコード④]],[1]!__前投薬リスト[#Data],4,FALSE)&\"\",\"\")","v":""},null,null,null,null,null,null,null,null,null,null,null,{"$f":"IFERROR(VLOOKUP(__レジメンマスタ[[#This Row],[YJコード⑤]],[1]!__前投薬リスト[#Data],4,FALSE)&\"\",\"\")","v":""},null,null,null,null,null,null,null,null,null,null,null,{"$f":"IFERROR(VLOOKUP(__レジメンマスタ[[#This Row],[YJコード⑥]],[1]!__前投薬リスト[#Data],4,FALSE)&\"\",\"\")","v":""},null,null,null,null,null,null,null,null,null,null,null,{"$f":"IFERROR(VLOOKUP(__レジメンマスタ[[#This Row],[YJコード⑦]],[1]!__前投薬リスト[#Data],4,FALSE)&\"\",\"\")","v":""}]
["ラステットS(リンパ腫B法)","ラステットS(リンパ腫B法)","　　  　　Ｗ1　　　　　　Ｗ2             Ｗ3　　　　 　　Ｗ4(～5)  \nETP　↓↓↓↓↓↓↓　↓↓↓↓↓↓↓　↓↓↓↓↓↓↓ ×××××××\n21日間内服、1～2週間休薬\n1日50mg/body\n※CEOP療法の場合はHEM0109へ","28-35日",null,"リンパ腫",null,"ラステットS",null,"4240001M1067","経口",null,50,"BODY","mg",null,"d1-21",{"$f":"IFERROR(VLOOKUP(__レジメンマスタ[[#This Row],[YJコード①]],[1]!__前投薬リスト[#Data],4,FALSE)&\"\",\"\")","v":""},null,null,null,null,null,null,null,null,null,null,null,{"$f":"IFERROR(VLOOKUP(__レジメンマスタ[[#This Row],[YJコード②]],[1]!__前投薬リスト[#Data],4,FALSE)&\"\",\"\")","v":""},null,null,null,null,null,null,null,null,null,null,null,{"$f":"IFERROR(VLOOKUP(__レジメンマスタ[[#This Row],[YJコード③]],[1]!__前投薬リスト[#Data],4,FALSE)&\"\",\"\")","v":""},null,null,null,null,null,null,null,null,null,null,null,{"$f":"IFERROR(VLOOKUP(__レジメンマスタ[[#This Row],[YJコード④]],[1]!__前投薬リスト[#Data],4,FALSE)&\"\",\"\")","v":""},null,null,null,null,null,null,null,null,null,null,null,{"$f":"IFERROR(VLOOKUP(__レジメンマスタ[[#This Row],[YJコード⑤]],[1]!__前投薬リスト[#Data],4,FALSE)&\"\",\"\")","v":""},null,null,null,null,null,null,null,null,null,null,null,{"$f":"IFERROR(VLOOKUP(__レジメンマスタ[[#This Row],[YJコード⑥]],[1]!__前投薬リスト[#Data],4,FALSE)&\"\",\"\")","v":""},null,null,null,null,null,null,null,null,null,null,null,{"$f":"IFERROR(VLOOKUP(__レジメンマスタ[[#This Row],[YJコード⑦]],[1]!__前投薬リスト[#Data],4,FALSE)&\"\",\"\")","v":""}]
["ラステットS(子宮頚癌)","ラステットS(子宮頚癌)","　　  　　Ｗ1　　　　　　Ｗ2             Ｗ3　　　　 　　Ｗ4(～5)  \nETP　↓↓↓↓↓↓↓　↓↓↓↓↓↓↓　↓↓↓↓↓↓↓ ×××××××\n21日間内服、1～2週間休薬\n1日50mg/body","28-35日",null,"子宮頚癌",null,"ラステットS",null,"4240001M1067","経口",null,50,"BODY","mg",null,"d1-21",{"$f":"IFERROR(VLOOKUP(__レジメンマスタ[[#This Row],[YJコード①]],[1]!__前投薬リスト[#Data],4,FALSE)&\"\",\"\")","v":""},null,null,null,null,null,null,null,null,null,null,null,{"$f":"IFERROR(VLOOKUP(__レジメンマスタ[[#This Row],[YJコード②]],[1]!__前投薬リスト[#Data],4,FALSE)&\"\",\"\")","v":""},null,null,null,null,null,null,null,null,null,null,null,{"$f":"IFERROR(VLOOKUP(__レジメンマスタ[[#This Row],[YJコード③]],[1]!__前投薬リスト[#Data],4,FALSE)&\"\",\"\")","v":""},null,null,null,null,null,null,null,null,null,null,null,{"$f":"IFERROR(VLOOKUP(__レジメンマスタ[[#This Row],[YJコード④]],[1]!__前投薬リスト[#Data],4,FALSE)&\"\",\"\")","v":""},null,null,null,null,null,null,null,null,null,null,null,{"$f":"IFERROR(VLOOKUP(__レジメンマスタ[[#This Row],[YJコード⑤]],[1]!__前投薬リスト[#Data],4,FALSE)&\"\",\"\")","v":""},null,null,null,null,null,null,null,null,null,null,null,{"$f":"IFERROR(VLOOKUP(__レジメンマスタ[[#This Row],[YJコード⑥]],[1]!__前投薬リスト[#Data],4,FALSE)&\"\",\"\")","v":""},null,null,null,null,null,null,null,null,null,null,null,{"$f":"IFERROR(VLOOKUP(__レジメンマスタ[[#This Row],[YJコード⑦]],[1]!__前投薬リスト[#Data],4,FALSE)&\"\",\"\")","v":""}]
["ラステットS(卵巣癌)","ラステットS(卵巣癌)","　　  　　Ｗ1　　　　　　Ｗ2　           Ｗ3　　　　 　　Ｗ4  \nETP　↓↓↓↓↓↓↓　↓↓↓↓↓↓↓　↓↓↓↓↓↓↓ ×××××××\n21日間内服、1週間休薬\n1日50mg/㎡","28日",null,"卵巣癌",null,"ラステットS",null,"4240001M1067","経口",null,50,"㎡","mg",null,"d1-21",{"$f":"IFERROR(VLOOKUP(__レジメンマスタ[[#This Row],[YJコード①]],[1]!__前投薬リスト[#Data],4,FALSE)&\"\",\"\")","v":""},null,null,null,null,null,null,null,null,null,null,null,{"$f":"IFERROR(VLOOKUP(__レジメンマスタ[[#This Row],[YJコード②]],[1]!__前投薬リスト[#Data],4,FALSE)&\"\",\"\")","v":""},null,null,null,null,null,null,null,null,null,null,null,{"$f":"IFERROR(VLOOKUP(__レジメンマスタ[[#This Row],[YJコード③]],[1]!__前投薬リスト[#Data],4,FALSE)&\"\",\"\")","v":""},null,null,null,null,null,null,null,null,null,null,null,{"$f":"IFERROR(VLOOKUP(__レジメンマスタ[[#This Row],[YJコード④]],[1]!__前投薬リスト[#Data],4,FALSE)&\"\",\"\")","v":""},null,null,null,null,null,null,null,null,null,null,null,{"$f":"IFERROR(VLOOKUP(__レジメンマスタ[[#This Row],[YJコード⑤]],[1]!__前投薬リスト[#Data],4,FALSE)&\"\",\"\")","v":""},null,null,null,null,null,null,null,null,null,null,null,{"$f":"IFERROR(VLOOKUP(__レジメンマスタ[[#This Row],[YJコード⑥]],[1]!__前投薬リスト[#Data],4,FALSE)&\"\",\"\")","v":""},null,null,null,null,null,null,null,null,null,null,null,{"$f":"IFERROR(VLOOKUP(__レジメンマスタ[[#This Row],[YJコード⑦]],[1]!__前投薬リスト[#Data],4,FALSE)&\"\",\"\")","v":""}]
["ヴァンフリタ","ヴァンフリタ（維持療法）","　　  　　　Ｗ1　　　　　　Ｗ2             Ｗ3　　　　 　　Ｗ4 \nQUIZ　↓↓↓↓↓↓↓　↓↓↓↓↓↓↓　××××××× ×××××××\n2週内服2週休薬\n26.5mgを2週間投与後、QTcF値が450msec以下の場合、それ以降は53mgに増量","28日","36サイクル","白血病（AML)",null,"ヴァンフリタ",null,"4291060F2028","経口",null,"26.5→53","BODY","mg",null,"d1-14",{"$f":"IFERROR(VLOOKUP(__レジメンマスタ[[#This Row],[YJコード①]],[1]!__前投薬リスト[#Data],4,FALSE)&\"\",\"\")","v":""},null,null,null,null,null,null,null,null,null,null,null,{"$f":"IFERROR(VLOOKUP(__レジメンマスタ[[#This Row],[YJコード②]],[1]!__前投薬リスト[#Data],4,FALSE)&\"\",\"\")","v":""},null,null,null,null,null,null,null,null,null,null,null,{"$f":"IFERROR(VLOOKUP(__レジメンマスタ[[#This Row],[YJコード③]],[1]!__前投薬リスト[#Data],4,FALSE)&\"\",\"\")","v":""},null,null,null,null,null,null,null,null,null,null,null,{"$f":"IFERROR(VLOOKUP(__レジメンマスタ[[#This Row],[YJコード④]],[1]!__前投薬リスト[#Data],4,FALSE)&\"\",\"\")","v":""},null,null,null,null,null,null,null,null,null,null,null,{"$f":"IFERROR(VLOOKUP(__レジメンマスタ[[#This Row],[YJコード⑤]],[1]!__前投薬リスト[#Data],4,FALSE)&\"\",\"\")","v":""},null,null,null,null,null,null,null,null,null,null,null,{"$f":"IFERROR(VLOOKUP(__レジメンマスタ[[#This Row],[YJコード⑥]],[1]!__前投薬リスト[#Data],4,FALSE)&\"\",\"\")","v":""},null,null,null,null,null,null,null,null,null,null,null,{"$f":"IFERROR(VLOOKUP(__レジメンマスタ[[#This Row],[YJコード⑦]],[1]!__前投薬リスト[#Data],4,FALSE)&\"\",\"\")","v":""}]
[null,null,null,null,null,null,null,null,null,null,null,null,null,null,null,null,null,{"$f":"IFERROR(VLOOKUP(__レジメンマスタ[[#This Row],[YJコード①]],[1]!__前投薬リスト[#Data],4,FALSE)&\"\",\"\")","v":""},null,null,null,null,null,null,null,null,null,null,null,{"$f":"IFERROR(VLOOKUP(__レジメンマスタ[[#This Row],[YJコード②]],[1]!__前投薬リスト[#Data],4,FALSE)&\"\",\"\")","v":""},null,null,null,null,null,null,null,null,null,null,null,{"$f":"IFERROR(VLOOKUP(__レジメンマスタ[[#This Row],[YJコード③]],[1]!__前投薬リスト[#Data],4,FALSE)&\"\",\"\")","v":""},null,null,null,null,null,null,null,null,null,null,null,{"$f":"IFERROR(VLOOKUP(__レジメンマスタ[[#This Row],[YJコード④]],[1]!__前投薬リスト[#Data],4,FALSE)&\"\",\"\")","v":""},null,null,null,null,null,null,null,null,null,null,null,{"$f":"IFERROR(VLOOKUP(__レジメンマスタ[[#This Row],[YJコード⑤]],[1]!__前投薬リスト[#Data],4,FALSE)&\"\",\"\")","v":""},null,null,null,null,null,null,null,null,null,null,null,{"$f":"IFERROR(VLOOKUP(__レジメンマスタ[[#This Row],[YJコード⑥]],[1]!__前投薬リスト[#Data],4,FALSE)&\"\",\"\")","v":""},null,null,null,null,null,null,null,null,null,null,null,{"$f":"IFERROR(VLOOKUP(__レジメンマスタ[[#This Row],[YJコード⑦]],[1]!__前投薬リスト[#Data],4,FALSE)&\"\",\"\")","v":""}]
[null,null,null,null,null,null,null,null,null,null,null,null,null,null,null,null,null,{"$f":"IFERROR(VLOOKUP(__レジメンマスタ[[#This Row],[YJコード①]],[1]!__前投薬リスト[#Data],4,FALSE)&\"\",\"\")","v":""},null,null,null,null,null,null,null,null,null,null,null,{"$f":"IFERROR(VLOOKUP(__レジメンマスタ[[#This Row],[YJコード②]],[1]!__前投薬リスト[#Data],4,FALSE)&\"\",\"\")","v":""},null,null,null,null,null,null,null,null,null,null,null,{"$f":"IFERROR(VLOOKUP(__レジメンマスタ[[#This Row],[YJコード③]],[1]!__前投薬リスト[#Data],4,FALSE)&\"\",\"\")","v":""},null,null,null,null,null,null,null,null,null,null,null,{"$f":"IFERROR(VLOOKUP(__レジメンマスタ[[#This Row],[YJコード④]],[1]!__前投薬リスト[#Data],4,FALSE)&\"\",\"\")","v":""},null,null,null,null,null,null,null,null,null,null,null,{"$f":"IFERROR(VLOOKUP(__レジメンマスタ[[#This Row],[YJコード⑤]],[1]!__前投薬リスト[#Data],4,FALSE)&\"\",\"\")","v":""},null,null,null,null,null,null,null,null,null,null,null,{"$f":"IFERROR(VLOOKUP(__レジメンマスタ[[#This Row],[YJコード⑥]],[1]!__前投薬リスト[#Data],4,FALSE)&\"\",\"\")","v":""},null,null,null,null,null,null,null,null,null,null,null,{"$f":"IFERROR(VLOOKUP(__レジメンマスタ[[#This Row],[YJコード⑦]],[1]!__前投薬リスト[#Data],4,FALSE)&\"\",\"\")","v":""}]

{"sheet":"疾患別コード","index":2,"n_rows":206,"n_cols":13,"rows_kept":206,"cut":false,"hidden":true,"merged":[]}
["造血器","肺","消化管","乳腺","婦人科","泌尿器","頭頚部","脳","臓器横断","悪性黒色腫","口腔癌","間質性肺炎","リウマチ腎臓内科"]
["HEM0001","RES0001","SUR0004","BRE0001","GYN0003-A1","URO0002","OTO0001","BRA0003","A100001","DER0001","DEN0001-01","O100001","KID0003"]
["HEM0001-1","RES0002","SUR0007","BRE0002","GYN0003-A2","URO0006","OTO0002","BRA0004","A100002","DER0004-1","DEN0002-1",null,"KID0005"]
["HEM0001-2","RES0003","SUR0008","BRE0004","GYN0005","URO0008","OTO0003","BRA0005-11","A100002-2","DER0005",null,null,"KID0006"]
["HEM0001-3","RES0004","SUR0011","BRE0005","GYN0007","URO0017","OTO0004","BRA0005-02","A100003","DER0006",null,null,"KID0007"]
["HEM0002","RES0005","SUR0012-A2","BRE0006","GYN0008","URO0018","OTO0006","BRA0005-03","A100004"]
["HEM0002-1","RES0006","SUR0014","BRE0007","GYN0010","URO0019","OTO0010","BRA0005-13","A100004-1"]
["HEM0002-2","RES0007","SUR0015","BRE0008","GYN0014","URO0020","OTO0011","BRA0005-07","A100004-2"]
["HEM0002-3","RES0008","SUR0016","BRE0009","GYN0014-02","URO0021","OTO0012","BRA0006","A100005"]
["HEM0003","RES0009","SUR0017-1","BRE0010","GYN0020","URO0023","OTO0013","BRA0007","A100006-2"]
["HEM0003-1","RES0010","SUR0017-2","BRE0011","GYN0021","URO0024","OTO0014-1","BRA0008","A100007"]
["HEM0003-2","RES0011","SUR0020","BRE0012","GYN0022","URO0026","OTO0014-2","BRA0009","A100008"]
["HEM0003-3","RES0012","SUR0021","BRE0013","GYN0023","URO0027","OTO0015","BRA0010","A100009"]
["HEM0003-4","RES0013","SUR0022-A1","BRE0014","GYN0024","URO0028","OTO0016",null,"A100009-2"]
["HEM0004","RES0014","SUR0022-A2","BRE0015","GYN0025","URO0028-02","OTO0016-2",null,"A100010"]
["HEM0004-5","RES0015","SUR0025-A1","BRE0016","GYN0026","URO0029-1","OTO0017","テモゾロミド(初発：放射線併用)","A100011"]
["HEM0007","RES0020-s2","SUR0025-A2","BRE0016-04","GYN0027","URO0029-2","OTO0018","テモゾロミド(初発：単剤)"]
["HEM0007-02","RES0020-s4","SUR0031","BRE0017","GYN0028","URO0030","OTO0019","テモゾロミド(再発：単剤)"]
["HEM0008","RES0021","SUR0031-A1","BRE0018","GYN0030","URO0031","OTO0020"]
["HEM0009","RES0022","SUR0035","BRE0019","GYN0032","URO0032-01","OTO0021"]
["HEM0010","RES0023","SUR0036","BRE0020","GYN0033","URO0032-02","OTO0022"]
["HEM0012","RES0024","SUR0037","BRE0021","GYN0034","URO0032-03"]
["HEM0012-2","RES0025","SUR0039","BRE0022","GYN0035","URO0033"]
["HEM0013","RES0026","SUR0040","BRE0023","GYN0037","URO0034","内服単剤S1：A法"]
["HEM0012+0013","RES0027-1","SUR0041","BRE0024","GYN0038","URO0034-02","UFT(ﾃｶﾞﾌｰﾙｳﾗｼﾙ)"]
["HEM0014","RES0027-3","SUR0042","BRE0025","GYN0039","URO0035"]
["HEM0015","RES0028","SUR0043","BRE0026","GYN0040","URO0036"]
["HEM0016-01","RES0028-1","SUR0045","BRE0027","GYN0041-01","URO0037"]
["HEM0016-02","RES0029","SUR0046","BRE0028","GYN0042-01","URO0038"]
["HEM0017-01","RES0030","SUR0047","BRE0029","GYN0043","URO0039-1"]
["HEM0017-02","RES0031","SUR0048","BRE0030","GYN0044-11","URO0039-2"]
["HEM0017-03","RES0032","SUR0049","BRE0031","GYN0044-21","URO0040"]
["HEM0021","RES0033","SUR0050","BRE0032","GYN0044-22","URO0041"]
["HEM0023","RES0034","SUR0051","BRE0033","GYN0045-1","URO0042"]
["HEM0023-02","RES0035","SUR0052","BRE0034","GYN0045-2","URO0042-02"]
["HEM0024","RES0036","SUR0053","BRE0035",null,"URO0043"]
["HEM0025","RES0036-2","SUR0054",null,null,"URO0044"]
["HEM0026","RES0037","SUR0057",null,null,"URO0045"]
["HEM0027","RES0038","SUR0058",null,null,"URO0045-20"]
["HEM0029","RES0038-02","SUR0059","内服単剤S1：A法","ラステットS(子宮頚癌)","URO0045-30"]
["HEM0035","RES0039","SUR0060","内服単剤S1(乳癌術後補助）","ラステットS(卵巣癌)"]
["HEM0037","RES0039-02","SUR0061","内服Cape：A法","UFT(ﾃｶﾞﾌｰﾙｳﾗｼﾙ)"]
["HEM0038","RES0040","SUR0063","内服Cape：B法",null,"UFT(ﾃｶﾞﾌｰﾙｳﾗｼﾙ)"]
["HEM0044","RES0040-2","SUR0064","内服Cape：C法",null,"スーテント(GIST,腎細胞癌)"]
["HEM0045","RES0041","SUR0067","UFT(ﾃｶﾞﾌｰﾙｳﾗｼﾙ)"]
["HEM0048","RES0042","SUR0073","イブランス"]
["HEM0048-1","RES0043-00","SUR0074"]
["HEM0049","RES0043-01","SUR0075"]
["HEM0052","RES0044","SUR0081-01"]
["HEM0053","RES0045","SUR0081-02"]
["HEM0056","RES0045-2","SUR0084"]
["HEM0057","RES0045-3","SUR0085"]
["HEM0057-02","RES0046-01","SUR0086"]
["HEM0057-03","RES0047","SUR0087"]
["HEM0057-04","RES0047-2","SUR0088"]
["HEM0057-05","RES0047-3","SUR0089"]
["HEM0057-06","RES0048-11","SUR0090"]
["HEM0063-01","RES0048-12","SUR0091"]
["HEM0063-02","RES0049-11","SUR0092"]
["HEM0063-03","RES0049-12","SUR0093"]
["HEM0063-04","RES0050-01","SUR0094"]
["HEM0065","RES0051-00","SUR0095-01"]
["HEM0066","RES0051-01","SUR0095-02"]
["HEM0067","RES0052","SUR0097"]
["HEM0068-1","RES0053-01","SUR0097-01"]
["HEM0068-11","RES0054","SUR0098"]
["HEM0068-2","RES0055","SUR0099"]
["HEM0068-3","RES0056","SUR0100"]
["HEM0068-4","RES0057","SUR0101"]
["HEM0068-5","RES0058","SUR0103"]
["HEM0068-52","RES0059","SUR0104"]
["HEM0068-6","RES0059-2","SUR0105"]
["HEM0068-7","RES0060-11","SUR0109"]
["HEM0069","RES0060-12","SUR0109-02"]
["HEM0069-2","RES0061-11","SUR0109-11"]
["HEM0070","RES0061-12","SUR0109-12"]
["HEM0071","RES0062","SUR0111-11"]
["HEM0072","RES0063","SUR0111-20"]
["HEM0073","RES0064","SUR0112"]
["HEM0074","RES0065","SUR0112-02"]
["HEM0076-01","RES0066","SUR0113"]
["HEM0076-02","RES0067","SUR0114"]
["HEM0076-03","RES0068","SUR0114-02"]
["HEM0076-04","RES0069","SUR0114-03"]
["HEM0078","RES0070-12","SUR0115"]
["HEM0079","RES0070-11","SUR0115-1"]
["HEM0080-01","RES0071","SUR0116"]
["HEM0081","RES0072-01","SUR0116-1"]
["HEM0083","RES0072-02","SUR0117"]
["HEM0085-1","RES0073-12","SUR0118"]
["HEM0085-2","RES0073-11","SUR0119"]
["HEM0086","RES0074","SUR0120"]
["HEM0087-01","RES0075-1","SUR0121"]
["HEM0087-02","RES0075-2","SUR0122"]
["HEM0087-03","RES0075-3","SUR0122-1"]
["HEM0087-04","RES0075-4","SUR0123"]
["HEM0087-05","RES0076-1","SUR0124"]
["HEM0087-06","RES0076-2","SUR0125"]
["HEM0087-07","RES0076-3","SUR0126"]
["HEM0087-08","RES0076-4","SUR0127"]
["HEM0087-09","RES0077-1","SUR0128"]
["HEM0087-10","RES0077-2","SUR0129"]
["HEM0089","RES0077-3","SUR0130"]
["HEM0090-1","RES0077-4","SUR0131-1"]
["HEM0090-2","RES0078-1","SUR0132-11"]
["HEM0090-3","RES0078-2","SUR0132-12"]
["HEM0090-4","RES0078-3","SUR0133"]
["HEM0090-5","RES0078-4","SUR0134-1"]
["HEM0092","RES0079-1","SUR0134-2"]
["HEM0093","RES0079-2","SUR0135-01"]
["HEM0094","RES0079-3","SUR0135-02"]
["HEM0095","RES0079-4","SUR0136"]
["HEM0096",null,"SUR0137"]
["HEM0096-2",null,"SUR0138"]
["HEM0096-A1",null,"SUR0139"]
["HEM0096-B1","内服単剤S1：A法","SUR0140-01"]
["HEM0096-C1","内服単剤S1：B法","SUR0141"]
["HEM0096-D1","内服単剤S1：C法","SUR0142"]
["HEM0097","ラステットS(肺小細胞癌）","SUR0143"]
["HEM0098","UFT(ﾃｶﾞﾌｰﾙｳﾗｼﾙ)","SUR0144"]
["HEM0099",null,"SUR0145"]
["HEM0100",null,"SUR0146"]
["HEM0101",null,"SUR0147"]
["HEM0102-01",null,"SUR0148"]
["HEM0102-02",null,"SUR0149-01"]
["HEM0102-03",null,"SUR0149-02"]
["HEM0102-04",null,"SUR0149-03"]
["HEM0103",null,"SUR0150"]
["HEM0104-1",null,"SUR0151"]
["HEM0105"]
["HEM0106"]
["HEM0107-01"]
["HEM0107-11"]
["HEM0108"]
["HEM0109",null,"内服単剤S1：A法"]
["HEM0110",null,"内服単剤S1：B法"]
["HEM0111-1",null,"内服単剤S1：C法"]
["HEM0111-2",null,"内服単剤S1：D法"]
["HEM0112-01",null,"内服単剤S1：E法"]
["HEM0112-04",null,"内服単剤S1：F法"]
["HEM0112-21",null,"内服Cape：B法"]
["HEM0113-11",null,"内服Cape：D法"]
["HEM0113-21",null,"内服Cape：E法"]
["HEM0113-31",null,"ロンサーフ単剤"]
["HEM0113-41",null,"スチバーガ"]
["HEM0114",null,"フリュザクラ"]
["HEM0115",null,"UFT(ﾃｶﾞﾌｰﾙｳﾗｼﾙ)"]
["HEM0116",null,"UFT(ﾎﾘﾅｰﾄﾃｶﾞﾌｰﾙｳﾗｼﾙ)"]
["HEM0116-21",null,"スーテント(GIST,腎細胞癌)"]
["HEM0117",null,"スーテント(膵神経内分泌腫瘍)"]
["HEM0118"]
["HEM0119"]
["HEM0120-11"]
["HEM0120-21"]
["HEM0121"]
["HEM0122"]
["HEM0123-11"]
["HEM0124-11"]
["HEM0124-41"]
["HEM0125"]
["HEM0126"]
["HEM0127"]
["HEM0128"]
["HEM0129"]
["HEM0130-1"]
["HEM0130-2"]
["HEM0131-01"]
["HEM0132"]
["HEM0133"]
["HEM0134"]
["HEM0135-01"]
["HEM0135-02"]
["HEM0136-01"]
["HEM0137"]
["HEM0138"]
["HEM0139-01"]
["HEM0139-21"]
["HEM0140-11"]
["HEM0141-1"]
["HEM0141-3"]
["HEM0142-1"]
["HEM0142-3"]
["HEM0143"]
["HEM0144"]
["HEM0144-4"]
["HEM0145"]
["HEM0146"]
["HEM0146-4"]
["HEM0147-1"]
["HEM0147-2"]
["HEM0148"]
[]
[]
["ニンラーロ(+LEN、再発難治)"]
["ニンラーロ(維持)"]
["レブラミド(MM:A法)"]
["レブラミド(MM:B法)"]
["レブラミド(5q-MDS)"]
["レブラミド(再発難治ATL)"]
["レブラミド(再発難治FL又はMZL)"]
["ポマリスト(DEX)"]
["ポマリスト(Bor+DEX)"]
["フルダラ"]
["ラステットS(リンパ腫A法)"]
["ラステットS(リンパ腫B法)"]
["ヴァンフリタ"]

{"sheet":"疾患別コード（レジメン名） ","index":3,"n_rows":224,"n_cols":26,"rows_kept":224,"cut":false,"hidden":true,"merged":[]}
["列1","造血器","列2","肺","列3","消化管","列4","乳腺","列5","婦人科","列6","泌尿器","列7","頭頚部","列8","脳","列9","臓器横断","列10","悪性黒色腫","列11","口腔癌","列12","間質性肺炎","列13","リウマチ腎臓内科"]
[{"$f":"IF(IFERROR(INDIRECT(\"__疾患別コード[@造血器]\"),0)=0,\"\",INDIRECT(\"__疾患別コード[@造血器]\"))","v":"HEM0001"},{"$f":"IFERROR(VLOOKUP(__疾患別コードレジメン名[[#This Row],[列1]],INDIRECT(\"__レジメンマスタ\"),2,FALSE),\"\")","v":"GML200（70歳未満）寛解導入"},{"$f":"IF(IFERROR(INDIRECT(\"__疾患別コード[@肺]\"),0)=0,\"\",INDIRECT(\"__疾患別コード[@肺]\"))","v":"RES0001"},{"$f":"IFERROR(VLOOKUP(__疾患別コードレジメン名[[#This Row],[列2]],INDIRECT(\"__レジメンマスタ\"),2,FALSE),\"\")","v":"CDDP＋ETP"},{"$f":"IF(IFERROR(INDIRECT(\"__疾患別コード[@消化管]\"),0)=0,\"\",INDIRECT(\"__疾患別コード[@消化管]\"))","v":"SUR0004"},{"$f":"IFERROR(VLOOKUP(__疾患別コードレジメン名[[#This Row],[列3]],INDIRECT(\"__レジメンマスタ\"),2,FALSE),\"\")","v":"CDDP+S1"},{"$f":"IF(IFERROR(INDIRECT(\"__疾患別コード[@乳腺]\"),0)=0,\"\",INDIRECT(\"__疾患別コード[@乳腺]\"))","v":"BRE0001"},{"$f":"IFERROR(VLOOKUP(__疾患別コードレジメン名[[#This Row],[列4]],INDIRECT(\"__レジメンマスタ\"),2,FALSE),\"\")","v":"FEC"},{"$f":"IF(IFERROR(INDIRECT(\"__疾患別コード[@婦人科]\"),0)=0,\"\",INDIRECT(\"__疾患別コード[@婦人科]\"))","v":"GYN0003-A1"},{"$f":"IFERROR(VLOOKUP(__疾患別コードレジメン名[[#This Row],[列5]],INDIRECT(\"__レジメンマスタ\"),2,FALSE),\"\")","v":"Triweekly TC"},{"$f":"IF(IFERROR(INDIRECT(\"__疾患別コード[@泌尿器]\"),0)=0,\"\",INDIRECT(\"__疾患別コード[@泌尿器]\"))","v":"URO0002"},{"$f":"IFERROR(VLOOKUP(__疾患別コードレジメン名[[#This Row],[列6]],INDIRECT(\"__レジメンマスタ\"),2,FALSE),\"\")","v":"M-VAC"},{"$f":"IF(IFERROR(INDIRECT(\"__疾患別コード[@頭頚部]\"),0)=0,\"\",INDIRECT(\"__疾患別コード[@頭頚部]\"))","v":"OTO0001"},{"$f":"IFERROR(VLOOKUP(__疾患別コードレジメン名[[#This Row],[列7]],INDIRECT(\"__レジメンマスタ\"),2,FALSE),\"\")","v":"ドセタキセル"},{"$f":"IF(IFERROR(INDIRECT(\"__疾患別コード[@脳]\"),0)=0,\"\",INDIRECT(\"__疾患別コード[@脳]\"))","v":"BRA0003"},{"$f":"IFERROR(VLOOKUP(__疾患別コードレジメン名[[#This Row],[列8]],INDIRECT(\"__レジメンマスタ\"),2,FALSE),\"\")","v":"TMZ(注射）（維持・再発）"},null,{"$f":"IFERROR(VLOOKUP(__疾患別コードレジメン名[[#This Row],[列9]],INDIRECT(\"__レジメンマスタ\"),2,FALSE),\"\")","v":""},{"$f":"IF(IFERROR(INDIRECT(\"__疾患別コード[@悪性黒色腫]\"),0)=0,\"\",INDIRECT(\"__疾患別コード[@悪性黒色腫]\"))","v":"DER0001"},{"$f":"IFERROR(VLOOKUP(__疾患別コードレジメン名[[#This Row],[列10]],INDIRECT(\"__レジメンマスタ\"),2,FALSE),\"\")","v":"DAV-フェロン療法"},{"$f":"IF(IFERROR(INDIRECT(\"__疾患別コード[@口腔癌]\"),0)=0,\"\",INDIRECT(\"__疾患別コード[@口腔癌]\"))","v":"DEN0001-01"},{"$f":"IFERROR(VLOOKUP(__疾患別コードレジメン名[[#This Row],[列11]],INDIRECT(\"__レジメンマスタ\"),2,FALSE),\"\")","v":"CDDP+RT"},{"$f":"IF(IFERROR(INDIRECT(\"__疾患別コード[@間質性肺炎]\"),0)=0,\"\",INDIRECT(\"__疾患別コード[@間質性肺炎]\"))","v":"O100001"},{"$f":"IFERROR(VLOOKUP(__疾患別コードレジメン名[[#This Row],[列12]],INDIRECT(\"__レジメンマスタ\"),2,FALSE),\"\")","v":"【適応外】【間質性肺炎】CPA"},{"$f":"IF(IFERROR(INDIRECT(\"__疾患別コード[@リウマチ腎臓内科]\"),0)=0,\"\",INDIRECT(\"__疾患別コード[@リウマチ腎臓内科]\"))","v":"KID0003"},{"$f":"IFERROR(VLOOKUP(__疾患別コードレジメン名[[#This Row],[列13]],INDIRECT(\"__レジメンマスタ\"),2,FALSE),\"\")","v":"リツキシマブ（375mg/㎡）"}]
["HEM0001-1",{"$f":"IFERROR(VLOOKUP(__疾患別コードレジメン名[[#This Row],[列1]],INDIRECT(\"__レジメンマスタ\"),2,FALSE),\"\")","v":"GML200（70歳未満）地固め①"},"RES0002",{"$f":"IFERROR(VLOOKUP(__疾患別コードレジメン名[[#This Row],[列2]],INDIRECT(\"__レジメンマスタ\"),2,FALSE),\"\")","v":"CDDP＋CPT-11"},{"$f":"IF(IFERROR(INDIRECT(\"__疾患別コード[@消化管]\"),0)=0,\"\",INDIRECT(\"__疾患別コード[@消化管]\"))","v":"SUR0007"},{"$f":"IFERROR(VLOOKUP(__疾患別コードレジメン名[[#This Row],[列3]],INDIRECT(\"__レジメンマスタ\"),2,FALSE),\"\")","v":"FOLFOX"},{"$f":"IF(IFERROR(INDIRECT(\"__疾患別コード[@乳腺]\"),0)=0,\"\",INDIRECT(\"__疾患別コード[@乳腺]\"))","v":"BRE0002"},{"$f":"IFERROR(VLOOKUP(__疾患別コードレジメン名[[#This Row],[列4]],INDIRECT(\"__レジメンマスタ\"),2,FALSE),\"\")","v":"CMF"},{"$f":"IF(IFERROR(INDIRECT(\"__疾患別コード[@婦人科]\"),0)=0,\"\",INDIRECT(\"__疾患別コード[@婦人科]\"))","v":"GYN0003-A2"},{"$f":"IFERROR(VLOOKUP(__疾患別コードレジメン名[[#This Row],[列5]],INDIRECT(\"__レジメンマスタ\"),2,FALSE),\"\")","v":"【適応外】Triweekly TC"},{"$f":"IF(IFERROR(INDIRECT(\"__疾患別コード[@泌尿器]\"),0)=0,\"\",INDIRECT(\"__疾患別コード[@泌尿器]\"))","v":"URO0006"},{"$f":"IFERROR(VLOOKUP(__疾患別コードレジメン名[[#This Row],[列6]],INDIRECT(\"__レジメンマスタ\"),2,FALSE),\"\")","v":"BLM療法"},{"$f":"IF(IFERROR(INDIRECT(\"__疾患別コード[@頭頚部]\"),0)=0,\"\",INDIRECT(\"__疾患別コード[@頭頚部]\"))","v":"OTO0002"},{"$f":"IFERROR(VLOOKUP(__疾患別コードレジメン名[[#This Row],[列7]],INDIRECT(\"__レジメンマスタ\"),2,FALSE),\"\")","v":"CDDP+Rt"},"BRA0004",{"$f":"IFERROR(VLOOKUP(__疾患別コードレジメン名[[#This Row],[列8]],INDIRECT(\"__レジメンマスタ\"),2,FALSE),\"\")","v":"TMZ(注射）＋RT"},{"$f":"IF(IFERROR(INDIRECT(\"__疾患別コード[@臓器横断]\"),0)=0,\"\",INDIRECT(\"__疾患別コード[@臓器横断]\"))","v":"A100002"},{"$f":"IFERROR(VLOOKUP(__疾患別コードレジメン名[[#This Row],[列9]],INDIRECT(\"__レジメンマスタ\"),2,FALSE),\"\")","v":"ペムブロリズマブ(3週間毎）"},{"$f":"IF(IFERROR(INDIRECT(\"__疾患別コード[@悪性黒色腫]\"),0)=0,\"\",INDIRECT(\"__疾患別コード[@悪性黒色腫]\"))","v":"DER0004-1"},{"$f":"IFERROR(VLOOKUP(__疾患別コードレジメン名[[#This Row],[列10]],INDIRECT(\"__レジメンマスタ\"),2,FALSE),\"\")","v":"オプジーボ"},{"$f":"IF(IFERROR(INDIRECT(\"__疾患別コード[@口腔癌]\"),0)=0,\"\",INDIRECT(\"__疾患別コード[@口腔癌]\"))","v":"DEN0002-1"},{"$f":"IFERROR(VLOOKUP(__疾患別コードレジメン名[[#This Row],[列11]],INDIRECT(\"__レジメンマスタ\"),2,FALSE),\"\")","v":"Cmab＋Rt"},"",{"$f":"IFERROR(VLOOKUP(__疾患別コードレジメン名[[#This Row],[列12]],INDIRECT(\"__レジメンマスタ\"),2,FALSE),\"\")","v":""},{"$f":"IF(IFERROR(INDIRECT(\"__疾患別コード[@リウマチ腎臓内科]\"),0)=0,\"\",INDIRECT(\"__疾患別コード[@リウマチ腎臓内科]\"))","v":"KID0005"},{"$f":"IFERROR(VLOOKUP(__疾患別コードレジメン名[[#This Row],[列13]],INDIRECT(\"__レジメンマスタ\"),2,FALSE),\"\")","v":"リツキサン（375mg/㎡）"}]
["HEM0001-2",{"$f":"IFERROR(VLOOKUP(__疾患別コードレジメン名[[#This Row],[列1]],INDIRECT(\"__レジメンマスタ\"),2,FALSE),\"\")","v":"GML200（70歳未満）地固め②"},"RES0003",{"$f":"IFERROR(VLOOKUP(__疾患別コードレジメン名[[#This Row],[列2]],INDIRECT(\"__レジメンマスタ\"),2,FALSE),\"\")","v":"CDDP＋GEM"},"SUR0008",{"$f":"IFERROR(VLOOKUP(__疾患別コードレジメン名[[#This Row],[列3]],INDIRECT(\"__レジメンマスタ\"),2,FALSE),\"\")","v":"FOLFIRI"},"BRE0004",{"$f":"IFERROR(VLOOKUP(__疾患別コードレジメン名[[#This Row],[列4]],INDIRECT(\"__レジメンマスタ\"),2,FALSE),\"\")","v":"DOC"},"GYN0005",{"$f":"IFERROR(VLOOKUP(__疾患別コードレジメン名[[#This Row],[列5]],INDIRECT(\"__レジメンマスタ\"),2,FALSE),\"\")","v":"DJ"},"URO0008",{"$f":"IFERROR(VLOOKUP(__疾患別コードレジメン名[[#This Row],[列6]],INDIRECT(\"__レジメンマスタ\"),2,FALSE),\"\")","v":"エピルビシン膀注"},"OTO0003",{"$f":"IFERROR(VLOOKUP(__疾患別コードレジメン名[[#This Row],[列7]],INDIRECT(\"__レジメンマスタ\"),2,FALSE),\"\")","v":"ドセタキセル+CDDP+Rt"},"BRA0005-11",{"$f":"IFERROR(VLOOKUP(__疾患別コードレジメン名[[#This Row],[列8]],INDIRECT(\"__レジメンマスタ\"),2,FALSE),\"\")","v":"TMZ(注射）+Bev＋RT"},"A100002-2",{"$f":"IFERROR(VLOOKUP(__疾患別コードレジメン名[[#This Row],[列9]],INDIRECT(\"__レジメンマスタ\"),2,FALSE),\"\")","v":"ペムブロリズマブ(6週間毎）"},"DER0005",{"$f":"IFERROR(VLOOKUP(__疾患別コードレジメン名[[#This Row],[列10]],INDIRECT(\"__レジメンマスタ\"),2,FALSE),\"\")","v":"ヤーボイ（イピリムマブ）"},{"$f":"IF(IFERROR(INDIRECT(\"__疾患別コード[@口腔癌]\"),0)=0,\"\",INDIRECT(\"__疾患別コード[@口腔癌]\"))","v":""},{"$f":"IFERROR(VLOOKUP(__疾患別コードレジメン名[[#This Row],[列11]],INDIRECT(\"__レジメンマスタ\"),2,FALSE),\"\")","v":""},"",{"$f":"IFERROR(VLOOKUP(__疾患別コードレジメン名[[#This Row],[列12]],INDIRECT(\"__レジメンマスタ\"),2,FALSE),\"\")","v":""},"KID0006",{"$f":"IFERROR(VLOOKUP(__疾患別コードレジメン名[[#This Row],[列13]],INDIRECT(\"__レジメンマスタ\"),2,FALSE),\"\")","v":"CPA（750mg/㎡）"}]
["HEM0001-3",{"$f":"IFERROR(VLOOKUP(__疾患別コードレジメン名[[#This Row],[列1]],INDIRECT(\"__レジメンマスタ\"),2,FALSE),\"\")","v":"GML200（70歳未満）地固め③"},"RES0004",{"$f":"IFERROR(VLOOKUP(__疾患別コードレジメン名[[#This Row],[列2]],INDIRECT(\"__レジメンマスタ\"),2,FALSE),\"\")","v":"CDDP＋VNR"},"SUR0011",{"$f":"IFERROR(VLOOKUP(__疾患別コードレジメン名[[#This Row],[列3]],INDIRECT(\"__レジメンマスタ\"),2,FALSE),\"\")","v":"DOC（Tri weekly)：食道癌"},"BRE0005",{"$f":"IFERROR(VLOOKUP(__疾患別コードレジメン名[[#This Row],[列4]],INDIRECT(\"__レジメンマスタ\"),2,FALSE),\"\")","v":"weekly PTX"},"GYN0007",{"$f":"IFERROR(VLOOKUP(__疾患別コードレジメン名[[#This Row],[列5]],INDIRECT(\"__レジメンマスタ\"),2,FALSE),\"\")","v":"CPT-11+CDGP"},"URO0017",{"$f":"IFERROR(VLOOKUP(__疾患別コードレジメン名[[#This Row],[列6]],INDIRECT(\"__レジメンマスタ\"),2,FALSE),\"\")","v":"進行陰茎癌化学療法"},"OTO0004",{"$f":"IFERROR(VLOOKUP(__疾患別コードレジメン名[[#This Row],[列7]],INDIRECT(\"__レジメンマスタ\"),2,FALSE),\"\")","v":"ドセタキセル+FU"},"BRA0005-02",{"$f":"IFERROR(VLOOKUP(__疾患別コードレジメン名[[#This Row],[列8]],INDIRECT(\"__レジメンマスタ\"),2,FALSE),\"\")","v":"TMZ（内服）＋Bev＋Rt"},"A100003",{"$f":"IFERROR(VLOOKUP(__疾患別コードレジメン名[[#This Row],[列9]],INDIRECT(\"__レジメンマスタ\"),2,FALSE),\"\")","v":"CDDP＋ETP"},"DER0006",{"$f":"IFERROR(VLOOKUP(__疾患別コードレジメン名[[#This Row],[列10]],INDIRECT(\"__レジメンマスタ\"),2,FALSE),\"\")","v":"CDDP+ADM"},"",{"$f":"IFERROR(VLOOKUP(__疾患別コードレジメン名[[#This Row],[列11]],INDIRECT(\"__レジメンマスタ\"),2,FALSE),\"\")","v":""},"",{"$f":"IFERROR(VLOOKUP(__疾患別コードレジメン名[[#This Row],[列12]],INDIRECT(\"__レジメンマスタ\"),2,FALSE),\"\")","v":""},"KID0007",{"$f":"IFERROR(VLOOKUP(__疾患別コードレジメン名[[#This Row],[列13]],INDIRECT(\"__レジメンマスタ\"),2,FALSE),\"\")","v":"CPA（15mg/kg）"}]
["HEM0002",{"$f":"IFERROR(VLOOKUP(__疾患別コードレジメン名[[#This Row],[列1]],INDIRECT(\"__レジメンマスタ\"),2,FALSE),\"\")","v":"GML200（70-80歳）寛解導入"},"RES0005",{"$f":"IFERROR(VLOOKUP(__疾患別コードレジメン名[[#This Row],[列2]],INDIRECT(\"__レジメンマスタ\"),2,FALSE),\"\")","v":"CDDP＋Doc"},"SUR0012-A2",{"$f":"IFERROR(VLOOKUP(__疾患別コードレジメン名[[#This Row],[列3]],INDIRECT(\"__レジメンマスタ\"),2,FALSE),\"\")","v":"DOC（Tri weekly)：胃癌"},"BRE0006",{"$f":"IFERROR(VLOOKUP(__疾患別コードレジメン名[[#This Row],[列4]],INDIRECT(\"__レジメンマスタ\"),2,FALSE),\"\")","v":"VNR"},"GYN0008",{"$f":"IFERROR(VLOOKUP(__疾患別コードレジメン名[[#This Row],[列5]],INDIRECT(\"__レジメンマスタ\"),2,FALSE),\"\")","v":"CPT-11+CBDCA"},"URO0018",{"$f":"IFERROR(VLOOKUP(__疾患別コードレジメン名[[#This Row],[列6]],INDIRECT(\"__レジメンマスタ\"),2,FALSE),\"\")","v":"DOC+PSL"},"OTO0006",{"$f":"IFERROR(VLOOKUP(__疾患別コードレジメン名[[#This Row],[列7]],INDIRECT(\"__レジメンマスタ\"),2,FALSE),\"\")","v":"ドセタキセル+CDDP+FU"},"BRA0005-03",{"$f":"IFERROR(VLOOKUP(__疾患別コードレジメン名[[#This Row],[列8]],INDIRECT(\"__レジメンマスタ\"),2,FALSE),\"\")","v":"TMZ（内服）＋Bev（維持）"},"A100004",{"$f":"IFERROR(VLOOKUP(__疾患別コードレジメン名[[#This Row],[列9]],INDIRECT(\"__レジメンマスタ\"),2,FALSE),\"\")","v":"【大腸癌】オプジーボ・ヤーボイ"},"",{"$f":"IFERROR(VLOOKUP(__疾患別コードレジメン名[[#This Row],[列10]],INDIRECT(\"__レジメンマスタ\"),2,FALSE),\"\")","v":""},"",{"$f":"IFERROR(VLOOKUP(__疾患別コードレジメン名[[#This Row],[列11]],INDIRECT(\"__レジメンマスタ\"),2,FALSE),\"\")","v":""},"",{"$f":"IFERROR(VLOOKUP(__疾患別コードレジメン名[[#This Row],[列12]],INDIRECT(\"__レジメンマスタ\"),2,FALSE),\"\")","v":""},"",{"$f":"IFERROR(VLOOKUP(__疾患別コードレジメン名[[#This Row],[列13]],INDIRECT(\"__レジメンマスタ\"),2,FALSE),\"\")","v":""}]
["HEM0002-1",{"$f":"IFERROR(VLOOKUP(__疾患別コードレジメン名[[#This Row],[列1]],INDIRECT(\"__レジメンマスタ\"),2,FALSE),\"\")","v":"GML200（70-80歳）地固め①"},"RES0006",{"$f":"IFERROR(VLOOKUP(__疾患別コードレジメン名[[#This Row],[列2]],INDIRECT(\"__レジメンマスタ\"),2,FALSE),\"\")","v":"CDDP+VDS"},"SUR0014",{"$f":"IFERROR(VLOOKUP(__疾患別コードレジメン名[[#This Row],[列3]],INDIRECT(\"__レジメンマスタ\"),2,FALSE),\"\")","v":"DOC（Bi weekly)"},"BRE0007",{"$f":"IFERROR(VLOOKUP(__疾患別コードレジメン名[[#This Row],[列4]],INDIRECT(\"__レジメンマスタ\"),2,FALSE),\"\")","v":"weeklyトラスツズマブ"},"GYN0010",{"$f":"IFERROR(VLOOKUP(__疾患別コードレジメン名[[#This Row],[列5]],INDIRECT(\"__レジメンマスタ\"),2,FALSE),\"\")","v":"【適応外】DXR"},"URO0019",{"$f":"IFERROR(VLOOKUP(__疾患別コードレジメン名[[#This Row],[列6]],INDIRECT(\"__レジメンマスタ\"),2,FALSE),\"\")","v":"GEM+CDDP"},"OTO0010",{"$f":"IFERROR(VLOOKUP(__疾患別コードレジメン名[[#This Row],[列7]],INDIRECT(\"__レジメンマスタ\"),2,FALSE),\"\")","v":"CBDCA+FU"},"BRA0005-13",{"$f":"IFERROR(VLOOKUP(__疾患別コードレジメン名[[#This Row],[列8]],INDIRECT(\"__レジメンマスタ\"),2,FALSE),\"\")","v":"TMZ(注射）+Bev（維持）"},"A100004-1",{"$f":"IFERROR(VLOOKUP(__疾患別コードレジメン名[[#This Row],[列9]],INDIRECT(\"__レジメンマスタ\"),2,FALSE),\"\")","v":"【大腸癌】オプジーボ・ヤーボイ（維持療法2週間毎）"},"",{"$f":"IFERROR(VLOOKUP(__疾患別コードレジメン名[[#This Row],[列10]],INDIRECT(\"__レジメンマスタ\"),2,FALSE),\"\")","v":""},"",{"$f":"IFERROR(VLOOKUP(__疾患別コードレジメン名[[#This Row],[列11]],INDIRECT(\"__レジメンマスタ\"),2,FALSE),\"\")","v":""},"",{"$f":"IFERROR(VLOOKUP(__疾患別コードレジメン名[[#This Row],[列12]],INDIRECT(\"__レジメンマスタ\"),2,FALSE),\"\")","v":""},"",{"$f":"IFERROR(VLOOKUP(__疾患別コードレジメン名[[#This Row],[列13]],INDIRECT(\"__レジメンマスタ\"),2,FALSE),\"\")","v":""}]
["HEM0002-2",{"$f":"IFERROR(VLOOKUP(__疾患別コードレジメン名[[#This Row],[列1]],INDIRECT(\"__レジメンマスタ\"),2,FALSE),\"\")","v":"GML200（70-80歳）地固め②"},"RES0007",{"$f":"IFERROR(VLOOKUP(__疾患別コードレジメン名[[#This Row],[列2]],INDIRECT(\"__レジメンマスタ\"),2,FALSE),\"\")","v":"CBDCA+ETP"},"SUR0015",{"$f":"IFERROR(VLOOKUP(__疾患別コードレジメン名[[#This Row],[列3]],INDIRECT(\"__レジメンマスタ\"),2,FALSE),\"\")","v":"DOC+S1"},"BRE0008",{"$f":"IFERROR(VLOOKUP(__疾患別コードレジメン名[[#This Row],[列4]],INDIRECT(\"__レジメンマスタ\"),2,FALSE),\"\")","v":"Tri weeklyトラスツズマブ"},"GYN0014",{"$f":"IFERROR(VLOOKUP(__疾患別コードレジメン名[[#This Row],[列5]],INDIRECT(\"__レジメンマスタ\"),2,FALSE),\"\")","v":"絨毛性疾患（MTX）"},"URO0020",{"$f":"IFERROR(VLOOKUP(__疾患別コードレジメン名[[#This Row],[列6]],INDIRECT(\"__レジメンマスタ\"),2,FALSE),\"\")","v":"VIP"},"OTO0011",{"$f":"IFERROR(VLOOKUP(__疾患別コードレジメン名[[#This Row],[列7]],INDIRECT(\"__レジメンマスタ\"),2,FALSE),\"\")","v":"Cmab"},"BRA0005-07",{"$f":"IFERROR(VLOOKUP(__疾患別コードレジメン名[[#This Row],[列8]],INDIRECT(\"__レジメンマスタ\"),2,FALSE),\"\")","v":"Beva単剤"},"A100004-2",{"$f":"IFERROR(VLOOKUP(__疾患別コードレジメン名[[#This Row],[列9]],INDIRECT(\"__レジメンマスタ\"),2,FALSE),\"\")","v":"【大腸癌】オプジーボ・ヤーボイ（維持療法、４週間毎）"},"",{"$f":"IFERROR(VLOOKUP(__疾患別コードレジメン名[[#This Row],[列10]],INDIRECT(\"__レジメンマスタ\"),2,FALSE),\"\")","v":""},"",{"$f":"IFERROR(VLOOKUP(__疾患別コードレジメン名[[#This Row],[列11]],INDIRECT(\"__レジメンマスタ\"),2,FALSE),\"\")","v":""},"",{"$f":"IFERROR(VLOOKUP(__疾患別コードレジメン名[[#This Row],[列12]],INDIRECT(\"__レジメンマスタ\"),2,FALSE),\"\")","v":""},"",{"$f":"IFERROR(VLOOKUP(__疾患別コードレジメン名[[#This Row],[列13]],INDIRECT(\"__レジメンマスタ\"),2,FALSE),\"\")","v":""}]
["HEM0002-3",{"$f":"IFERROR(VLOOKUP(__疾患別コードレジメン名[[#This Row],[列1]],INDIRECT(\"__レジメンマスタ\"),2,FALSE),\"\")","v":"GML200（70-80歳）地固め③"},"RES0008",{"$f":"IFERROR(VLOOKUP(__疾患別コードレジメン名[[#This Row],[列2]],INDIRECT(\"__レジメンマスタ\"),2,FALSE),\"\")","v":"CBDCA＋CPT-11"},"SUR0016",{"$f":"IFERROR(VLOOKUP(__疾患別コードレジメン名[[#This Row],[列3]],INDIRECT(\"__レジメンマスタ\"),2,FALSE),\"\")","v":"DOC+CDGP+FU"},"BRE0009",{"$f":"IFERROR(VLOOKUP(__疾患別コードレジメン名[[#This Row],[列4]],INDIRECT(\"__レジメンマスタ\"),2,FALSE),\"\")","v":"GEM"},"GYN0014-02",{"$f":"IFERROR(VLOOKUP(__疾患別コードレジメン名[[#This Row],[列5]],INDIRECT(\"__レジメンマスタ\"),2,FALSE),\"\")","v":"【適応外】異所性妊娠（MTX50mg/㎡）"},"URO0021",{"$f":"IFERROR(VLOOKUP(__疾患別コードレジメン名[[#This Row],[列6]],INDIRECT(\"__レジメンマスタ\"),2,FALSE),\"\")","v":"トーリセル"},"OTO0012",{"$f":"IFERROR(VLOOKUP(__疾患別コードレジメン名[[#This Row],[列7]],INDIRECT(\"__レジメンマスタ\"),2,FALSE),\"\")","v":"Cmab+CDDP+FU"},"BRA0006",{"$f":"IFERROR(VLOOKUP(__疾患別コードレジメン名[[#This Row],[列8]],INDIRECT(\"__レジメンマスタ\"),2,FALSE),\"\")","v":"Bev単剤（再発）2wk毎"},"A100005",{"$f":"IFERROR(VLOOKUP(__疾患別コードレジメン名[[#This Row],[列9]],INDIRECT(\"__レジメンマスタ\"),2,FALSE),\"\")","v":"CDDP＋CPT-11"},"",{"$f":"IFERROR(VLOOKUP(__疾患別コードレジメン名[[#This Row],[列10]],INDIRECT(\"__レジメンマスタ\"),2,FALSE),\"\")","v":""},"",{"$f":"IFERROR(VLOOKUP(__疾患別コードレジメン名[[#This Row],[列11]],INDIRECT(\"__レジメンマスタ\"),2,FALSE),\"\")","v":""},"",{"$f":"IFERROR(VLOOKUP(__疾患別コードレジメン名[[#This Row],[列12]],INDIRECT(\"__レジメンマスタ\"),2,FALSE),\"\")","v":""},"",{"$f":"IFERROR(VLOOKUP(__疾患別コードレジメン名[[#This Row],[列13]],INDIRECT(\"__レジメンマスタ\"),2,FALSE),\"\")","v":""}]
["HEM0003",{"$f":"IFERROR(VLOOKUP(__疾患別コードレジメン名[[#This Row],[列1]],INDIRECT(\"__レジメンマスタ\"),2,FALSE),\"\")","v":"APL寛解導入(A群→D群）"},"RES0009",{"$f":"IFERROR(VLOOKUP(__疾患別コードレジメン名[[#This Row],[列2]],INDIRECT(\"__レジメンマスタ\"),2,FALSE),\"\")","v":"CBDCA+GEM"},"SUR0017-1",{"$f":"IFERROR(VLOOKUP(__疾患別コードレジメン名[[#This Row],[列3]],INDIRECT(\"__レジメンマスタ\"),2,FALSE),\"\")","v":"DCF"},"BRE0010",{"$f":"IFERROR(VLOOKUP(__疾患別コードレジメン名[[#This Row],[列4]],INDIRECT(\"__レジメンマスタ\"),2,FALSE),\"\")","v":"GEM+PTX"},"GYN0020",{"$f":"IFERROR(VLOOKUP(__疾患別コードレジメン名[[#This Row],[列5]],INDIRECT(\"__レジメンマスタ\"),2,FALSE),\"\")","v":"CDDP+FU＋RT"},"URO0023",{"$f":"IFERROR(VLOOKUP(__疾患別コードレジメン名[[#This Row],[列6]],INDIRECT(\"__レジメンマスタ\"),2,FALSE),\"\")","v":"G-Carbo"},"OTO0013",{"$f":"IFERROR(VLOOKUP(__疾患別コードレジメン名[[#This Row],[列7]],INDIRECT(\"__レジメンマスタ\"),2,FALSE),\"\")","v":"Cmab+CBDCA+FU"},"BRA0007",{"$f":"IFERROR(VLOOKUP(__疾患別コードレジメン名[[#This Row],[列8]],INDIRECT(\"__レジメンマスタ\"),2,FALSE),\"\")","v":"CARB-VP"},"A100006-2",{"$f":"IFERROR(VLOOKUP(__疾患別コードレジメン名[[#This Row],[列9]],INDIRECT(\"__レジメンマスタ\"),2,FALSE),\"\")","v":"ニボルマブ（４週間毎）"},"",{"$f":"IFERROR(VLOOKUP(__疾患別コードレジメン名[[#This Row],[列10]],INDIRECT(\"__レジメンマスタ\"),2,FALSE),\"\")","v":""},"",{"$f":"IFERROR(VLOOKUP(__疾患別コードレジメン名[[#This Row],[列11]],INDIRECT(\"__レジメンマスタ\"),2,FALSE),\"\")","v":""},"",{"$f":"IFERROR(VLOOKUP(__疾患別コードレジメン名[[#This Row],[列12]],INDIRECT(\"__レジメンマスタ\"),2,FALSE),\"\")","v":""},"",{"$f":"IFERROR(VLOOKUP(__疾患別コードレジメン名[[#This Row],[列13]],INDIRECT(\"__レジメンマスタ\"),2,FALSE),\"\")","v":""}]
["HEM0003-1",{"$f":"IFERROR(VLOOKUP(__疾患別コードレジメン名[[#This Row],[列1]],INDIRECT(\"__レジメンマスタ\"),2,FALSE),\"\")","v":"APL寛解導入(B群）"},"RES0010",{"$f":"IFERROR(VLOOKUP(__疾患別コードレジメン名[[#This Row],[列2]],INDIRECT(\"__レジメンマスタ\"),2,FALSE),\"\")","v":"CBDCA+PTX"},"SUR0017-2",{"$f":"IFERROR(VLOOKUP(__疾患別コードレジメン名[[#This Row],[列3]],INDIRECT(\"__レジメンマスタ\"),2,FALSE),\"\")","v":"DCF+RT"},"BRE0011",{"$f":"IFERROR(VLOOKUP(__疾患別コードレジメン名[[#This Row],[列4]],INDIRECT(\"__レジメンマスタ\"),2,FALSE),\"\")","v":"TC"},"GYN0021",{"$f":"IFERROR(VLOOKUP(__疾患別コードレジメン名[[#This Row],[列5]],INDIRECT(\"__レジメンマスタ\"),2,FALSE),\"\")","v":"ドキシル単独"},"URO0024",{"$f":"IFERROR(VLOOKUP(__疾患別コードレジメン名[[#This Row],[列6]],INDIRECT(\"__レジメンマスタ\"),2,FALSE),\"\")","v":"TIP（精巣腫瘍）"},"OTO0014-1",{"$f":"IFERROR(VLOOKUP(__疾患別コードレジメン名[[#This Row],[列7]],INDIRECT(\"__レジメンマスタ\"),2,FALSE),\"\")","v":"ニボルマブ"},"BRA0008",{"$f":"IFERROR(VLOOKUP(__疾患別コードレジメン名[[#This Row],[列8]],INDIRECT(\"__レジメンマスタ\"),2,FALSE),\"\")","v":"ICE"},"A100007",{"$f":"IFERROR(VLOOKUP(__疾患別コードレジメン名[[#This Row],[列9]],INDIRECT(\"__レジメンマスタ\"),2,FALSE),\"\")","v":"CBDCA+ETP"},"",{"$f":"IFERROR(VLOOKUP(__疾患別コードレジメン名[[#This Row],[列10]],INDIRECT(\"__レジメンマスタ\"),2,FALSE),\"\")","v":""},"",{"$f":"IFERROR(VLOOKUP(__疾患別コードレジメン名[[#This Row],[列11]],INDIRECT(\"__レジメンマスタ\"),2,FALSE),\"\")","v":""},"",{"$f":"IFERROR(VLOOKUP(__疾患別コードレジメン名[[#This Row],[列12]],INDIRECT(\"__レジメンマスタ\"),2,FALSE),\"\")","v":""},"",{"$f":"IFERROR(VLOOKUP(__疾患別コードレジメン名[[#This Row],[列13]],INDIRECT(\"__レジメンマスタ\"),2,FALSE),\"\")","v":""}]
["HEM0003-2",{"$f":"IFERROR(VLOOKUP(__疾患別コードレジメン名[[#This Row],[列1]],INDIRECT(\"__レジメンマスタ\"),2,FALSE),\"\")","v":"APL寛解導入(B→D群）"},"RES0011",{"$f":"IFERROR(VLOOKUP(__疾患別コードレジメン名[[#This Row],[列2]],INDIRECT(\"__レジメンマスタ\"),2,FALSE),\"\")","v":"DOC単独"},"SUR0020",{"$f":"IFERROR(VLOOKUP(__疾患別コードレジメン名[[#This Row],[列3]],INDIRECT(\"__レジメンマスタ\"),2,FALSE),\"\")","v":"CDGP+FU"},"BRE0012",{"$f":"IFERROR(VLOOKUP(__疾患別コードレジメン名[[#This Row],[列4]],INDIRECT(\"__レジメンマスタ\"),2,FALSE),\"\")","v":"トラスツズマブ＋PTX"},"GYN0022",{"$f":"IFERROR(VLOOKUP(__疾患別コードレジメン名[[#This Row],[列5]],INDIRECT(\"__レジメンマスタ\"),2,FALSE),\"\")","v":"【適応外】ドキシル＋GEM"},"URO0026",{"$f":"IFERROR(VLOOKUP(__疾患別コードレジメン名[[#This Row],[列6]],INDIRECT(\"__レジメンマスタ\"),2,FALSE),\"\")","v":"CBZ+PSL"},"OTO0014-2",{"$f":"IFERROR(VLOOKUP(__疾患別コードレジメン名[[#This Row],[列7]],INDIRECT(\"__レジメンマスタ\"),2,FALSE),\"\")","v":"ニボルマブ（4週間毎）"},"BRA0009",{"$f":"IFERROR(VLOOKUP(__疾患別コードレジメン名[[#This Row],[列8]],INDIRECT(\"__レジメンマスタ\"),2,FALSE),\"\")","v":"【適応外】リツキシマブ（375mg/㎡）"},"A100008",{"$f":"IFERROR(VLOOKUP(__疾患別コードレジメン名[[#This Row],[列9]],INDIRECT(\"__レジメンマスタ\"),2,FALSE),\"\")","v":"PTX（血管肉腫）"},"",{"$f":"IFERROR(VLOOKUP(__疾患別コードレジメン名[[#This Row],[列10]],INDIRECT(\"__レジメンマスタ\"),2,FALSE),\"\")","v":""},"",{"$f":"IFERROR(VLOOKUP(__疾患別コードレジメン名[[#This Row],[列11]],INDIRECT(\"__レジメンマスタ\"),2,FALSE),\"\")","v":""},"",{"$f":"IFERROR(VLOOKUP(__疾患別コードレジメン名[[#This Row],[列12]],INDIRECT(\"__レジメンマスタ\"),2,FALSE),\"\")","v":""},"",{"$f":"IFERROR(VLOOKUP(__疾患別コードレジメン名[[#This Row],[列13]],INDIRECT(\"__レジメンマスタ\"),2,FALSE),\"\")","v":""}]
["HEM0003-3",{"$f":"IFERROR(VLOOKUP(__疾患別コードレジメン名[[#This Row],[列1]],INDIRECT(\"__レジメンマスタ\"),2,FALSE),\"\")","v":"APL寛解導入(C群）"},"RES0012",{"$f":"IFERROR(VLOOKUP(__疾患別コードレジメン名[[#This Row],[列2]],INDIRECT(\"__レジメンマスタ\"),2,FALSE),\"\")","v":"AMR単独"},"SUR0021",{"$f":"IFERROR(VLOOKUP(__疾患別コードレジメン名[[#This Row],[列3]],INDIRECT(\"__レジメンマスタ\"),2,FALSE),\"\")","v":"GEM"},"BRE0013",{"$f":"IFERROR(VLOOKUP(__疾患別コードレジメン名[[#This Row],[列4]],INDIRECT(\"__レジメンマスタ\"),2,FALSE),\"\")","v":"n-PTX"},"GYN0023",{"$f":"IFERROR(VLOOKUP(__疾患別コードレジメン名[[#This Row],[列5]],INDIRECT(\"__レジメンマスタ\"),2,FALSE),\"\")","v":"【適応外】ドキシル単独（Bi weekly)"},"URO0027",{"$f":"IFERROR(VLOOKUP(__疾患別コードレジメン名[[#This Row],[列6]],INDIRECT(\"__レジメンマスタ\"),2,FALSE),\"\")","v":"カルボプラチン"},"OTO0015",{"$f":"IFERROR(VLOOKUP(__疾患別コードレジメン名[[#This Row],[列7]],INDIRECT(\"__レジメンマスタ\"),2,FALSE),\"\")","v":"Cmab+PTX"},"BRA0010",{"$f":"IFERROR(VLOOKUP(__疾患別コードレジメン名[[#This Row],[列8]],INDIRECT(\"__レジメンマスタ\"),2,FALSE),\"\")","v":"PAV"},"A100009",{"$f":"IFERROR(VLOOKUP(__疾患別コードレジメン名[[#This Row],[列9]],INDIRECT(\"__レジメンマスタ\"),2,FALSE),\"\")","v":"ペムブロリズマブ(3週間毎）"},"",{"$f":"IFERROR(VLOOKUP(__疾患別コードレジメン名[[#This Row],[列10]],INDIRECT(\"__レジメンマスタ\"),2,FALSE),\"\")","v":""},"",{"$f":"IFERROR(VLOOKUP(__疾患別コードレジメン名[[#This Row],[列11]],INDIRECT(\"__レジメンマスタ\"),2,FALSE),\"\")","v":""},"",{"$f":"IFERROR(VLOOKUP(__疾患別コードレジメン名[[#This Row],[列12]],INDIRECT(\"__レジメンマスタ\"),2,FALSE),\"\")","v":""},"",{"$f":"IFERROR(VLOOKUP(__疾患別コードレジメン名[[#This Row],[列13]],INDIRECT(\"__レジメンマスタ\"),2,FALSE),\"\")","v":""}]
["HEM0003-4",{"$f":"IFERROR(VLOOKUP(__疾患別コードレジメン名[[#This Row],[列1]],INDIRECT(\"__レジメンマスタ\"),2,FALSE),\"\")","v":"APL寛解導入(C→D群）"},"RES0013",{"$f":"IFERROR(VLOOKUP(__疾患別コードレジメン名[[#This Row],[列2]],INDIRECT(\"__レジメンマスタ\"),2,FALSE),\"\")","v":"VNR単独"},"SUR0022-A1",{"$f":"IFERROR(VLOOKUP(__疾患別コードレジメン名[[#This Row],[列3]],INDIRECT(\"__レジメンマスタ\"),2,FALSE),\"\")","v":"Tri weekly PTX"},"BRE0014",{"$f":"IFERROR(VLOOKUP(__疾患別コードレジメン名[[#This Row],[列4]],INDIRECT(\"__レジメンマスタ\"),2,FALSE),\"\")","v":"エリブリン"},"GYN0024",{"$f":"IFERROR(VLOOKUP(__疾患別コードレジメン名[[#This Row],[列5]],INDIRECT(\"__レジメンマスタ\"),2,FALSE),\"\")","v":"ハイカムチン"},"URO0028",{"$f":"IFERROR(VLOOKUP(__疾患別コードレジメン名[[#This Row],[列6]],INDIRECT(\"__レジメンマスタ\"),2,FALSE),\"\")","v":"キイトルーダ"},"OTO0016",{"$f":"IFERROR(VLOOKUP(__疾患別コードレジメン名[[#This Row],[列7]],INDIRECT(\"__レジメンマスタ\"),2,FALSE),\"\")","v":"ペムブロリズマブ"},"",{"$f":"IFERROR(VLOOKUP(__疾患別コードレジメン名[[#This Row],[列8]],INDIRECT(\"__レジメンマスタ\"),2,FALSE),\"\")","v":""},"A100009-2",{"$f":"IFERROR(VLOOKUP(__疾患別コードレジメン名[[#This Row],[列9]],INDIRECT(\"__レジメンマスタ\"),2,FALSE),\"\")","v":"ペムブロリズマブ(6週間毎）"},"",{"$f":"IFERROR(VLOOKUP(__疾患別コードレジメン名[[#This Row],[列10]],INDIRECT(\"__レジメンマスタ\"),2,FALSE),\"\")","v":""},"",{"$f":"IFERROR(VLOOKUP(__疾患別コードレジメン名[[#This Row],[列11]],INDIRECT(\"__レジメンマスタ\"),2,FALSE),\"\")","v":""},"",{"$f":"IFERROR(VLOOKUP(__疾患別コードレジメン名[[#This Row],[列12]],INDIRECT(\"__レジメンマスタ\"),2,FALSE),\"\")","v":""},"",{"$f":"IFERROR(VLOOKUP(__疾患別コードレジメン名[[#This Row],[列13]],INDIRECT(\"__レジメンマスタ\"),2,FALSE),\"\")","v":""}]
["HEM0004",{"$f":"IFERROR(VLOOKUP(__疾患別コードレジメン名[[#This Row],[列1]],INDIRECT(\"__レジメンマスタ\"),2,FALSE),\"\")","v":"APL地固め"},"RES0014",{"$f":"IFERROR(VLOOKUP(__疾患別コードレジメン名[[#This Row],[列2]],INDIRECT(\"__レジメンマスタ\"),2,FALSE),\"\")","v":"NGT"},"SUR0022-A2",{"$f":"IFERROR(VLOOKUP(__疾患別コードレジメン名[[#This Row],[列3]],INDIRECT(\"__レジメンマスタ\"),2,FALSE),\"\")","v":"weekly PTX"},"BRE0015",{"$f":"IFERROR(VLOOKUP(__疾患別コードレジメン名[[#This Row],[列4]],INDIRECT(\"__レジメンマスタ\"),2,FALSE),\"\")","v":"PTX+Beva"},"GYN0025",{"$f":"IFERROR(VLOOKUP(__疾患別コードレジメン名[[#This Row],[列5]],INDIRECT(\"__レジメンマスタ\"),2,FALSE),\"\")","v":"GEM単独"},"URO0028-02",{"$f":"IFERROR(VLOOKUP(__疾患別コードレジメン名[[#This Row],[列6]],INDIRECT(\"__レジメンマスタ\"),2,FALSE),\"\")","v":"キイトルーダ（6週間毎）"},"OTO0016-2",{"$f":"IFERROR(VLOOKUP(__疾患別コードレジメン名[[#This Row],[列7]],INDIRECT(\"__レジメンマスタ\"),2,FALSE),\"\")","v":"ペムブロリズマブ（6週間毎）"},"",{"$f":"IFERROR(VLOOKUP(__疾患別コードレジメン名[[#This Row],[列8]],INDIRECT(\"__レジメンマスタ\"),2,FALSE),\"\")","v":""},"A100010",{"$f":"IFERROR(VLOOKUP(__疾患別コードレジメン名[[#This Row],[列9]],INDIRECT(\"__レジメンマスタ\"),2,FALSE),\"\")","v":"ドキシル（カポジ肉腫）"},"",{"$f":"IFERROR(VLOOKUP(__疾患別コードレジメン名[[#This Row],[列10]],INDIRECT(\"__レジメンマスタ\"),2,FALSE),\"\")","v":""},"",{"$f":"IFERROR(VLOOKUP(__疾患別コードレジメン名[[#This Row],[列11]],INDIRECT(\"__レジメンマスタ\"),2,FALSE),\"\")","v":""},"",{"$f":"IFERROR(VLOOKUP(__疾患別コードレジメン名[[#This Row],[列12]],INDIRECT(\"__レジメンマスタ\"),2,FALSE),\"\")","v":""},"",{"$f":"IFERROR(VLOOKUP(__疾患別コードレジメン名[[#This Row],[列13]],INDIRECT(\"__レジメンマスタ\"),2,FALSE),\"\")","v":""}]
["HEM0004-5",{"$f":"IFERROR(VLOOKUP(__疾患別コードレジメン名[[#This Row],[列1]],INDIRECT(\"__レジメンマスタ\"),2,FALSE),\"\")","v":"APL　地固め療法（ATO)"},"RES0015",{"$f":"IFERROR(VLOOKUP(__疾患別コードレジメン名[[#This Row],[列2]],INDIRECT(\"__レジメンマスタ\"),2,FALSE),\"\")","v":"GEM単独"},"SUR0025-A1",{"$f":"IFERROR(VLOOKUP(__疾患別コードレジメン名[[#This Row],[列3]],INDIRECT(\"__レジメンマスタ\"),2,FALSE),\"\")","v":"CPT-11:胃癌"},"BRE0016",{"$f":"IFERROR(VLOOKUP(__疾患別コードレジメン名[[#This Row],[列4]],INDIRECT(\"__レジメンマスタ\"),2,FALSE),\"\")","v":"Tmab+Pmab+DOC"},"GYN0026",{"$f":"IFERROR(VLOOKUP(__疾患別コードレジメン名[[#This Row],[列5]],INDIRECT(\"__レジメンマスタ\"),2,FALSE),\"\")","v":"CDDP+IFM"},"URO0029-1",{"$f":"IFERROR(VLOOKUP(__疾患別コードレジメン名[[#This Row],[列6]],INDIRECT(\"__レジメンマスタ\"),2,FALSE),\"\")","v":"オプジーボ"},"OTO0017",{"$f":"IFERROR(VLOOKUP(__疾患別コードレジメン名[[#This Row],[列7]],INDIRECT(\"__レジメンマスタ\"),2,FALSE),\"\")","v":"FP＋キイトルーダ"},"テモゾロミド(初発：放射線併用)",{"$f":"IFERROR(VLOOKUP(__疾患別コードレジメン名[[#This Row],[列8]],INDIRECT(\"__レジメンマスタ\"),2,FALSE),\"\")","v":"テモゾロミド(初発：放射線併用)"},"A100011",{"$f":"IFERROR(VLOOKUP(__疾患別コードレジメン名[[#This Row],[列9]],INDIRECT(\"__レジメンマスタ\"),2,FALSE),\"\")","v":"ニボルマブ（４週間毎）"},"",{"$f":"IFERROR(VLOOKUP(__疾患別コードレジメン名[[#This Row],[列10]],INDIRECT(\"__レジメンマスタ\"),2,FALSE),\"\")","v":""},"",{"$f":"IFERROR(VLOOKUP(__疾患別コードレジメン名[[#This Row],[列11]],INDIRECT(\"__レジメンマスタ\"),2,FALSE),\"\")","v":""},"",{"$f":"IFERROR(VLOOKUP(__疾患別コードレジメン名[[#This Row],[列12]],INDIRECT(\"__レジメンマスタ\"),2,FALSE),\"\")","v":""},"",{"$f":"IFERROR(VLOOKUP(__疾患別コードレジメン名[[#This Row],[列13]],INDIRECT(\"__レジメンマスタ\"),2,FALSE),\"\")","v":""}]
["HEM0007",{"$f":"IFERROR(VLOOKUP(__疾患別コードレジメン名[[#This Row],[列1]],INDIRECT(\"__レジメンマスタ\"),2,FALSE),\"\")","v":"ABVD（D:375mg/㎡）"},"RES0020-s2",{"$f":"IFERROR(VLOOKUP(__疾患別コードレジメン名[[#This Row],[列2]],INDIRECT(\"__レジメンマスタ\"),2,FALSE),\"\")","v":"CDDP＋PEM"},"SUR0025-A2",{"$f":"IFERROR(VLOOKUP(__疾患別コードレジメン名[[#This Row],[列3]],INDIRECT(\"__レジメンマスタ\"),2,FALSE),\"\")","v":"ＩＲＩ：大腸癌"},"BRE0016-04",{"$f":"IFERROR(VLOOKUP(__疾患別コードレジメン名[[#This Row],[列4]],INDIRECT(\"__レジメンマスタ\"),2,FALSE),\"\")","v":"ハーセプチン+Pmab+DOC（維持療法）"},"GYN0027",{"$f":"IFERROR(VLOOKUP(__疾患別コードレジメン名[[#This Row],[列5]],INDIRECT(\"__レジメンマスタ\"),2,FALSE),\"\")","v":"dose-dense TC"},"URO0029-2",{"$f":"IFERROR(VLOOKUP(__疾患別コードレジメン名[[#This Row],[列6]],INDIRECT(\"__レジメンマスタ\"),2,FALSE),\"\")","v":"オプジーボ（4週間毎）"},"OTO0018",{"$f":"IFERROR(VLOOKUP(__疾患別コードレジメン名[[#This Row],[列7]],INDIRECT(\"__レジメンマスタ\"),2,FALSE),\"\")","v":"FU+CBDCA+キイトルーダ"},"テモゾロミド(初発：単剤)",{"$f":"IFERROR(VLOOKUP(__疾患別コードレジメン名[[#This Row],[列8]],INDIRECT(\"__レジメンマスタ\"),2,FALSE),\"\")","v":"テモゾロミド(初発：単剤)"},"",{"$f":"IFERROR(VLOOKUP(__疾患別コードレジメン名[[#This Row],[列9]],INDIRECT(\"__レジメンマスタ\"),2,FALSE),\"\")","v":""},"",{"$f":"IFERROR(VLOOKUP(__疾患別コードレジメン名[[#This Row],[列10]],INDIRECT(\"__レジメンマスタ\"),2,FALSE),\"\")","v":""},"",{"$f":"IFERROR(VLOOKUP(__疾患別コードレジメン名[[#This Row],[列11]],INDIRECT(\"__レジメンマスタ\"),2,FALSE),\"\")","v":""},"",{"$f":"IFERROR(VLOOKUP(__疾患別コードレジメン名[[#This Row],[列12]],INDIRECT(\"__レジメンマスタ\"),2,FALSE),\"\")","v":""},"",{"$f":"IFERROR(VLOOKUP(__疾患別コードレジメン名[[#This Row],[列13]],INDIRECT(\"__レジメンマスタ\"),2,FALSE),\"\")","v":""}]
["HEM0007-02",{"$f":"IFERROR(VLOOKUP(__疾患別コードレジメン名[[#This Row],[列1]],INDIRECT(\"__レジメンマスタ\"),2,FALSE),\"\")","v":"ABVd（d:250mg/㎡）"},"RES0020-s4",{"$f":"IFERROR(VLOOKUP(__疾患別コードレジメン名[[#This Row],[列2]],INDIRECT(\"__レジメンマスタ\"),2,FALSE),\"\")","v":"CDDP＋PEM"},"SUR0031",{"$f":"IFERROR(VLOOKUP(__疾患別コードレジメン名[[#This Row],[列3]],INDIRECT(\"__レジメンマスタ\"),2,FALSE),\"\")","v":"CDDP+FU:食道癌"},"BRE0017",{"$f":"IFERROR(VLOOKUP(__疾患別コードレジメン名[[#This Row],[列4]],INDIRECT(\"__レジメンマスタ\"),2,FALSE),\"\")","v":"カドサイラ"},"GYN0028",{"$f":"IFERROR(VLOOKUP(__疾患別コードレジメン名[[#This Row],[列5]],INDIRECT(\"__レジメンマスタ\"),2,FALSE),\"\")","v":"DOC単独"},"URO0030",{"$f":"IFERROR(VLOOKUP(__疾患別コードレジメン名[[#This Row],[列6]],INDIRECT(\"__レジメンマスタ\"),2,FALSE),\"\")","v":"ゲムシタビン単剤"},"OTO0019",{"$f":"IFERROR(VLOOKUP(__疾患別コードレジメン名[[#This Row],[列7]],INDIRECT(\"__レジメンマスタ\"),2,FALSE),\"\")","v":"高用量CDDP+RT"},"テモゾロミド(再発：単剤)",{"$f":"IFERROR(VLOOKUP(__疾患別コードレジメン名[[#This Row],[列8]],INDIRECT(\"__レジメンマスタ\"),2,FALSE),\"\")","v":"テモゾロミド(再発：単剤)"},"",{"$f":"IFERROR(VLOOKUP(__疾患別コードレジメン名[[#This Row],[列9]],INDIRECT(\"__レジメンマスタ\"),2,FALSE),\"\")","v":""},"",{"$f":"IFERROR(VLOOKUP(__疾患別コードレジメン名[[#This Row],[列10]],INDIRECT(\"__レジメンマスタ\"),2,FALSE),\"\")","v":""},"",{"$f":"IFERROR(VLOOKUP(__疾患別コードレジメン名[[#This Row],[列11]],INDIRECT(\"__レジメンマスタ\"),2,FALSE),\"\")","v":""},"",{"$f":"IFERROR(VLOOKUP(__疾患別コードレジメン名[[#This Row],[列12]],INDIRECT(\"__レジメンマスタ\"),2,FALSE),\"\")","v":""},"",{"$f":"IFERROR(VLOOKUP(__疾患別コードレジメン名[[#This Row],[列13]],INDIRECT(\"__レジメンマスタ\"),2,FALSE),\"\")","v":""}]
["HEM0008",{"$f":"IFERROR(VLOOKUP(__疾患別コードレジメン名[[#This Row],[列1]],INDIRECT(\"__レジメンマスタ\"),2,FALSE),\"\")","v":"CHOP"},"RES0021",{"$f":"IFERROR(VLOOKUP(__疾患別コードレジメン名[[#This Row],[列2]],INDIRECT(\"__レジメンマスタ\"),2,FALSE),\"\")","v":"ADOC"},"SUR0031-A1",{"$f":"IFERROR(VLOOKUP(__疾患別コードレジメン名[[#This Row],[列3]],INDIRECT(\"__レジメンマスタ\"),2,FALSE),\"\")","v":"CDDP+FU：胃癌"},"BRE0018",{"$f":"IFERROR(VLOOKUP(__疾患別コードレジメン名[[#This Row],[列4]],INDIRECT(\"__レジメンマスタ\"),2,FALSE),\"\")","v":"Her+DOC"},"GYN0030",{"$f":"IFERROR(VLOOKUP(__疾患別コードレジメン名[[#This Row],[列5]],INDIRECT(\"__レジメンマスタ\"),2,FALSE),\"\")","v":"TC+Bev"},"URO0031",{"$f":"IFERROR(VLOOKUP(__疾患別コードレジメン名[[#This Row],[列6]],INDIRECT(\"__レジメンマスタ\"),2,FALSE),\"\")","v":"照射併用CDDP"},"OTO0020",{"$f":"IFERROR(VLOOKUP(__疾患別コードレジメン名[[#This Row],[列7]],INDIRECT(\"__レジメンマスタ\"),2,FALSE),\"\")","v":"術後weekly CDDP+RT"},"",{"$f":"IFERROR(VLOOKUP(__疾患別コードレジメン名[[#This Row],[列8]],INDIRECT(\"__レジメンマスタ\"),2,FALSE),\"\")","v":""},"",{"$f":"IFERROR(VLOOKUP(__疾患別コードレジメン名[[#This Row],[列9]],INDIRECT(\"__レジメンマスタ\"),2,FALSE),\"\")","v":""},"",{"$f":"IFERROR(VLOOKUP(__疾患別コードレジメン名[[#This Row],[列10]],INDIRECT(\"__レジメンマスタ\"),2,FALSE),\"\")","v":""},"",{"$f":"IFERROR(VLOOKUP(__疾患別コードレジメン名[[#This Row],[列11]],INDIRECT(\"__レジメンマスタ\"),2,FALSE),\"\")","v":""},"",{"$f":"IFERROR(VLOOKUP(__疾患別コードレジメン名[[#This Row],[列12]],INDIRECT(\"__レジメンマスタ\"),2,FALSE),\"\")","v":""},"",{"$f":"IFERROR(VLOOKUP(__疾患別コードレジメン名[[#This Row],[列13]],INDIRECT(\"__レジメンマスタ\"),2,FALSE),\"\")","v":""}]
["HEM0009",{"$f":"IFERROR(VLOOKUP(__疾患別コードレジメン名[[#This Row],[列1]],INDIRECT(\"__レジメンマスタ\"),2,FALSE),\"\")","v":"biweekly CHOP"},"RES0022",{"$f":"IFERROR(VLOOKUP(__疾患別コードレジメン名[[#This Row],[列2]],INDIRECT(\"__レジメンマスタ\"),2,FALSE),\"\")","v":"（臨床試験）CDDP+S1"},"SUR0035",{"$f":"IFERROR(VLOOKUP(__疾患別コードレジメン名[[#This Row],[列3]],INDIRECT(\"__レジメンマスタ\"),2,FALSE),\"\")","v":"FOLFOX+BEV"},"BRE0019",{"$f":"IFERROR(VLOOKUP(__疾患別コードレジメン名[[#This Row],[列4]],INDIRECT(\"__レジメンマスタ\"),2,FALSE),\"\")","v":"AC"},"GYN0032",{"$f":"IFERROR(VLOOKUP(__疾患別コードレジメン名[[#This Row],[列5]],INDIRECT(\"__レジメンマスタ\"),2,FALSE),\"\")","v":"AP"},"URO0032-01",{"$f":"IFERROR(VLOOKUP(__疾患別コードレジメン名[[#This Row],[列6]],INDIRECT(\"__レジメンマスタ\"),2,FALSE),\"\")","v":"オプジーボ・ヤーボイ"},"OTO0021",{"$f":"IFERROR(VLOOKUP(__疾患別コードレジメン名[[#This Row],[列7]],INDIRECT(\"__レジメンマスタ\"),2,FALSE),\"\")","v":"PCE（再発・転移）"},"",{"$f":"IFERROR(VLOOKUP(__疾患別コードレジメン名[[#This Row],[列8]],INDIRECT(\"__レジメンマスタ\"),2,FALSE),\"\")","v":""},"",{"$f":"IFERROR(VLOOKUP(__疾患別コードレジメン名[[#This Row],[列9]],INDIRECT(\"__レジメンマスタ\"),2,FALSE),\"\")","v":""},"",{"$f":"IFERROR(VLOOKUP(__疾患別コードレジメン名[[#This Row],[列10]],INDIRECT(\"__レジメンマスタ\"),2,FALSE),\"\")","v":""},"",{"$f":"IFERROR(VLOOKUP(__疾患別コードレジメン名[[#This Row],[列11]],INDIRECT(\"__レジメンマスタ\"),2,FALSE),\"\")","v":""},"",{"$f":"IFERROR(VLOOKUP(__疾患別コードレジメン名[[#This Row],[列12]],INDIRECT(\"__レジメンマスタ\"),2,FALSE),\"\")","v":""},"",{"$f":"IFERROR(VLOOKUP(__疾患別コードレジメン名[[#This Row],[列13]],INDIRECT(\"__レジメンマスタ\"),2,FALSE),\"\")","v":""}]
["HEM0010",{"$f":"IFERROR(VLOOKUP(__疾患別コードレジメン名[[#This Row],[列1]],INDIRECT(\"__レジメンマスタ\"),2,FALSE),\"\")","v":"R-CHOP "},"RES0023",{"$f":"IFERROR(VLOOKUP(__疾患別コードレジメン名[[#This Row],[列2]],INDIRECT(\"__レジメンマスタ\"),2,FALSE),\"\")","v":"BEP"},"SUR0036",{"$f":"IFERROR(VLOOKUP(__疾患別コードレジメン名[[#This Row],[列3]],INDIRECT(\"__レジメンマスタ\"),2,FALSE),\"\")","v":"FOLFIRI+BEV"},"BRE0020",{"$f":"IFERROR(VLOOKUP(__疾患別コードレジメン名[[#This Row],[列4]],INDIRECT(\"__レジメンマスタ\"),2,FALSE),\"\")","v":"テセントリク＋n-PTX"},"GYN0033",{"$f":"IFERROR(VLOOKUP(__疾患別コードレジメン名[[#This Row],[列5]],INDIRECT(\"__レジメンマスタ\"),2,FALSE),\"\")","v":"ドキシル＋Beva"},"URO0032-02",{"$f":"IFERROR(VLOOKUP(__疾患別コードレジメン名[[#This Row],[列6]],INDIRECT(\"__レジメンマスタ\"),2,FALSE),\"\")","v":"オプジーボ・ヤーボイ（維持療法）"},"OTO0022",{"$f":"IFERROR(VLOOKUP(__疾患別コードレジメン名[[#This Row],[列7]],INDIRECT(\"__レジメンマスタ\"),2,FALSE),\"\")","v":"ハーセプチン＋ドセタキセル"},"",{"$f":"IFERROR(VLOOKUP(__疾患別コードレジメン名[[#This Row],[列8]],INDIRECT(\"__レジメンマスタ\"),2,FALSE),\"\")","v":""},"",{"$f":"IFERROR(VLOOKUP(__疾患別コードレジメン名[[#This Row],[列9]],INDIRECT(\"__レジメンマスタ\"),2,FALSE),\"\")","v":""},"",{"$f":"IFERROR(VLOOKUP(__疾患別コードレジメン名[[#This Row],[列10]],INDIRECT(\"__レジメンマスタ\"),2,FALSE),\"\")","v":""},"",{"$f":"IFERROR(VLOOKUP(__疾患別コードレジメン名[[#This Row],[列11]],INDIRECT(\"__レジメンマスタ\"),2,FALSE),\"\")","v":""},"",{"$f":"IFERROR(VLOOKUP(__疾患別コードレジメン名[[#This Row],[列12]],INDIRECT(\"__レジメンマスタ\"),2,FALSE),\"\")","v":""},"",{"$f":"IFERROR(VLOOKUP(__疾患別コードレジメン名[[#This Row],[列13]],INDIRECT(\"__レジメンマスタ\"),2,FALSE),\"\")","v":""}]
["HEM0012",{"$f":"IFERROR(VLOOKUP(__疾患別コードレジメン名[[#This Row],[列1]],INDIRECT(\"__レジメンマスタ\"),2,FALSE),\"\")","v":"Hyper-CVAD"},"RES0024",{"$f":"IFERROR(VLOOKUP(__疾患別コードレジメン名[[#This Row],[列2]],INDIRECT(\"__レジメンマスタ\"),2,FALSE),\"\")","v":"PEM単独"},"SUR0037",{"$f":"IFERROR(VLOOKUP(__疾患別コードレジメン名[[#This Row],[列3]],INDIRECT(\"__レジメンマスタ\"),2,FALSE),\"\")","v":"DOC+CDGP"},"BRE0021",{"$f":"IFERROR(VLOOKUP(__疾患別コードレジメン名[[#This Row],[列4]],INDIRECT(\"__レジメンマスタ\"),2,FALSE),\"\")","v":"エンハーツ"},"GYN0034",{"$f":"IFERROR(VLOOKUP(__疾患別コードレジメン名[[#This Row],[列5]],INDIRECT(\"__レジメンマスタ\"),2,FALSE),\"\")","v":"GEM+Bev"},"URO0032-03",{"$f":"IFERROR(VLOOKUP(__疾患別コードレジメン名[[#This Row],[列6]],INDIRECT(\"__レジメンマスタ\"),2,FALSE),\"\")","v":"オプジーボ・ヤーボイ（維持療法、４週間毎）"},{"$f":"IF(IFERROR(INDIRECT(\"__疾患別コード[@頭頚部]\"),0)=0,\"\",INDIRECT(\"__疾患別コード[@頭頚部]\"))","v":""},{"$f":"IFERROR(VLOOKUP(__疾患別コードレジメン名[[#This Row],[列7]],INDIRECT(\"__レジメンマスタ\"),2,FALSE),\"\")","v":""},"",{"$f":"IFERROR(VLOOKUP(__疾患別コードレジメン名[[#This Row],[列8]],INDIRECT(\"__レジメンマスタ\"),2,FALSE),\"\")","v":""},"",{"$f":"IFERROR(VLOOKUP(__疾患別コードレジメン名[[#This Row],[列9]],INDIRECT(\"__レジメンマスタ\"),2,FALSE),\"\")","v":""},"",{"$f":"IFERROR(VLOOKUP(__疾患別コードレジメン名[[#This Row],[列10]],INDIRECT(\"__レジメンマスタ\"),2,FALSE),\"\")","v":""},"",{"$f":"IFERROR(VLOOKUP(__疾患別コードレジメン名[[#This Row],[列11]],INDIRECT(\"__レジメンマスタ\"),2,FALSE),\"\")","v":""},"",{"$f":"IFERROR(VLOOKUP(__疾患別コードレジメン名[[#This Row],[列12]],INDIRECT(\"__レジメンマスタ\"),2,FALSE),\"\")","v":""},"",{"$f":"IFERROR(VLOOKUP(__疾患別コードレジメン名[[#This Row],[列13]],INDIRECT(\"__レジメンマスタ\"),2,FALSE),\"\")","v":""}]
["HEM0012-2",{"$f":"IFERROR(VLOOKUP(__疾患別コードレジメン名[[#This Row],[列1]],INDIRECT(\"__レジメンマスタ\"),2,FALSE),\"\")","v":"（作成中）Hyper-CVAD髄注"},"RES0025",{"$f":"IFERROR(VLOOKUP(__疾患別コードレジメン名[[#This Row],[列2]],INDIRECT(\"__レジメンマスタ\"),2,FALSE),\"\")","v":"CBDCA+PEM"},"SUR0039",{"$f":"IFERROR(VLOOKUP(__疾患別コードレジメン名[[#This Row],[列3]],INDIRECT(\"__レジメンマスタ\"),2,FALSE),\"\")","v":"FU+MMC"},"BRE0022",{"$f":"IFERROR(VLOOKUP(__疾患別コードレジメン名[[#This Row],[列4]],INDIRECT(\"__レジメンマスタ\"),2,FALSE),\"\")","v":"キイトルーダ＋GEM＋CBDCA"},"GYN0035",{"$f":"IFERROR(VLOOKUP(__疾患別コードレジメン名[[#This Row],[列5]],INDIRECT(\"__レジメンマスタ\"),2,FALSE),\"\")","v":"【適応外】weekly PTX+Beva"},"URO0033",{"$f":"IFERROR(VLOOKUP(__疾患別コードレジメン名[[#This Row],[列6]],INDIRECT(\"__レジメンマスタ\"),2,FALSE),\"\")","v":"dd M-VAC"},"",{"$f":"IFERROR(VLOOKUP(__疾患別コードレジメン名[[#This Row],[列7]],INDIRECT(\"__レジメンマスタ\"),2,FALSE),\"\")","v":""},"",{"$f":"IFERROR(VLOOKUP(__疾患別コードレジメン名[[#This Row],[列8]],INDIRECT(\"__レジメンマスタ\"),2,FALSE),\"\")","v":""},"",{"$f":"IFERROR(VLOOKUP(__疾患別コードレジメン名[[#This Row],[列9]],INDIRECT(\"__レジメンマスタ\"),2,FALSE),\"\")","v":""},"",{"$f":"IFERROR(VLOOKUP(__疾患別コードレジメン名[[#This Row],[列10]],INDIRECT(\"__レジメンマスタ\"),2,FALSE),\"\")","v":""},"",{"$f":"IFERROR(VLOOKUP(__疾患別コードレジメン名[[#This Row],[列11]],INDIRECT(\"__レジメンマスタ\"),2,FALSE),\"\")","v":""},"",{"$f":"IFERROR(VLOOKUP(__疾患別コードレジメン名[[#This Row],[列12]],INDIRECT(\"__レジメンマスタ\"),2,FALSE),\"\")","v":""},"",{"$f":"IFERROR(VLOOKUP(__疾患別コードレジメン名[[#This Row],[列13]],INDIRECT(\"__レジメンマスタ\"),2,FALSE),\"\")","v":""}]
["HEM0013",{"$f":"IFERROR(VLOOKUP(__疾患別コードレジメン名[[#This Row],[列1]],INDIRECT(\"__レジメンマスタ\"),2,FALSE),\"\")","v":"大量MTX+AraC療法"},"RES0026",{"$f":"IFERROR(VLOOKUP(__疾患別コードレジメン名[[#This Row],[列2]],INDIRECT(\"__レジメンマスタ\"),2,FALSE),\"\")","v":"CBDCA+PTX+Beva"},"SUR0040",{"$f":"IFERROR(VLOOKUP(__疾患別コードレジメン名[[#This Row],[列3]],INDIRECT(\"__レジメンマスタ\"),2,FALSE),\"\")","v":"CET"},"BRE0023",{"$f":"IFERROR(VLOOKUP(__疾患別コードレジメン名[[#This Row],[列4]],INDIRECT(\"__レジメンマスタ\"),2,FALSE),\"\")","v":"キイトルーダ+PTX"},"GYN0037",{"$f":"IFERROR(VLOOKUP(__疾患別コードレジメン名[[#This Row],[列5]],INDIRECT(\"__レジメンマスタ\"),2,FALSE),\"\")","v":"GC+Bev"},"URO0034",{"$f":"IFERROR(VLOOKUP(__疾患別コードレジメン名[[#This Row],[列6]],INDIRECT(\"__レジメンマスタ\"),2,FALSE),\"\")","v":"キイトルーダ＋インライタ"},{"$f":"IF(IFERROR(INDIRECT(\"__疾患別コード[@頭頚部]\"),0)=0,\"\",INDIRECT(\"__疾患別コード[@頭頚部]\"))","v":"内服単剤S1：A法"},{"$f":"IFERROR(VLOOKUP(__疾患別コードレジメン名[[#This Row],[列7]],INDIRECT(\"__レジメンマスタ\"),2,FALSE),\"\")","v":"S1：A法"},"",{"$f":"IFERROR(VLOOKUP(__疾患別コードレジメン名[[#This Row],[列8]],INDIRECT(\"__レジメンマスタ\"),2,FALSE),\"\")","v":""},"",{"$f":"IFERROR(VLOOKUP(__疾患別コードレジメン名[[#This Row],[列9]],INDIRECT(\"__レジメンマスタ\"),2,FALSE),\"\")","v":""},"",{"$f":"IFERROR(VLOOKUP(__疾患別コードレジメン名[[#This Row],[列10]],INDIRECT(\"__レジメンマスタ\"),2,FALSE),\"\")","v":""},"",{"$f":"IFERROR(VLOOKUP(__疾患別コードレジメン名[[#This Row],[列11]],INDIRECT(\"__レジメンマスタ\"),2,FALSE),\"\")","v":""},"",{"$f":"IFERROR(VLOOKUP(__疾患別コードレジメン名[[#This Row],[列12]],INDIRECT(\"__レジメンマスタ\"),2,FALSE),\"\")","v":""},"",{"$f":"IFERROR(VLOOKUP(__疾患別コードレジメン名[[#This Row],[列13]],INDIRECT(\"__レジメンマスタ\"),2,FALSE),\"\")","v":""}]
["HEM0012+0013",{"$f":"IFERROR(VLOOKUP(__疾患別コードレジメン名[[#This Row],[列1]],INDIRECT(\"__レジメンマスタ\"),2,FALSE),\"\")","v":"HyperCVAD＋MTX-AraC"},"RES0027-1",{"$f":"IFERROR(VLOOKUP(__疾患別コードレジメン名[[#This Row],[列2]],INDIRECT(\"__レジメンマスタ\"),2,FALSE),\"\")","v":"CBDCA+PEM+Beva"},"SUR0041",{"$f":"IFERROR(VLOOKUP(__疾患別コードレジメン名[[#This Row],[列3]],INDIRECT(\"__レジメンマスタ\"),2,FALSE),\"\")","v":"ＩＲＩ+CET"},"BRE0024",{"$f":"IFERROR(VLOOKUP(__疾患別コードレジメン名[[#This Row],[列4]],INDIRECT(\"__レジメンマスタ\"),2,FALSE),\"\")","v":"キイトルーダ+n-PTX"},"GYN0038",{"$f":"IFERROR(VLOOKUP(__疾患別コードレジメン名[[#This Row],[列5]],INDIRECT(\"__レジメンマスタ\"),2,FALSE),\"\")","v":"GC"},"URO0034-02",{"$f":"IFERROR(VLOOKUP(__疾患別コードレジメン名[[#This Row],[列6]],INDIRECT(\"__レジメンマスタ\"),2,FALSE),\"\")","v":"キイトルーダ＋インライタ（6週間毎）"},"UFT(ﾃｶﾞﾌｰﾙｳﾗｼﾙ)",{"$f":"IFERROR(VLOOKUP(__疾患別コードレジメン名[[#This Row],[列7]],INDIRECT(\"__レジメンマスタ\"),2,FALSE),\"\")","v":"テガフール・ウラシル療法"},"",{"$f":"IFERROR(VLOOKUP(__疾患別コードレジメン名[[#This Row],[列8]],INDIRECT(\"__レジメンマスタ\"),2,FALSE),\"\")","v":""},"",{"$f":"IFERROR(VLOOKUP(__疾患別コードレジメン名[[#This Row],[列9]],INDIRECT(\"__レジメンマスタ\"),2,FALSE),\"\")","v":""},"",{"$f":"IFERROR(VLOOKUP(__疾患別コードレジメン名[[#This Row],[列10]],INDIRECT(\"__レジメンマスタ\"),2,FALSE),\"\")","v":""},"",{"$f":"IFERROR(VLOOKUP(__疾患別コードレジメン名[[#This Row],[列11]],INDIRECT(\"__レジメンマスタ\"),2,FALSE),\"\")","v":""},"",{"$f":"IFERROR(VLOOKUP(__疾患別コードレジメン名[[#This Row],[列12]],INDIRECT(\"__レジメンマスタ\"),2,FALSE),\"\")","v":""},"",{"$f":"IFERROR(VLOOKUP(__疾患別コードレジメン名[[#This Row],[列13]],INDIRECT(\"__レジメンマスタ\"),2,FALSE),\"\")","v":""}]
["HEM0014",{"$f":"IFERROR(VLOOKUP(__疾患別コードレジメン名[[#This Row],[列1]],INDIRECT(\"__レジメンマスタ\"),2,FALSE),\"\")","v":"R-DHAP"},"RES0027-3",{"$f":"IFERROR(VLOOKUP(__疾患別コードレジメン名[[#This Row],[列2]],INDIRECT(\"__レジメンマスタ\"),2,FALSE),\"\")","v":"CDDP+PEM+Beva"},"SUR0042",{"$f":"IFERROR(VLOOKUP(__疾患別コードレジメン名[[#This Row],[列3]],INDIRECT(\"__レジメンマスタ\"),2,FALSE),\"\")","v":"FOLFIRI+CET"},"BRE0025",{"$f":"IFERROR(VLOOKUP(__疾患別コードレジメン名[[#This Row],[列4]],INDIRECT(\"__レジメンマスタ\"),2,FALSE),\"\")","v":"術前キイトルーダ+PTX+CBDCA"},"GYN0039",{"$f":"IFERROR(VLOOKUP(__疾患別コードレジメン名[[#This Row],[列5]],INDIRECT(\"__レジメンマスタ\"),2,FALSE),\"\")","v":"TC+Bev（子宮頚癌）"},"URO0035",{"$f":"IFERROR(VLOOKUP(__疾患別コードレジメン名[[#This Row],[列6]],INDIRECT(\"__レジメンマスタ\"),2,FALSE),\"\")","v":"バベンチオ+インライタ療法"},"",{"$f":"IFERROR(VLOOKUP(__疾患別コードレジメン名[[#This Row],[列7]],INDIRECT(\"__レジメンマスタ\"),2,FALSE),\"\")","v":""},"",{"$f":"IFERROR(VLOOKUP(__疾患別コードレジメン名[[#This Row],[列8]],INDIRECT(\"__レジメンマスタ\"),2,FALSE),\"\")","v":""},"",{"$f":"IFERROR(VLOOKUP(__疾患別コードレジメン名[[#This Row],[列9]],INDIRECT(\"__レジメンマスタ\"),2,FALSE),\"\")","v":""},"",{"$f":"IFERROR(VLOOKUP(__疾患別コードレジメン名[[#This Row],[列10]],INDIRECT(\"__レジメンマスタ\"),2,FALSE),\"\")","v":""},"",{"$f":"IFERROR(VLOOKUP(__疾患別コードレジメン名[[#This Row],[列11]],INDIRECT(\"__レジメンマスタ\"),2,FALSE),\"\")","v":""},"",{"$f":"IFERROR(VLOOKUP(__疾患別コードレジメン名[[#This Row],[列12]],INDIRECT(\"__レジメンマスタ\"),2,FALSE),\"\")","v":""},"",{"$f":"IFERROR(VLOOKUP(__疾患別コードレジメン名[[#This Row],[列13]],INDIRECT(\"__レジメンマスタ\"),2,FALSE),\"\")","v":""}]
["HEM0015",{"$f":"IFERROR(VLOOKUP(__疾患別コードレジメン名[[#This Row],[列1]],INDIRECT(\"__レジメンマスタ\"),2,FALSE),\"\")","v":"FND"},"RES0028",{"$f":"IFERROR(VLOOKUP(__疾患別コードレジメン名[[#This Row],[列2]],INDIRECT(\"__レジメンマスタ\"),2,FALSE),\"\")","v":"CBDCA+S-1"},"SUR0043",{"$f":"IFERROR(VLOOKUP(__疾患別コードレジメン名[[#This Row],[列3]],INDIRECT(\"__レジメンマスタ\"),2,FALSE),\"\")","v":"GEM＋S1"},"BRE0026",{"$f":"IFERROR(VLOOKUP(__疾患別コードレジメン名[[#This Row],[列4]],INDIRECT(\"__レジメンマスタ\"),2,FALSE),\"\")","v":"術前キイトルーダ+EC"},"GYN0040",{"$f":"IFERROR(VLOOKUP(__疾患別コードレジメン名[[#This Row],[列5]],INDIRECT(\"__レジメンマスタ\"),2,FALSE),\"\")","v":"LEN+PEM"},"URO0036",{"$f":"IFERROR(VLOOKUP(__疾患別コードレジメン名[[#This Row],[列6]],INDIRECT(\"__レジメンマスタ\"),2,FALSE),\"\")","v":"バベンチオ維持療法"},"",{"$f":"IFERROR(VLOOKUP(__疾患別コードレジメン名[[#This Row],[列7]],INDIRECT(\"__レジメンマスタ\"),2,FALSE),\"\")","v":""},"",{"$f":"IFERROR(VLOOKUP(__疾患別コードレジメン名[[#This Row],[列8]],INDIRECT(\"__レジメンマスタ\"),2,FALSE),\"\")","v":""},"",{"$f":"IFERROR(VLOOKUP(__疾患別コードレジメン名[[#This Row],[列9]],INDIRECT(\"__レジメンマスタ\"),2,FALSE),\"\")","v":""},"",{"$f":"IFERROR(VLOOKUP(__疾患別コードレジメン名[[#This Row],[列10]],INDIRECT(\"__レジメンマスタ\"),2,FALSE),\"\")","v":""},"",{"$f":"IFERROR(VLOOKUP(__疾患別コードレジメン名[[#This Row],[列11]],INDIRECT(\"__レジメンマスタ\"),2,FALSE),\"\")","v":""},"",{"$f":"IFERROR(VLOOKUP(__疾患別コードレジメン名[[#This Row],[列12]],INDIRECT(\"__レジメンマスタ\"),2,FALSE),\"\")","v":""},"",{"$f":"IFERROR(VLOOKUP(__疾患別コードレジメン名[[#This Row],[列13]],INDIRECT(\"__レジメンマスタ\"),2,FALSE),\"\")","v":""}]
["HEM0016-01",{"$f":"IFERROR(VLOOKUP(__疾患別コードレジメン名[[#This Row],[列1]],INDIRECT(\"__レジメンマスタ\"),2,FALSE),\"\")","v":"ICE（変法）"},"RES0028-1",{"$f":"IFERROR(VLOOKUP(__疾患別コードレジメン名[[#This Row],[列2]],INDIRECT(\"__レジメンマスタ\"),2,FALSE),\"\")","v":"CDDP+S-1"},"SUR0045",{"$f":"IFERROR(VLOOKUP(__疾患別コードレジメン名[[#This Row],[列3]],INDIRECT(\"__レジメンマスタ\"),2,FALSE),\"\")","v":"PTX＋S1"},"BRE0027",{"$f":"IFERROR(VLOOKUP(__疾患別コードレジメン名[[#This Row],[列4]],INDIRECT(\"__レジメンマスタ\"),2,FALSE),\"\")","v":"術後キイトルーダ"},"GYN0041-01",{"$f":"IFERROR(VLOOKUP(__疾患別コードレジメン名[[#This Row],[列5]],INDIRECT(\"__レジメンマスタ\"),2,FALSE),\"\")","v":"Pem+TC+Bev"},"URO0037",{"$f":"IFERROR(VLOOKUP(__疾患別コードレジメン名[[#This Row],[列6]],INDIRECT(\"__レジメンマスタ\"),2,FALSE),\"\")","v":"パドセブ"},"",{"$f":"IFERROR(VLOOKUP(__疾患別コードレジメン名[[#This Row],[列7]],INDIRECT(\"__レジメンマスタ\"),2,FALSE),\"\")","v":""},"",{"$f":"IFERROR(VLOOKUP(__疾患別コードレジメン名[[#This Row],[列8]],INDIRECT(\"__レジメンマスタ\"),2,FALSE),\"\")","v":""},"",{"$f":"IFERROR(VLOOKUP(__疾患別コードレジメン名[[#This Row],[列9]],INDIRECT(\"__レジメンマスタ\"),2,FALSE),\"\")","v":""},"",{"$f":"IFERROR(VLOOKUP(__疾患別コードレジメン名[[#This Row],[列10]],INDIRECT(\"__レジメンマスタ\"),2,FALSE),\"\")","v":""},"",{"$f":"IFERROR(VLOOKUP(__疾患別コードレジメン名[[#This Row],[列11]],INDIRECT(\"__レジメンマスタ\"),2,FALSE),\"\")","v":""},"",{"$f":"IFERROR(VLOOKUP(__疾患別コードレジメン名[[#This Row],[列12]],INDIRECT(\"__レジメンマスタ\"),2,FALSE),\"\")","v":""},"",{"$f":"IFERROR(VLOOKUP(__疾患別コードレジメン名[[#This Row],[列13]],INDIRECT(\"__レジメンマスタ\"),2,FALSE),\"\")","v":""}]
["HEM0016-02",{"$f":"IFERROR(VLOOKUP(__疾患別コードレジメン名[[#This Row],[列1]],INDIRECT(\"__レジメンマスタ\"),2,FALSE),\"\")","v":"ICE（原法）"},"RES0029",{"$f":"IFERROR(VLOOKUP(__疾患別コードレジメン名[[#This Row],[列2]],INDIRECT(\"__レジメンマスタ\"),2,FALSE),\"\")","v":"CBDCA+n-PTX"},"SUR0046",{"$f":"IFERROR(VLOOKUP(__疾患別コードレジメン名[[#This Row],[列3]],INDIRECT(\"__レジメンマスタ\"),2,FALSE),\"\")","v":"CAPOX"},"BRE0028",{"$f":"IFERROR(VLOOKUP(__疾患別コードレジメン名[[#This Row],[列4]],INDIRECT(\"__レジメンマスタ\"),2,FALSE),\"\")","v":"HER+PER+ weekly PTX"},"GYN0042-01",{"$f":"IFERROR(VLOOKUP(__疾患別コードレジメン名[[#This Row],[列5]],INDIRECT(\"__レジメンマスタ\"),2,FALSE),\"\")","v":"Pem+TC"},"URO0038",{"$f":"IFERROR(VLOOKUP(__疾患別コードレジメン名[[#This Row],[列6]],INDIRECT(\"__レジメンマスタ\"),2,FALSE),\"\")","v":"キイトルーダ＋レンビマ"},"",{"$f":"IFERROR(VLOOKUP(__疾患別コードレジメン名[[#This Row],[列7]],INDIRECT(\"__レジメンマスタ\"),2,FALSE),\"\")","v":""},"",{"$f":"IFERROR(VLOOKUP(__疾患別コードレジメン名[[#This Row],[列8]],INDIRECT(\"__レジメンマスタ\"),2,FALSE),\"\")","v":""},"",{"$f":"IFERROR(VLOOKUP(__疾患別コードレジメン名[[#This Row],[列9]],INDIRECT(\"__レジメンマスタ\"),2,FALSE),\"\")","v":""},"",{"$f":"IFERROR(VLOOKUP(__疾患別コードレジメン名[[#This Row],[列10]],INDIRECT(\"__レジメンマスタ\"),2,FALSE),\"\")","v":""},"",{"$f":"IFERROR(VLOOKUP(__疾患別コードレジメン名[[#This Row],[列11]],INDIRECT(\"__レジメンマスタ\"),2,FALSE),\"\")","v":""},"",{"$f":"IFERROR(VLOOKUP(__疾患別コードレジメン名[[#This Row],[列12]],INDIRECT(\"__レジメンマスタ\"),2,FALSE),\"\")","v":""},"",{"$f":"IFERROR(VLOOKUP(__疾患別コードレジメン名[[#This Row],[列13]],INDIRECT(\"__レジメンマスタ\"),2,FALSE),\"\")","v":""}]
["HEM0017-01",{"$f":"IFERROR(VLOOKUP(__疾患別コードレジメン名[[#This Row],[列1]],INDIRECT(\"__レジメンマスタ\"),2,FALSE),\"\")","v":"LSG15療法 VCAPコース（D1)"},"RES0030",{"$f":"IFERROR(VLOOKUP(__疾患別コードレジメン名[[#This Row],[列2]],INDIRECT(\"__レジメンマスタ\"),2,FALSE),\"\")","v":"GEM(適応外)"},"SUR0047",{"$f":"IFERROR(VLOOKUP(__疾患別コードレジメン名[[#This Row],[列3]],INDIRECT(\"__レジメンマスタ\"),2,FALSE),\"\")","v":"CAPOX+BEV"},"BRE0029",{"$f":"IFERROR(VLOOKUP(__疾患別コードレジメン名[[#This Row],[列4]],INDIRECT(\"__レジメンマスタ\"),2,FALSE),\"\")","v":"HER+PER+n-PTX"},"GYN0043",{"$f":"IFERROR(VLOOKUP(__疾患別コードレジメン名[[#This Row],[列5]],INDIRECT(\"__レジメンマスタ\"),2,FALSE),\"\")","v":"Cemiplimab"},"URO0039-1",{"$f":"IFERROR(VLOOKUP(__疾患別コードレジメン名[[#This Row],[列6]],INDIRECT(\"__レジメンマスタ\"),2,FALSE),\"\")","v":"オプジーボ（術後補助療法）"},"",{"$f":"IFERROR(VLOOKUP(__疾患別コードレジメン名[[#This Row],[列7]],INDIRECT(\"__レジメンマスタ\"),2,FALSE),\"\")","v":""},"",{"$f":"IFERROR(VLOOKUP(__疾患別コードレジメン名[[#This Row],[列8]],INDIRECT(\"__レジメンマスタ\"),2,FALSE),\"\")","v":""},"",{"$f":"IFERROR(VLOOKUP(__疾患別コードレジメン名[[#This Row],[列9]],INDIRECT(\"__レジメンマスタ\"),2,FALSE),\"\")","v":""},"",{"$f":"IFERROR(VLOOKUP(__疾患別コードレジメン名[[#This Row],[列10]],INDIRECT(\"__レジメンマスタ\"),2,FALSE),\"\")","v":""},"",{"$f":"IFERROR(VLOOKUP(__疾患別コードレジメン名[[#This Row],[列11]],INDIRECT(\"__レジメンマスタ\"),2,FALSE),\"\")","v":""},"",{"$f":"IFERROR(VLOOKUP(__疾患別コードレジメン名[[#This Row],[列12]],INDIRECT(\"__レジメンマスタ\"),2,FALSE),\"\")","v":""},"",{"$f":"IFERROR(VLOOKUP(__疾患別コードレジメン名[[#This Row],[列13]],INDIRECT(\"__レジメンマスタ\"),2,FALSE),\"\")","v":""}]
["HEM0017-02",{"$f":"IFERROR(VLOOKUP(__疾患別コードレジメン名[[#This Row],[列1]],INDIRECT(\"__レジメンマスタ\"),2,FALSE),\"\")","v":"LSG15療法 AMPコース（D8)"},"RES0031",{"$f":"IFERROR(VLOOKUP(__疾患別コードレジメン名[[#This Row],[列2]],INDIRECT(\"__レジメンマスタ\"),2,FALSE),\"\")","v":"weekly CBDCA+PTX"},"SUR0048",{"$f":"IFERROR(VLOOKUP(__疾患別コードレジメン名[[#This Row],[列3]],INDIRECT(\"__レジメンマスタ\"),2,FALSE),\"\")","v":"Cape+BEV"},"BRE0030",{"$f":"IFERROR(VLOOKUP(__疾患別コードレジメン名[[#This Row],[列4]],INDIRECT(\"__レジメンマスタ\"),2,FALSE),\"\")","v":"DTX+フェスゴ"},"GYN0044-11",{"$f":"IFERROR(VLOOKUP(__疾患別コードレジメン名[[#This Row],[列5]],INDIRECT(\"__レジメンマスタ\"),2,FALSE),\"\")","v":"TC+ﾃﾞｭﾙﾊﾞﾙﾏﾌﾞ±ｵﾗﾊﾟﾘﾌﾞ"},"URO0039-2",{"$f":"IFERROR(VLOOKUP(__疾患別コードレジメン名[[#This Row],[列6]],INDIRECT(\"__レジメンマスタ\"),2,FALSE),\"\")","v":"オプジーボ（術後補助療法、4週間毎）"},"",{"$f":"IFERROR(VLOOKUP(__疾患別コードレジメン名[[#This Row],[列7]],INDIRECT(\"__レジメンマスタ\"),2,FALSE),\"\")","v":""},"",{"$f":"IFERROR(VLOOKUP(__疾患別コードレジメン名[[#This Row],[列8]],INDIRECT(\"__レジメンマスタ\"),2,FALSE),\"\")","v":""},"",{"$f":"IFERROR(VLOOKUP(__疾患別コードレジメン名[[#This Row],[列9]],INDIRECT(\"__レジメンマスタ\"),2,FALSE),\"\")","v":""},"",{"$f":"IFERROR(VLOOKUP(__疾患別コードレジメン名[[#This Row],[列10]],INDIRECT(\"__レジメンマスタ\"),2,FALSE),\"\")","v":""},"",{"$f":"IFERROR(VLOOKUP(__疾患別コードレジメン名[[#This Row],[列11]],INDIRECT(\"__レジメンマスタ\"),2,FALSE),\"\")","v":""},"",{"$f":"IFERROR(VLOOKUP(__疾患別コードレジメン名[[#This Row],[列12]],INDIRECT(\"__レジメンマスタ\"),2,FALSE),\"\")","v":""},"",{"$f":"IFERROR(VLOOKUP(__疾患別コードレジメン名[[#This Row],[列13]],INDIRECT(\"__レジメンマスタ\"),2,FALSE),\"\")","v":""}]
["HEM0017-03",{"$f":"IFERROR(VLOOKUP(__疾患別コードレジメン名[[#This Row],[列1]],INDIRECT(\"__レジメンマスタ\"),2,FALSE),\"\")","v":"LSG15療法 VECPコース（D15～17)"},"RES0032",{"$f":"IFERROR(VLOOKUP(__疾患別コードレジメン名[[#This Row],[列2]],INDIRECT(\"__レジメンマスタ\"),2,FALSE),\"\")","v":"CPT-11単独"},"SUR0049",{"$f":"IFERROR(VLOOKUP(__疾患別コードレジメン名[[#This Row],[列3]],INDIRECT(\"__レジメンマスタ\"),2,FALSE),\"\")","v":"DCS(DOC+CDDP+S1）"},"BRE0031",{"$f":"IFERROR(VLOOKUP(__疾患別コードレジメン名[[#This Row],[列4]],INDIRECT(\"__レジメンマスタ\"),2,FALSE),\"\")","v":"weekly PTX+フェスゴ"},"GYN0044-21",{"$f":"IFERROR(VLOOKUP(__疾患別コードレジメン名[[#This Row],[列5]],INDIRECT(\"__レジメンマスタ\"),2,FALSE),\"\")","v":"TC+ﾃﾞｭﾙﾊﾞﾙﾏﾌﾞ±ｵﾗﾊﾟﾘﾌﾞ(維持療法)"},"URO0040",{"$f":"IFERROR(VLOOKUP(__疾患別コードレジメン名[[#This Row],[列6]],INDIRECT(\"__レジメンマスタ\"),2,FALSE),\"\")","v":"GP"},"",{"$f":"IFERROR(VLOOKUP(__疾患別コードレジメン名[[#This Row],[列7]],INDIRECT(\"__レジメンマスタ\"),2,FALSE),\"\")","v":""},"",{"$f":"IFERROR(VLOOKUP(__疾患別コードレジメン名[[#This Row],[列8]],INDIRECT(\"__レジメンマスタ\"),2,FALSE),\"\")","v":""},"",{"$f":"IFERROR(VLOOKUP(__疾患別コードレジメン名[[#This Row],[列9]],INDIRECT(\"__レジメンマスタ\"),2,FALSE),\"\")","v":""},"",{"$f":"IFERROR(VLOOKUP(__疾患別コードレジメン名[[#This Row],[列10]],INDIRECT(\"__レジメンマスタ\"),2,FALSE),\"\")","v":""},"",{"$f":"IFERROR(VLOOKUP(__疾患別コードレジメン名[[#This Row],[列11]],INDIRECT(\"__レジメンマスタ\"),2,FALSE),\"\")","v":""},"",{"$f":"IFERROR(VLOOKUP(__疾患別コードレジメン名[[#This Row],[列12]],INDIRECT(\"__レジメンマスタ\"),2,FALSE),\"\")","v":""},"",{"$f":"IFERROR(VLOOKUP(__疾患別コードレジメン名[[#This Row],[列13]],INDIRECT(\"__レジメンマスタ\"),2,FALSE),\"\")","v":""}]
["HEM0021",{"$f":"IFERROR(VLOOKUP(__疾患別コードレジメン名[[#This Row],[列1]],INDIRECT(\"__レジメンマスタ\"),2,FALSE),\"\")","v":"THP-COP"},"RES0033",{"$f":"IFERROR(VLOOKUP(__疾患別コードレジメン名[[#This Row],[列2]],INDIRECT(\"__レジメンマスタ\"),2,FALSE),\"\")","v":"CDDP＋Doc+RT"},"SUR0050",{"$f":"IFERROR(VLOOKUP(__疾患別コードレジメン名[[#This Row],[列3]],INDIRECT(\"__レジメンマスタ\"),2,FALSE),\"\")","v":"SOX"},"BRE0032",{"$f":"IFERROR(VLOOKUP(__疾患別コードレジメン名[[#This Row],[列4]],INDIRECT(\"__レジメンマスタ\"),2,FALSE),\"\")","v":"n-PTX+フェスゴ"},"GYN0044-22",{"$f":"IFERROR(VLOOKUP(__疾患別コードレジメン名[[#This Row],[列5]],INDIRECT(\"__レジメンマスタ\"),2,FALSE),\"\")","v":"TC+ﾃﾞｭﾙﾊﾞﾙﾏﾌﾞ±ｵﾗﾊﾟﾘﾌﾞ(維持療法、BW30kg以下)"},"URO0041",{"$f":"IFERROR(VLOOKUP(__疾患別コードレジメン名[[#This Row],[列6]],INDIRECT(\"__レジメンマスタ\"),2,FALSE),\"\")","v":"TIP（陰茎癌）"},"",{"$f":"IFERROR(VLOOKUP(__疾患別コードレジメン名[[#This Row],[列7]],INDIRECT(\"__レジメンマスタ\"),2,FALSE),\"\")","v":""},"",{"$f":"IFERROR(VLOOKUP(__疾患別コードレジメン名[[#This Row],[列8]],INDIRECT(\"__レジメンマスタ\"),2,FALSE),\"\")","v":""},"",{"$f":"IFERROR(VLOOKUP(__疾患別コードレジメン名[[#This Row],[列9]],INDIRECT(\"__レジメンマスタ\"),2,FALSE),\"\")","v":""},"",{"$f":"IFERROR(VLOOKUP(__疾患別コードレジメン名[[#This Row],[列10]],INDIRECT(\"__レジメンマスタ\"),2,FALSE),\"\")","v":""},"",{"$f":"IFERROR(VLOOKUP(__疾患別コードレジメン名[[#This Row],[列11]],INDIRECT(\"__レジメンマスタ\"),2,FALSE),\"\")","v":""},"",{"$f":"IFERROR(VLOOKUP(__疾患別コードレジメン名[[#This Row],[列12]],INDIRECT(\"__レジメンマスタ\"),2,FALSE),\"\")","v":""},"",{"$f":"IFERROR(VLOOKUP(__疾患別コードレジメン名[[#This Row],[列13]],INDIRECT(\"__レジメンマスタ\"),2,FALSE),\"\")","v":""}]
["HEM0023",{"$f":"IFERROR(VLOOKUP(__疾患別コードレジメン名[[#This Row],[列1]],INDIRECT(\"__レジメンマスタ\"),2,FALSE),\"\")","v":"リツキシマブ"},"RES0034",{"$f":"IFERROR(VLOOKUP(__疾患別コードレジメン名[[#This Row],[列2]],INDIRECT(\"__レジメンマスタ\"),2,FALSE),\"\")","v":"CBDCA+PTX+Conc.RT"},"SUR0051",{"$f":"IFERROR(VLOOKUP(__疾患別コードレジメン名[[#This Row],[列3]],INDIRECT(\"__レジメンマスタ\"),2,FALSE),\"\")","v":"S1+IRI"},"BRE0033",{"$f":"IFERROR(VLOOKUP(__疾患別コードレジメン名[[#This Row],[列4]],INDIRECT(\"__レジメンマスタ\"),2,FALSE),\"\")","v":"フェスゴ単剤"},{"$f":"IF(IFERROR(INDIRECT(\"__疾患別コード[@婦人科]\"),0)=0,\"\",INDIRECT(\"__疾患別コード[@婦人科]\"))","v":"GYN0045-1"},{"$f":"IFERROR(VLOOKUP(__疾患別コードレジメン名[[#This Row],[列5]],INDIRECT(\"__レジメンマスタ\"),2,FALSE),\"\")","v":"Pem+TC"},"URO0042",{"$f":"IFERROR(VLOOKUP(__疾患別コードレジメン名[[#This Row],[列6]],INDIRECT(\"__レジメンマスタ\"),2,FALSE),\"\")","v":"キイトルーダ（術後補助療法）"},"",{"$f":"IFERROR(VLOOKUP(__疾患別コードレジメン名[[#This Row],[列7]],INDIRECT(\"__レジメンマスタ\"),2,FALSE),\"\")","v":""},"",{"$f":"IFERROR(VLOOKUP(__疾患別コードレジメン名[[#This Row],[列8]],INDIRECT(\"__レジメンマスタ\"),2,FALSE),\"\")","v":""},"",{"$f":"IFERROR(VLOOKUP(__疾患別コードレジメン名[[#This Row],[列9]],INDIRECT(\"__レジメンマスタ\"),2,FALSE),\"\")","v":""},"",{"$f":"IFERROR(VLOOKUP(__疾患別コードレジメン名[[#This Row],[列10]],INDIRECT(\"__レジメンマスタ\"),2,FALSE),\"\")","v":""},"",{"$f":"IFERROR(VLOOKUP(__疾患別コードレジメン名[[#This Row],[列11]],INDIRECT(\"__レジメンマスタ\"),2,FALSE),\"\")","v":""},"",{"$f":"IFERROR(VLOOKUP(__疾患別コードレジメン名[[#This Row],[列12]],INDIRECT(\"__レジメンマスタ\"),2,FALSE),\"\")","v":""},"",{"$f":"IFERROR(VLOOKUP(__疾患別コードレジメン名[[#This Row],[列13]],INDIRECT(\"__レジメンマスタ\"),2,FALSE),\"\")","v":""}]
["HEM0023-02",{"$f":"IFERROR(VLOOKUP(__疾患別コードレジメン名[[#This Row],[列1]],INDIRECT(\"__レジメンマスタ\"),2,FALSE),\"\")","v":"リツキシマブ（ITP）"},"RES0035",{"$f":"IFERROR(VLOOKUP(__疾患別コードレジメン名[[#This Row],[列2]],INDIRECT(\"__レジメンマスタ\"),2,FALSE),\"\")","v":"Beva＋ｴﾙﾛﾁﾆﾌﾞ(臨床試験）"},"SUR0052",{"$f":"IFERROR(VLOOKUP(__疾患別コードレジメン名[[#This Row],[列3]],INDIRECT(\"__レジメンマスタ\"),2,FALSE),\"\")","v":"S1+IRI+BEV"},{"$f":"IF(IFERROR(INDIRECT(\"__疾患別コード[@乳腺]\"),0)=0,\"\",INDIRECT(\"__疾患別コード[@乳腺]\"))","v":"BRE0034"},{"$f":"IFERROR(VLOOKUP(__疾患別コードレジメン名[[#This Row],[列4]],INDIRECT(\"__レジメンマスタ\"),2,FALSE),\"\")","v":"ダトロウェイ"},"GYN0045-2",{"$f":"IFERROR(VLOOKUP(__疾患別コードレジメン名[[#This Row],[列5]],INDIRECT(\"__レジメンマスタ\"),2,FALSE),\"\")","v":"Pem維持療法"},"URO0042-02",{"$f":"IFERROR(VLOOKUP(__疾患別コードレジメン名[[#This Row],[列6]],INDIRECT(\"__レジメンマスタ\"),2,FALSE),\"\")","v":"キイトルーダ（術後補助療法、6週間毎）"},"",{"$f":"IFERROR(VLOOKUP(__疾患別コードレジメン名[[#This Row],[列7]],INDIRECT(\"__レジメンマスタ\"),2,FALSE),\"\")","v":""},"",{"$f":"IFERROR(VLOOKUP(__疾患別コードレジメン名[[#This Row],[列8]],INDIRECT(\"__レジメンマスタ\"),2,FALSE),\"\")","v":""},"",{"$f":"IFERROR(VLOOKUP(__疾患別コードレジメン名[[#This Row],[列9]],INDIRECT(\"__レジメンマスタ\"),2,FALSE),\"\")","v":""},"",{"$f":"IFERROR(VLOOKUP(__疾患別コードレジメン名[[#This Row],[列10]],INDIRECT(\"__レジメンマスタ\"),2,FALSE),\"\")","v":""},"",{"$f":"IFERROR(VLOOKUP(__疾患別コードレジメン名[[#This Row],[列11]],INDIRECT(\"__レジメンマスタ\"),2,FALSE),\"\")","v":""},"",{"$f":"IFERROR(VLOOKUP(__疾患別コードレジメン名[[#This Row],[列12]],INDIRECT(\"__レジメンマスタ\"),2,FALSE),\"\")","v":""},"",{"$f":"IFERROR(VLOOKUP(__疾患別コードレジメン名[[#This Row],[列13]],INDIRECT(\"__レジメンマスタ\"),2,FALSE),\"\")","v":""}]
["HEM0024",{"$f":"IFERROR(VLOOKUP(__疾患別コードレジメン名[[#This Row],[列1]],INDIRECT(\"__レジメンマスタ\"),2,FALSE),\"\")","v":"リツキシマブ＋フルダラ"},"RES0036",{"$f":"IFERROR(VLOOKUP(__疾患別コードレジメン名[[#This Row],[列2]],INDIRECT(\"__レジメンマスタ\"),2,FALSE),\"\")","v":"ニボルマブ"},"SUR0053",{"$f":"IFERROR(VLOOKUP(__疾患別コードレジメン名[[#This Row],[列3]],INDIRECT(\"__レジメンマスタ\"),2,FALSE),\"\")","v":"CAPOX+CET"},"BRE0035",{"$f":"IFERROR(VLOOKUP(__疾患別コードレジメン名[[#This Row],[列4]],INDIRECT(\"__レジメンマスタ\"),2,FALSE),\"\")","v":"トロデルビ"},"",{"$f":"IFERROR(VLOOKUP(__疾患別コードレジメン名[[#This Row],[列5]],INDIRECT(\"__レジメンマスタ\"),2,FALSE),\"\")","v":""},"URO0043",{"$f":"IFERROR(VLOOKUP(__疾患別コードレジメン名[[#This Row],[列6]],INDIRECT(\"__レジメンマスタ\"),2,FALSE),\"\")","v":"EV+Pembro（1～35サイクル目）"},"",{"$f":"IFERROR(VLOOKUP(__疾患別コードレジメン名[[#This Row],[列7]],INDIRECT(\"__レジメンマスタ\"),2,FALSE),\"\")","v":""},"",{"$f":"IFERROR(VLOOKUP(__疾患別コードレジメン名[[#This Row],[列8]],INDIRECT(\"__レジメンマスタ\"),2,FALSE),\"\")","v":""},"",{"$f":"IFERROR(VLOOKUP(__疾患別コードレジメン名[[#This Row],[列9]],INDIRECT(\"__レジメンマスタ\"),2,FALSE),\"\")","v":""},"",{"$f":"IFERROR(VLOOKUP(__疾患別コードレジメン名[[#This Row],[列10]],INDIRECT(\"__レジメンマスタ\"),2,FALSE),\"\")","v":""},"",{"$f":"IFERROR(VLOOKUP(__疾患別コードレジメン名[[#This Row],[列11]],INDIRECT(\"__レジメンマスタ\"),2,FALSE),\"\")","v":""},"",{"$f":"IFERROR(VLOOKUP(__疾患別コードレジメン名[[#This Row],[列12]],INDIRECT(\"__レジメンマスタ\"),2,FALSE),\"\")","v":""},"",{"$f":"IFERROR(VLOOKUP(__疾患別コードレジメン名[[#This Row],[列13]],INDIRECT(\"__レジメンマスタ\"),2,FALSE),\"\")","v":""}]
["HEM0025",{"$f":"IFERROR(VLOOKUP(__疾患別コードレジメン名[[#This Row],[列1]],INDIRECT(\"__レジメンマスタ\"),2,FALSE),\"\")","v":"フルダラ"},"RES0036-2",{"$f":"IFERROR(VLOOKUP(__疾患別コードレジメン名[[#This Row],[列2]],INDIRECT(\"__レジメンマスタ\"),2,FALSE),\"\")","v":"ニボルマブ（4週間毎）"},"SUR0054",{"$f":"IFERROR(VLOOKUP(__疾患別コードレジメン名[[#This Row],[列3]],INDIRECT(\"__レジメンマスタ\"),2,FALSE),\"\")","v":"FOLFOX+CET"},"",{"$f":"IFERROR(VLOOKUP(__疾患別コードレジメン名[[#This Row],[列4]],INDIRECT(\"__レジメンマスタ\"),2,FALSE),\"\")","v":""},"",{"$f":"IFERROR(VLOOKUP(__疾患別コードレジメン名[[#This Row],[列5]],INDIRECT(\"__レジメンマスタ\"),2,FALSE),\"\")","v":""},"URO0044",{"$f":"IFERROR(VLOOKUP(__疾患別コードレジメン名[[#This Row],[列6]],INDIRECT(\"__レジメンマスタ\"),2,FALSE),\"\")","v":"DOC+darolutamide+ADT併用療法"},"",{"$f":"IFERROR(VLOOKUP(__疾患別コードレジメン名[[#This Row],[列7]],INDIRECT(\"__レジメンマスタ\"),2,FALSE),\"\")","v":""},"",{"$f":"IFERROR(VLOOKUP(__疾患別コードレジメン名[[#This Row],[列8]],INDIRECT(\"__レジメンマスタ\"),2,FALSE),\"\")","v":""},"",{"$f":"IFERROR(VLOOKUP(__疾患別コードレジメン名[[#This Row],[列9]],INDIRECT(\"__レジメンマスタ\"),2,FALSE),\"\")","v":""},"",{"$f":"IFERROR(VLOOKUP(__疾患別コードレジメン名[[#This Row],[列10]],INDIRECT(\"__レジメンマスタ\"),2,FALSE),\"\")","v":""},"",{"$f":"IFERROR(VLOOKUP(__疾患別コードレジメン名[[#This Row],[列11]],INDIRECT(\"__レジメンマスタ\"),2,FALSE),\"\")","v":""},"",{"$f":"IFERROR(VLOOKUP(__疾患別コードレジメン名[[#This Row],[列12]],INDIRECT(\"__レジメンマスタ\"),2,FALSE),\"\")","v":""},"",{"$f":"IFERROR(VLOOKUP(__疾患別コードレジメン名[[#This Row],[列13]],INDIRECT(\"__レジメンマスタ\"),2,FALSE),\"\")","v":""}]
["HEM0026",{"$f":"IFERROR(VLOOKUP(__疾患別コードレジメン名[[#This Row],[列1]],INDIRECT(\"__レジメンマスタ\"),2,FALSE),\"\")","v":"ROAD"},"RES0037",{"$f":"IFERROR(VLOOKUP(__疾患別コードレジメン名[[#This Row],[列2]],INDIRECT(\"__レジメンマスタ\"),2,FALSE),\"\")","v":"Rmab+Doc"},"SUR0057",{"$f":"IFERROR(VLOOKUP(__疾患別コードレジメン名[[#This Row],[列3]],INDIRECT(\"__レジメンマスタ\"),2,FALSE),\"\")","v":"PANI"},"",{"$f":"IFERROR(VLOOKUP(__疾患別コードレジメン名[[#This Row],[列4]],INDIRECT(\"__レジメンマスタ\"),2,FALSE),\"\")","v":""},"",{"$f":"IFERROR(VLOOKUP(__疾患別コードレジメン名[[#This Row],[列5]],INDIRECT(\"__レジメンマスタ\"),2,FALSE),\"\")","v":""},"URO0045",{"$f":"IFERROR(VLOOKUP(__疾患別コードレジメン名[[#This Row],[列6]],INDIRECT(\"__レジメンマスタ\"),2,FALSE),\"\")","v":"GC+ニボルマブ"},"",{"$f":"IFERROR(VLOOKUP(__疾患別コードレジメン名[[#This Row],[列7]],INDIRECT(\"__レジメンマスタ\"),2,FALSE),\"\")","v":""},"",{"$f":"IFERROR(VLOOKUP(__疾患別コードレジメン名[[#This Row],[列8]],INDIRECT(\"__レジメンマスタ\"),2,FALSE),\"\")","v":""},"",{"$f":"IFERROR(VLOOKUP(__疾患別コードレジメン名[[#This Row],[列9]],INDIRECT(\"__レジメンマスタ\"),2,FALSE),\"\")","v":""},"",{"$f":"IFERROR(VLOOKUP(__疾患別コードレジメン名[[#This Row],[列10]],INDIRECT(\"__レジメンマスタ\"),2,FALSE),\"\")","v":""},"",{"$f":"IFERROR(VLOOKUP(__疾患別コードレジメン名[[#This Row],[列11]],INDIRECT(\"__レジメンマスタ\"),2,FALSE),\"\")","v":""},"",{"$f":"IFERROR(VLOOKUP(__疾患別コードレジメン名[[#This Row],[列12]],INDIRECT(\"__レジメンマスタ\"),2,FALSE),\"\")","v":""},"",{"$f":"IFERROR(VLOOKUP(__疾患別コードレジメン名[[#This Row],[列13]],INDIRECT(\"__レジメンマスタ\"),2,FALSE),\"\")","v":""}]
["HEM0027",{"$f":"IFERROR(VLOOKUP(__疾患別コードレジメン名[[#This Row],[列1]],INDIRECT(\"__レジメンマスタ\"),2,FALSE),\"\")","v":"VAD"},"RES0038",{"$f":"IFERROR(VLOOKUP(__疾患別コードレジメン名[[#This Row],[列2]],INDIRECT(\"__レジメンマスタ\"),2,FALSE),\"\")","v":"ペムブロリズマブ"},"SUR0058",{"$f":"IFERROR(VLOOKUP(__疾患別コードレジメン名[[#This Row],[列3]],INDIRECT(\"__レジメンマスタ\"),2,FALSE),\"\")","v":"FOLFOX+PANI"},"",{"$f":"IFERROR(VLOOKUP(__疾患別コードレジメン名[[#This Row],[列4]],INDIRECT(\"__レジメンマスタ\"),2,FALSE),\"\")","v":""},"",{"$f":"IFERROR(VLOOKUP(__疾患別コードレジメン名[[#This Row],[列5]],INDIRECT(\"__レジメンマスタ\"),2,FALSE),\"\")","v":""},{"$f":"IF(IFERROR(INDIRECT(\"__疾患別コード[@泌尿器]\"),0)=0,\"\",INDIRECT(\"__疾患別コード[@泌尿器]\"))","v":"URO0045-20"},{"$f":"IFERROR(VLOOKUP(__疾患別コードレジメン名[[#This Row],[列6]],INDIRECT(\"__レジメンマスタ\"),2,FALSE),\"\")","v":"GC+ニボルマブ（維持療法）"},"",{"$f":"IFERROR(VLOOKUP(__疾患別コードレジメン名[[#This Row],[列7]],INDIRECT(\"__レジメンマスタ\"),2,FALSE),\"\")","v":""},"",{"$f":"IFERROR(VLOOKUP(__疾患別コードレジメン名[[#This Row],[列8]],INDIRECT(\"__レジメンマスタ\"),2,FALSE),\"\")","v":""},"",{"$f":"IFERROR(VLOOKUP(__疾患別コードレジメン名[[#This Row],[列9]],INDIRECT(\"__レジメンマスタ\"),2,FALSE),\"\")","v":""},"",{"$f":"IFERROR(VLOOKUP(__疾患別コードレジメン名[[#This Row],[列10]],INDIRECT(\"__レジメンマスタ\"),2,FALSE),\"\")","v":""},"",{"$f":"IFERROR(VLOOKUP(__疾患別コードレジメン名[[#This Row],[列11]],INDIRECT(\"__レジメンマスタ\"),2,FALSE),\"\")","v":""},"",{"$f":"IFERROR(VLOOKUP(__疾患別コードレジメン名[[#This Row],[列12]],INDIRECT(\"__レジメンマスタ\"),2,FALSE),\"\")","v":""},"",{"$f":"IFERROR(VLOOKUP(__疾患別コードレジメン名[[#This Row],[列13]],INDIRECT(\"__レジメンマスタ\"),2,FALSE),\"\")","v":""}]
["HEM0029",{"$f":"IFERROR(VLOOKUP(__疾患別コードレジメン名[[#This Row],[列1]],INDIRECT(\"__レジメンマスタ\"),2,FALSE),\"\")","v":"幹細胞採取（ETP）"},"RES0038-02",{"$f":"IFERROR(VLOOKUP(__疾患別コードレジメン名[[#This Row],[列2]],INDIRECT(\"__レジメンマスタ\"),2,FALSE),\"\")","v":"ペムブロリズマブ（6週間毎）"},"SUR0059",{"$f":"IFERROR(VLOOKUP(__疾患別コードレジメン名[[#This Row],[列3]],INDIRECT(\"__レジメンマスタ\"),2,FALSE),\"\")","v":"FOLFIRI+PANI"},"内服単剤S1：A法",{"$f":"IFERROR(VLOOKUP(__疾患別コードレジメン名[[#This Row],[列4]],INDIRECT(\"__レジメンマスタ\"),2,FALSE),\"\")","v":"S1：A法"},"ラステットS(子宮頚癌)",{"$f":"IFERROR(VLOOKUP(__疾患別コードレジメン名[[#This Row],[列5]],INDIRECT(\"__レジメンマスタ\"),2,FALSE),\"\")","v":"ラステットS(子宮頚癌)"},"URO0045-30",{"$f":"IFERROR(VLOOKUP(__疾患別コードレジメン名[[#This Row],[列6]],INDIRECT(\"__レジメンマスタ\"),2,FALSE),\"\")","v":"GC+ニボルマブ（維持療法、4週間毎）"},"",{"$f":"IFERROR(VLOOKUP(__疾患別コードレジメン名[[#This Row],[列7]],INDIRECT(\"__レジメンマスタ\"),2,FALSE),\"\")","v":""},"",{"$f":"IFERROR(VLOOKUP(__疾患別コードレジメン名[[#This Row],[列8]],INDIRECT(\"__レジメンマスタ\"),2,FALSE),\"\")","v":""},"",{"$f":"IFERROR(VLOOKUP(__疾患別コードレジメン名[[#This Row],[列9]],INDIRECT(\"__レジメンマスタ\"),2,FALSE),\"\")","v":""},"",{"$f":"IFERROR(VLOOKUP(__疾患別コードレジメン名[[#This Row],[列10]],INDIRECT(\"__レジメンマスタ\"),2,FALSE),\"\")","v":""},"",{"$f":"IFERROR(VLOOKUP(__疾患別コードレジメン名[[#This Row],[列11]],INDIRECT(\"__レジメンマスタ\"),2,FALSE),\"\")","v":""},"",{"$f":"IFERROR(VLOOKUP(__疾患別コードレジメン名[[#This Row],[列12]],INDIRECT(\"__レジメンマスタ\"),2,FALSE),\"\")","v":""},"",{"$f":"IFERROR(VLOOKUP(__疾患別コードレジメン名[[#This Row],[列13]],INDIRECT(\"__レジメンマスタ\"),2,FALSE),\"\")","v":""}]
["HEM0035",{"$f":"IFERROR(VLOOKUP(__疾患別コードレジメン名[[#This Row],[列1]],INDIRECT(\"__レジメンマスタ\"),2,FALSE),\"\")","v":"C-MOPP"},"RES0039",{"$f":"IFERROR(VLOOKUP(__疾患別コードレジメン名[[#This Row],[列2]],INDIRECT(\"__レジメンマスタ\"),2,FALSE),\"\")","v":"アテゾリズマブ"},"SUR0060",{"$f":"IFERROR(VLOOKUP(__疾患別コードレジメン名[[#This Row],[列3]],INDIRECT(\"__レジメンマスタ\"),2,FALSE),\"\")","v":"CDDP+FU"},"内服単剤S1(乳癌術後補助）",{"$f":"IFERROR(VLOOKUP(__疾患別コードレジメン名[[#This Row],[列4]],INDIRECT(\"__レジメンマスタ\"),2,FALSE),\"\")","v":"内服単剤S1(乳癌術後補助）"},"ラステットS(卵巣癌)",{"$f":"IFERROR(VLOOKUP(__疾患別コードレジメン名[[#This Row],[列5]],INDIRECT(\"__レジメンマスタ\"),2,FALSE),\"\")","v":"ラステットS(卵巣癌)"},{"$f":"IF(IFERROR(INDIRECT(\"__疾患別コード[@泌尿器]\"),0)=0,\"\",INDIRECT(\"__疾患別コード[@泌尿器]\"))","v":""},{"$f":"IFERROR(VLOOKUP(__疾患別コードレジメン名[[#This Row],[列6]],INDIRECT(\"__レジメンマスタ\"),2,FALSE),\"\")","v":""},"",{"$f":"IFERROR(VLOOKUP(__疾患別コードレジメン名[[#This Row],[列7]],INDIRECT(\"__レジメンマスタ\"),2,FALSE),\"\")","v":""},"",{"$f":"IFERROR(VLOOKUP(__疾患別コードレジメン名[[#This Row],[列8]],INDIRECT(\"__レジメンマスタ\"),2,FALSE),\"\")","v":""},"",{"$f":"IFERROR(VLOOKUP(__疾患別コードレジメン名[[#This Row],[列9]],INDIRECT(\"__レジメンマスタ\"),2,FALSE),\"\")","v":""},"",{"$f":"IFERROR(VLOOKUP(__疾患別コードレジメン名[[#This Row],[列10]],INDIRECT(\"__レジメンマスタ\"),2,FALSE),\"\")","v":""},"",{"$f":"IFERROR(VLOOKUP(__疾患別コードレジメン名[[#This Row],[列11]],INDIRECT(\"__レジメンマスタ\"),2,FALSE),\"\")","v":""},"",{"$f":"IFERROR(VLOOKUP(__疾患別コードレジメン名[[#This Row],[列12]],INDIRECT(\"__レジメンマスタ\"),2,FALSE),\"\")","v":""},"",{"$f":"IFERROR(VLOOKUP(__疾患別コードレジメン名[[#This Row],[列13]],INDIRECT(\"__レジメンマスタ\"),2,FALSE),\"\")","v":""}]
["HEM0037",{"$f":"IFERROR(VLOOKUP(__疾患別コードレジメン名[[#This Row],[列1]],INDIRECT(\"__レジメンマスタ\"),2,FALSE),\"\")","v":"ESHAP"},"RES0039-02",{"$f":"IFERROR(VLOOKUP(__疾患別コードレジメン名[[#This Row],[列2]],INDIRECT(\"__レジメンマスタ\"),2,FALSE),\"\")","v":"アテゾリズマブ（4週間毎）"},"SUR0061",{"$f":"IFERROR(VLOOKUP(__疾患別コードレジメン名[[#This Row],[列3]],INDIRECT(\"__レジメンマスタ\"),2,FALSE),\"\")","v":"FP+トラスツズマブ"},"内服Cape：A法",{"$f":"IFERROR(VLOOKUP(__疾患別コードレジメン名[[#This Row],[列4]],INDIRECT(\"__レジメンマスタ\"),2,FALSE),\"\")","v":"カペシタビン：A法"},"UFT(ﾃｶﾞﾌｰﾙｳﾗｼﾙ)",{"$f":"IFERROR(VLOOKUP(__疾患別コードレジメン名[[#This Row],[列5]],INDIRECT(\"__レジメンマスタ\"),2,FALSE),\"\")","v":"テガフール・ウラシル療法"},"",{"$f":"IFERROR(VLOOKUP(__疾患別コードレジメン名[[#This Row],[列6]],INDIRECT(\"__レジメンマスタ\"),2,FALSE),\"\")","v":""},"",{"$f":"IFERROR(VLOOKUP(__疾患別コードレジメン名[[#This Row],[列7]],INDIRECT(\"__レジメンマスタ\"),2,FALSE),\"\")","v":""},"",{"$f":"IFERROR(VLOOKUP(__疾患別コードレジメン名[[#This Row],[列8]],INDIRECT(\"__レジメンマスタ\"),2,FALSE),\"\")","v":""},"",{"$f":"IFERROR(VLOOKUP(__疾患別コードレジメン名[[#This Row],[列9]],INDIRECT(\"__レジメンマスタ\"),2,FALSE),\"\")","v":""},"",{"$f":"IFERROR(VLOOKUP(__疾患別コードレジメン名[[#This Row],[列10]],INDIRECT(\"__レジメンマスタ\"),2,FALSE),\"\")","v":""},"",{"$f":"IFERROR(VLOOKUP(__疾患別コードレジメン名[[#This Row],[列11]],INDIRECT(\"__レジメンマスタ\"),2,FALSE),\"\")","v":""},"",{"$f":"IFERROR(VLOOKUP(__疾患別コードレジメン名[[#This Row],[列12]],INDIRECT(\"__レジメンマスタ\"),2,FALSE),\"\")","v":""},"",{"$f":"IFERROR(VLOOKUP(__疾患別コードレジメン名[[#This Row],[列13]],INDIRECT(\"__レジメンマスタ\"),2,FALSE),\"\")","v":""}]
["HEM0038",{"$f":"IFERROR(VLOOKUP(__疾患別コードレジメン名[[#This Row],[列1]],INDIRECT(\"__レジメンマスタ\"),2,FALSE),\"\")","v":"DeVIC"},"RES0040",{"$f":"IFERROR(VLOOKUP(__疾患別コードレジメン名[[#This Row],[列2]],INDIRECT(\"__レジメンマスタ\"),2,FALSE),\"\")","v":"デュルバルマブ（体重30kg以上）"},"SUR0063",{"$f":"IFERROR(VLOOKUP(__疾患別コードレジメン名[[#This Row],[列3]],INDIRECT(\"__レジメンマスタ\"),2,FALSE),\"\")","v":"XP+トラスツズマブ"},"内服Cape：B法",{"$f":"IFERROR(VLOOKUP(__疾患別コードレジメン名[[#This Row],[列4]],INDIRECT(\"__レジメンマスタ\"),2,FALSE),\"\")","v":"カペシタビン：B法"},"",{"$f":"IFERROR(VLOOKUP(__疾患別コードレジメン名[[#This Row],[列5]],INDIRECT(\"__レジメンマスタ\"),2,FALSE),\"\")","v":""},"UFT(ﾃｶﾞﾌｰﾙｳﾗｼﾙ)",{"$f":"IFERROR(VLOOKUP(__疾患別コードレジメン名[[#This Row],[列6]],INDIRECT(\"__レジメンマスタ\"),2,FALSE),\"\")","v":"テガフール・ウラシル療法"},"",{"$f":"IFERROR(VLOOKUP(__疾患別コードレジメン名[[#This Row],[列7]],INDIRECT(\"__レジメンマスタ\"),2,FALSE),\"\")","v":""},"",{"$f":"IFERROR(VLOOKUP(__疾患別コードレジメン名[[#This Row],[列8]],INDIRECT(\"__レジメンマスタ\"),2,FALSE),\"\")","v":""},"",{"$f":"IFERROR(VLOOKUP(__疾患別コードレジメン名[[#This Row],[列9]],INDIRECT(\"__レジメンマスタ\"),2,FALSE),\"\")","v":""},"",{"$f":"IFERROR(VLOOKUP(__疾患別コードレジメン名[[#This Row],[列10]],INDIRECT(\"__レジメンマスタ\"),2,FALSE),\"\")","v":""},"",{"$f":"IFERROR(VLOOKUP(__疾患別コードレジメン名[[#This Row],[列11]],INDIRECT(\"__レジメンマスタ\"),2,FALSE),\"\")","v":""},"",{"$f":"IFERROR(VLOOKUP(__疾患別コードレジメン名[[#This Row],[列12]],INDIRECT(\"__レジメンマスタ\"),2,FALSE),\"\")","v":""},"",{"$f":"IFERROR(VLOOKUP(__疾患別コードレジメン名[[#This Row],[列13]],INDIRECT(\"__レジメンマスタ\"),2,FALSE),\"\")","v":""}]
["HEM0044",{"$f":"IFERROR(VLOOKUP(__疾患別コードレジメン名[[#This Row],[列1]],INDIRECT(\"__レジメンマスタ\"),2,FALSE),\"\")","v":"CHASER療法"},"RES0040-2",{"$f":"IFERROR(VLOOKUP(__疾患別コードレジメン名[[#This Row],[列2]],INDIRECT(\"__レジメンマスタ\"),2,FALSE),\"\")","v":"デュルバルマブ（体重30kg以下）"},"SUR0064",{"$f":"IFERROR(VLOOKUP(__疾患別コードレジメン名[[#This Row],[列3]],INDIRECT(\"__レジメンマスタ\"),2,FALSE),\"\")","v":"XP"},"内服Cape：C法",{"$f":"IFERROR(VLOOKUP(__疾患別コードレジメン名[[#This Row],[列4]],INDIRECT(\"__レジメンマスタ\"),2,FALSE),\"\")","v":"カペシタビン：C法＋タイケルブ"},"",{"$f":"IFERROR(VLOOKUP(__疾患別コードレジメン名[[#This Row],[列5]],INDIRECT(\"__レジメンマスタ\"),2,FALSE),\"\")","v":""},"スーテント(GIST,腎細胞癌)",{"$f":"IFERROR(VLOOKUP(__疾患別コードレジメン名[[#This Row],[列6]],INDIRECT(\"__レジメンマスタ\"),2,FALSE),\"\")","v":"スーテント(GIST,腎細胞癌)"},"",{"$f":"IFERROR(VLOOKUP(__疾患別コードレジメン名[[#This Row],[列7]],INDIRECT(\"__レジメンマスタ\"),2,FALSE),\"\")","v":""},"",{"$f":"IFERROR(VLOOKUP(__疾患別コードレジメン名[[#This Row],[列8]],INDIRECT(\"__レジメンマスタ\"),2,FALSE),\"\")","v":""},"",{"$f":"IFERROR(VLOOKUP(__疾患別コードレジメン名[[#This Row],[列9]],INDIRECT(\"__レジメンマスタ\"),2,FALSE),\"\")","v":""},"",{"$f":"IFERROR(VLOOKUP(__疾患別コードレジメン名[[#This Row],[列10]],INDIRECT(\"__レジメンマスタ\"),2,FALSE),\"\")","v":""},"",{"$f":"IFERROR(VLOOKUP(__疾患別コードレジメン名[[#This Row],[列11]],INDIRECT(\"__レジメンマスタ\"),2,FALSE),\"\")","v":""},"",{"$f":"IFERROR(VLOOKUP(__疾患別コードレジメン名[[#This Row],[列12]],INDIRECT(\"__レジメンマスタ\"),2,FALSE),\"\")","v":""},"",{"$f":"IFERROR(VLOOKUP(__疾患別コードレジメン名[[#This Row],[列13]],INDIRECT(\"__レジメンマスタ\"),2,FALSE),\"\")","v":""}]
["HEM0045",{"$f":"IFERROR(VLOOKUP(__疾患別コードレジメン名[[#This Row],[列1]],INDIRECT(\"__レジメンマスタ\"),2,FALSE),\"\")","v":"PBSCTの前処置（l-PAM：多発性骨髄腫）"},"RES0041",{"$f":"IFERROR(VLOOKUP(__疾患別コードレジメン名[[#This Row],[列2]],INDIRECT(\"__レジメンマスタ\"),2,FALSE),\"\")","v":"ニボルマブ"},"SUR0067",{"$f":"IFERROR(VLOOKUP(__疾患別コードレジメン名[[#This Row],[列3]],INDIRECT(\"__レジメンマスタ\"),2,FALSE),\"\")","v":"GEM＋タルセバ"},"UFT(ﾃｶﾞﾌｰﾙｳﾗｼﾙ)",{"$f":"IFERROR(VLOOKUP(__疾患別コードレジメン名[[#This Row],[列4]],INDIRECT(\"__レジメンマスタ\"),2,FALSE),\"\")","v":"テガフール・ウラシル療法"},"",{"$f":"IFERROR(VLOOKUP(__疾患別コードレジメン名[[#This Row],[列5]],INDIRECT(\"__レジメンマスタ\"),2,FALSE),\"\")","v":""},"",{"$f":"IFERROR(VLOOKUP(__疾患別コードレジメン名[[#This Row],[列6]],INDIRECT(\"__レジメンマスタ\"),2,FALSE),\"\")","v":""},"",{"$f":"IFERROR(VLOOKUP(__疾患別コードレジメン名[[#This Row],[列7]],INDIRECT(\"__レジメンマスタ\"),2,FALSE),\"\")","v":""},"",{"$f":"IFERROR(VLOOKUP(__疾患別コードレジメン名[[#This Row],[列8]],INDIRECT(\"__レジメンマスタ\"),2,FALSE),\"\")","v":""},"",{"$f":"IFERROR(VLOOKUP(__疾患別コードレジメン名[[#This Row],[列9]],INDIRECT(\"__レジメンマスタ\"),2,FALSE),\"\")","v":""},"",{"$f":"IFERROR(VLOOKUP(__疾患別コードレジメン名[[#This Row],[列10]],INDIRECT(\"__レジメンマスタ\"),2,FALSE),\"\")","v":""},"",{"$f":"IFERROR(VLOOKUP(__疾患別コードレジメン名[[#This Row],[列11]],INDIRECT(\"__レジメンマスタ\"),2,FALSE),\"\")","v":""},"",{"$f":"IFERROR(VLOOKUP(__疾患別コードレジメン名[[#This Row],[列12]],INDIRECT(\"__レジメンマスタ\"),2,FALSE),\"\")","v":""},"",{"$f":"IFERROR(VLOOKUP(__疾患別コードレジメン名[[#This Row],[列13]],INDIRECT(\"__レジメンマスタ\"),2,FALSE),\"\")","v":""}]
["HEM0048",{"$f":"IFERROR(VLOOKUP(__疾患別コードレジメン名[[#This Row],[列1]],INDIRECT(\"__レジメンマスタ\"),2,FALSE),\"\")","v":"CAG（70歳未満）"},"RES0042",{"$f":"IFERROR(VLOOKUP(__疾患別コードレジメン名[[#This Row],[列2]],INDIRECT(\"__レジメンマスタ\"),2,FALSE),\"\")","v":"Pembro+CBDCA+n-PTX"},"SUR0073",{"$f":"IFERROR(VLOOKUP(__疾患別コードレジメン名[[#This Row],[列3]],INDIRECT(\"__レジメンマスタ\"),2,FALSE),\"\")","v":"GC"},"イブランス",{"$f":"IFERROR(VLOOKUP(__疾患別コードレジメン名[[#This Row],[列4]],INDIRECT(\"__レジメンマスタ\"),2,FALSE),\"\")","v":"イブランス"},"",{"$f":"IFERROR(VLOOKUP(__疾患別コードレジメン名[[#This Row],[列5]],INDIRECT(\"__レジメンマスタ\"),2,FALSE),\"\")","v":""},"",{"$f":"IFERROR(VLOOKUP(__疾患別コードレジメン名[[#This Row],[列6]],INDIRECT(\"__レジメンマスタ\"),2,FALSE),\"\")","v":""},"",{"$f":"IFERROR(VLOOKUP(__疾患別コードレジメン名[[#This Row],[列7]],INDIRECT(\"__レジメンマスタ\"),2,FALSE),\"\")","v":""},"",{"$f":"IFERROR(VLOOKUP(__疾患別コードレジメン名[[#This Row],[列8]],INDIRECT(\"__レジメンマスタ\"),2,FALSE),\"\")","v":""},"",{"$f":"IFERROR(VLOOKUP(__疾患別コードレジメン名[[#This Row],[列9]],INDIRECT(\"__レジメンマスタ\"),2,FALSE),\"\")","v":""},"",{"$f":"IFERROR(VLOOKUP(__疾患別コードレジメン名[[#This Row],[列10]],INDIRECT(\"__レジメンマスタ\"),2,FALSE),\"\")","v":""},"",{"$f":"IFERROR(VLOOKUP(__疾患別コードレジメン名[[#This Row],[列11]],INDIRECT(\"__レジメンマスタ\"),2,FALSE),\"\")","v":""},"",{"$f":"IFERROR(VLOOKUP(__疾患別コードレジメン名[[#This Row],[列12]],INDIRECT(\"__レジメンマスタ\"),2,FALSE),\"\")","v":""},"",{"$f":"IFERROR(VLOOKUP(__疾患別コードレジメン名[[#This Row],[列13]],INDIRECT(\"__レジメンマスタ\"),2,FALSE),\"\")","v":""}]
["HEM0048-1",{"$f":"IFERROR(VLOOKUP(__疾患別コードレジメン名[[#This Row],[列1]],INDIRECT(\"__レジメンマスタ\"),2,FALSE),\"\")","v":"CAG（70歳以上）"},"RES0043-00",{"$f":"IFERROR(VLOOKUP(__疾患別コードレジメン名[[#This Row],[列2]],INDIRECT(\"__レジメンマスタ\"),2,FALSE),\"\")","v":"Atezo+Beva+CBDCA+PTX (PTX:175mg/㎡)"},"SUR0074",{"$f":"IFERROR(VLOOKUP(__疾患別コードレジメン名[[#This Row],[列3]],INDIRECT(\"__レジメンマスタ\"),2,FALSE),\"\")","v":"CAPIRI+BEV"},"",{"$f":"IFERROR(VLOOKUP(__疾患別コードレジメン名[[#This Row],[列4]],INDIRECT(\"__レジメンマスタ\"),2,FALSE),\"\")","v":""},"",{"$f":"IFERROR(VLOOKUP(__疾患別コードレジメン名[[#This Row],[列5]],INDIRECT(\"__レジメンマスタ\"),2,FALSE),\"\")","v":""},"",{"$f":"IFERROR(VLOOKUP(__疾患別コードレジメン名[[#This Row],[列6]],INDIRECT(\"__レジメンマスタ\"),2,FALSE),\"\")","v":""},"",{"$f":"IFERROR(VLOOKUP(__疾患別コードレジメン名[[#This Row],[列7]],INDIRECT(\"__レジメンマスタ\"),2,FALSE),\"\")","v":""},"",{"$f":"IFERROR(VLOOKUP(__疾患別コードレジメン名[[#This Row],[列8]],INDIRECT(\"__レジメンマスタ\"),2,FALSE),\"\")","v":""},"",{"$f":"IFERROR(VLOOKUP(__疾患別コードレジメン名[[#This Row],[列9]],INDIRECT(\"__レジメンマスタ\"),2,FALSE),\"\")","v":""},"",{"$f":"IFERROR(VLOOKUP(__疾患別コードレジメン名[[#This Row],[列10]],INDIRECT(\"__レジメンマスタ\"),2,FALSE),\"\")","v":""},"",{"$f":"IFERROR(VLOOKUP(__疾患別コードレジメン名[[#This Row],[列11]],INDIRECT(\"__レジメンマスタ\"),2,FALSE),\"\")","v":""},"",{"$f":"IFERROR(VLOOKUP(__疾患別コードレジメン名[[#This Row],[列12]],INDIRECT(\"__レジメンマスタ\"),2,FALSE),\"\")","v":""},"",{"$f":"IFERROR(VLOOKUP(__疾患別コードレジメン名[[#This Row],[列13]],INDIRECT(\"__レジメンマスタ\"),2,FALSE),\"\")","v":""}]
["HEM0049",{"$f":"IFERROR(VLOOKUP(__疾患別コードレジメン名[[#This Row],[列1]],INDIRECT(\"__レジメンマスタ\"),2,FALSE),\"\")","v":"DHAP"},"RES0043-01",{"$f":"IFERROR(VLOOKUP(__疾患別コードレジメン名[[#This Row],[列2]],INDIRECT(\"__レジメンマスタ\"),2,FALSE),\"\")","v":"Atezo+Beva+CBDCA+PTX"},"SUR0075",{"$f":"IFERROR(VLOOKUP(__疾患別コードレジメン名[[#This Row],[列3]],INDIRECT(\"__レジメンマスタ\"),2,FALSE),\"\")","v":"CAPIRI"},"",{"$f":"IFERROR(VLOOKUP(__疾患別コードレジメン名[[#This Row],[列4]],INDIRECT(\"__レジメンマスタ\"),2,FALSE),\"\")","v":""},"",{"$f":"IFERROR(VLOOKUP(__疾患別コードレジメン名[[#This Row],[列5]],INDIRECT(\"__レジメンマスタ\"),2,FALSE),\"\")","v":""},"",{"$f":"IFERROR(VLOOKUP(__疾患別コードレジメン名[[#This Row],[列6]],INDIRECT(\"__レジメンマスタ\"),2,FALSE),\"\")","v":""},"",{"$f":"IFERROR(VLOOKUP(__疾患別コードレジメン名[[#This Row],[列7]],INDIRECT(\"__レジメンマスタ\"),2,FALSE),\"\")","v":""},"",{"$f":"IFERROR(VLOOKUP(__疾患別コードレジメン名[[#This Row],[列8]],INDIRECT(\"__レジメンマスタ\"),2,FALSE),\"\")","v":""},"",{"$f":"IFERROR(VLOOKUP(__疾患別コードレジメン名[[#This Row],[列9]],INDIRECT(\"__レジメンマスタ\"),2,FALSE),\"\")","v":""},"",{"$f":"IFERROR(VLOOKUP(__疾患別コードレジメン名[[#This Row],[列10]],INDIRECT(\"__レジメンマスタ\"),2,FALSE),\"\")","v":""},"",{"$f":"IFERROR(VLOOKUP(__疾患別コードレジメン名[[#This Row],[列11]],INDIRECT(\"__レジメンマスタ\"),2,FALSE),\"\")","v":""},"",{"$f":"IFERROR(VLOOKUP(__疾患別コードレジメン名[[#This Row],[列12]],INDIRECT(\"__レジメンマスタ\"),2,FALSE),\"\")","v":""},"",{"$f":"IFERROR(VLOOKUP(__疾患別コードレジメン名[[#This Row],[列13]],INDIRECT(\"__レジメンマスタ\"),2,FALSE),\"\")","v":""}]
["HEM0052",{"$f":"IFERROR(VLOOKUP(__疾患別コードレジメン名[[#This Row],[列1]],INDIRECT(\"__レジメンマスタ\"),2,FALSE),\"\")","v":"幹細胞採取（CPA）"},"RES0044",{"$f":"IFERROR(VLOOKUP(__疾患別コードレジメン名[[#This Row],[列2]],INDIRECT(\"__レジメンマスタ\"),2,FALSE),\"\")","v":"Pembro+CBDCA+PEM"},"SUR0081-01",{"$f":"IFERROR(VLOOKUP(__疾患別コードレジメン名[[#This Row],[列3]],INDIRECT(\"__レジメンマスタ\"),2,FALSE),\"\")","v":"FOLFIRINOX"},"",{"$f":"IFERROR(VLOOKUP(__疾患別コードレジメン名[[#This Row],[列4]],INDIRECT(\"__レジメンマスタ\"),2,FALSE),\"\")","v":""},"",{"$f":"IFERROR(VLOOKUP(__疾患別コードレジメン名[[#This Row],[列5]],INDIRECT(\"__レジメンマスタ\"),2,FALSE),\"\")","v":""},"",{"$f":"IFERROR(VLOOKUP(__疾患別コードレジメン名[[#This Row],[列6]],INDIRECT(\"__レジメンマスタ\"),2,FALSE),\"\")","v":""},"",{"$f":"IFERROR(VLOOKUP(__疾患別コードレジメン名[[#This Row],[列7]],INDIRECT(\"__レジメンマスタ\"),2,FALSE),\"\")","v":""},"",{"$f":"IFERROR(VLOOKUP(__疾患別コードレジメン名[[#This Row],[列8]],INDIRECT(\"__レジメンマスタ\"),2,FALSE),\"\")","v":""},"",{"$f":"IFERROR(VLOOKUP(__疾患別コードレジメン名[[#This Row],[列9]],INDIRECT(\"__レジメンマスタ\"),2,FALSE),\"\")","v":""},"",{"$f":"IFERROR(VLOOKUP(__疾患別コードレジメン名[[#This Row],[列10]],INDIRECT(\"__レジメンマスタ\"),2,FALSE),\"\")","v":""},"",{"$f":"IFERROR(VLOOKUP(__疾患別コードレジメン名[[#This Row],[列11]],INDIRECT(\"__レジメンマスタ\"),2,FALSE),\"\")","v":""},"",{"$f":"IFERROR(VLOOKUP(__疾患別コードレジメン名[[#This Row],[列12]],INDIRECT(\"__レジメンマスタ\"),2,FALSE),\"\")","v":""},"",{"$f":"IFERROR(VLOOKUP(__疾患別コードレジメン名[[#This Row],[列13]],INDIRECT(\"__レジメンマスタ\"),2,FALSE),\"\")","v":""}]
["HEM0053",{"$f":"IFERROR(VLOOKUP(__疾患別コードレジメン名[[#This Row],[列1]],INDIRECT(\"__レジメンマスタ\"),2,FALSE),\"\")","v":"CHOP変法（VDS)"},"RES0045",{"$f":"IFERROR(VLOOKUP(__疾患別コードレジメン名[[#This Row],[列2]],INDIRECT(\"__レジメンマスタ\"),2,FALSE),\"\")","v":"CBDCA+ETP+Atezo"},"SUR0081-02",{"$f":"IFERROR(VLOOKUP(__疾患別コードレジメン名[[#This Row],[列3]],INDIRECT(\"__レジメンマスタ\"),2,FALSE),\"\")","v":"mFOLFIRINOX"},"",{"$f":"IFERROR(VLOOKUP(__疾患別コードレジメン名[[#This Row],[列4]],INDIRECT(\"__レジメンマスタ\"),2,FALSE),\"\")","v":""},"",{"$f":"IFERROR(VLOOKUP(__疾患別コードレジメン名[[#This Row],[列5]],INDIRECT(\"__レジメンマスタ\"),2,FALSE),\"\")","v":""},"",{"$f":"IFERROR(VLOOKUP(__疾患別コードレジメン名[[#This Row],[列6]],INDIRECT(\"__レジメンマスタ\"),2,FALSE),\"\")","v":""},"",{"$f":"IFERROR(VLOOKUP(__疾患別コードレジメン名[[#This Row],[列7]],INDIRECT(\"__レジメンマスタ\"),2,FALSE),\"\")","v":""},"",{"$f":"IFERROR(VLOOKUP(__疾患別コードレジメン名[[#This Row],[列8]],INDIRECT(\"__レジメンマスタ\"),2,FALSE),\"\")","v":""},"",{"$f":"IFERROR(VLOOKUP(__疾患別コードレジメン名[[#This Row],[列9]],INDIRECT(\"__レジメンマスタ\"),2,FALSE),\"\")","v":""},"",{"$f":"IFERROR(VLOOKUP(__疾患別コードレジメン名[[#This Row],[列10]],INDIRECT(\"__レジメンマスタ\"),2,FALSE),\"\")","v":""},"",{"$f":"IFERROR(VLOOKUP(__疾患別コードレジメン名[[#This Row],[列11]],INDIRECT(\"__レジメンマスタ\"),2,FALSE),\"\")","v":""},"",{"$f":"IFERROR(VLOOKUP(__疾患別コードレジメン名[[#This Row],[列12]],INDIRECT(\"__レジメンマスタ\"),2,FALSE),\"\")","v":""},"",{"$f":"IFERROR(VLOOKUP(__疾患別コードレジメン名[[#This Row],[列13]],INDIRECT(\"__レジメンマスタ\"),2,FALSE),\"\")","v":""}]
["HEM0056",{"$f":"IFERROR(VLOOKUP(__疾患別コードレジメン名[[#This Row],[列1]],INDIRECT(\"__レジメンマスタ\"),2,FALSE),\"\")","v":"LEED療法"},"RES0045-2",{"$f":"IFERROR(VLOOKUP(__疾患別コードレジメン名[[#This Row],[列2]],INDIRECT(\"__レジメンマスタ\"),2,FALSE),\"\")","v":"CBDCA+ETP+Atezo（維持療法）"},"SUR0084",{"$f":"IFERROR(VLOOKUP(__疾患別コードレジメン名[[#This Row],[列3]],INDIRECT(\"__レジメンマスタ\"),2,FALSE),\"\")","v":"GEM+n-PTX"},"",{"$f":"IFERROR(VLOOKUP(__疾患別コードレジメン名[[#This Row],[列4]],INDIRECT(\"__レジメンマスタ\"),2,FALSE),\"\")","v":""},"",{"$f":"IFERROR(VLOOKUP(__疾患別コードレジメン名[[#This Row],[列5]],INDIRECT(\"__レジメンマスタ\"),2,FALSE),\"\")","v":""},"",{"$f":"IFERROR(VLOOKUP(__疾患別コードレジメン名[[#This Row],[列6]],INDIRECT(\"__レジメンマスタ\"),2,FALSE),\"\")","v":""},"",{"$f":"IFERROR(VLOOKUP(__疾患別コードレジメン名[[#This Row],[列7]],INDIRECT(\"__レジメンマスタ\"),2,FALSE),\"\")","v":""},"",{"$f":"IFERROR(VLOOKUP(__疾患別コードレジメン名[[#This Row],[列8]],INDIRECT(\"__レジメンマスタ\"),2,FALSE),\"\")","v":""},"",{"$f":"IFERROR(VLOOKUP(__疾患別コードレジメン名[[#This Row],[列9]],INDIRECT(\"__レジメンマスタ\"),2,FALSE),\"\")","v":""},"",{"$f":"IFERROR(VLOOKUP(__疾患別コードレジメン名[[#This Row],[列10]],INDIRECT(\"__レジメンマスタ\"),2,FALSE),\"\")","v":""},"",{"$f":"IFERROR(VLOOKUP(__疾患別コードレジメン名[[#This Row],[列11]],INDIRECT(\"__レジメンマスタ\"),2,FALSE),\"\")","v":""},"",{"$f":"IFERROR(VLOOKUP(__疾患別コードレジメン名[[#This Row],[列12]],INDIRECT(\"__レジメンマスタ\"),2,FALSE),\"\")","v":""},"",{"$f":"IFERROR(VLOOKUP(__疾患別コードレジメン名[[#This Row],[列13]],INDIRECT(\"__レジメンマスタ\"),2,FALSE),\"\")","v":""}]
["HEM0057",{"$f":"IFERROR(VLOOKUP(__疾患別コードレジメン名[[#This Row],[列1]],INDIRECT(\"__レジメンマスタ\"),2,FALSE),\"\")","v":"DA-EPOCH-R (level 1)"},"RES0045-3",{"$f":"IFERROR(VLOOKUP(__疾患別コードレジメン名[[#This Row],[列2]],INDIRECT(\"__レジメンマスタ\"),2,FALSE),\"\")","v":"CBDCA+ETP+Atezo（維持療法　4週間毎）"},"SUR0085",{"$f":"IFERROR(VLOOKUP(__疾患別コードレジメン名[[#This Row],[列3]],INDIRECT(\"__レジメンマスタ\"),2,FALSE),\"\")","v":"SOX"},"",{"$f":"IFERROR(VLOOKUP(__疾患別コードレジメン名[[#This Row],[列4]],INDIRECT(\"__レジメンマスタ\"),2,FALSE),\"\")","v":""},"",{"$f":"IFERROR(VLOOKUP(__疾患別コードレジメン名[[#This Row],[列5]],INDIRECT(\"__レジメンマスタ\"),2,FALSE),\"\")","v":""},"",{"$f":"IFERROR(VLOOKUP(__疾患別コードレジメン名[[#This Row],[列6]],INDIRECT(\"__レジメンマスタ\"),2,FALSE),\"\")","v":""},"",{"$f":"IFERROR(VLOOKUP(__疾患別コードレジメン名[[#This Row],[列7]],INDIRECT(\"__レジメンマスタ\"),2,FALSE),\"\")","v":""},"",{"$f":"IFERROR(VLOOKUP(__疾患別コードレジメン名[[#This Row],[列8]],INDIRECT(\"__レジメンマスタ\"),2,FALSE),\"\")","v":""},"",{"$f":"IFERROR(VLOOKUP(__疾患別コードレジメン名[[#This Row],[列9]],INDIRECT(\"__レジメンマスタ\"),2,FALSE),\"\")","v":""},"",{"$f":"IFERROR(VLOOKUP(__疾患別コードレジメン名[[#This Row],[列10]],INDIRECT(\"__レジメンマスタ\"),2,FALSE),\"\")","v":""},"",{"$f":"IFERROR(VLOOKUP(__疾患別コードレジメン名[[#This Row],[列11]],INDIRECT(\"__レジメンマスタ\"),2,FALSE),\"\")","v":""},"",{"$f":"IFERROR(VLOOKUP(__疾患別コードレジメン名[[#This Row],[列12]],INDIRECT(\"__レジメンマスタ\"),2,FALSE),\"\")","v":""},"",{"$f":"IFERROR(VLOOKUP(__疾患別コードレジメン名[[#This Row],[列13]],INDIRECT(\"__レジメンマスタ\"),2,FALSE),\"\")","v":""}]
["HEM0057-02",{"$f":"IFERROR(VLOOKUP(__疾患別コードレジメン名[[#This Row],[列1]],INDIRECT(\"__レジメンマスタ\"),2,FALSE),\"\")","v":"DA-EPOCH-R (level 2)"},"RES0046-01",{"$f":"IFERROR(VLOOKUP(__疾患別コードレジメン名[[#This Row],[列2]],INDIRECT(\"__レジメンマスタ\"),2,FALSE),\"\")","v":"Atezo+CBDCA+PEM"},"SUR0086",{"$f":"IFERROR(VLOOKUP(__疾患別コードレジメン名[[#This Row],[列3]],INDIRECT(\"__レジメンマスタ\"),2,FALSE),\"\")","v":"CapeOX"},"",{"$f":"IFERROR(VLOOKUP(__疾患別コードレジメン名[[#This Row],[列4]],INDIRECT(\"__レジメンマスタ\"),2,FALSE),\"\")","v":""},"",{"$f":"IFERROR(VLOOKUP(__疾患別コードレジメン名[[#This Row],[列5]],INDIRECT(\"__レジメンマスタ\"),2,FALSE),\"\")","v":""},"",{"$f":"IFERROR(VLOOKUP(__疾患別コードレジメン名[[#This Row],[列6]],INDIRECT(\"__レジメンマスタ\"),2,FALSE),\"\")","v":""},"",{"$f":"IFERROR(VLOOKUP(__疾患別コードレジメン名[[#This Row],[列7]],INDIRECT(\"__レジメンマスタ\"),2,FALSE),\"\")","v":""},"",{"$f":"IFERROR(VLOOKUP(__疾患別コードレジメン名[[#This Row],[列8]],INDIRECT(\"__レジメンマスタ\"),2,FALSE),\"\")","v":""},"",{"$f":"IFERROR(VLOOKUP(__疾患別コードレジメン名[[#This Row],[列9]],INDIRECT(\"__レジメンマスタ\"),2,FALSE),\"\")","v":""},"",{"$f":"IFERROR(VLOOKUP(__疾患別コードレジメン名[[#This Row],[列10]],INDIRECT(\"__レジメンマスタ\"),2,FALSE),\"\")","v":""},"",{"$f":"IFERROR(VLOOKUP(__疾患別コードレジメン名[[#This Row],[列11]],INDIRECT(\"__レジメンマスタ\"),2,FALSE),\"\")","v":""},"",{"$f":"IFERROR(VLOOKUP(__疾患別コードレジメン名[[#This Row],[列12]],INDIRECT(\"__レジメンマスタ\"),2,FALSE),\"\")","v":""},"",{"$f":"IFERROR(VLOOKUP(__疾患別コードレジメン名[[#This Row],[列13]],INDIRECT(\"__レジメンマスタ\"),2,FALSE),\"\")","v":""}]
["HEM0057-03",{"$f":"IFERROR(VLOOKUP(__疾患別コードレジメン名[[#This Row],[列1]],INDIRECT(\"__レジメンマスタ\"),2,FALSE),\"\")","v":"DA-EPOCH-R (level 3)"},"RES0047",{"$f":"IFERROR(VLOOKUP(__疾患別コードレジメン名[[#This Row],[列2]],INDIRECT(\"__レジメンマスタ\"),2,FALSE),\"\")","v":"Atezo+CBDCA+n-PTX"},"SUR0087",{"$f":"IFERROR(VLOOKUP(__疾患別コードレジメン名[[#This Row],[列3]],INDIRECT(\"__レジメンマスタ\"),2,FALSE),\"\")","v":"CapeOX＋トラスツズマブ"},"",{"$f":"IFERROR(VLOOKUP(__疾患別コードレジメン名[[#This Row],[列4]],INDIRECT(\"__レジメンマスタ\"),2,FALSE),\"\")","v":""},"",{"$f":"IFERROR(VLOOKUP(__疾患別コードレジメン名[[#This Row],[列5]],INDIRECT(\"__レジメンマスタ\"),2,FALSE),\"\")","v":""},"",{"$f":"IFERROR(VLOOKUP(__疾患別コードレジメン名[[#This Row],[列6]],INDIRECT(\"__レジメンマスタ\"),2,FALSE),\"\")","v":""},"",{"$f":"IFERROR(VLOOKUP(__疾患別コードレジメン名[[#This Row],[列7]],INDIRECT(\"__レジメンマスタ\"),2,FALSE),\"\")","v":""},"",{"$f":"IFERROR(VLOOKUP(__疾患別コードレジメン名[[#This Row],[列8]],INDIRECT(\"__レジメンマスタ\"),2,FALSE),\"\")","v":""},"",{"$f":"IFERROR(VLOOKUP(__疾患別コードレジメン名[[#This Row],[列9]],INDIRECT(\"__レジメンマスタ\"),2,FALSE),\"\")","v":""},"",{"$f":"IFERROR(VLOOKUP(__疾患別コードレジメン名[[#This Row],[列10]],INDIRECT(\"__レジメンマスタ\"),2,FALSE),\"\")","v":""},"",{"$f":"IFERROR(VLOOKUP(__疾患別コードレジメン名[[#This Row],[列11]],INDIRECT(\"__レジメンマスタ\"),2,FALSE),\"\")","v":""},"",{"$f":"IFERROR(VLOOKUP(__疾患別コードレジメン名[[#This Row],[列12]],INDIRECT(\"__レジメンマスタ\"),2,FALSE),\"\")","v":""},"",{"$f":"IFERROR(VLOOKUP(__疾患別コードレジメン名[[#This Row],[列13]],INDIRECT(\"__レジメンマスタ\"),2,FALSE),\"\")","v":""}]
["HEM0057-04",{"$f":"IFERROR(VLOOKUP(__疾患別コードレジメン名[[#This Row],[列1]],INDIRECT(\"__レジメンマスタ\"),2,FALSE),\"\")","v":"DA-EPOCH-R (level 4)"},"RES0047-2",{"$f":"IFERROR(VLOOKUP(__疾患別コードレジメン名[[#This Row],[列2]],INDIRECT(\"__レジメンマスタ\"),2,FALSE),\"\")","v":"Atezo+CBDCA+n-PTX（維持療法）"},"SUR0088",{"$f":"IFERROR(VLOOKUP(__疾患別コードレジメン名[[#This Row],[列3]],INDIRECT(\"__レジメンマスタ\"),2,FALSE),\"\")","v":"DXR"},"",{"$f":"IFERROR(VLOOKUP(__疾患別コードレジメン名[[#This Row],[列4]],INDIRECT(\"__レジメンマスタ\"),2,FALSE),\"\")","v":""},"",{"$f":"IFERROR(VLOOKUP(__疾患別コードレジメン名[[#This Row],[列5]],INDIRECT(\"__レジメンマスタ\"),2,FALSE),\"\")","v":""},"",{"$f":"IFERROR(VLOOKUP(__疾患別コードレジメン名[[#This Row],[列6]],INDIRECT(\"__レジメンマスタ\"),2,FALSE),\"\")","v":""},"",{"$f":"IFERROR(VLOOKUP(__疾患別コードレジメン名[[#This Row],[列7]],INDIRECT(\"__レジメンマスタ\"),2,FALSE),\"\")","v":""},"",{"$f":"IFERROR(VLOOKUP(__疾患別コードレジメン名[[#This Row],[列8]],INDIRECT(\"__レジメンマスタ\"),2,FALSE),\"\")","v":""},"",{"$f":"IFERROR(VLOOKUP(__疾患別コードレジメン名[[#This Row],[列9]],INDIRECT(\"__レジメンマスタ\"),2,FALSE),\"\")","v":""},"",{"$f":"IFERROR(VLOOKUP(__疾患別コードレジメン名[[#This Row],[列10]],INDIRECT(\"__レジメンマスタ\"),2,FALSE),\"\")","v":""},"",{"$f":"IFERROR(VLOOKUP(__疾患別コードレジメン名[[#This Row],[列11]],INDIRECT(\"__レジメンマスタ\"),2,FALSE),\"\")","v":""},"",{"$f":"IFERROR(VLOOKUP(__疾患別コードレジメン名[[#This Row],[列12]],INDIRECT(\"__レジメンマスタ\"),2,FALSE),\"\")","v":""},"",{"$f":"IFERROR(VLOOKUP(__疾患別コードレジメン名[[#This Row],[列13]],INDIRECT(\"__レジメンマスタ\"),2,FALSE),\"\")","v":""}]
["HEM0057-05",{"$f":"IFERROR(VLOOKUP(__疾患別コードレジメン名[[#This Row],[列1]],INDIRECT(\"__レジメンマスタ\"),2,FALSE),\"\")","v":"DA-EPOCH-R (level 5)"},"RES0047-3",{"$f":"IFERROR(VLOOKUP(__疾患別コードレジメン名[[#This Row],[列2]],INDIRECT(\"__レジメンマスタ\"),2,FALSE),\"\")","v":"Atezo+CBDCA+n-PTX（維持療法　4週間毎）"},"SUR0089",{"$f":"IFERROR(VLOOKUP(__疾患別コードレジメン名[[#This Row],[列3]],INDIRECT(\"__レジメンマスタ\"),2,FALSE),\"\")","v":"Rmab+PTX"},"",{"$f":"IFERROR(VLOOKUP(__疾患別コードレジメン名[[#This Row],[列4]],INDIRECT(\"__レジメンマスタ\"),2,FALSE),\"\")","v":""},"",{"$f":"IFERROR(VLOOKUP(__疾患別コードレジメン名[[#This Row],[列5]],INDIRECT(\"__レジメンマスタ\"),2,FALSE),\"\")","v":""},"",{"$f":"IFERROR(VLOOKUP(__疾患別コードレジメン名[[#This Row],[列6]],INDIRECT(\"__レジメンマスタ\"),2,FALSE),\"\")","v":""},"",{"$f":"IFERROR(VLOOKUP(__疾患別コードレジメン名[[#This Row],[列7]],INDIRECT(\"__レジメンマスタ\"),2,FALSE),\"\")","v":""},"",{"$f":"IFERROR(VLOOKUP(__疾患別コードレジメン名[[#This Row],[列8]],INDIRECT(\"__レジメンマスタ\"),2,FALSE),\"\")","v":""},"",{"$f":"IFERROR(VLOOKUP(__疾患別コードレジメン名[[#This Row],[列9]],INDIRECT(\"__レジメンマスタ\"),2,FALSE),\"\")","v":""},"",{"$f":"IFERROR(VLOOKUP(__疾患別コードレジメン名[[#This Row],[列10]],INDIRECT(\"__レジメンマスタ\"),2,FALSE),\"\")","v":""},"",{"$f":"IFERROR(VLOOKUP(__疾患別コードレジメン名[[#This Row],[列11]],INDIRECT(\"__レジメンマスタ\"),2,FALSE),\"\")","v":""},"",{"$f":"IFERROR(VLOOKUP(__疾患別コードレジメン名[[#This Row],[列12]],INDIRECT(\"__レジメンマスタ\"),2,FALSE),\"\")","v":""},"",{"$f":"IFERROR(VLOOKUP(__疾患別コードレジメン名[[#This Row],[列13]],INDIRECT(\"__レジメンマスタ\"),2,FALSE),\"\")","v":""}]
["HEM0057-06",{"$f":"IFERROR(VLOOKUP(__疾患別コードレジメン名[[#This Row],[列1]],INDIRECT(\"__レジメンマスタ\"),2,FALSE),\"\")","v":"DA-EPOCH-R (level 6)"},"RES0048-11",{"$f":"IFERROR(VLOOKUP(__疾患別コードレジメン名[[#This Row],[列2]],INDIRECT(\"__レジメンマスタ\"),2,FALSE),\"\")","v":"デュルバルマブ＋CDDP＋ETP"},"SUR0090",{"$f":"IFERROR(VLOOKUP(__疾患別コードレジメン名[[#This Row],[列3]],INDIRECT(\"__レジメンマスタ\"),2,FALSE),\"\")","v":"FP+RT"},"",{"$f":"IFERROR(VLOOKUP(__疾患別コードレジメン名[[#This Row],[列4]],INDIRECT(\"__レジメンマスタ\"),2,FALSE),\"\")","v":""},"",{"$f":"IFERROR(VLOOKUP(__疾患別コードレジメン名[[#This Row],[列5]],INDIRECT(\"__レジメンマスタ\"),2,FALSE),\"\")","v":""},"",{"$f":"IFERROR(VLOOKUP(__疾患別コードレジメン名[[#This Row],[列6]],INDIRECT(\"__レジメンマスタ\"),2,FALSE),\"\")","v":""},"",{"$f":"IFERROR(VLOOKUP(__疾患別コードレジメン名[[#This Row],[列7]],INDIRECT(\"__レジメンマスタ\"),2,FALSE),\"\")","v":""},"",{"$f":"IFERROR(VLOOKUP(__疾患別コードレジメン名[[#This Row],[列8]],INDIRECT(\"__レジメンマスタ\"),2,FALSE),\"\")","v":""},"",{"$f":"IFERROR(VLOOKUP(__疾患別コードレジメン名[[#This Row],[列9]],INDIRECT(\"__レジメンマスタ\"),2,FALSE),\"\")","v":""},"",{"$f":"IFERROR(VLOOKUP(__疾患別コードレジメン名[[#This Row],[列10]],INDIRECT(\"__レジメンマスタ\"),2,FALSE),\"\")","v":""},"",{"$f":"IFERROR(VLOOKUP(__疾患別コードレジメン名[[#This Row],[列11]],INDIRECT(\"__レジメンマスタ\"),2,FALSE),\"\")","v":""},"",{"$f":"IFERROR(VLOOKUP(__疾患別コードレジメン名[[#This Row],[列12]],INDIRECT(\"__レジメンマスタ\"),2,FALSE),\"\")","v":""},"",{"$f":"IFERROR(VLOOKUP(__疾患別コードレジメン名[[#This Row],[列13]],INDIRECT(\"__レジメンマスタ\"),2,FALSE),\"\")","v":""}]
["HEM0063-01",{"$f":"IFERROR(VLOOKUP(__疾患別コードレジメン名[[#This Row],[列1]],INDIRECT(\"__レジメンマスタ\"),2,FALSE),\"\")","v":"BOR（点滴）"},"RES0048-12",{"$f":"IFERROR(VLOOKUP(__疾患別コードレジメン名[[#This Row],[列2]],INDIRECT(\"__レジメンマスタ\"),2,FALSE),\"\")","v":"デュルバルマブ＋CDDP＋ETP（体重30kg以下)"},"SUR0091",{"$f":"IFERROR(VLOOKUP(__疾患別コードレジメン名[[#This Row],[列3]],INDIRECT(\"__レジメンマスタ\"),2,FALSE),\"\")","v":"FOLFIRI+RAM"},"",{"$f":"IFERROR(VLOOKUP(__疾患別コードレジメン名[[#This Row],[列4]],INDIRECT(\"__レジメンマスタ\"),2,FALSE),\"\")","v":""},"",{"$f":"IFERROR(VLOOKUP(__疾患別コードレジメン名[[#This Row],[列5]],INDIRECT(\"__レジメンマスタ\"),2,FALSE),\"\")","v":""},"",{"$f":"IFERROR(VLOOKUP(__疾患別コードレジメン名[[#This Row],[列6]],INDIRECT(\"__レジメンマスタ\"),2,FALSE),\"\")","v":""},"",{"$f":"IFERROR(VLOOKUP(__疾患別コードレジメン名[[#This Row],[列7]],INDIRECT(\"__レジメンマスタ\"),2,FALSE),\"\")","v":""},"",{"$f":"IFERROR(VLOOKUP(__疾患別コードレジメン名[[#This Row],[列8]],INDIRECT(\"__レジメンマスタ\"),2,FALSE),\"\")","v":""},"",{"$f":"IFERROR(VLOOKUP(__疾患別コードレジメン名[[#This Row],[列9]],INDIRECT(\"__レジメンマスタ\"),2,FALSE),\"\")","v":""},"",{"$f":"IFERROR(VLOOKUP(__疾患別コードレジメン名[[#This Row],[列10]],INDIRECT(\"__レジメンマスタ\"),2,FALSE),\"\")","v":""},"",{"$f":"IFERROR(VLOOKUP(__疾患別コードレジメン名[[#This Row],[列11]],INDIRECT(\"__レジメンマスタ\"),2,FALSE),\"\")","v":""},"",{"$f":"IFERROR(VLOOKUP(__疾患別コードレジメン名[[#This Row],[列12]],INDIRECT(\"__レジメンマスタ\"),2,FALSE),\"\")","v":""},"",{"$f":"IFERROR(VLOOKUP(__疾患別コードレジメン名[[#This Row],[列13]],INDIRECT(\"__レジメンマスタ\"),2,FALSE),\"\")","v":""}]
["HEM0063-02",{"$f":"IFERROR(VLOOKUP(__疾患別コードレジメン名[[#This Row],[列1]],INDIRECT(\"__レジメンマスタ\"),2,FALSE),\"\")","v":"BOR（皮下）"},"RES0049-11",{"$f":"IFERROR(VLOOKUP(__疾患別コードレジメン名[[#This Row],[列2]],INDIRECT(\"__レジメンマスタ\"),2,FALSE),\"\")","v":"CBDCA+ETP+デュルバルマブ"},"SUR0092",{"$f":"IFERROR(VLOOKUP(__疾患別コードレジメン名[[#This Row],[列3]],INDIRECT(\"__レジメンマスタ\"),2,FALSE),\"\")","v":"SOX+BEV"},"",{"$f":"IFERROR(VLOOKUP(__疾患別コードレジメン名[[#This Row],[列4]],INDIRECT(\"__レジメンマスタ\"),2,FALSE),\"\")","v":""},"",{"$f":"IFERROR(VLOOKUP(__疾患別コードレジメン名[[#This Row],[列5]],INDIRECT(\"__レジメンマスタ\"),2,FALSE),\"\")","v":""},"",{"$f":"IFERROR(VLOOKUP(__疾患別コードレジメン名[[#This Row],[列6]],INDIRECT(\"__レジメンマスタ\"),2,FALSE),\"\")","v":""},"",{"$f":"IFERROR(VLOOKUP(__疾患別コードレジメン名[[#This Row],[列7]],INDIRECT(\"__レジメンマスタ\"),2,FALSE),\"\")","v":""},"",{"$f":"IFERROR(VLOOKUP(__疾患別コードレジメン名[[#This Row],[列8]],INDIRECT(\"__レジメンマスタ\"),2,FALSE),\"\")","v":""},"",{"$f":"IFERROR(VLOOKUP(__疾患別コードレジメン名[[#This Row],[列9]],INDIRECT(\"__レジメンマスタ\"),2,FALSE),\"\")","v":""},"",{"$f":"IFERROR(VLOOKUP(__疾患別コードレジメン名[[#This Row],[列10]],INDIRECT(\"__レジメンマスタ\"),2,FALSE),\"\")","v":""},"",{"$f":"IFERROR(VLOOKUP(__疾患別コードレジメン名[[#This Row],[列11]],INDIRECT(\"__レジメンマスタ\"),2,FALSE),\"\")","v":""},"",{"$f":"IFERROR(VLOOKUP(__疾患別コードレジメン名[[#This Row],[列12]],INDIRECT(\"__レジメンマスタ\"),2,FALSE),\"\")","v":""},"",{"$f":"IFERROR(VLOOKUP(__疾患別コードレジメン名[[#This Row],[列13]],INDIRECT(\"__レジメンマスタ\"),2,FALSE),\"\")","v":""}]
["HEM0063-03",{"$f":"IFERROR(VLOOKUP(__疾患別コードレジメン名[[#This Row],[列1]],INDIRECT(\"__レジメンマスタ\"),2,FALSE),\"\")","v":"BOR（twice weekly:点滴）"},"RES0049-12",{"$f":"IFERROR(VLOOKUP(__疾患別コードレジメン名[[#This Row],[列2]],INDIRECT(\"__レジメンマスタ\"),2,FALSE),\"\")","v":"CBDCA+ETP+デュルバルマブ（体重30kg以下）"},"SUR0093",{"$f":"IFERROR(VLOOKUP(__疾患別コードレジメン名[[#This Row],[列3]],INDIRECT(\"__レジメンマスタ\"),2,FALSE),\"\")","v":"FOLFOXIRI＋BEV"},"",{"$f":"IFERROR(VLOOKUP(__疾患別コードレジメン名[[#This Row],[列4]],INDIRECT(\"__レジメンマスタ\"),2,FALSE),\"\")","v":""},"",{"$f":"IFERROR(VLOOKUP(__疾患別コードレジメン名[[#This Row],[列5]],INDIRECT(\"__レジメンマスタ\"),2,FALSE),\"\")","v":""},"",{"$f":"IFERROR(VLOOKUP(__疾患別コードレジメン名[[#This Row],[列6]],INDIRECT(\"__レジメンマスタ\"),2,FALSE),\"\")","v":""},"",{"$f":"IFERROR(VLOOKUP(__疾患別コードレジメン名[[#This Row],[列7]],INDIRECT(\"__レジメンマスタ\"),2,FALSE),\"\")","v":""},"",{"$f":"IFERROR(VLOOKUP(__疾患別コードレジメン名[[#This Row],[列8]],INDIRECT(\"__レジメンマスタ\"),2,FALSE),\"\")","v":""},"",{"$f":"IFERROR(VLOOKUP(__疾患別コードレジメン名[[#This Row],[列9]],INDIRECT(\"__レジメンマスタ\"),2,FALSE),\"\")","v":""},"",{"$f":"IFERROR(VLOOKUP(__疾患別コードレジメン名[[#This Row],[列10]],INDIRECT(\"__レジメンマスタ\"),2,FALSE),\"\")","v":""},"",{"$f":"IFERROR(VLOOKUP(__疾患別コードレジメン名[[#This Row],[列11]],INDIRECT(\"__レジメンマスタ\"),2,FALSE),\"\")","v":""},"",{"$f":"IFERROR(VLOOKUP(__疾患別コードレジメン名[[#This Row],[列12]],INDIRECT(\"__レジメンマスタ\"),2,FALSE),\"\")","v":""},"",{"$f":"IFERROR(VLOOKUP(__疾患別コードレジメン名[[#This Row],[列13]],INDIRECT(\"__レジメンマスタ\"),2,FALSE),\"\")","v":""}]
["HEM0063-04",{"$f":"IFERROR(VLOOKUP(__疾患別コードレジメン名[[#This Row],[列1]],INDIRECT(\"__レジメンマスタ\"),2,FALSE),\"\")","v":"BOR（twice weekly:皮下）"},"RES0050-01",{"$f":"IFERROR(VLOOKUP(__疾患別コードレジメン名[[#This Row],[列2]],INDIRECT(\"__レジメンマスタ\"),2,FALSE),\"\")","v":"Rmab＋ゲフィチニブ"},"SUR0094",{"$f":"IFERROR(VLOOKUP(__疾患別コードレジメン名[[#This Row],[列3]],INDIRECT(\"__レジメンマスタ\"),2,FALSE),\"\")","v":"FOLFIRI+AFL"},"",{"$f":"IFERROR(VLOOKUP(__疾患別コードレジメン名[[#This Row],[列4]],INDIRECT(\"__レジメンマスタ\"),2,FALSE),\"\")","v":""},"",{"$f":"IFERROR(VLOOKUP(__疾患別コードレジメン名[[#This Row],[列5]],INDIRECT(\"__レジメンマスタ\"),2,FALSE),\"\")","v":""},"",{"$f":"IFERROR(VLOOKUP(__疾患別コードレジメン名[[#This Row],[列6]],INDIRECT(\"__レジメンマスタ\"),2,FALSE),\"\")","v":""},"",{"$f":"IFERROR(VLOOKUP(__疾患別コードレジメン名[[#This Row],[列7]],INDIRECT(\"__レジメンマスタ\"),2,FALSE),\"\")","v":""},"",{"$f":"IFERROR(VLOOKUP(__疾患別コードレジメン名[[#This Row],[列8]],INDIRECT(\"__レジメンマスタ\"),2,FALSE),\"\")","v":""},"",{"$f":"IFERROR(VLOOKUP(__疾患別コードレジメン名[[#This Row],[列9]],INDIRECT(\"__レジメンマスタ\"),2,FALSE),\"\")","v":""},"",{"$f":"IFERROR(VLOOKUP(__疾患別コードレジメン名[[#This Row],[列10]],INDIRECT(\"__レジメンマスタ\"),2,FALSE),\"\")","v":""},"",{"$f":"IFERROR(VLOOKUP(__疾患別コードレジメン名[[#This Row],[列11]],INDIRECT(\"__レジメンマスタ\"),2,FALSE),\"\")","v":""},"",{"$f":"IFERROR(VLOOKUP(__疾患別コードレジメン名[[#This Row],[列12]],INDIRECT(\"__レジメンマスタ\"),2,FALSE),\"\")","v":""},"",{"$f":"IFERROR(VLOOKUP(__疾患別コードレジメン名[[#This Row],[列13]],INDIRECT(\"__レジメンマスタ\"),2,FALSE),\"\")","v":""}]
["HEM0065",{"$f":"IFERROR(VLOOKUP(__疾患別コードレジメン名[[#This Row],[列1]],INDIRECT(\"__レジメンマスタ\"),2,FALSE),\"\")","v":"C-MOPP変法（VDS）"},"RES0051-00",{"$f":"IFERROR(VLOOKUP(__疾患別コードレジメン名[[#This Row],[列2]],INDIRECT(\"__レジメンマスタ\"),2,FALSE),\"\")","v":"Beva＋ｴﾙﾛﾁﾆﾌﾞ"},"SUR0095-01",{"$f":"IFERROR(VLOOKUP(__疾患別コードレジメン名[[#This Row],[列3]],INDIRECT(\"__レジメンマスタ\"),2,FALSE),\"\")","v":"オプジーボ"},"",{"$f":"IFERROR(VLOOKUP(__疾患別コードレジメン名[[#This Row],[列4]],INDIRECT(\"__レジメンマスタ\"),2,FALSE),\"\")","v":""},"",{"$f":"IFERROR(VLOOKUP(__疾患別コードレジメン名[[#This Row],[列5]],INDIRECT(\"__レジメンマスタ\"),2,FALSE),\"\")","v":""},"",{"$f":"IFERROR(VLOOKUP(__疾患別コードレジメン名[[#This Row],[列6]],INDIRECT(\"__レジメンマスタ\"),2,FALSE),\"\")","v":""},"",{"$f":"IFERROR(VLOOKUP(__疾患別コードレジメン名[[#This Row],[列7]],INDIRECT(\"__レジメンマスタ\"),2,FALSE),\"\")","v":""},"",{"$f":"IFERROR(VLOOKUP(__疾患別コードレジメン名[[#This Row],[列8]],INDIRECT(\"__レジメンマスタ\"),2,FALSE),\"\")","v":""},"",{"$f":"IFERROR(VLOOKUP(__疾患別コードレジメン名[[#This Row],[列9]],INDIRECT(\"__レジメンマスタ\"),2,FALSE),\"\")","v":""},"",{"$f":"IFERROR(VLOOKUP(__疾患別コードレジメン名[[#This Row],[列10]],INDIRECT(\"__レジメンマスタ\"),2,FALSE),\"\")","v":""},"",{"$f":"IFERROR(VLOOKUP(__疾患別コードレジメン名[[#This Row],[列11]],INDIRECT(\"__レジメンマスタ\"),2,FALSE),\"\")","v":""},"",{"$f":"IFERROR(VLOOKUP(__疾患別コードレジメン名[[#This Row],[列12]],INDIRECT(\"__レジメンマスタ\"),2,FALSE),\"\")","v":""},"",{"$f":"IFERROR(VLOOKUP(__疾患別コードレジメン名[[#This Row],[列13]],INDIRECT(\"__レジメンマスタ\"),2,FALSE),\"\")","v":""}]
["HEM0066",{"$f":"IFERROR(VLOOKUP(__疾患別コードレジメン名[[#This Row],[列1]],INDIRECT(\"__レジメンマスタ\"),2,FALSE),\"\")","v":"MTX大量療法"},"RES0051-01",{"$f":"IFERROR(VLOOKUP(__疾患別コードレジメン名[[#This Row],[列2]],INDIRECT(\"__レジメンマスタ\"),2,FALSE),\"\")","v":"Rmab＋ｴﾙﾛﾁﾆﾌﾞ"},"SUR0095-02",{"$f":"IFERROR(VLOOKUP(__疾患別コードレジメン名[[#This Row],[列3]],INDIRECT(\"__レジメンマスタ\"),2,FALSE),\"\")","v":"オプジーボ（4週間毎）"},"",{"$f":"IFERROR(VLOOKUP(__疾患別コードレジメン名[[#This Row],[列4]],INDIRECT(\"__レジメンマスタ\"),2,FALSE),\"\")","v":""},"",{"$f":"IFERROR(VLOOKUP(__疾患別コードレジメン名[[#This Row],[列5]],INDIRECT(\"__レジメンマスタ\"),2,FALSE),\"\")","v":""},"",{"$f":"IFERROR(VLOOKUP(__疾患別コードレジメン名[[#This Row],[列6]],INDIRECT(\"__レジメンマスタ\"),2,FALSE),\"\")","v":""},"",{"$f":"IFERROR(VLOOKUP(__疾患別コードレジメン名[[#This Row],[列7]],INDIRECT(\"__レジメンマスタ\"),2,FALSE),\"\")","v":""},"",{"$f":"IFERROR(VLOOKUP(__疾患別コードレジメン名[[#This Row],[列8]],INDIRECT(\"__レジメンマスタ\"),2,FALSE),\"\")","v":""},"",{"$f":"IFERROR(VLOOKUP(__疾患別コードレジメン名[[#This Row],[列9]],INDIRECT(\"__レジメンマスタ\"),2,FALSE),\"\")","v":""},"",{"$f":"IFERROR(VLOOKUP(__疾患別コードレジメン名[[#This Row],[列10]],INDIRECT(\"__レジメンマスタ\"),2,FALSE),\"\")","v":""},"",{"$f":"IFERROR(VLOOKUP(__疾患別コードレジメン名[[#This Row],[列11]],INDIRECT(\"__レジメンマスタ\"),2,FALSE),\"\")","v":""},"",{"$f":"IFERROR(VLOOKUP(__疾患別コードレジメン名[[#This Row],[列12]],INDIRECT(\"__レジメンマスタ\"),2,FALSE),\"\")","v":""},"",{"$f":"IFERROR(VLOOKUP(__疾患別コードレジメン名[[#This Row],[列13]],INDIRECT(\"__レジメンマスタ\"),2,FALSE),\"\")","v":""}]
["HEM0067",{"$f":"IFERROR(VLOOKUP(__疾患別コードレジメン名[[#This Row],[列1]],INDIRECT(\"__レジメンマスタ\"),2,FALSE),\"\")","v":"HAM"},"RES0052",{"$f":"IFERROR(VLOOKUP(__疾患別コードレジメン名[[#This Row],[列2]],INDIRECT(\"__レジメンマスタ\"),2,FALSE),\"\")","v":"ニボルマブ＋イピリムマブ"},"SUR0097",{"$f":"IFERROR(VLOOKUP(__疾患別コードレジメン名[[#This Row],[列3]],INDIRECT(\"__レジメンマスタ\"),2,FALSE),\"\")","v":"Weekly　n-PTX"},"",{"$f":"IFERROR(VLOOKUP(__疾患別コードレジメン名[[#This Row],[列4]],INDIRECT(\"__レジメンマスタ\"),2,FALSE),\"\")","v":""},"",{"$f":"IFERROR(VLOOKUP(__疾患別コードレジメン名[[#This Row],[列5]],INDIRECT(\"__レジメンマスタ\"),2,FALSE),\"\")","v":""},"",{"$f":"IFERROR(VLOOKUP(__疾患別コードレジメン名[[#This Row],[列6]],INDIRECT(\"__レジメンマスタ\"),2,FALSE),\"\")","v":""},"",{"$f":"IFERROR(VLOOKUP(__疾患別コードレジメン名[[#This Row],[列7]],INDIRECT(\"__レジメンマスタ\"),2,FALSE),\"\")","v":""},"",{"$f":"IFERROR(VLOOKUP(__疾患別コードレジメン名[[#This Row],[列8]],INDIRECT(\"__レジメンマスタ\"),2,FALSE),\"\")","v":""},"",{"$f":"IFERROR(VLOOKUP(__疾患別コードレジメン名[[#This Row],[列9]],INDIRECT(\"__レジメンマスタ\"),2,FALSE),\"\")","v":""},"",{"$f":"IFERROR(VLOOKUP(__疾患別コードレジメン名[[#This Row],[列10]],INDIRECT(\"__レジメンマスタ\"),2,FALSE),\"\")","v":""},"",{"$f":"IFERROR(VLOOKUP(__疾患別コードレジメン名[[#This Row],[列11]],INDIRECT(\"__レジメンマスタ\"),2,FALSE),\"\")","v":""},"",{"$f":"IFERROR(VLOOKUP(__疾患別コードレジメン名[[#This Row],[列12]],INDIRECT(\"__レジメンマスタ\"),2,FALSE),\"\")","v":""},"",{"$f":"IFERROR(VLOOKUP(__疾患別コードレジメン名[[#This Row],[列13]],INDIRECT(\"__レジメンマスタ\"),2,FALSE),\"\")","v":""}]
["HEM0068-1",{"$f":"IFERROR(VLOOKUP(__疾患別コードレジメン名[[#This Row],[列1]],INDIRECT(\"__レジメンマスタ\"),2,FALSE),\"\")","v":"JALSG　AML201寛解導入（IDR)"},"RES0053-01",{"$f":"IFERROR(VLOOKUP(__疾患別コードレジメン名[[#This Row],[列2]],INDIRECT(\"__レジメンマスタ\"),2,FALSE),\"\")","v":"CDDP+GEM+ネシツムマブ"},"SUR0097-01",{"$f":"IFERROR(VLOOKUP(__疾患別コードレジメン名[[#This Row],[列3]],INDIRECT(\"__レジメンマスタ\"),2,FALSE),\"\")","v":"Tri weekly n-PTX"},"",{"$f":"IFERROR(VLOOKUP(__疾患別コードレジメン名[[#This Row],[列4]],INDIRECT(\"__レジメンマスタ\"),2,FALSE),\"\")","v":""},"",{"$f":"IFERROR(VLOOKUP(__疾患別コードレジメン名[[#This Row],[列5]],INDIRECT(\"__レジメンマスタ\"),2,FALSE),\"\")","v":""},"",{"$f":"IFERROR(VLOOKUP(__疾患別コードレジメン名[[#This Row],[列6]],INDIRECT(\"__レジメンマスタ\"),2,FALSE),\"\")","v":""},"",{"$f":"IFERROR(VLOOKUP(__疾患別コードレジメン名[[#This Row],[列7]],INDIRECT(\"__レジメンマスタ\"),2,FALSE),\"\")","v":""},"",{"$f":"IFERROR(VLOOKUP(__疾患別コードレジメン名[[#This Row],[列8]],INDIRECT(\"__レジメンマスタ\"),2,FALSE),\"\")","v":""},"",{"$f":"IFERROR(VLOOKUP(__疾患別コードレジメン名[[#This Row],[列9]],INDIRECT(\"__レジメンマスタ\"),2,FALSE),\"\")","v":""},"",{"$f":"IFERROR(VLOOKUP(__疾患別コードレジメン名[[#This Row],[列10]],INDIRECT(\"__レジメンマスタ\"),2,FALSE),\"\")","v":""},"",{"$f":"IFERROR(VLOOKUP(__疾患別コードレジメン名[[#This Row],[列11]],INDIRECT(\"__レジメンマスタ\"),2,FALSE),\"\")","v":""},"",{"$f":"IFERROR(VLOOKUP(__疾患別コードレジメン名[[#This Row],[列12]],INDIRECT(\"__レジメンマスタ\"),2,FALSE),\"\")","v":""},"",{"$f":"IFERROR(VLOOKUP(__疾患別コードレジメン名[[#This Row],[列13]],INDIRECT(\"__レジメンマスタ\"),2,FALSE),\"\")","v":""}]
[{"$f":"IF(IFERROR(INDIRECT(\"__疾患別コード[@造血器]\"),0)=0,\"\",INDIRECT(\"__疾患別コード[@造血器]\"))","v":"HEM0068-11"},{"$f":"IFERROR(VLOOKUP(__疾患別コードレジメン名[[#This Row],[列1]],INDIRECT(\"__レジメンマスタ\"),2,FALSE),\"\")","v":"JALSG　AML201寛解導入（DNR)"},{"$f":"IF(IFERROR(INDIRECT(\"__疾患別コード[@肺]\"),0)=0,\"\",INDIRECT(\"__疾患別コード[@肺]\"))","v":"RES0054"},{"$f":"IFERROR(VLOOKUP(__疾患別コードレジメン名[[#This Row],[列2]],INDIRECT(\"__レジメンマスタ\"),2,FALSE),\"\")","v":"ﾆﾎﾞﾙﾏﾌﾞ+ｲﾋﾟﾘﾑﾏﾌﾞ+CBDCA+PTX"},"SUR0098",{"$f":"IFERROR(VLOOKUP(__疾患別コードレジメン名[[#This Row],[列3]],INDIRECT(\"__レジメンマスタ\"),2,FALSE),\"\")","v":"SOX＋トラスツズマブ"},"",{"$f":"IFERROR(VLOOKUP(__疾患別コードレジメン名[[#This Row],[列4]],INDIRECT(\"__レジメンマスタ\"),2,FALSE),\"\")","v":""},"",{"$f":"IFERROR(VLOOKUP(__疾患別コードレジメン名[[#This Row],[列5]],INDIRECT(\"__レジメンマスタ\"),2,FALSE),\"\")","v":""},"",{"$f":"IFERROR(VLOOKUP(__疾患別コードレジメン名[[#This Row],[列6]],INDIRECT(\"__レジメンマスタ\"),2,FALSE),\"\")","v":""},"",{"$f":"IFERROR(VLOOKUP(__疾患別コードレジメン名[[#This Row],[列7]],INDIRECT(\"__レジメンマスタ\"),2,FALSE),\"\")","v":""},{"$f":"IF(IFERROR(INDIRECT(\"__疾患別コード[@脳]\"),0)=0,\"\",INDIRECT(\"__疾患別コード[@脳]\"))","v":""},{"$f":"IFERROR(VLOOKUP(__疾患別コードレジメン名[[#This Row],[列8]],INDIRECT(\"__レジメンマスタ\"),2,FALSE),\"\")","v":""},"",{"$f":"IFERROR(VLOOKUP(__疾患別コードレジメン名[[#This Row],[列9]],INDIRECT(\"__レジメンマスタ\"),2,FALSE),\"\")","v":""},"",{"$f":"IFERROR(VLOOKUP(__疾患別コードレジメン名[[#This Row],[列10]],INDIRECT(\"__レジメンマスタ\"),2,FALSE),\"\")","v":""},"",{"$f":"IFERROR(VLOOKUP(__疾患別コードレジメン名[[#This Row],[列11]],INDIRECT(\"__レジメンマスタ\"),2,FALSE),\"\")","v":""},{"$f":"IF(IFERROR(INDIRECT(\"__疾患別コード[@間質性肺炎]\"),0)=0,\"\",INDIRECT(\"__疾患別コード[@間質性肺炎]\"))","v":""},{"$f":"IFERROR(VLOOKUP(__疾患別コードレジメン名[[#This Row],[列12]],INDIRECT(\"__レジメンマスタ\"),2,FALSE),\"\")","v":""},"",{"$f":"IFERROR(VLOOKUP(__疾患別コードレジメン名[[#This Row],[列13]],INDIRECT(\"__レジメンマスタ\"),2,FALSE),\"\")","v":""}]
["HEM0068-2",{"$f":"IFERROR(VLOOKUP(__疾患別コードレジメン名[[#This Row],[列1]],INDIRECT(\"__レジメンマスタ\"),2,FALSE),\"\")","v":"JALSG　AML201地固め（大量Ara-C）"},"RES0055",{"$f":"IFERROR(VLOOKUP(__疾患別コードレジメン名[[#This Row],[列2]],INDIRECT(\"__レジメンマスタ\"),2,FALSE),\"\")","v":"ﾆﾎﾞﾙﾏﾌﾞ+ｲﾋﾟﾘﾑﾏﾌﾞ+CBDCA+PEM"},{"$f":"IF(IFERROR(INDIRECT(\"__疾患別コード[@消化管]\"),0)=0,\"\",INDIRECT(\"__疾患別コード[@消化管]\"))","v":"SUR0099"},{"$f":"IFERROR(VLOOKUP(__疾患別コードレジメン名[[#This Row],[列3]],INDIRECT(\"__レジメンマスタ\"),2,FALSE),\"\")","v":"Rmab+n-PTX"},{"$f":"IF(IFERROR(INDIRECT(\"__疾患別コード[@乳腺]\"),0)=0,\"\",INDIRECT(\"__疾患別コード[@乳腺]\"))","v":""},{"$f":"IFERROR(VLOOKUP(__疾患別コードレジメン名[[#This Row],[列4]],INDIRECT(\"__レジメンマスタ\"),2,FALSE),\"\")","v":""},{"$f":"IF(IFERROR(INDIRECT(\"__疾患別コード[@婦人科]\"),0)=0,\"\",INDIRECT(\"__疾患別コード[@婦人科]\"))","v":""},{"$f":"IFERROR(VLOOKUP(__疾患別コードレジメン名[[#This Row],[列5]],INDIRECT(\"__レジメンマスタ\"),2,FALSE),\"\")","v":""},{"$f":"IF(IFERROR(INDIRECT(\"__疾患別コード[@泌尿器]\"),0)=0,\"\",INDIRECT(\"__疾患別コード[@泌尿器]\"))","v":""},{"$f":"IFERROR(VLOOKUP(__疾患別コードレジメン名[[#This Row],[列6]],INDIRECT(\"__レジメンマスタ\"),2,FALSE),\"\")","v":""},{"$f":"IF(IFERROR(INDIRECT(\"__疾患別コード[@頭頚部]\"),0)=0,\"\",INDIRECT(\"__疾患別コード[@頭頚部]\"))","v":""},{"$f":"IFERROR(VLOOKUP(__疾患別コードレジメン名[[#This Row],[列7]],INDIRECT(\"__レジメンマスタ\"),2,FALSE),\"\")","v":""},"",{"$f":"IFERROR(VLOOKUP(__疾患別コードレジメン名[[#This Row],[列8]],INDIRECT(\"__レジメンマスタ\"),2,FALSE),\"\")","v":""},{"$f":"IF(IFERROR(INDIRECT(\"__疾患別コード[@臓器横断]\"),0)=0,\"\",INDIRECT(\"__疾患別コード[@臓器横断]\"))","v":""},{"$f":"IFERROR(VLOOKUP(__疾患別コードレジメン名[[#This Row],[列9]],INDIRECT(\"__レジメンマスタ\"),2,FALSE),\"\")","v":""},{"$f":"IF(IFERROR(INDIRECT(\"__疾患別コード[@悪性黒色腫]\"),0)=0,\"\",INDIRECT(\"__疾患別コード[@悪性黒色腫]\"))","v":""},{"$f":"IFERROR(VLOOKUP(__疾患別コードレジメン名[[#This Row],[列10]],INDIRECT(\"__レジメンマスタ\"),2,FALSE),\"\")","v":""},"",{"$f":"IFERROR(VLOOKUP(__疾患別コードレジメン名[[#This Row],[列11]],INDIRECT(\"__レジメンマスタ\"),2,FALSE),\"\")","v":""},"",{"$f":"IFERROR(VLOOKUP(__疾患別コードレジメン名[[#This Row],[列12]],INDIRECT(\"__レジメンマスタ\"),2,FALSE),\"\")","v":""},{"$f":"IF(IFERROR(INDIRECT(\"__疾患別コード[@リウマチ腎臓内科]\"),0)=0,\"\",INDIRECT(\"__疾患別コード[@リウマチ腎臓内科]\"))","v":""},{"$f":"IFERROR(VLOOKUP(__疾患別コードレジメン名[[#This Row],[列13]],INDIRECT(\"__レジメンマスタ\"),2,FALSE),\"\")","v":""}]
["HEM0068-3",{"$f":"IFERROR(VLOOKUP(__疾患別コードレジメン名[[#This Row],[列1]],INDIRECT(\"__レジメンマスタ\"),2,FALSE),\"\")","v":"JALSG　AML201地固め①"},"RES0056",{"$f":"IFERROR(VLOOKUP(__疾患別コードレジメン名[[#This Row],[列2]],INDIRECT(\"__レジメンマスタ\"),2,FALSE),\"\")","v":"n-PTX療法"},"SUR0100",{"$f":"IFERROR(VLOOKUP(__疾患別コードレジメン名[[#This Row],[列3]],INDIRECT(\"__レジメンマスタ\"),2,FALSE),\"\")","v":"ハラヴェン"},"",{"$f":"IFERROR(VLOOKUP(__疾患別コードレジメン名[[#This Row],[列4]],INDIRECT(\"__レジメンマスタ\"),2,FALSE),\"\")","v":""},"",{"$f":"IFERROR(VLOOKUP(__疾患別コードレジメン名[[#This Row],[列5]],INDIRECT(\"__レジメンマスタ\"),2,FALSE),\"\")","v":""},"",{"$f":"IFERROR(VLOOKUP(__疾患別コードレジメン名[[#This Row],[列6]],INDIRECT(\"__レジメンマスタ\"),2,FALSE),\"\")","v":""},"",{"$f":"IFERROR(VLOOKUP(__疾患別コードレジメン名[[#This Row],[列7]],INDIRECT(\"__レジメンマスタ\"),2,FALSE),\"\")","v":""},"",{"$f":"IFERROR(VLOOKUP(__疾患別コードレジメン名[[#This Row],[列8]],INDIRECT(\"__レジメンマスタ\"),2,FALSE),\"\")","v":""},"",{"$f":"IFERROR(VLOOKUP(__疾患別コードレジメン名[[#This Row],[列9]],INDIRECT(\"__レジメンマスタ\"),2,FALSE),\"\")","v":""},"",{"$f":"IFERROR(VLOOKUP(__疾患別コードレジメン名[[#This Row],[列10]],INDIRECT(\"__レジメンマスタ\"),2,FALSE),\"\")","v":""},{"$f":"IF(IFERROR(INDIRECT(\"__疾患別コード[@口腔癌]\"),0)=0,\"\",INDIRECT(\"__疾患別コード[@口腔癌]\"))","v":""},{"$f":"IFERROR(VLOOKUP(__疾患別コードレジメン名[[#This Row],[列11]],INDIRECT(\"__レジメンマスタ\"),2,FALSE),\"\")","v":""},"",{"$f":"IFERROR(VLOOKUP(__疾患別コードレジメン名[[#This Row],[列12]],INDIRECT(\"__レジメンマスタ\"),2,FALSE),\"\")","v":""},"",{"$f":"IFERROR(VLOOKUP(__疾患別コードレジメン名[[#This Row],[列13]],INDIRECT(\"__レジメンマスタ\"),2,FALSE),\"\")","v":""}]
["HEM0068-4",{"$f":"IFERROR(VLOOKUP(__疾患別コードレジメン名[[#This Row],[列1]],INDIRECT(\"__レジメンマスタ\"),2,FALSE),\"\")","v":"JALSG　AML201地固め②"},"RES0057",{"$f":"IFERROR(VLOOKUP(__疾患別コードレジメン名[[#This Row],[列2]],INDIRECT(\"__レジメンマスタ\"),2,FALSE),\"\")","v":"ニボルマブ＋イピリムマブ"},"SUR0101",{"$f":"IFERROR(VLOOKUP(__疾患別コードレジメン名[[#This Row],[列3]],INDIRECT(\"__レジメンマスタ\"),2,FALSE),\"\")","v":"weekly　PTX"},"",{"$f":"IFERROR(VLOOKUP(__疾患別コードレジメン名[[#This Row],[列4]],INDIRECT(\"__レジメンマスタ\"),2,FALSE),\"\")","v":""},"",{"$f":"IFERROR(VLOOKUP(__疾患別コードレジメン名[[#This Row],[列5]],INDIRECT(\"__レジメンマスタ\"),2,FALSE),\"\")","v":""},"",{"$f":"IFERROR(VLOOKUP(__疾患別コードレジメン名[[#This Row],[列6]],INDIRECT(\"__レジメンマスタ\"),2,FALSE),\"\")","v":""},"",{"$f":"IFERROR(VLOOKUP(__疾患別コードレジメン名[[#This Row],[列7]],INDIRECT(\"__レジメンマスタ\"),2,FALSE),\"\")","v":""},"",{"$f":"IFERROR(VLOOKUP(__疾患別コードレジメン名[[#This Row],[列8]],INDIRECT(\"__レジメンマスタ\"),2,FALSE),\"\")","v":""},"",{"$f":"IFERROR(VLOOKUP(__疾患別コードレジメン名[[#This Row],[列9]],INDIRECT(\"__レジメンマスタ\"),2,FALSE),\"\")","v":""},"",{"$f":"IFERROR(VLOOKUP(__疾患別コードレジメン名[[#This Row],[列10]],INDIRECT(\"__レジメンマスタ\"),2,FALSE),\"\")","v":""},"",{"$f":"IFERROR(VLOOKUP(__疾患別コードレジメン名[[#This Row],[列11]],INDIRECT(\"__レジメンマスタ\"),2,FALSE),\"\")","v":""},"",{"$f":"IFERROR(VLOOKUP(__疾患別コードレジメン名[[#This Row],[列12]],INDIRECT(\"__レジメンマスタ\"),2,FALSE),\"\")","v":""},"",{"$f":"IFERROR(VLOOKUP(__疾患別コードレジメン名[[#This Row],[列13]],INDIRECT(\"__レジメンマスタ\"),2,FALSE),\"\")","v":""}]
["HEM0068-5",{"$f":"IFERROR(VLOOKUP(__疾患別コードレジメン名[[#This Row],[列1]],INDIRECT(\"__レジメンマスタ\"),2,FALSE),\"\")","v":"JALSG　AML201地固め②後　髄注"},"RES0058",{"$f":"IFERROR(VLOOKUP(__疾患別コードレジメン名[[#This Row],[列2]],INDIRECT(\"__レジメンマスタ\"),2,FALSE),\"\")","v":"Pembro+CBDCA+PTX"},"SUR0103",{"$f":"IFERROR(VLOOKUP(__疾患別コードレジメン名[[#This Row],[列3]],INDIRECT(\"__レジメンマスタ\"),2,FALSE),\"\")","v":"FOLFOX6"},"",{"$f":"IFERROR(VLOOKUP(__疾患別コードレジメン名[[#This Row],[列4]],INDIRECT(\"__レジメンマスタ\"),2,FALSE),\"\")","v":""},"",{"$f":"IFERROR(VLOOKUP(__疾患別コードレジメン名[[#This Row],[列5]],INDIRECT(\"__レジメンマスタ\"),2,FALSE),\"\")","v":""},"",{"$f":"IFERROR(VLOOKUP(__疾患別コードレジメン名[[#This Row],[列6]],INDIRECT(\"__レジメンマスタ\"),2,FALSE),\"\")","v":""},"",{"$f":"IFERROR(VLOOKUP(__疾患別コードレジメン名[[#This Row],[列7]],INDIRECT(\"__レジメンマスタ\"),2,FALSE),\"\")","v":""},"",{"$f":"IFERROR(VLOOKUP(__疾患別コードレジメン名[[#This Row],[列8]],INDIRECT(\"__レジメンマスタ\"),2,FALSE),\"\")","v":""},"",{"$f":"IFERROR(VLOOKUP(__疾患別コードレジメン名[[#This Row],[列9]],INDIRECT(\"__レジメンマスタ\"),2,FALSE),\"\")","v":""},"",{"$f":"IFERROR(VLOOKUP(__疾患別コードレジメン名[[#This Row],[列10]],INDIRECT(\"__レジメンマスタ\"),2,FALSE),\"\")","v":""},"",{"$f":"IFERROR(VLOOKUP(__疾患別コードレジメン名[[#This Row],[列11]],INDIRECT(\"__レジメンマスタ\"),2,FALSE),\"\")","v":""},"",{"$f":"IFERROR(VLOOKUP(__疾患別コードレジメン名[[#This Row],[列12]],INDIRECT(\"__レジメンマスタ\"),2,FALSE),\"\")","v":""},"",{"$f":"IFERROR(VLOOKUP(__疾患別コードレジメン名[[#This Row],[列13]],INDIRECT(\"__レジメンマスタ\"),2,FALSE),\"\")","v":""}]
["HEM0068-52",{"$f":"IFERROR(VLOOKUP(__疾患別コードレジメン名[[#This Row],[列1]],INDIRECT(\"__レジメンマスタ\"),2,FALSE),\"\")","v":"JALSG　AML201地固め②後　髄注（AraC,PSL無し）"},"RES0059",{"$f":"IFERROR(VLOOKUP(__疾患別コードレジメン名[[#This Row],[列2]],INDIRECT(\"__レジメンマスタ\"),2,FALSE),\"\")","v":"アテゾリズマブ(術後補助療法）"},"SUR0104",{"$f":"IFERROR(VLOOKUP(__疾患別コードレジメン名[[#This Row],[列3]],INDIRECT(\"__レジメンマスタ\"),2,FALSE),\"\")","v":"FOLFOX6+RT"},"",{"$f":"IFERROR(VLOOKUP(__疾患別コードレジメン名[[#This Row],[列4]],INDIRECT(\"__レジメンマスタ\"),2,FALSE),\"\")","v":""},"",{"$f":"IFERROR(VLOOKUP(__疾患別コードレジメン名[[#This Row],[列5]],INDIRECT(\"__レジメンマスタ\"),2,FALSE),\"\")","v":""},"",{"$f":"IFERROR(VLOOKUP(__疾患別コードレジメン名[[#This Row],[列6]],INDIRECT(\"__レジメンマスタ\"),2,FALSE),\"\")","v":""},"",{"$f":"IFERROR(VLOOKUP(__疾患別コードレジメン名[[#This Row],[列7]],INDIRECT(\"__レジメンマスタ\"),2,FALSE),\"\")","v":""},"",{"$f":"IFERROR(VLOOKUP(__疾患別コードレジメン名[[#This Row],[列8]],INDIRECT(\"__レジメンマスタ\"),2,FALSE),\"\")","v":""},"",{"$f":"IFERROR(VLOOKUP(__疾患別コードレジメン名[[#This Row],[列9]],INDIRECT(\"__レジメンマスタ\"),2,FALSE),\"\")","v":""},"",{"$f":"IFERROR(VLOOKUP(__疾患別コードレジメン名[[#This Row],[列10]],INDIRECT(\"__レジメンマスタ\"),2,FALSE),\"\")","v":""},"",{"$f":"IFERROR(VLOOKUP(__疾患別コードレジメン名[[#This Row],[列11]],INDIRECT(\"__レジメンマスタ\"),2,FALSE),\"\")","v":""},"",{"$f":"IFERROR(VLOOKUP(__疾患別コードレジメン名[[#This Row],[列12]],INDIRECT(\"__レジメンマスタ\"),2,FALSE),\"\")","v":""},"",{"$f":"IFERROR(VLOOKUP(__疾患別コードレジメン名[[#This Row],[列13]],INDIRECT(\"__レジメンマスタ\"),2,FALSE),\"\")","v":""}]
["HEM0068-6",{"$f":"IFERROR(VLOOKUP(__疾患別コードレジメン名[[#This Row],[列1]],INDIRECT(\"__レジメンマスタ\"),2,FALSE),\"\")","v":"JALSG　AML201地固め③"},"RES0059-2",{"$f":"IFERROR(VLOOKUP(__疾患別コードレジメン名[[#This Row],[列2]],INDIRECT(\"__レジメンマスタ\"),2,FALSE),\"\")","v":"アテゾリズマブ(術後補助療法　4週間毎）"},"SUR0105",{"$f":"IFERROR(VLOOKUP(__疾患別コードレジメン名[[#This Row],[列3]],INDIRECT(\"__レジメンマスタ\"),2,FALSE),\"\")","v":"FOLFOX6"},"",{"$f":"IFERROR(VLOOKUP(__疾患別コードレジメン名[[#This Row],[列4]],INDIRECT(\"__レジメンマスタ\"),2,FALSE),\"\")","v":""},"",{"$f":"IFERROR(VLOOKUP(__疾患別コードレジメン名[[#This Row],[列5]],INDIRECT(\"__レジメンマスタ\"),2,FALSE),\"\")","v":""},"",{"$f":"IFERROR(VLOOKUP(__疾患別コードレジメン名[[#This Row],[列6]],INDIRECT(\"__レジメンマスタ\"),2,FALSE),\"\")","v":""},"",{"$f":"IFERROR(VLOOKUP(__疾患別コードレジメン名[[#This Row],[列7]],INDIRECT(\"__レジメンマスタ\"),2,FALSE),\"\")","v":""},"",{"$f":"IFERROR(VLOOKUP(__疾患別コードレジメン名[[#This Row],[列8]],INDIRECT(\"__レジメンマスタ\"),2,FALSE),\"\")","v":""},"",{"$f":"IFERROR(VLOOKUP(__疾患別コードレジメン名[[#This Row],[列9]],INDIRECT(\"__レジメンマスタ\"),2,FALSE),\"\")","v":""},"",{"$f":"IFERROR(VLOOKUP(__疾患別コードレジメン名[[#This Row],[列10]],INDIRECT(\"__レジメンマスタ\"),2,FALSE),\"\")","v":""},"",{"$f":"IFERROR(VLOOKUP(__疾患別コードレジメン名[[#This Row],[列11]],INDIRECT(\"__レジメンマスタ\"),2,FALSE),\"\")","v":""},"",{"$f":"IFERROR(VLOOKUP(__疾患別コードレジメン名[[#This Row],[列12]],INDIRECT(\"__レジメンマスタ\"),2,FALSE),\"\")","v":""},"",{"$f":"IFERROR(VLOOKUP(__疾患別コードレジメン名[[#This Row],[列13]],INDIRECT(\"__レジメンマスタ\"),2,FALSE),\"\")","v":""}]
["HEM0068-7",{"$f":"IFERROR(VLOOKUP(__疾患別コードレジメン名[[#This Row],[列1]],INDIRECT(\"__レジメンマスタ\"),2,FALSE),\"\")","v":"JALSG　AML201地固め④"},"RES0060-11",{"$f":"IFERROR(VLOOKUP(__疾患別コードレジメン名[[#This Row],[列2]],INDIRECT(\"__レジメンマスタ\"),2,FALSE),\"\")","v":"Trem+Dur+CBDCA+PEM"},"SUR0109",{"$f":"IFERROR(VLOOKUP(__疾患別コードレジメン名[[#This Row],[列3]],INDIRECT(\"__レジメンマスタ\"),2,FALSE),\"\")","v":"オプジーボ"},"",{"$f":"IFERROR(VLOOKUP(__疾患別コードレジメン名[[#This Row],[列4]],INDIRECT(\"__レジメンマスタ\"),2,FALSE),\"\")","v":""},"",{"$f":"IFERROR(VLOOKUP(__疾患別コードレジメン名[[#This Row],[列5]],INDIRECT(\"__レジメンマスタ\"),2,FALSE),\"\")","v":""},"",{"$f":"IFERROR(VLOOKUP(__疾患別コードレジメン名[[#This Row],[列6]],INDIRECT(\"__レジメンマスタ\"),2,FALSE),\"\")","v":""},"",{"$f":"IFERROR(VLOOKUP(__疾患別コードレジメン名[[#This Row],[列7]],INDIRECT(\"__レジメンマスタ\"),2,FALSE),\"\")","v":""},"",{"$f":"IFERROR(VLOOKUP(__疾患別コードレジメン名[[#This Row],[列8]],INDIRECT(\"__レジメンマスタ\"),2,FALSE),\"\")","v":""},"",{"$f":"IFERROR(VLOOKUP(__疾患別コードレジメン名[[#This Row],[列9]],INDIRECT(\"__レジメンマスタ\"),2,FALSE),\"\")","v":""},"",{"$f":"IFERROR(VLOOKUP(__疾患別コードレジメン名[[#This Row],[列10]],INDIRECT(\"__レジメンマスタ\"),2,FALSE),\"\")","v":""},"",{"$f":"IFERROR(VLOOKUP(__疾患別コードレジメン名[[#This Row],[列11]],INDIRECT(\"__レジメンマスタ\"),2,FALSE),\"\")","v":""},"",{"$f":"IFERROR(VLOOKUP(__疾患別コードレジメン名[[#This Row],[列12]],INDIRECT(\"__レジメンマスタ\"),2,FALSE),\"\")","v":""},"",{"$f":"IFERROR(VLOOKUP(__疾患別コードレジメン名[[#This Row],[列13]],INDIRECT(\"__レジメンマスタ\"),2,FALSE),\"\")","v":""}]
["HEM0069",{"$f":"IFERROR(VLOOKUP(__疾患別コードレジメン名[[#This Row],[列1]],INDIRECT(\"__レジメンマスタ\"),2,FALSE),\"\")","v":"アザシチジン（皮下）"},"RES0060-12",{"$f":"IFERROR(VLOOKUP(__疾患別コードレジメン名[[#This Row],[列2]],INDIRECT(\"__レジメンマスタ\"),2,FALSE),\"\")","v":"Trem+Du+CBDCA+PEM（体重30kg以下）"},"SUR0109-02",{"$f":"IFERROR(VLOOKUP(__疾患別コードレジメン名[[#This Row],[列3]],INDIRECT(\"__レジメンマスタ\"),2,FALSE),\"\")","v":"オプジーボ（4週間毎）"},"",{"$f":"IFERROR(VLOOKUP(__疾患別コードレジメン名[[#This Row],[列4]],INDIRECT(\"__レジメンマスタ\"),2,FALSE),\"\")","v":""},"",{"$f":"IFERROR(VLOOKUP(__疾患別コードレジメン名[[#This Row],[列5]],INDIRECT(\"__レジメンマスタ\"),2,FALSE),\"\")","v":""},"",{"$f":"IFERROR(VLOOKUP(__疾患別コードレジメン名[[#This Row],[列6]],INDIRECT(\"__レジメンマスタ\"),2,FALSE),\"\")","v":""},"",{"$f":"IFERROR(VLOOKUP(__疾患別コードレジメン名[[#This Row],[列7]],INDIRECT(\"__レジメンマスタ\"),2,FALSE),\"\")","v":""},"",{"$f":"IFERROR(VLOOKUP(__疾患別コードレジメン名[[#This Row],[列8]],INDIRECT(\"__レジメンマスタ\"),2,FALSE),\"\")","v":""},"",{"$f":"IFERROR(VLOOKUP(__疾患別コードレジメン名[[#This Row],[列9]],INDIRECT(\"__レジメンマスタ\"),2,FALSE),\"\")","v":""},"",{"$f":"IFERROR(VLOOKUP(__疾患別コードレジメン名[[#This Row],[列10]],INDIRECT(\"__レジメンマスタ\"),2,FALSE),\"\")","v":""},"",{"$f":"IFERROR(VLOOKUP(__疾患別コードレジメン名[[#This Row],[列11]],INDIRECT(\"__レジメンマスタ\"),2,FALSE),\"\")","v":""},"",{"$f":"IFERROR(VLOOKUP(__疾患別コードレジメン名[[#This Row],[列12]],INDIRECT(\"__レジメンマスタ\"),2,FALSE),\"\")","v":""},"",{"$f":"IFERROR(VLOOKUP(__疾患別コードレジメン名[[#This Row],[列13]],INDIRECT(\"__レジメンマスタ\"),2,FALSE),\"\")","v":""}]
["HEM0069-2",{"$f":"IFERROR(VLOOKUP(__疾患別コードレジメン名[[#This Row],[列1]],INDIRECT(\"__レジメンマスタ\"),2,FALSE),\"\")","v":"アザシチジン（点滴）"},"RES0061-11",{"$f":"IFERROR(VLOOKUP(__疾患別コードレジメン名[[#This Row],[列2]],INDIRECT(\"__レジメンマスタ\"),2,FALSE),\"\")","v":"Trem+Du+CBDCA+n-PTX"},"SUR0109-11",{"$f":"IFERROR(VLOOKUP(__疾患別コードレジメン名[[#This Row],[列3]],INDIRECT(\"__レジメンマスタ\"),2,FALSE),\"\")","v":"オプジーボ（術後補助療法）"},"",{"$f":"IFERROR(VLOOKUP(__疾患別コードレジメン名[[#This Row],[列4]],INDIRECT(\"__レジメンマスタ\"),2,FALSE),\"\")","v":""},"",{"$f":"IFERROR(VLOOKUP(__疾患別コードレジメン名[[#This Row],[列5]],INDIRECT(\"__レジメンマスタ\"),2,FALSE),\"\")","v":""},"",{"$f":"IFERROR(VLOOKUP(__疾患別コードレジメン名[[#This Row],[列6]],INDIRECT(\"__レジメンマスタ\"),2,FALSE),\"\")","v":""},"",{"$f":"IFERROR(VLOOKUP(__疾患別コードレジメン名[[#This Row],[列7]],INDIRECT(\"__レジメンマスタ\"),2,FALSE),\"\")","v":""},"",{"$f":"IFERROR(VLOOKUP(__疾患別コードレジメン名[[#This Row],[列8]],INDIRECT(\"__レジメンマスタ\"),2,FALSE),\"\")","v":""},"",{"$f":"IFERROR(VLOOKUP(__疾患別コードレジメン名[[#This Row],[列9]],INDIRECT(\"__レジメンマスタ\"),2,FALSE),\"\")","v":""},"",{"$f":"IFERROR(VLOOKUP(__疾患別コードレジメン名[[#This Row],[列10]],INDIRECT(\"__レジメンマスタ\"),2,FALSE),\"\")","v":""},"",{"$f":"IFERROR(VLOOKUP(__疾患別コードレジメン名[[#This Row],[列11]],INDIRECT(\"__レジメンマスタ\"),2,FALSE),\"\")","v":""},"",{"$f":"IFERROR(VLOOKUP(__疾患別コードレジメン名[[#This Row],[列12]],INDIRECT(\"__レジメンマスタ\"),2,FALSE),\"\")","v":""},"",{"$f":"IFERROR(VLOOKUP(__疾患別コードレジメン名[[#This Row],[列13]],INDIRECT(\"__レジメンマスタ\"),2,FALSE),\"\")","v":""}]
["HEM0070",{"$f":"IFERROR(VLOOKUP(__疾患別コードレジメン名[[#This Row],[列1]],INDIRECT(\"__レジメンマスタ\"),2,FALSE),\"\")","v":"【適応外】血球貪食症候群（ETP）"},"RES0061-12",{"$f":"IFERROR(VLOOKUP(__疾患別コードレジメン名[[#This Row],[列2]],INDIRECT(\"__レジメンマスタ\"),2,FALSE),\"\")","v":"Trem+Du+CBDCA+n-PTX（体重30kg以下）"},"SUR0109-12",{"$f":"IFERROR(VLOOKUP(__疾患別コードレジメン名[[#This Row],[列3]],INDIRECT(\"__レジメンマスタ\"),2,FALSE),\"\")","v":"オプジーボ（術後補助療法、4週間毎）"},"",{"$f":"IFERROR(VLOOKUP(__疾患別コードレジメン名[[#This Row],[列4]],INDIRECT(\"__レジメンマスタ\"),2,FALSE),\"\")","v":""},"",{"$f":"IFERROR(VLOOKUP(__疾患別コードレジメン名[[#This Row],[列5]],INDIRECT(\"__レジメンマスタ\"),2,FALSE),\"\")","v":""},"",{"$f":"IFERROR(VLOOKUP(__疾患別コードレジメン名[[#This Row],[列6]],INDIRECT(\"__レジメンマスタ\"),2,FALSE),\"\")","v":""},"",{"$f":"IFERROR(VLOOKUP(__疾患別コードレジメン名[[#This Row],[列7]],INDIRECT(\"__レジメンマスタ\"),2,FALSE),\"\")","v":""},"",{"$f":"IFERROR(VLOOKUP(__疾患別コードレジメン名[[#This Row],[列8]],INDIRECT(\"__レジメンマスタ\"),2,FALSE),\"\")","v":""},"",{"$f":"IFERROR(VLOOKUP(__疾患別コードレジメン名[[#This Row],[列9]],INDIRECT(\"__レジメンマスタ\"),2,FALSE),\"\")","v":""},"",{"$f":"IFERROR(VLOOKUP(__疾患別コードレジメン名[[#This Row],[列10]],INDIRECT(\"__レジメンマスタ\"),2,FALSE),\"\")","v":""},"",{"$f":"IFERROR(VLOOKUP(__疾患別コードレジメン名[[#This Row],[列11]],INDIRECT(\"__レジメンマスタ\"),2,FALSE),\"\")","v":""},"",{"$f":"IFERROR(VLOOKUP(__疾患別コードレジメン名[[#This Row],[列12]],INDIRECT(\"__レジメンマスタ\"),2,FALSE),\"\")","v":""},"",{"$f":"IFERROR(VLOOKUP(__疾患別コードレジメン名[[#This Row],[列13]],INDIRECT(\"__レジメンマスタ\"),2,FALSE),\"\")","v":""}]
["HEM0071",{"$f":"IFERROR(VLOOKUP(__疾患別コードレジメン名[[#This Row],[列1]],INDIRECT(\"__レジメンマスタ\"),2,FALSE),\"\")","v":"RB（B:90mg/㎡）"},"RES0062",{"$f":"IFERROR(VLOOKUP(__疾患別コードレジメン名[[#This Row],[列2]],INDIRECT(\"__レジメンマスタ\"),2,FALSE),\"\")","v":"ニボルマブ+CBDCA+PEM（術前導入療法）"},"SUR0111-11",{"$f":"IFERROR(VLOOKUP(__疾患別コードレジメン名[[#This Row],[列3]],INDIRECT(\"__レジメンマスタ\"),2,FALSE),\"\")","v":"ザノサー（Weekly）"},"",{"$f":"IFERROR(VLOOKUP(__疾患別コードレジメン名[[#This Row],[列4]],INDIRECT(\"__レジメンマスタ\"),2,FALSE),\"\")","v":""},"",{"$f":"IFERROR(VLOOKUP(__疾患別コードレジメン名[[#This Row],[列5]],INDIRECT(\"__レジメンマスタ\"),2,FALSE),\"\")","v":""},"",{"$f":"IFERROR(VLOOKUP(__疾患別コードレジメン名[[#This Row],[列6]],INDIRECT(\"__レジメンマスタ\"),2,FALSE),\"\")","v":""},"",{"$f":"IFERROR(VLOOKUP(__疾患別コードレジメン名[[#This Row],[列7]],INDIRECT(\"__レジメンマスタ\"),2,FALSE),\"\")","v":""},"",{"$f":"IFERROR(VLOOKUP(__疾患別コードレジメン名[[#This Row],[列8]],INDIRECT(\"__レジメンマスタ\"),2,FALSE),\"\")","v":""},"",{"$f":"IFERROR(VLOOKUP(__疾患別コードレジメン名[[#This Row],[列9]],INDIRECT(\"__レジメンマスタ\"),2,FALSE),\"\")","v":""},"",{"$f":"IFERROR(VLOOKUP(__疾患別コードレジメン名[[#This Row],[列10]],INDIRECT(\"__レジメンマスタ\"),2,FALSE),\"\")","v":""},"",{"$f":"IFERROR(VLOOKUP(__疾患別コードレジメン名[[#This Row],[列11]],INDIRECT(\"__レジメンマスタ\"),2,FALSE),\"\")","v":""},"",{"$f":"IFERROR(VLOOKUP(__疾患別コードレジメン名[[#This Row],[列12]],INDIRECT(\"__レジメンマスタ\"),2,FALSE),\"\")","v":""},"",{"$f":"IFERROR(VLOOKUP(__疾患別コードレジメン名[[#This Row],[列13]],INDIRECT(\"__レジメンマスタ\"),2,FALSE),\"\")","v":""}]
["HEM0072",{"$f":"IFERROR(VLOOKUP(__疾患別コードレジメン名[[#This Row],[列1]],INDIRECT(\"__レジメンマスタ\"),2,FALSE),\"\")","v":"Benda単剤（90mg/㎡）"},"RES0063",{"$f":"IFERROR(VLOOKUP(__疾患別コードレジメン名[[#This Row],[列2]],INDIRECT(\"__レジメンマスタ\"),2,FALSE),\"\")","v":"ニボルマブ+CBDCA+PTX（術前導入療法）"},"SUR0111-20",{"$f":"IFERROR(VLOOKUP(__疾患別コードレジメン名[[#This Row],[列3]],INDIRECT(\"__レジメンマスタ\"),2,FALSE),\"\")","v":"ザノサー（daily:6週毎）"},"",{"$f":"IFERROR(VLOOKUP(__疾患別コードレジメン名[[#This Row],[列4]],INDIRECT(\"__レジメンマスタ\"),2,FALSE),\"\")","v":""},"",{"$f":"IFERROR(VLOOKUP(__疾患別コードレジメン名[[#This Row],[列5]],INDIRECT(\"__レジメンマスタ\"),2,FALSE),\"\")","v":""},"",{"$f":"IFERROR(VLOOKUP(__疾患別コードレジメン名[[#This Row],[列6]],INDIRECT(\"__レジメンマスタ\"),2,FALSE),\"\")","v":""},"",{"$f":"IFERROR(VLOOKUP(__疾患別コードレジメン名[[#This Row],[列7]],INDIRECT(\"__レジメンマスタ\"),2,FALSE),\"\")","v":""},"",{"$f":"IFERROR(VLOOKUP(__疾患別コードレジメン名[[#This Row],[列8]],INDIRECT(\"__レジメンマスタ\"),2,FALSE),\"\")","v":""},"",{"$f":"IFERROR(VLOOKUP(__疾患別コードレジメン名[[#This Row],[列9]],INDIRECT(\"__レジメンマスタ\"),2,FALSE),\"\")","v":""},"",{"$f":"IFERROR(VLOOKUP(__疾患別コードレジメン名[[#This Row],[列10]],INDIRECT(\"__レジメンマスタ\"),2,FALSE),\"\")","v":""},"",{"$f":"IFERROR(VLOOKUP(__疾患別コードレジメン名[[#This Row],[列11]],INDIRECT(\"__レジメンマスタ\"),2,FALSE),\"\")","v":""},"",{"$f":"IFERROR(VLOOKUP(__疾患別コードレジメン名[[#This Row],[列12]],INDIRECT(\"__レジメンマスタ\"),2,FALSE),\"\")","v":""},"",{"$f":"IFERROR(VLOOKUP(__疾患別コードレジメン名[[#This Row],[列13]],INDIRECT(\"__レジメンマスタ\"),2,FALSE),\"\")","v":""}]
["HEM0073",{"$f":"IFERROR(VLOOKUP(__疾患別コードレジメン名[[#This Row],[列1]],INDIRECT(\"__レジメンマスタ\"),2,FALSE),\"\")","v":"CODOX-M"},"RES0064",{"$f":"IFERROR(VLOOKUP(__疾患別コードレジメン名[[#This Row],[列2]],INDIRECT(\"__レジメンマスタ\"),2,FALSE),\"\")","v":"エンハーツ"},"SUR0112",{"$f":"IFERROR(VLOOKUP(__疾患別コードレジメン名[[#This Row],[列3]],INDIRECT(\"__レジメンマスタ\"),2,FALSE),\"\")","v":"キイトルーダ"},"",{"$f":"IFERROR(VLOOKUP(__疾患別コードレジメン名[[#This Row],[列4]],INDIRECT(\"__レジメンマスタ\"),2,FALSE),\"\")","v":""},"",{"$f":"IFERROR(VLOOKUP(__疾患別コードレジメン名[[#This Row],[列5]],INDIRECT(\"__レジメンマスタ\"),2,FALSE),\"\")","v":""},"",{"$f":"IFERROR(VLOOKUP(__疾患別コードレジメン名[[#This Row],[列6]],INDIRECT(\"__レジメンマスタ\"),2,FALSE),\"\")","v":""},"",{"$f":"IFERROR(VLOOKUP(__疾患別コードレジメン名[[#This Row],[列7]],INDIRECT(\"__レジメンマスタ\"),2,FALSE),\"\")","v":""},"",{"$f":"IFERROR(VLOOKUP(__疾患別コードレジメン名[[#This Row],[列8]],INDIRECT(\"__レジメンマスタ\"),2,FALSE),\"\")","v":""},"",{"$f":"IFERROR(VLOOKUP(__疾患別コードレジメン名[[#This Row],[列9]],INDIRECT(\"__レジメンマスタ\"),2,FALSE),\"\")","v":""},"",{"$f":"IFERROR(VLOOKUP(__疾患別コードレジメン名[[#This Row],[列10]],INDIRECT(\"__レジメンマスタ\"),2,FALSE),\"\")","v":""},"",{"$f":"IFERROR(VLOOKUP(__疾患別コードレジメン名[[#This Row],[列11]],INDIRECT(\"__レジメンマスタ\"),2,FALSE),\"\")","v":""},"",{"$f":"IFERROR(VLOOKUP(__疾患別コードレジメン名[[#This Row],[列12]],INDIRECT(\"__レジメンマスタ\"),2,FALSE),\"\")","v":""},"",{"$f":"IFERROR(VLOOKUP(__疾患別コードレジメン名[[#This Row],[列13]],INDIRECT(\"__レジメンマスタ\"),2,FALSE),\"\")","v":""}]
["HEM0074",{"$f":"IFERROR(VLOOKUP(__疾患別コードレジメン名[[#This Row],[列1]],INDIRECT(\"__レジメンマスタ\"),2,FALSE),\"\")","v":"I-VAC"},"RES0065",{"$f":"IFERROR(VLOOKUP(__疾患別コードレジメン名[[#This Row],[列2]],INDIRECT(\"__レジメンマスタ\"),2,FALSE),\"\")","v":"CDDP＋PEM＋ｵｼﾒﾙﾁﾆﾌﾞ"},"SUR0112-02",{"$f":"IFERROR(VLOOKUP(__疾患別コードレジメン名[[#This Row],[列3]],INDIRECT(\"__レジメンマスタ\"),2,FALSE),\"\")","v":"キイトルーダ（6週間毎）"},"",{"$f":"IFERROR(VLOOKUP(__疾患別コードレジメン名[[#This Row],[列4]],INDIRECT(\"__レジメンマスタ\"),2,FALSE),\"\")","v":""},"",{"$f":"IFERROR(VLOOKUP(__疾患別コードレジメン名[[#This Row],[列5]],INDIRECT(\"__レジメンマスタ\"),2,FALSE),\"\")","v":""},"",{"$f":"IFERROR(VLOOKUP(__疾患別コードレジメン名[[#This Row],[列6]],INDIRECT(\"__レジメンマスタ\"),2,FALSE),\"\")","v":""},"",{"$f":"IFERROR(VLOOKUP(__疾患別コードレジメン名[[#This Row],[列7]],INDIRECT(\"__レジメンマスタ\"),2,FALSE),\"\")","v":""},"",{"$f":"IFERROR(VLOOKUP(__疾患別コードレジメン名[[#This Row],[列8]],INDIRECT(\"__レジメンマスタ\"),2,FALSE),\"\")","v":""},"",{"$f":"IFERROR(VLOOKUP(__疾患別コードレジメン名[[#This Row],[列9]],INDIRECT(\"__レジメンマスタ\"),2,FALSE),\"\")","v":""},"",{"$f":"IFERROR(VLOOKUP(__疾患別コードレジメン名[[#This Row],[列10]],INDIRECT(\"__レジメンマスタ\"),2,FALSE),\"\")","v":""},"",{"$f":"IFERROR(VLOOKUP(__疾患別コードレジメン名[[#This Row],[列11]],INDIRECT(\"__レジメンマスタ\"),2,FALSE),\"\")","v":""},"",{"$f":"IFERROR(VLOOKUP(__疾患別コードレジメン名[[#This Row],[列12]],INDIRECT(\"__レジメンマスタ\"),2,FALSE),\"\")","v":""},"",{"$f":"IFERROR(VLOOKUP(__疾患別コードレジメン名[[#This Row],[列13]],INDIRECT(\"__レジメンマスタ\"),2,FALSE),\"\")","v":""}]
["HEM0076-01",{"$f":"IFERROR(VLOOKUP(__疾患別コードレジメン名[[#This Row],[列1]],INDIRECT(\"__レジメンマスタ\"),2,FALSE),\"\")","v":"VMP（点滴）"},"RES0066",{"$f":"IFERROR(VLOOKUP(__疾患別コードレジメン名[[#This Row],[列2]],INDIRECT(\"__レジメンマスタ\"),2,FALSE),\"\")","v":"CBDCA+PEM+オシメルチニブ"},"SUR0113",{"$f":"IFERROR(VLOOKUP(__疾患別コードレジメン名[[#This Row],[列3]],INDIRECT(\"__レジメンマスタ\"),2,FALSE),\"\")","v":"エンハーツ"},"",{"$f":"IFERROR(VLOOKUP(__疾患別コードレジメン名[[#This Row],[列4]],INDIRECT(\"__レジメンマスタ\"),2,FALSE),\"\")","v":""},"",{"$f":"IFERROR(VLOOKUP(__疾患別コードレジメン名[[#This Row],[列5]],INDIRECT(\"__レジメンマスタ\"),2,FALSE),\"\")","v":""},"",{"$f":"IFERROR(VLOOKUP(__疾患別コードレジメン名[[#This Row],[列6]],INDIRECT(\"__レジメンマスタ\"),2,FALSE),\"\")","v":""},"",{"$f":"IFERROR(VLOOKUP(__疾患別コードレジメン名[[#This Row],[列7]],INDIRECT(\"__レジメンマスタ\"),2,FALSE),\"\")","v":""},"",{"$f":"IFERROR(VLOOKUP(__疾患別コードレジメン名[[#This Row],[列8]],INDIRECT(\"__レジメンマスタ\"),2,FALSE),\"\")","v":""},"",{"$f":"IFERROR(VLOOKUP(__疾患別コードレジメン名[[#This Row],[列9]],INDIRECT(\"__レジメンマスタ\"),2,FALSE),\"\")","v":""},"",{"$f":"IFERROR(VLOOKUP(__疾患別コードレジメン名[[#This Row],[列10]],INDIRECT(\"__レジメンマスタ\"),2,FALSE),\"\")","v":""},"",{"$f":"IFERROR(VLOOKUP(__疾患別コードレジメン名[[#This Row],[列11]],INDIRECT(\"__レジメンマスタ\"),2,FALSE),\"\")","v":""},"",{"$f":"IFERROR(VLOOKUP(__疾患別コードレジメン名[[#This Row],[列12]],INDIRECT(\"__レジメンマスタ\"),2,FALSE),\"\")","v":""},"",{"$f":"IFERROR(VLOOKUP(__疾患別コードレジメン名[[#This Row],[列13]],INDIRECT(\"__レジメンマスタ\"),2,FALSE),\"\")","v":""}]
["HEM0076-02",{"$f":"IFERROR(VLOOKUP(__疾患別コードレジメン名[[#This Row],[列1]],INDIRECT(\"__レジメンマスタ\"),2,FALSE),\"\")","v":"VMP（皮下）"},"RES0067",{"$f":"IFERROR(VLOOKUP(__疾患別コードレジメン名[[#This Row],[列2]],INDIRECT(\"__レジメンマスタ\"),2,FALSE),\"\")","v":"Pembro＋CDDP＋PEM"},"SUR0114",{"$f":"IFERROR(VLOOKUP(__疾患別コードレジメン名[[#This Row],[列3]],INDIRECT(\"__レジメンマスタ\"),2,FALSE),\"\")","v":"【大腸癌】オプジーボ・ヤーボイ"},"",{"$f":"IFERROR(VLOOKUP(__疾患別コードレジメン名[[#This Row],[列4]],INDIRECT(\"__レジメンマスタ\"),2,FALSE),\"\")","v":""},"",{"$f":"IFERROR(VLOOKUP(__疾患別コードレジメン名[[#This Row],[列5]],INDIRECT(\"__レジメンマスタ\"),2,FALSE),\"\")","v":""},"",{"$f":"IFERROR(VLOOKUP(__疾患別コードレジメン名[[#This Row],[列6]],INDIRECT(\"__レジメンマスタ\"),2,FALSE),\"\")","v":""},"",{"$f":"IFERROR(VLOOKUP(__疾患別コードレジメン名[[#This Row],[列7]],INDIRECT(\"__レジメンマスタ\"),2,FALSE),\"\")","v":""},"",{"$f":"IFERROR(VLOOKUP(__疾患別コードレジメン名[[#This Row],[列8]],INDIRECT(\"__レジメンマスタ\"),2,FALSE),\"\")","v":""},"",{"$f":"IFERROR(VLOOKUP(__疾患別コードレジメン名[[#This Row],[列9]],INDIRECT(\"__レジメンマスタ\"),2,FALSE),\"\")","v":""},"",{"$f":"IFERROR(VLOOKUP(__疾患別コードレジメン名[[#This Row],[列10]],INDIRECT(\"__レジメンマスタ\"),2,FALSE),\"\")","v":""},"",{"$f":"IFERROR(VLOOKUP(__疾患別コードレジメン名[[#This Row],[列11]],INDIRECT(\"__レジメンマスタ\"),2,FALSE),\"\")","v":""},"",{"$f":"IFERROR(VLOOKUP(__疾患別コードレジメン名[[#This Row],[列12]],INDIRECT(\"__レジメンマスタ\"),2,FALSE),\"\")","v":""},"",{"$f":"IFERROR(VLOOKUP(__疾患別コードレジメン名[[#This Row],[列13]],INDIRECT(\"__レジメンマスタ\"),2,FALSE),\"\")","v":""}]
["HEM0076-03",{"$f":"IFERROR(VLOOKUP(__疾患別コードレジメン名[[#This Row],[列1]],INDIRECT(\"__レジメンマスタ\"),2,FALSE),\"\")","v":"VMP（twice weekly 点滴）"},"RES0068",{"$f":"IFERROR(VLOOKUP(__疾患別コードレジメン名[[#This Row],[列2]],INDIRECT(\"__レジメンマスタ\"),2,FALSE),\"\")","v":"Pembro＋CDDP＋GEM"},"SUR0114-02",{"$f":"IFERROR(VLOOKUP(__疾患別コードレジメン名[[#This Row],[列3]],INDIRECT(\"__レジメンマスタ\"),2,FALSE),\"\")","v":"【大腸癌】オプジーボ・ヤーボイ（維持療法2週間毎）"},"",{"$f":"IFERROR(VLOOKUP(__疾患別コードレジメン名[[#This Row],[列4]],INDIRECT(\"__レジメンマスタ\"),2,FALSE),\"\")","v":""},"",{"$f":"IFERROR(VLOOKUP(__疾患別コードレジメン名[[#This Row],[列5]],INDIRECT(\"__レジメンマスタ\"),2,FALSE),\"\")","v":""},"",{"$f":"IFERROR(VLOOKUP(__疾患別コードレジメン名[[#This Row],[列6]],INDIRECT(\"__レジメンマスタ\"),2,FALSE),\"\")","v":""},"",{"$f":"IFERROR(VLOOKUP(__疾患別コードレジメン名[[#This Row],[列7]],INDIRECT(\"__レジメンマスタ\"),2,FALSE),\"\")","v":""},"",{"$f":"IFERROR(VLOOKUP(__疾患別コードレジメン名[[#This Row],[列8]],INDIRECT(\"__レジメンマスタ\"),2,FALSE),\"\")","v":""},"",{"$f":"IFERROR(VLOOKUP(__疾患別コードレジメン名[[#This Row],[列9]],INDIRECT(\"__レジメンマスタ\"),2,FALSE),\"\")","v":""},"",{"$f":"IFERROR(VLOOKUP(__疾患別コードレジメン名[[#This Row],[列10]],INDIRECT(\"__レジメンマスタ\"),2,FALSE),\"\")","v":""},"",{"$f":"IFERROR(VLOOKUP(__疾患別コードレジメン名[[#This Row],[列11]],INDIRECT(\"__レジメンマスタ\"),2,FALSE),\"\")","v":""},"",{"$f":"IFERROR(VLOOKUP(__疾患別コードレジメン名[[#This Row],[列12]],INDIRECT(\"__レジメンマスタ\"),2,FALSE),\"\")","v":""},"",{"$f":"IFERROR(VLOOKUP(__疾患別コードレジメン名[[#This Row],[列13]],INDIRECT(\"__レジメンマスタ\"),2,FALSE),\"\")","v":""}]
["HEM0076-04",{"$f":"IFERROR(VLOOKUP(__疾患別コードレジメン名[[#This Row],[列1]],INDIRECT(\"__レジメンマスタ\"),2,FALSE),\"\")","v":"VMP（twice weekly 皮下）"},"RES0069",{"$f":"IFERROR(VLOOKUP(__疾患別コードレジメン名[[#This Row],[列2]],INDIRECT(\"__レジメンマスタ\"),2,FALSE),\"\")","v":"【治験】CBDCA+PEM+ABP234 or Pembro"},"SUR0114-03",{"$f":"IFERROR(VLOOKUP(__疾患別コードレジメン名[[#This Row],[列3]],INDIRECT(\"__レジメンマスタ\"),2,FALSE),\"\")","v":"【大腸癌】オプジーボ・ヤーボイ（維持療法、４週間毎）"},"",{"$f":"IFERROR(VLOOKUP(__疾患別コードレジメン名[[#This Row],[列4]],INDIRECT(\"__レジメンマスタ\"),2,FALSE),\"\")","v":""},"",{"$f":"IFERROR(VLOOKUP(__疾患別コードレジメン名[[#This Row],[列5]],INDIRECT(\"__レジメンマスタ\"),2,FALSE),\"\")","v":""},"",{"$f":"IFERROR(VLOOKUP(__疾患別コードレジメン名[[#This Row],[列6]],INDIRECT(\"__レジメンマスタ\"),2,FALSE),\"\")","v":""},"",{"$f":"IFERROR(VLOOKUP(__疾患別コードレジメン名[[#This Row],[列7]],INDIRECT(\"__レジメンマスタ\"),2,FALSE),\"\")","v":""},"",{"$f":"IFERROR(VLOOKUP(__疾患別コードレジメン名[[#This Row],[列8]],INDIRECT(\"__レジメンマスタ\"),2,FALSE),\"\")","v":""},"",{"$f":"IFERROR(VLOOKUP(__疾患別コードレジメン名[[#This Row],[列9]],INDIRECT(\"__レジメンマスタ\"),2,FALSE),\"\")","v":""},"",{"$f":"IFERROR(VLOOKUP(__疾患別コードレジメン名[[#This Row],[列10]],INDIRECT(\"__レジメンマスタ\"),2,FALSE),\"\")","v":""},"",{"$f":"IFERROR(VLOOKUP(__疾患別コードレジメン名[[#This Row],[列11]],INDIRECT(\"__レジメンマスタ\"),2,FALSE),\"\")","v":""},"",{"$f":"IFERROR(VLOOKUP(__疾患別コードレジメン名[[#This Row],[列12]],INDIRECT(\"__レジメンマスタ\"),2,FALSE),\"\")","v":""},"",{"$f":"IFERROR(VLOOKUP(__疾患別コードレジメン名[[#This Row],[列13]],INDIRECT(\"__レジメンマスタ\"),2,FALSE),\"\")","v":""}]
["HEM0078",{"$f":"IFERROR(VLOOKUP(__疾患別コードレジメン名[[#This Row],[列1]],INDIRECT(\"__レジメンマスタ\"),2,FALSE),\"\")","v":"GDP±R"},"RES0070-12",{"$f":"IFERROR(VLOOKUP(__疾患別コードレジメン名[[#This Row],[列2]],INDIRECT(\"__レジメンマスタ\"),2,FALSE),\"\")","v":"CBDCA+PEM+アミバンタマブ（80kg以上）"},"SUR0115",{"$f":"IFERROR(VLOOKUP(__疾患別コードレジメン名[[#This Row],[列3]],INDIRECT(\"__レジメンマスタ\"),2,FALSE),\"\")","v":"CET+ビラフトビ+メクトビ"},"",{"$f":"IFERROR(VLOOKUP(__疾患別コードレジメン名[[#This Row],[列4]],INDIRECT(\"__レジメンマスタ\"),2,FALSE),\"\")","v":""},"",{"$f":"IFERROR(VLOOKUP(__疾患別コードレジメン名[[#This Row],[列5]],INDIRECT(\"__レジメンマスタ\"),2,FALSE),\"\")","v":""},"",{"$f":"IFERROR(VLOOKUP(__疾患別コードレジメン名[[#This Row],[列6]],INDIRECT(\"__レジメンマスタ\"),2,FALSE),\"\")","v":""},"",{"$f":"IFERROR(VLOOKUP(__疾患別コードレジメン名[[#This Row],[列7]],INDIRECT(\"__レジメンマスタ\"),2,FALSE),\"\")","v":""},"",{"$f":"IFERROR(VLOOKUP(__疾患別コードレジメン名[[#This Row],[列8]],INDIRECT(\"__レジメンマスタ\"),2,FALSE),\"\")","v":""},"",{"$f":"IFERROR(VLOOKUP(__疾患別コードレジメン名[[#This Row],[列9]],INDIRECT(\"__レジメンマスタ\"),2,FALSE),\"\")","v":""},"",{"$f":"IFERROR(VLOOKUP(__疾患別コードレジメン名[[#This Row],[列10]],INDIRECT(\"__レジメンマスタ\"),2,FALSE),\"\")","v":""},"",{"$f":"IFERROR(VLOOKUP(__疾患別コードレジメン名[[#This Row],[列11]],INDIRECT(\"__レジメンマスタ\"),2,FALSE),\"\")","v":""},"",{"$f":"IFERROR(VLOOKUP(__疾患別コードレジメン名[[#This Row],[列12]],INDIRECT(\"__レジメンマスタ\"),2,FALSE),\"\")","v":""},"",{"$f":"IFERROR(VLOOKUP(__疾患別コードレジメン名[[#This Row],[列13]],INDIRECT(\"__レジメンマスタ\"),2,FALSE),\"\")","v":""}]
["HEM0079",{"$f":"IFERROR(VLOOKUP(__疾患別コードレジメン名[[#This Row],[列1]],INDIRECT(\"__レジメンマスタ\"),2,FALSE),\"\")","v":"GCD±R"},"RES0070-11",{"$f":"IFERROR(VLOOKUP(__疾患別コードレジメン名[[#This Row],[列2]],INDIRECT(\"__レジメンマスタ\"),2,FALSE),\"\")","v":"CBDCA+PEM+アミバンタマブ（80kg未満）"},"SUR0115-1",{"$f":"IFERROR(VLOOKUP(__疾患別コードレジメン名[[#This Row],[列3]],INDIRECT(\"__レジメンマスタ\"),2,FALSE),\"\")","v":"CET(隔週)+ビラフトビ+メクトビ"},"",{"$f":"IFERROR(VLOOKUP(__疾患別コードレジメン名[[#This Row],[列4]],INDIRECT(\"__レジメンマスタ\"),2,FALSE),\"\")","v":""},"",{"$f":"IFERROR(VLOOKUP(__疾患別コードレジメン名[[#This Row],[列5]],INDIRECT(\"__レジメンマスタ\"),2,FALSE),\"\")","v":""},"",{"$f":"IFERROR(VLOOKUP(__疾患別コードレジメン名[[#This Row],[列6]],INDIRECT(\"__レジメンマスタ\"),2,FALSE),\"\")","v":""},"",{"$f":"IFERROR(VLOOKUP(__疾患別コードレジメン名[[#This Row],[列7]],INDIRECT(\"__レジメンマスタ\"),2,FALSE),\"\")","v":""},"",{"$f":"IFERROR(VLOOKUP(__疾患別コードレジメン名[[#This Row],[列8]],INDIRECT(\"__レジメンマスタ\"),2,FALSE),\"\")","v":""},"",{"$f":"IFERROR(VLOOKUP(__疾患別コードレジメン名[[#This Row],[列9]],INDIRECT(\"__レジメンマスタ\"),2,FALSE),\"\")","v":""},"",{"$f":"IFERROR(VLOOKUP(__疾患別コードレジメン名[[#This Row],[列10]],INDIRECT(\"__レジメンマスタ\"),2,FALSE),\"\")","v":""},"",{"$f":"IFERROR(VLOOKUP(__疾患別コードレジメン名[[#This Row],[列11]],INDIRECT(\"__レジメンマスタ\"),2,FALSE),\"\")","v":""},"",{"$f":"IFERROR(VLOOKUP(__疾患別コードレジメン名[[#This Row],[列12]],INDIRECT(\"__レジメンマスタ\"),2,FALSE),\"\")","v":""},"",{"$f":"IFERROR(VLOOKUP(__疾患別コードレジメン名[[#This Row],[列13]],INDIRECT(\"__レジメンマスタ\"),2,FALSE),\"\")","v":""}]
["HEM0080-01",{"$f":"IFERROR(VLOOKUP(__疾患別コードレジメン名[[#This Row],[列1]],INDIRECT(\"__レジメンマスタ\"),2,FALSE),\"\")","v":"SMILE"},"RES0071",{"$f":"IFERROR(VLOOKUP(__疾患別コードレジメン名[[#This Row],[列2]],INDIRECT(\"__レジメンマスタ\"),2,FALSE),\"\")","v":"イムデトラ"},"SUR0116",{"$f":"IFERROR(VLOOKUP(__疾患別コードレジメン名[[#This Row],[列3]],INDIRECT(\"__レジメンマスタ\"),2,FALSE),\"\")","v":"CET+ビラフトビ"},"",{"$f":"IFERROR(VLOOKUP(__疾患別コードレジメン名[[#This Row],[列4]],INDIRECT(\"__レジメンマスタ\"),2,FALSE),\"\")","v":""},"",{"$f":"IFERROR(VLOOKUP(__疾患別コードレジメン名[[#This Row],[列5]],INDIRECT(\"__レジメンマスタ\"),2,FALSE),\"\")","v":""},"",{"$f":"IFERROR(VLOOKUP(__疾患別コードレジメン名[[#This Row],[列6]],INDIRECT(\"__レジメンマスタ\"),2,FALSE),\"\")","v":""},"",{"$f":"IFERROR(VLOOKUP(__疾患別コードレジメン名[[#This Row],[列7]],INDIRECT(\"__レジメンマスタ\"),2,FALSE),\"\")","v":""},"",{"$f":"IFERROR(VLOOKUP(__疾患別コードレジメン名[[#This Row],[列8]],INDIRECT(\"__レジメンマスタ\"),2,FALSE),\"\")","v":""},"",{"$f":"IFERROR(VLOOKUP(__疾患別コードレジメン名[[#This Row],[列9]],INDIRECT(\"__レジメンマスタ\"),2,FALSE),\"\")","v":""},"",{"$f":"IFERROR(VLOOKUP(__疾患別コードレジメン名[[#This Row],[列10]],INDIRECT(\"__レジメンマスタ\"),2,FALSE),\"\")","v":""},"",{"$f":"IFERROR(VLOOKUP(__疾患別コードレジメン名[[#This Row],[列11]],INDIRECT(\"__レジメンマスタ\"),2,FALSE),\"\")","v":""},"",{"$f":"IFERROR(VLOOKUP(__疾患別コードレジメン名[[#This Row],[列12]],INDIRECT(\"__レジメンマスタ\"),2,FALSE),\"\")","v":""},"",{"$f":"IFERROR(VLOOKUP(__疾患別コードレジメン名[[#This Row],[列13]],INDIRECT(\"__レジメンマスタ\"),2,FALSE),\"\")","v":""}]
["HEM0081",{"$f":"IFERROR(VLOOKUP(__疾患別コードレジメン名[[#This Row],[列1]],INDIRECT(\"__レジメンマスタ\"),2,FALSE),\"\")","v":"MINE"},"RES0072-01",{"$f":"IFERROR(VLOOKUP(__疾患別コードレジメン名[[#This Row],[列2]],INDIRECT(\"__レジメンマスタ\"),2,FALSE),\"\")","v":"デュルバルマブ（小細胞肺癌）"},"SUR0116-1",{"$f":"IFERROR(VLOOKUP(__疾患別コードレジメン名[[#This Row],[列3]],INDIRECT(\"__レジメンマスタ\"),2,FALSE),\"\")","v":"CET(隔週)+ビラフトビ"},"",{"$f":"IFERROR(VLOOKUP(__疾患別コードレジメン名[[#This Row],[列4]],INDIRECT(\"__レジメンマスタ\"),2,FALSE),\"\")","v":""},"",{"$f":"IFERROR(VLOOKUP(__疾患別コードレジメン名[[#This Row],[列5]],INDIRECT(\"__レジメンマスタ\"),2,FALSE),\"\")","v":""},"",{"$f":"IFERROR(VLOOKUP(__疾患別コードレジメン名[[#This Row],[列6]],INDIRECT(\"__レジメンマスタ\"),2,FALSE),\"\")","v":""},"",{"$f":"IFERROR(VLOOKUP(__疾患別コードレジメン名[[#This Row],[列7]],INDIRECT(\"__レジメンマスタ\"),2,FALSE),\"\")","v":""},"",{"$f":"IFERROR(VLOOKUP(__疾患別コードレジメン名[[#This Row],[列8]],INDIRECT(\"__レジメンマスタ\"),2,FALSE),\"\")","v":""},"",{"$f":"IFERROR(VLOOKUP(__疾患別コードレジメン名[[#This Row],[列9]],INDIRECT(\"__レジメンマスタ\"),2,FALSE),\"\")","v":""},"",{"$f":"IFERROR(VLOOKUP(__疾患別コードレジメン名[[#This Row],[列10]],INDIRECT(\"__レジメンマスタ\"),2,FALSE),\"\")","v":""},"",{"$f":"IFERROR(VLOOKUP(__疾患別コードレジメン名[[#This Row],[列11]],INDIRECT(\"__レジメンマスタ\"),2,FALSE),\"\")","v":""},"",{"$f":"IFERROR(VLOOKUP(__疾患別コードレジメン名[[#This Row],[列12]],INDIRECT(\"__レジメンマスタ\"),2,FALSE),\"\")","v":""},"",{"$f":"IFERROR(VLOOKUP(__疾患別コードレジメン名[[#This Row],[列13]],INDIRECT(\"__レジメンマスタ\"),2,FALSE),\"\")","v":""}]
["HEM0083",{"$f":"IFERROR(VLOOKUP(__疾患別コードレジメン名[[#This Row],[列1]],INDIRECT(\"__レジメンマスタ\"),2,FALSE),\"\")","v":"VR-CAP"},"RES0072-02",{"$f":"IFERROR(VLOOKUP(__疾患別コードレジメン名[[#This Row],[列2]],INDIRECT(\"__レジメンマスタ\"),2,FALSE),\"\")","v":"デュルバルマブ（小細胞肺癌、体重30kg以下）"},"SUR0117",{"$f":"IFERROR(VLOOKUP(__疾患別コードレジメン名[[#This Row],[列3]],INDIRECT(\"__レジメンマスタ\"),2,FALSE),\"\")","v":"nal-IRI+FU+l-LV"},"",{"$f":"IFERROR(VLOOKUP(__疾患別コードレジメン名[[#This Row],[列4]],INDIRECT(\"__レジメンマスタ\"),2,FALSE),\"\")","v":""},"",{"$f":"IFERROR(VLOOKUP(__疾患別コードレジメン名[[#This Row],[列5]],INDIRECT(\"__レジメンマスタ\"),2,FALSE),\"\")","v":""},"",{"$f":"IFERROR(VLOOKUP(__疾患別コードレジメン名[[#This Row],[列6]],INDIRECT(\"__レジメンマスタ\"),2,FALSE),\"\")","v":""},"",{"$f":"IFERROR(VLOOKUP(__疾患別コードレジメン名[[#This Row],[列7]],INDIRECT(\"__レジメンマスタ\"),2,FALSE),\"\")","v":""},"",{"$f":"IFERROR(VLOOKUP(__疾患別コードレジメン名[[#This Row],[列8]],INDIRECT(\"__レジメンマスタ\"),2,FALSE),\"\")","v":""},"",{"$f":"IFERROR(VLOOKUP(__疾患別コードレジメン名[[#This Row],[列9]],INDIRECT(\"__レジメンマスタ\"),2,FALSE),\"\")","v":""},"",{"$f":"IFERROR(VLOOKUP(__疾患別コードレジメン名[[#This Row],[列10]],INDIRECT(\"__レジメンマスタ\"),2,FALSE),\"\")","v":""},"",{"$f":"IFERROR(VLOOKUP(__疾患別コードレジメン名[[#This Row],[列11]],INDIRECT(\"__レジメンマスタ\"),2,FALSE),\"\")","v":""},"",{"$f":"IFERROR(VLOOKUP(__疾患別コードレジメン名[[#This Row],[列12]],INDIRECT(\"__レジメンマスタ\"),2,FALSE),\"\")","v":""},"",{"$f":"IFERROR(VLOOKUP(__疾患別コードレジメン名[[#This Row],[列13]],INDIRECT(\"__レジメンマスタ\"),2,FALSE),\"\")","v":""}]
["HEM0085-1",{"$f":"IFERROR(VLOOKUP(__疾患別コードレジメン名[[#This Row],[列1]],INDIRECT(\"__レジメンマスタ\"),2,FALSE),\"\")","v":"MILD(60歳未満)"},"RES0073-12",{"$f":"IFERROR(VLOOKUP(__疾患別コードレジメン名[[#This Row],[列2]],INDIRECT(\"__レジメンマスタ\"),2,FALSE),\"\")","v":"ラゼルチニブ＋アミバンタマブ(80kg以上)"},"SUR0118",{"$f":"IFERROR(VLOOKUP(__疾患別コードレジメン名[[#This Row],[列3]],INDIRECT(\"__レジメンマスタ\"),2,FALSE),\"\")","v":"ロンサーフ+BEV"},"",{"$f":"IFERROR(VLOOKUP(__疾患別コードレジメン名[[#This Row],[列4]],INDIRECT(\"__レジメンマスタ\"),2,FALSE),\"\")","v":""},"",{"$f":"IFERROR(VLOOKUP(__疾患別コードレジメン名[[#This Row],[列5]],INDIRECT(\"__レジメンマスタ\"),2,FALSE),\"\")","v":""},"",{"$f":"IFERROR(VLOOKUP(__疾患別コードレジメン名[[#This Row],[列6]],INDIRECT(\"__レジメンマスタ\"),2,FALSE),\"\")","v":""},"",{"$f":"IFERROR(VLOOKUP(__疾患別コードレジメン名[[#This Row],[列7]],INDIRECT(\"__レジメンマスタ\"),2,FALSE),\"\")","v":""},"",{"$f":"IFERROR(VLOOKUP(__疾患別コードレジメン名[[#This Row],[列8]],INDIRECT(\"__レジメンマスタ\"),2,FALSE),\"\")","v":""},"",{"$f":"IFERROR(VLOOKUP(__疾患別コードレジメン名[[#This Row],[列9]],INDIRECT(\"__レジメンマスタ\"),2,FALSE),\"\")","v":""},"",{"$f":"IFERROR(VLOOKUP(__疾患別コードレジメン名[[#This Row],[列10]],INDIRECT(\"__レジメンマスタ\"),2,FALSE),\"\")","v":""},"",{"$f":"IFERROR(VLOOKUP(__疾患別コードレジメン名[[#This Row],[列11]],INDIRECT(\"__レジメンマスタ\"),2,FALSE),\"\")","v":""},"",{"$f":"IFERROR(VLOOKUP(__疾患別コードレジメン名[[#This Row],[列12]],INDIRECT(\"__レジメンマスタ\"),2,FALSE),\"\")","v":""},"",{"$f":"IFERROR(VLOOKUP(__疾患別コードレジメン名[[#This Row],[列13]],INDIRECT(\"__レジメンマスタ\"),2,FALSE),\"\")","v":""}]
["HEM0085-2",{"$f":"IFERROR(VLOOKUP(__疾患別コードレジメン名[[#This Row],[列1]],INDIRECT(\"__レジメンマスタ\"),2,FALSE),\"\")","v":"MILD(60歳以上)"},"RES0073-11",{"$f":"IFERROR(VLOOKUP(__疾患別コードレジメン名[[#This Row],[列2]],INDIRECT(\"__レジメンマスタ\"),2,FALSE),\"\")","v":"ラゼルチニブ＋アミバンタマブ(80kg未満)"},"SUR0119",{"$f":"IFERROR(VLOOKUP(__疾患別コードレジメン名[[#This Row],[列3]],INDIRECT(\"__レジメンマスタ\"),2,FALSE),\"\")","v":"GCS"},"",{"$f":"IFERROR(VLOOKUP(__疾患別コードレジメン名[[#This Row],[列4]],INDIRECT(\"__レジメンマスタ\"),2,FALSE),\"\")","v":""},"",{"$f":"IFERROR(VLOOKUP(__疾患別コードレジメン名[[#This Row],[列5]],INDIRECT(\"__レジメンマスタ\"),2,FALSE),\"\")","v":""},"",{"$f":"IFERROR(VLOOKUP(__疾患別コードレジメン名[[#This Row],[列6]],INDIRECT(\"__レジメンマスタ\"),2,FALSE),\"\")","v":""},"",{"$f":"IFERROR(VLOOKUP(__疾患別コードレジメン名[[#This Row],[列7]],INDIRECT(\"__レジメンマスタ\"),2,FALSE),\"\")","v":""},"",{"$f":"IFERROR(VLOOKUP(__疾患別コードレジメン名[[#This Row],[列8]],INDIRECT(\"__レジメンマスタ\"),2,FALSE),\"\")","v":""},"",{"$f":"IFERROR(VLOOKUP(__疾患別コードレジメン名[[#This Row],[列9]],INDIRECT(\"__レジメンマスタ\"),2,FALSE),\"\")","v":""},"",{"$f":"IFERROR(VLOOKUP(__疾患別コードレジメン名[[#This Row],[列10]],INDIRECT(\"__レジメンマスタ\"),2,FALSE),\"\")","v":""},"",{"$f":"IFERROR(VLOOKUP(__疾患別コードレジメン名[[#This Row],[列11]],INDIRECT(\"__レジメンマスタ\"),2,FALSE),\"\")","v":""},"",{"$f":"IFERROR(VLOOKUP(__疾患別コードレジメン名[[#This Row],[列12]],INDIRECT(\"__レジメンマスタ\"),2,FALSE),\"\")","v":""},"",{"$f":"IFERROR(VLOOKUP(__疾患別コードレジメン名[[#This Row],[列13]],INDIRECT(\"__レジメンマスタ\"),2,FALSE),\"\")","v":""}]
["HEM0086",{"$f":"IFERROR(VLOOKUP(__疾患別コードレジメン名[[#This Row],[列1]],INDIRECT(\"__レジメンマスタ\"),2,FALSE),\"\")","v":"ポテリジオ"},"RES0074",{"$f":"IFERROR(VLOOKUP(__疾患別コードレジメン名[[#This Row],[列2]],INDIRECT(\"__レジメンマスタ\"),2,FALSE),\"\")","v":"（作成中）Pembro+CBDCA+PEM（中皮腫）"},"SUR0120",{"$f":"IFERROR(VLOOKUP(__疾患別コードレジメン名[[#This Row],[列3]],INDIRECT(\"__レジメンマスタ\"),2,FALSE),\"\")","v":"Rmab"},"",{"$f":"IFERROR(VLOOKUP(__疾患別コードレジメン名[[#This Row],[列4]],INDIRECT(\"__レジメンマスタ\"),2,FALSE),\"\")","v":""},"",{"$f":"IFERROR(VLOOKUP(__疾患別コードレジメン名[[#This Row],[列5]],INDIRECT(\"__レジメンマスタ\"),2,FALSE),\"\")","v":""},"",{"$f":"IFERROR(VLOOKUP(__疾患別コードレジメン名[[#This Row],[列6]],INDIRECT(\"__レジメンマスタ\"),2,FALSE),\"\")","v":""},"",{"$f":"IFERROR(VLOOKUP(__疾患別コードレジメン名[[#This Row],[列7]],INDIRECT(\"__レジメンマスタ\"),2,FALSE),\"\")","v":""},"",{"$f":"IFERROR(VLOOKUP(__疾患別コードレジメン名[[#This Row],[列8]],INDIRECT(\"__レジメンマスタ\"),2,FALSE),\"\")","v":""},"",{"$f":"IFERROR(VLOOKUP(__疾患別コードレジメン名[[#This Row],[列9]],INDIRECT(\"__レジメンマスタ\"),2,FALSE),\"\")","v":""},"",{"$f":"IFERROR(VLOOKUP(__疾患別コードレジメン名[[#This Row],[列10]],INDIRECT(\"__レジメンマスタ\"),2,FALSE),\"\")","v":""},"",{"$f":"IFERROR(VLOOKUP(__疾患別コードレジメン名[[#This Row],[列11]],INDIRECT(\"__レジメンマスタ\"),2,FALSE),\"\")","v":""},"",{"$f":"IFERROR(VLOOKUP(__疾患別コードレジメン名[[#This Row],[列12]],INDIRECT(\"__レジメンマスタ\"),2,FALSE),\"\")","v":""},"",{"$f":"IFERROR(VLOOKUP(__疾患別コードレジメン名[[#This Row],[列13]],INDIRECT(\"__レジメンマスタ\"),2,FALSE),\"\")","v":""}]
["HEM0087-01",{"$f":"IFERROR(VLOOKUP(__疾患別コードレジメン名[[#This Row],[列1]],INDIRECT(\"__レジメンマスタ\"),2,FALSE),\"\")","v":"JALSG　ALL202-U寛解導入(W1-5)"},"RES0075-1",{"$f":"IFERROR(VLOOKUP(__疾患別コードレジメン名[[#This Row],[列2]],INDIRECT(\"__レジメンマスタ\"),2,FALSE),\"\")","v":"デュルバルマブ+CBDCA+PTX(術前）"},"SUR0121",{"$f":"IFERROR(VLOOKUP(__疾患別コードレジメン名[[#This Row],[列3]],INDIRECT(\"__レジメンマスタ\"),2,FALSE),\"\")","v":"Atezo+Beva"},"",{"$f":"IFERROR(VLOOKUP(__疾患別コードレジメン名[[#This Row],[列4]],INDIRECT(\"__レジメンマスタ\"),2,FALSE),\"\")","v":""},"",{"$f":"IFERROR(VLOOKUP(__疾患別コードレジメン名[[#This Row],[列5]],INDIRECT(\"__レジメンマスタ\"),2,FALSE),\"\")","v":""},"",{"$f":"IFERROR(VLOOKUP(__疾患別コードレジメン名[[#This Row],[列6]],INDIRECT(\"__レジメンマスタ\"),2,FALSE),\"\")","v":""},"",{"$f":"IFERROR(VLOOKUP(__疾患別コードレジメン名[[#This Row],[列7]],INDIRECT(\"__レジメンマスタ\"),2,FALSE),\"\")","v":""},"",{"$f":"IFERROR(VLOOKUP(__疾患別コードレジメン名[[#This Row],[列8]],INDIRECT(\"__レジメンマスタ\"),2,FALSE),\"\")","v":""},"",{"$f":"IFERROR(VLOOKUP(__疾患別コードレジメン名[[#This Row],[列9]],INDIRECT(\"__レジメンマスタ\"),2,FALSE),\"\")","v":""},"",{"$f":"IFERROR(VLOOKUP(__疾患別コードレジメン名[[#This Row],[列10]],INDIRECT(\"__レジメンマスタ\"),2,FALSE),\"\")","v":""},"",{"$f":"IFERROR(VLOOKUP(__疾患別コードレジメン名[[#This Row],[列11]],INDIRECT(\"__レジメンマスタ\"),2,FALSE),\"\")","v":""},"",{"$f":"IFERROR(VLOOKUP(__疾患別コードレジメン名[[#This Row],[列12]],INDIRECT(\"__レジメンマスタ\"),2,FALSE),\"\")","v":""},"",{"$f":"IFERROR(VLOOKUP(__疾患別コードレジメン名[[#This Row],[列13]],INDIRECT(\"__レジメンマスタ\"),2,FALSE),\"\")","v":""}]
["HEM0087-02",{"$f":"IFERROR(VLOOKUP(__疾患別コードレジメン名[[#This Row],[列1]],INDIRECT(\"__レジメンマスタ\"),2,FALSE),\"\")","v":"JALSG　ALL202-U(W6-9)"},"RES0075-2",{"$f":"IFERROR(VLOOKUP(__疾患別コードレジメン名[[#This Row],[列2]],INDIRECT(\"__レジメンマスタ\"),2,FALSE),\"\")","v":"デュルバルマブ+CBDCA+PTX(術前　BW30kg以下)"},"SUR0122",{"$f":"IFERROR(VLOOKUP(__疾患別コードレジメン名[[#This Row],[列3]],INDIRECT(\"__レジメンマスタ\"),2,FALSE),\"\")","v":"RAM+IRI"},"",{"$f":"IFERROR(VLOOKUP(__疾患別コードレジメン名[[#This Row],[列4]],INDIRECT(\"__レジメンマスタ\"),2,FALSE),\"\")","v":""},"",{"$f":"IFERROR(VLOOKUP(__疾患別コードレジメン名[[#This Row],[列5]],INDIRECT(\"__レジメンマスタ\"),2,FALSE),\"\")","v":""},"",{"$f":"IFERROR(VLOOKUP(__疾患別コードレジメン名[[#This Row],[列6]],INDIRECT(\"__レジメンマスタ\"),2,FALSE),\"\")","v":""},"",{"$f":"IFERROR(VLOOKUP(__疾患別コードレジメン名[[#This Row],[列7]],INDIRECT(\"__レジメンマスタ\"),2,FALSE),\"\")","v":""},"",{"$f":"IFERROR(VLOOKUP(__疾患別コードレジメン名[[#This Row],[列8]],INDIRECT(\"__レジメンマスタ\"),2,FALSE),\"\")","v":""},"",{"$f":"IFERROR(VLOOKUP(__疾患別コードレジメン名[[#This Row],[列9]],INDIRECT(\"__レジメンマスタ\"),2,FALSE),\"\")","v":""},"",{"$f":"IFERROR(VLOOKUP(__疾患別コードレジメン名[[#This Row],[列10]],INDIRECT(\"__レジメンマスタ\"),2,FALSE),\"\")","v":""},"",{"$f":"IFERROR(VLOOKUP(__疾患別コードレジメン名[[#This Row],[列11]],INDIRECT(\"__レジメンマスタ\"),2,FALSE),\"\")","v":""},"",{"$f":"IFERROR(VLOOKUP(__疾患別コードレジメン名[[#This Row],[列12]],INDIRECT(\"__レジメンマスタ\"),2,FALSE),\"\")","v":""},"",{"$f":"IFERROR(VLOOKUP(__疾患別コードレジメン名[[#This Row],[列13]],INDIRECT(\"__レジメンマスタ\"),2,FALSE),\"\")","v":""}]
["HEM0087-03",{"$f":"IFERROR(VLOOKUP(__疾患別コードレジメン名[[#This Row],[列1]],INDIRECT(\"__レジメンマスタ\"),2,FALSE),\"\")","v":"JALSG　ALL202-U(W10-11)"},"RES0075-3",{"$f":"IFERROR(VLOOKUP(__疾患別コードレジメン名[[#This Row],[列2]],INDIRECT(\"__レジメンマスタ\"),2,FALSE),\"\")","v":"デュルバルマブ+CBDCA+PTX(術後）"},"SUR0122-1",{"$f":"IFERROR(VLOOKUP(__疾患別コードレジメン名[[#This Row],[列3]],INDIRECT(\"__レジメンマスタ\"),2,FALSE),\"\")","v":"アイエーコール"},"",{"$f":"IFERROR(VLOOKUP(__疾患別コードレジメン名[[#This Row],[列4]],INDIRECT(\"__レジメンマスタ\"),2,FALSE),\"\")","v":""},"",{"$f":"IFERROR(VLOOKUP(__疾患別コードレジメン名[[#This Row],[列5]],INDIRECT(\"__レジメンマスタ\"),2,FALSE),\"\")","v":""},"",{"$f":"IFERROR(VLOOKUP(__疾患別コードレジメン名[[#This Row],[列6]],INDIRECT(\"__レジメンマスタ\"),2,FALSE),\"\")","v":""},"",{"$f":"IFERROR(VLOOKUP(__疾患別コードレジメン名[[#This Row],[列7]],INDIRECT(\"__レジメンマスタ\"),2,FALSE),\"\")","v":""},"",{"$f":"IFERROR(VLOOKUP(__疾患別コードレジメン名[[#This Row],[列8]],INDIRECT(\"__レジメンマスタ\"),2,FALSE),\"\")","v":""},"",{"$f":"IFERROR(VLOOKUP(__疾患別コードレジメン名[[#This Row],[列9]],INDIRECT(\"__レジメンマスタ\"),2,FALSE),\"\")","v":""},"",{"$f":"IFERROR(VLOOKUP(__疾患別コードレジメン名[[#This Row],[列10]],INDIRECT(\"__レジメンマスタ\"),2,FALSE),\"\")","v":""},"",{"$f":"IFERROR(VLOOKUP(__疾患別コードレジメン名[[#This Row],[列11]],INDIRECT(\"__レジメンマスタ\"),2,FALSE),\"\")","v":""},"",{"$f":"IFERROR(VLOOKUP(__疾患別コードレジメン名[[#This Row],[列12]],INDIRECT(\"__レジメンマスタ\"),2,FALSE),\"\")","v":""},"",{"$f":"IFERROR(VLOOKUP(__疾患別コードレジメン名[[#This Row],[列13]],INDIRECT(\"__レジメンマスタ\"),2,FALSE),\"\")","v":""}]
["HEM0087-04",{"$f":"IFERROR(VLOOKUP(__疾患別コードレジメン名[[#This Row],[列1]],INDIRECT(\"__レジメンマスタ\"),2,FALSE),\"\")","v":"JALSG　ALL202-U(W12-15)"},"RES0075-4",{"$f":"IFERROR(VLOOKUP(__疾患別コードレジメン名[[#This Row],[列2]],INDIRECT(\"__レジメンマスタ\"),2,FALSE),\"\")","v":"デュルバルマブ+CBDCA+PTX(術後　BW30kg以下)"},"SUR0123",{"$f":"IFERROR(VLOOKUP(__疾患別コードレジメン名[[#This Row],[列3]],INDIRECT(\"__レジメンマスタ\"),2,FALSE),\"\")","v":"RAM＋ロンサーフ"},"",{"$f":"IFERROR(VLOOKUP(__疾患別コードレジメン名[[#This Row],[列4]],INDIRECT(\"__レジメンマスタ\"),2,FALSE),\"\")","v":""},"",{"$f":"IFERROR(VLOOKUP(__疾患別コードレジメン名[[#This Row],[列5]],INDIRECT(\"__レジメンマスタ\"),2,FALSE),\"\")","v":""},"",{"$f":"IFERROR(VLOOKUP(__疾患別コードレジメン名[[#This Row],[列6]],INDIRECT(\"__レジメンマスタ\"),2,FALSE),\"\")","v":""},"",{"$f":"IFERROR(VLOOKUP(__疾患別コードレジメン名[[#This Row],[列7]],INDIRECT(\"__レジメンマスタ\"),2,FALSE),\"\")","v":""},"",{"$f":"IFERROR(VLOOKUP(__疾患別コードレジメン名[[#This Row],[列8]],INDIRECT(\"__レジメンマスタ\"),2,FALSE),\"\")","v":""},"",{"$f":"IFERROR(VLOOKUP(__疾患別コードレジメン名[[#This Row],[列9]],INDIRECT(\"__レジメンマスタ\"),2,FALSE),\"\")","v":""},"",{"$f":"IFERROR(VLOOKUP(__疾患別コードレジメン名[[#This Row],[列10]],INDIRECT(\"__レジメンマスタ\"),2,FALSE),\"\")","v":""},"",{"$f":"IFERROR(VLOOKUP(__疾患別コードレジメン名[[#This Row],[列11]],INDIRECT(\"__レジメンマスタ\"),2,FALSE),\"\")","v":""},"",{"$f":"IFERROR(VLOOKUP(__疾患別コードレジメン名[[#This Row],[列12]],INDIRECT(\"__レジメンマスタ\"),2,FALSE),\"\")","v":""},"",{"$f":"IFERROR(VLOOKUP(__疾患別コードレジメン名[[#This Row],[列13]],INDIRECT(\"__レジメンマスタ\"),2,FALSE),\"\")","v":""}]
["HEM0087-05",{"$f":"IFERROR(VLOOKUP(__疾患別コードレジメン名[[#This Row],[列1]],INDIRECT(\"__レジメンマスタ\"),2,FALSE),\"\")","v":"JALSG　ALL202-U(W16-19)"},"RES0076-1",{"$f":"IFERROR(VLOOKUP(__疾患別コードレジメン名[[#This Row],[列2]],INDIRECT(\"__レジメンマスタ\"),2,FALSE),\"\")","v":"デュルバルマブ+CDDP+GEM(術前）"},"SUR0124",{"$f":"IFERROR(VLOOKUP(__疾患別コードレジメン名[[#This Row],[列3]],INDIRECT(\"__レジメンマスタ\"),2,FALSE),\"\")","v":"RAIB-TACE"},"",{"$f":"IFERROR(VLOOKUP(__疾患別コードレジメン名[[#This Row],[列4]],INDIRECT(\"__レジメンマスタ\"),2,FALSE),\"\")","v":""},"",{"$f":"IFERROR(VLOOKUP(__疾患別コードレジメン名[[#This Row],[列5]],INDIRECT(\"__レジメンマスタ\"),2,FALSE),\"\")","v":""},"",{"$f":"IFERROR(VLOOKUP(__疾患別コードレジメン名[[#This Row],[列6]],INDIRECT(\"__レジメンマスタ\"),2,FALSE),\"\")","v":""},"",{"$f":"IFERROR(VLOOKUP(__疾患別コードレジメン名[[#This Row],[列7]],INDIRECT(\"__レジメンマスタ\"),2,FALSE),\"\")","v":""},"",{"$f":"IFERROR(VLOOKUP(__疾患別コードレジメン名[[#This Row],[列8]],INDIRECT(\"__レジメンマスタ\"),2,FALSE),\"\")","v":""},"",{"$f":"IFERROR(VLOOKUP(__疾患別コードレジメン名[[#This Row],[列9]],INDIRECT(\"__レジメンマスタ\"),2,FALSE),\"\")","v":""},"",{"$f":"IFERROR(VLOOKUP(__疾患別コードレジメン名[[#This Row],[列10]],INDIRECT(\"__レジメンマスタ\"),2,FALSE),\"\")","v":""},"",{"$f":"IFERROR(VLOOKUP(__疾患別コードレジメン名[[#This Row],[列11]],INDIRECT(\"__レジメンマスタ\"),2,FALSE),\"\")","v":""},"",{"$f":"IFERROR(VLOOKUP(__疾患別コードレジメン名[[#This Row],[列12]],INDIRECT(\"__レジメンマスタ\"),2,FALSE),\"\")","v":""},"",{"$f":"IFERROR(VLOOKUP(__疾患別コードレジメン名[[#This Row],[列13]],INDIRECT(\"__レジメンマスタ\"),2,FALSE),\"\")","v":""}]
["HEM0087-06",{"$f":"IFERROR(VLOOKUP(__疾患別コードレジメン名[[#This Row],[列1]],INDIRECT(\"__レジメンマスタ\"),2,FALSE),\"\")","v":"JALSG　ALL202-U(W20-25)"},"RES0076-2",{"$f":"IFERROR(VLOOKUP(__疾患別コードレジメン名[[#This Row],[列2]],INDIRECT(\"__レジメンマスタ\"),2,FALSE),\"\")","v":"デュルバルマブ+CDDP+GEM(術前　BW30kg以下）"},"SUR0125",{"$f":"IFERROR(VLOOKUP(__疾患別コードレジメン名[[#This Row],[列3]],INDIRECT(\"__レジメンマスタ\"),2,FALSE),\"\")","v":"オプジーボ＋FOLFOX6"},"",{"$f":"IFERROR(VLOOKUP(__疾患別コードレジメン名[[#This Row],[列4]],INDIRECT(\"__レジメンマスタ\"),2,FALSE),\"\")","v":""},"",{"$f":"IFERROR(VLOOKUP(__疾患別コードレジメン名[[#This Row],[列5]],INDIRECT(\"__レジメンマスタ\"),2,FALSE),\"\")","v":""},"",{"$f":"IFERROR(VLOOKUP(__疾患別コードレジメン名[[#This Row],[列6]],INDIRECT(\"__レジメンマスタ\"),2,FALSE),\"\")","v":""},"",{"$f":"IFERROR(VLOOKUP(__疾患別コードレジメン名[[#This Row],[列7]],INDIRECT(\"__レジメンマスタ\"),2,FALSE),\"\")","v":""},"",{"$f":"IFERROR(VLOOKUP(__疾患別コードレジメン名[[#This Row],[列8]],INDIRECT(\"__レジメンマスタ\"),2,FALSE),\"\")","v":""},"",{"$f":"IFERROR(VLOOKUP(__疾患別コードレジメン名[[#This Row],[列9]],INDIRECT(\"__レジメンマスタ\"),2,FALSE),\"\")","v":""},"",{"$f":"IFERROR(VLOOKUP(__疾患別コードレジメン名[[#This Row],[列10]],INDIRECT(\"__レジメンマスタ\"),2,FALSE),\"\")","v":""},"",{"$f":"IFERROR(VLOOKUP(__疾患別コードレジメン名[[#This Row],[列11]],INDIRECT(\"__レジメンマスタ\"),2,FALSE),\"\")","v":""},"",{"$f":"IFERROR(VLOOKUP(__疾患別コードレジメン名[[#This Row],[列12]],INDIRECT(\"__レジメンマスタ\"),2,FALSE),\"\")","v":""},"",{"$f":"IFERROR(VLOOKUP(__疾患別コードレジメン名[[#This Row],[列13]],INDIRECT(\"__レジメンマスタ\"),2,FALSE),\"\")","v":""}]
["HEM0087-07",{"$f":"IFERROR(VLOOKUP(__疾患別コードレジメン名[[#This Row],[列1]],INDIRECT(\"__レジメンマスタ\"),2,FALSE),\"\")","v":"JALSG　ALL202-U(W20-25)初診時：中枢神経病変あり"},"RES0076-3",{"$f":"IFERROR(VLOOKUP(__疾患別コードレジメン名[[#This Row],[列2]],INDIRECT(\"__レジメンマスタ\"),2,FALSE),\"\")","v":"デュルバルマブ+CDDP+GEM(術後）"},"SUR0126",{"$f":"IFERROR(VLOOKUP(__疾患別コードレジメン名[[#This Row],[列3]],INDIRECT(\"__レジメンマスタ\"),2,FALSE),\"\")","v":"オプジーボ＋SOX"},"",{"$f":"IFERROR(VLOOKUP(__疾患別コードレジメン名[[#This Row],[列4]],INDIRECT(\"__レジメンマスタ\"),2,FALSE),\"\")","v":""},"",{"$f":"IFERROR(VLOOKUP(__疾患別コードレジメン名[[#This Row],[列5]],INDIRECT(\"__レジメンマスタ\"),2,FALSE),\"\")","v":""},"",{"$f":"IFERROR(VLOOKUP(__疾患別コードレジメン名[[#This Row],[列6]],INDIRECT(\"__レジメンマスタ\"),2,FALSE),\"\")","v":""},"",{"$f":"IFERROR(VLOOKUP(__疾患別コードレジメン名[[#This Row],[列7]],INDIRECT(\"__レジメンマスタ\"),2,FALSE),\"\")","v":""},"",{"$f":"IFERROR(VLOOKUP(__疾患別コードレジメン名[[#This Row],[列8]],INDIRECT(\"__レジメンマスタ\"),2,FALSE),\"\")","v":""},"",{"$f":"IFERROR(VLOOKUP(__疾患別コードレジメン名[[#This Row],[列9]],INDIRECT(\"__レジメンマスタ\"),2,FALSE),\"\")","v":""},"",{"$f":"IFERROR(VLOOKUP(__疾患別コードレジメン名[[#This Row],[列10]],INDIRECT(\"__レジメンマスタ\"),2,FALSE),\"\")","v":""},"",{"$f":"IFERROR(VLOOKUP(__疾患別コードレジメン名[[#This Row],[列11]],INDIRECT(\"__レジメンマスタ\"),2,FALSE),\"\")","v":""},"",{"$f":"IFERROR(VLOOKUP(__疾患別コードレジメン名[[#This Row],[列12]],INDIRECT(\"__レジメンマスタ\"),2,FALSE),\"\")","v":""},"",{"$f":"IFERROR(VLOOKUP(__疾患別コードレジメン名[[#This Row],[列13]],INDIRECT(\"__レジメンマスタ\"),2,FALSE),\"\")","v":""}]
["HEM0087-08",{"$f":"IFERROR(VLOOKUP(__疾患別コードレジメン名[[#This Row],[列1]],INDIRECT(\"__レジメンマスタ\"),2,FALSE),\"\")","v":"JALSG　ALL202-U維持療法①"},"RES0076-4",{"$f":"IFERROR(VLOOKUP(__疾患別コードレジメン名[[#This Row],[列2]],INDIRECT(\"__レジメンマスタ\"),2,FALSE),\"\")","v":"デュルバルマブ+CDDP+GEM(術後　BW30kg以下)"},"SUR0127",{"$f":"IFERROR(VLOOKUP(__疾患別コードレジメン名[[#This Row],[列3]],INDIRECT(\"__レジメンマスタ\"),2,FALSE),\"\")","v":"FP＋キイトルーダ"},"",{"$f":"IFERROR(VLOOKUP(__疾患別コードレジメン名[[#This Row],[列4]],INDIRECT(\"__レジメンマスタ\"),2,FALSE),\"\")","v":""},"",{"$f":"IFERROR(VLOOKUP(__疾患別コードレジメン名[[#This Row],[列5]],INDIRECT(\"__レジメンマスタ\"),2,FALSE),\"\")","v":""},"",{"$f":"IFERROR(VLOOKUP(__疾患別コードレジメン名[[#This Row],[列6]],INDIRECT(\"__レジメンマスタ\"),2,FALSE),\"\")","v":""},"",{"$f":"IFERROR(VLOOKUP(__疾患別コードレジメン名[[#This Row],[列7]],INDIRECT(\"__レジメンマスタ\"),2,FALSE),\"\")","v":""},"",{"$f":"IFERROR(VLOOKUP(__疾患別コードレジメン名[[#This Row],[列8]],INDIRECT(\"__レジメンマスタ\"),2,FALSE),\"\")","v":""},"",{"$f":"IFERROR(VLOOKUP(__疾患別コードレジメン名[[#This Row],[列9]],INDIRECT(\"__レジメンマスタ\"),2,FALSE),\"\")","v":""},"",{"$f":"IFERROR(VLOOKUP(__疾患別コードレジメン名[[#This Row],[列10]],INDIRECT(\"__レジメンマスタ\"),2,FALSE),\"\")","v":""},"",{"$f":"IFERROR(VLOOKUP(__疾患別コードレジメン名[[#This Row],[列11]],INDIRECT(\"__レジメンマスタ\"),2,FALSE),\"\")","v":""},"",{"$f":"IFERROR(VLOOKUP(__疾患別コードレジメン名[[#This Row],[列12]],INDIRECT(\"__レジメンマスタ\"),2,FALSE),\"\")","v":""},"",{"$f":"IFERROR(VLOOKUP(__疾患別コードレジメン名[[#This Row],[列13]],INDIRECT(\"__レジメンマスタ\"),2,FALSE),\"\")","v":""}]
["HEM0087-09",{"$f":"IFERROR(VLOOKUP(__疾患別コードレジメン名[[#This Row],[列1]],INDIRECT(\"__レジメンマスタ\"),2,FALSE),\"\")","v":"JALSG　ALL202-U維持療法②"},"RES0077-1",{"$f":"IFERROR(VLOOKUP(__疾患別コードレジメン名[[#This Row],[列2]],INDIRECT(\"__レジメンマスタ\"),2,FALSE),\"\")","v":"デュルバルマブ+CBDCA+GEM(術前）"},"SUR0128",{"$f":"IFERROR(VLOOKUP(__疾患別コードレジメン名[[#This Row],[列3]],INDIRECT(\"__レジメンマスタ\"),2,FALSE),\"\")","v":"FP＋オプジーボ"},"",{"$f":"IFERROR(VLOOKUP(__疾患別コードレジメン名[[#This Row],[列4]],INDIRECT(\"__レジメンマスタ\"),2,FALSE),\"\")","v":""},"",{"$f":"IFERROR(VLOOKUP(__疾患別コードレジメン名[[#This Row],[列5]],INDIRECT(\"__レジメンマスタ\"),2,FALSE),\"\")","v":""},"",{"$f":"IFERROR(VLOOKUP(__疾患別コードレジメン名[[#This Row],[列6]],INDIRECT(\"__レジメンマスタ\"),2,FALSE),\"\")","v":""},"",{"$f":"IFERROR(VLOOKUP(__疾患別コードレジメン名[[#This Row],[列7]],INDIRECT(\"__レジメンマスタ\"),2,FALSE),\"\")","v":""},"",{"$f":"IFERROR(VLOOKUP(__疾患別コードレジメン名[[#This Row],[列8]],INDIRECT(\"__レジメンマスタ\"),2,FALSE),\"\")","v":""},"",{"$f":"IFERROR(VLOOKUP(__疾患別コードレジメン名[[#This Row],[列9]],INDIRECT(\"__レジメンマスタ\"),2,FALSE),\"\")","v":""},"",{"$f":"IFERROR(VLOOKUP(__疾患別コードレジメン名[[#This Row],[列10]],INDIRECT(\"__レジメンマスタ\"),2,FALSE),\"\")","v":""},"",{"$f":"IFERROR(VLOOKUP(__疾患別コードレジメン名[[#This Row],[列11]],INDIRECT(\"__レジメンマスタ\"),2,FALSE),\"\")","v":""},"",{"$f":"IFERROR(VLOOKUP(__疾患別コードレジメン名[[#This Row],[列12]],INDIRECT(\"__レジメンマスタ\"),2,FALSE),\"\")","v":""},"",{"$f":"IFERROR(VLOOKUP(__疾患別コードレジメン名[[#This Row],[列13]],INDIRECT(\"__レジメンマスタ\"),2,FALSE),\"\")","v":""}]
["HEM0087-10",{"$f":"IFERROR(VLOOKUP(__疾患別コードレジメン名[[#This Row],[列1]],INDIRECT(\"__レジメンマスタ\"),2,FALSE),\"\")","v":"JALSG　ALL202-U維持療法③"},"RES0077-2",{"$f":"IFERROR(VLOOKUP(__疾患別コードレジメン名[[#This Row],[列2]],INDIRECT(\"__レジメンマスタ\"),2,FALSE),\"\")","v":"デュルバルマブ+CBDCA+GEM(術前　BW30kg以下）"},"SUR0129",{"$f":"IFERROR(VLOOKUP(__疾患別コードレジメン名[[#This Row],[列3]],INDIRECT(\"__レジメンマスタ\"),2,FALSE),\"\")","v":"オプジーボ＋ヤーボイ"},"",{"$f":"IFERROR(VLOOKUP(__疾患別コードレジメン名[[#This Row],[列4]],INDIRECT(\"__レジメンマスタ\"),2,FALSE),\"\")","v":""},"",{"$f":"IFERROR(VLOOKUP(__疾患別コードレジメン名[[#This Row],[列5]],INDIRECT(\"__レジメンマスタ\"),2,FALSE),\"\")","v":""},"",{"$f":"IFERROR(VLOOKUP(__疾患別コードレジメン名[[#This Row],[列6]],INDIRECT(\"__レジメンマスタ\"),2,FALSE),\"\")","v":""},"",{"$f":"IFERROR(VLOOKUP(__疾患別コードレジメン名[[#This Row],[列7]],INDIRECT(\"__レジメンマスタ\"),2,FALSE),\"\")","v":""},"",{"$f":"IFERROR(VLOOKUP(__疾患別コードレジメン名[[#This Row],[列8]],INDIRECT(\"__レジメンマスタ\"),2,FALSE),\"\")","v":""},"",{"$f":"IFERROR(VLOOKUP(__疾患別コードレジメン名[[#This Row],[列9]],INDIRECT(\"__レジメンマスタ\"),2,FALSE),\"\")","v":""},"",{"$f":"IFERROR(VLOOKUP(__疾患別コードレジメン名[[#This Row],[列10]],INDIRECT(\"__レジメンマスタ\"),2,FALSE),\"\")","v":""},"",{"$f":"IFERROR(VLOOKUP(__疾患別コードレジメン名[[#This Row],[列11]],INDIRECT(\"__レジメンマスタ\"),2,FALSE),\"\")","v":""},"",{"$f":"IFERROR(VLOOKUP(__疾患別コードレジメン名[[#This Row],[列12]],INDIRECT(\"__レジメンマスタ\"),2,FALSE),\"\")","v":""},"",{"$f":"IFERROR(VLOOKUP(__疾患別コードレジメン名[[#This Row],[列13]],INDIRECT(\"__レジメンマスタ\"),2,FALSE),\"\")","v":""}]
["HEM0089",{"$f":"IFERROR(VLOOKUP(__疾患別コードレジメン名[[#This Row],[列1]],INDIRECT(\"__レジメンマスタ\"),2,FALSE),\"\")","v":"アドセトリス"},"RES0077-3",{"$f":"IFERROR(VLOOKUP(__疾患別コードレジメン名[[#This Row],[列2]],INDIRECT(\"__レジメンマスタ\"),2,FALSE),\"\")","v":"デュルバルマブ+CBDCA+GEM(術後）"},"SUR0130",{"$f":"IFERROR(VLOOKUP(__疾患別コードレジメン名[[#This Row],[列3]],INDIRECT(\"__レジメンマスタ\"),2,FALSE),\"\")","v":"トラスツズマブ＋パージェタ"},"",{"$f":"IFERROR(VLOOKUP(__疾患別コードレジメン名[[#This Row],[列4]],INDIRECT(\"__レジメンマスタ\"),2,FALSE),\"\")","v":""},"",{"$f":"IFERROR(VLOOKUP(__疾患別コードレジメン名[[#This Row],[列5]],INDIRECT(\"__レジメンマスタ\"),2,FALSE),\"\")","v":""},"",{"$f":"IFERROR(VLOOKUP(__疾患別コードレジメン名[[#This Row],[列6]],INDIRECT(\"__レジメンマスタ\"),2,FALSE),\"\")","v":""},"",{"$f":"IFERROR(VLOOKUP(__疾患別コードレジメン名[[#This Row],[列7]],INDIRECT(\"__レジメンマスタ\"),2,FALSE),\"\")","v":""},"",{"$f":"IFERROR(VLOOKUP(__疾患別コードレジメン名[[#This Row],[列8]],INDIRECT(\"__レジメンマスタ\"),2,FALSE),\"\")","v":""},"",{"$f":"IFERROR(VLOOKUP(__疾患別コードレジメン名[[#This Row],[列9]],INDIRECT(\"__レジメンマスタ\"),2,FALSE),\"\")","v":""},"",{"$f":"IFERROR(VLOOKUP(__疾患別コードレジメン名[[#This Row],[列10]],INDIRECT(\"__レジメンマスタ\"),2,FALSE),\"\")","v":""},"",{"$f":"IFERROR(VLOOKUP(__疾患別コードレジメン名[[#This Row],[列11]],INDIRECT(\"__レジメンマスタ\"),2,FALSE),\"\")","v":""},"",{"$f":"IFERROR(VLOOKUP(__疾患別コードレジメン名[[#This Row],[列12]],INDIRECT(\"__レジメンマスタ\"),2,FALSE),\"\")","v":""},"",{"$f":"IFERROR(VLOOKUP(__疾患別コードレジメン名[[#This Row],[列13]],INDIRECT(\"__レジメンマスタ\"),2,FALSE),\"\")","v":""}]
["HEM0090-1",{"$f":"IFERROR(VLOOKUP(__疾患別コードレジメン名[[#This Row],[列1]],INDIRECT(\"__レジメンマスタ\"),2,FALSE),\"\")","v":"JALSG　ALL202-O寛解導入(25歳以上60才未満)"},"RES0077-4",{"$f":"IFERROR(VLOOKUP(__疾患別コードレジメン名[[#This Row],[列2]],INDIRECT(\"__レジメンマスタ\"),2,FALSE),\"\")","v":"デュルバルマブ+CBDCA+GEM(術後　BW30kg以下)"},"SUR0131-1",{"$f":"IFERROR(VLOOKUP(__疾患別コードレジメン名[[#This Row],[列3]],INDIRECT(\"__レジメンマスタ\"),2,FALSE),\"\")","v":"NewFP（動注）D1・D8"},"",{"$f":"IFERROR(VLOOKUP(__疾患別コードレジメン名[[#This Row],[列4]],INDIRECT(\"__レジメンマスタ\"),2,FALSE),\"\")","v":""},"",{"$f":"IFERROR(VLOOKUP(__疾患別コードレジメン名[[#This Row],[列5]],INDIRECT(\"__レジメンマスタ\"),2,FALSE),\"\")","v":""},"",{"$f":"IFERROR(VLOOKUP(__疾患別コードレジメン名[[#This Row],[列6]],INDIRECT(\"__レジメンマスタ\"),2,FALSE),\"\")","v":""},"",{"$f":"IFERROR(VLOOKUP(__疾患別コードレジメン名[[#This Row],[列7]],INDIRECT(\"__レジメンマスタ\"),2,FALSE),\"\")","v":""},"",{"$f":"IFERROR(VLOOKUP(__疾患別コードレジメン名[[#This Row],[列8]],INDIRECT(\"__レジメンマスタ\"),2,FALSE),\"\")","v":""},"",{"$f":"IFERROR(VLOOKUP(__疾患別コードレジメン名[[#This Row],[列9]],INDIRECT(\"__レジメンマスタ\"),2,FALSE),\"\")","v":""},"",{"$f":"IFERROR(VLOOKUP(__疾患別コードレジメン名[[#This Row],[列10]],INDIRECT(\"__レジメンマスタ\"),2,FALSE),\"\")","v":""},"",{"$f":"IFERROR(VLOOKUP(__疾患別コードレジメン名[[#This Row],[列11]],INDIRECT(\"__レジメンマスタ\"),2,FALSE),\"\")","v":""},"",{"$f":"IFERROR(VLOOKUP(__疾患別コードレジメン名[[#This Row],[列12]],INDIRECT(\"__レジメンマスタ\"),2,FALSE),\"\")","v":""},"",{"$f":"IFERROR(VLOOKUP(__疾患別コードレジメン名[[#This Row],[列13]],INDIRECT(\"__レジメンマスタ\"),2,FALSE),\"\")","v":""}]
["HEM0090-2",{"$f":"IFERROR(VLOOKUP(__疾患別コードレジメン名[[#This Row],[列1]],INDIRECT(\"__レジメンマスタ\"),2,FALSE),\"\")","v":"JALSG　ALL202-O地固めC1：HdAC"},"RES0078-1",{"$f":"IFERROR(VLOOKUP(__疾患別コードレジメン名[[#This Row],[列2]],INDIRECT(\"__レジメンマスタ\"),2,FALSE),\"\")","v":"デュルバルマブ+CDDP+PEM(術前）"},"SUR0132-11",{"$f":"IFERROR(VLOOKUP(__疾患別コードレジメン名[[#This Row],[列3]],INDIRECT(\"__レジメンマスタ\"),2,FALSE),\"\")","v":"GC+イミフィンジ"},"",{"$f":"IFERROR(VLOOKUP(__疾患別コードレジメン名[[#This Row],[列4]],INDIRECT(\"__レジメンマスタ\"),2,FALSE),\"\")","v":""},"",{"$f":"IFERROR(VLOOKUP(__疾患別コードレジメン名[[#This Row],[列5]],INDIRECT(\"__レジメンマスタ\"),2,FALSE),\"\")","v":""},"",{"$f":"IFERROR(VLOOKUP(__疾患別コードレジメン名[[#This Row],[列6]],INDIRECT(\"__レジメンマスタ\"),2,FALSE),\"\")","v":""},"",{"$f":"IFERROR(VLOOKUP(__疾患別コードレジメン名[[#This Row],[列7]],INDIRECT(\"__レジメンマスタ\"),2,FALSE),\"\")","v":""},"",{"$f":"IFERROR(VLOOKUP(__疾患別コードレジメン名[[#This Row],[列8]],INDIRECT(\"__レジメンマスタ\"),2,FALSE),\"\")","v":""},"",{"$f":"IFERROR(VLOOKUP(__疾患別コードレジメン名[[#This Row],[列9]],INDIRECT(\"__レジメンマスタ\"),2,FALSE),\"\")","v":""},"",{"$f":"IFERROR(VLOOKUP(__疾患別コードレジメン名[[#This Row],[列10]],INDIRECT(\"__レジメンマスタ\"),2,FALSE),\"\")","v":""},"",{"$f":"IFERROR(VLOOKUP(__疾患別コードレジメン名[[#This Row],[列11]],INDIRECT(\"__レジメンマスタ\"),2,FALSE),\"\")","v":""},"",{"$f":"IFERROR(VLOOKUP(__疾患別コードレジメン名[[#This Row],[列12]],INDIRECT(\"__レジメンマスタ\"),2,FALSE),\"\")","v":""},"",{"$f":"IFERROR(VLOOKUP(__疾患別コードレジメン名[[#This Row],[列13]],INDIRECT(\"__レジメンマスタ\"),2,FALSE),\"\")","v":""}]
["HEM0090-3",{"$f":"IFERROR(VLOOKUP(__疾患別コードレジメン名[[#This Row],[列1]],INDIRECT(\"__レジメンマスタ\"),2,FALSE),\"\")","v":"JALSG　ALL202-O地固め C2：MTX"},"RES0078-2",{"$f":"IFERROR(VLOOKUP(__疾患別コードレジメン名[[#This Row],[列2]],INDIRECT(\"__レジメンマスタ\"),2,FALSE),\"\")","v":"デュルバルマブ+CDDP+PEM(術前　BW30kg以下）"},"SUR0132-12",{"$f":"IFERROR(VLOOKUP(__疾患別コードレジメン名[[#This Row],[列3]],INDIRECT(\"__レジメンマスタ\"),2,FALSE),\"\")","v":"GC+イミフィンジ（体重30kg以下）"},"",{"$f":"IFERROR(VLOOKUP(__疾患別コードレジメン名[[#This Row],[列4]],INDIRECT(\"__レジメンマスタ\"),2,FALSE),\"\")","v":""},"",{"$f":"IFERROR(VLOOKUP(__疾患別コードレジメン名[[#This Row],[列5]],INDIRECT(\"__レジメンマスタ\"),2,FALSE),\"\")","v":""},"",{"$f":"IFERROR(VLOOKUP(__疾患別コードレジメン名[[#This Row],[列6]],INDIRECT(\"__レジメンマスタ\"),2,FALSE),\"\")","v":""},"",{"$f":"IFERROR(VLOOKUP(__疾患別コードレジメン名[[#This Row],[列7]],INDIRECT(\"__レジメンマスタ\"),2,FALSE),\"\")","v":""},"",{"$f":"IFERROR(VLOOKUP(__疾患別コードレジメン名[[#This Row],[列8]],INDIRECT(\"__レジメンマスタ\"),2,FALSE),\"\")","v":""},"",{"$f":"IFERROR(VLOOKUP(__疾患別コードレジメン名[[#This Row],[列9]],INDIRECT(\"__レジメンマスタ\"),2,FALSE),\"\")","v":""},"",{"$f":"IFERROR(VLOOKUP(__疾患別コードレジメン名[[#This Row],[列10]],INDIRECT(\"__レジメンマスタ\"),2,FALSE),\"\")","v":""},"",{"$f":"IFERROR(VLOOKUP(__疾患別コードレジメン名[[#This Row],[列11]],INDIRECT(\"__レジメンマスタ\"),2,FALSE),\"\")","v":""},"",{"$f":"IFERROR(VLOOKUP(__疾患別コードレジメン名[[#This Row],[列12]],INDIRECT(\"__レジメンマスタ\"),2,FALSE),\"\")","v":""},"",{"$f":"IFERROR(VLOOKUP(__疾患別コードレジメン名[[#This Row],[列13]],INDIRECT(\"__レジメンマスタ\"),2,FALSE),\"\")","v":""}]
["HEM0090-4",{"$f":"IFERROR(VLOOKUP(__疾患別コードレジメン名[[#This Row],[列1]],INDIRECT(\"__レジメンマスタ\"),2,FALSE),\"\")","v":"JALSG　ALL202-O地固め C3"},"RES0078-3",{"$f":"IFERROR(VLOOKUP(__疾患別コードレジメン名[[#This Row],[列2]],INDIRECT(\"__レジメンマスタ\"),2,FALSE),\"\")","v":"デュルバルマブ+CDDP+PEM(術後）"},"SUR0133",{"$f":"IFERROR(VLOOKUP(__疾患別コードレジメン名[[#This Row],[列3]],INDIRECT(\"__レジメンマスタ\"),2,FALSE),\"\")","v":"PTX"},"",{"$f":"IFERROR(VLOOKUP(__疾患別コードレジメン名[[#This Row],[列4]],INDIRECT(\"__レジメンマスタ\"),2,FALSE),\"\")","v":""},"",{"$f":"IFERROR(VLOOKUP(__疾患別コードレジメン名[[#This Row],[列5]],INDIRECT(\"__レジメンマスタ\"),2,FALSE),\"\")","v":""},"",{"$f":"IFERROR(VLOOKUP(__疾患別コードレジメン名[[#This Row],[列6]],INDIRECT(\"__レジメンマスタ\"),2,FALSE),\"\")","v":""},"",{"$f":"IFERROR(VLOOKUP(__疾患別コードレジメン名[[#This Row],[列7]],INDIRECT(\"__レジメンマスタ\"),2,FALSE),\"\")","v":""},"",{"$f":"IFERROR(VLOOKUP(__疾患別コードレジメン名[[#This Row],[列8]],INDIRECT(\"__レジメンマスタ\"),2,FALSE),\"\")","v":""},"",{"$f":"IFERROR(VLOOKUP(__疾患別コードレジメン名[[#This Row],[列9]],INDIRECT(\"__レジメンマスタ\"),2,FALSE),\"\")","v":""},"",{"$f":"IFERROR(VLOOKUP(__疾患別コードレジメン名[[#This Row],[列10]],INDIRECT(\"__レジメンマスタ\"),2,FALSE),\"\")","v":""},"",{"$f":"IFERROR(VLOOKUP(__疾患別コードレジメン名[[#This Row],[列11]],INDIRECT(\"__レジメンマスタ\"),2,FALSE),\"\")","v":""},"",{"$f":"IFERROR(VLOOKUP(__疾患別コードレジメン名[[#This Row],[列12]],INDIRECT(\"__レジメンマスタ\"),2,FALSE),\"\")","v":""},"",{"$f":"IFERROR(VLOOKUP(__疾患別コードレジメン名[[#This Row],[列13]],INDIRECT(\"__レジメンマスタ\"),2,FALSE),\"\")","v":""}]
["HEM0090-5",{"$f":"IFERROR(VLOOKUP(__疾患別コードレジメン名[[#This Row],[列1]],INDIRECT(\"__レジメンマスタ\"),2,FALSE),\"\")","v":"JALSG　ALL202-O維持療法"},"RES0078-4",{"$f":"IFERROR(VLOOKUP(__疾患別コードレジメン名[[#This Row],[列2]],INDIRECT(\"__レジメンマスタ\"),2,FALSE),\"\")","v":"デュルバルマブ+CDDP+PEM(術後　BW30kg以下)"},"SUR0134-1",{"$f":"IFERROR(VLOOKUP(__疾患別コードレジメン名[[#This Row],[列3]],INDIRECT(\"__レジメンマスタ\"),2,FALSE),\"\")","v":"イミフィンジ"},"",{"$f":"IFERROR(VLOOKUP(__疾患別コードレジメン名[[#This Row],[列4]],INDIRECT(\"__レジメンマスタ\"),2,FALSE),\"\")","v":""},"",{"$f":"IFERROR(VLOOKUP(__疾患別コードレジメン名[[#This Row],[列5]],INDIRECT(\"__レジメンマスタ\"),2,FALSE),\"\")","v":""},"",{"$f":"IFERROR(VLOOKUP(__疾患別コードレジメン名[[#This Row],[列6]],INDIRECT(\"__レジメンマスタ\"),2,FALSE),\"\")","v":""},"",{"$f":"IFERROR(VLOOKUP(__疾患別コードレジメン名[[#This Row],[列7]],INDIRECT(\"__レジメンマスタ\"),2,FALSE),\"\")","v":""},"",{"$f":"IFERROR(VLOOKUP(__疾患別コードレジメン名[[#This Row],[列8]],INDIRECT(\"__レジメンマスタ\"),2,FALSE),\"\")","v":""},"",{"$f":"IFERROR(VLOOKUP(__疾患別コードレジメン名[[#This Row],[列9]],INDIRECT(\"__レジメンマスタ\"),2,FALSE),\"\")","v":""},"",{"$f":"IFERROR(VLOOKUP(__疾患別コードレジメン名[[#This Row],[列10]],INDIRECT(\"__レジメンマスタ\"),2,FALSE),\"\")","v":""},"",{"$f":"IFERROR(VLOOKUP(__疾患別コードレジメン名[[#This Row],[列11]],INDIRECT(\"__レジメンマスタ\"),2,FALSE),\"\")","v":""},"",{"$f":"IFERROR(VLOOKUP(__疾患別コードレジメン名[[#This Row],[列12]],INDIRECT(\"__レジメンマスタ\"),2,FALSE),\"\")","v":""},"",{"$f":"IFERROR(VLOOKUP(__疾患別コードレジメン名[[#This Row],[列13]],INDIRECT(\"__レジメンマスタ\"),2,FALSE),\"\")","v":""}]
["HEM0092",{"$f":"IFERROR(VLOOKUP(__疾患別コードレジメン名[[#This Row],[列1]],INDIRECT(\"__レジメンマスタ\"),2,FALSE),\"\")","v":"Kd（週2回）"},"RES0079-1",{"$f":"IFERROR(VLOOKUP(__疾患別コードレジメン名[[#This Row],[列2]],INDIRECT(\"__レジメンマスタ\"),2,FALSE),\"\")","v":"デュルバルマブ+CBDCA+PEM(術前）"},"SUR0134-2",{"$f":"IFERROR(VLOOKUP(__疾患別コードレジメン名[[#This Row],[列3]],INDIRECT(\"__レジメンマスタ\"),2,FALSE),\"\")","v":"イミフィンジ（体重30kg以下）"},"",{"$f":"IFERROR(VLOOKUP(__疾患別コードレジメン名[[#This Row],[列4]],INDIRECT(\"__レジメンマスタ\"),2,FALSE),\"\")","v":""},"",{"$f":"IFERROR(VLOOKUP(__疾患別コードレジメン名[[#This Row],[列5]],INDIRECT(\"__レジメンマスタ\"),2,FALSE),\"\")","v":""},"",{"$f":"IFERROR(VLOOKUP(__疾患別コードレジメン名[[#This Row],[列6]],INDIRECT(\"__レジメンマスタ\"),2,FALSE),\"\")","v":""},"",{"$f":"IFERROR(VLOOKUP(__疾患別コードレジメン名[[#This Row],[列7]],INDIRECT(\"__レジメンマスタ\"),2,FALSE),\"\")","v":""},"",{"$f":"IFERROR(VLOOKUP(__疾患別コードレジメン名[[#This Row],[列8]],INDIRECT(\"__レジメンマスタ\"),2,FALSE),\"\")","v":""},"",{"$f":"IFERROR(VLOOKUP(__疾患別コードレジメン名[[#This Row],[列9]],INDIRECT(\"__レジメンマスタ\"),2,FALSE),\"\")","v":""},"",{"$f":"IFERROR(VLOOKUP(__疾患別コードレジメン名[[#This Row],[列10]],INDIRECT(\"__レジメンマスタ\"),2,FALSE),\"\")","v":""},"",{"$f":"IFERROR(VLOOKUP(__疾患別コードレジメン名[[#This Row],[列11]],INDIRECT(\"__レジメンマスタ\"),2,FALSE),\"\")","v":""},"",{"$f":"IFERROR(VLOOKUP(__疾患別コードレジメン名[[#This Row],[列12]],INDIRECT(\"__レジメンマスタ\"),2,FALSE),\"\")","v":""},"",{"$f":"IFERROR(VLOOKUP(__疾患別コードレジメン名[[#This Row],[列13]],INDIRECT(\"__レジメンマスタ\"),2,FALSE),\"\")","v":""}]
["HEM0093",{"$f":"IFERROR(VLOOKUP(__疾患別コードレジメン名[[#This Row],[列1]],INDIRECT(\"__レジメンマスタ\"),2,FALSE),\"\")","v":"KRd"},"RES0079-2",{"$f":"IFERROR(VLOOKUP(__疾患別コードレジメン名[[#This Row],[列2]],INDIRECT(\"__レジメンマスタ\"),2,FALSE),\"\")","v":"デュルバルマブ+CBDCA+PEM(術前　BW30kg以下）"},"SUR0135-01",{"$f":"IFERROR(VLOOKUP(__疾患別コードレジメン名[[#This Row],[列3]],INDIRECT(\"__レジメンマスタ\"),2,FALSE),\"\")","v":"イジュド＋イミフィンジ（肝細胞癌）"},"",{"$f":"IFERROR(VLOOKUP(__疾患別コードレジメン名[[#This Row],[列4]],INDIRECT(\"__レジメンマスタ\"),2,FALSE),\"\")","v":""},"",{"$f":"IFERROR(VLOOKUP(__疾患別コードレジメン名[[#This Row],[列5]],INDIRECT(\"__レジメンマスタ\"),2,FALSE),\"\")","v":""},"",{"$f":"IFERROR(VLOOKUP(__疾患別コードレジメン名[[#This Row],[列6]],INDIRECT(\"__レジメンマスタ\"),2,FALSE),\"\")","v":""},"",{"$f":"IFERROR(VLOOKUP(__疾患別コードレジメン名[[#This Row],[列7]],INDIRECT(\"__レジメンマスタ\"),2,FALSE),\"\")","v":""},"",{"$f":"IFERROR(VLOOKUP(__疾患別コードレジメン名[[#This Row],[列8]],INDIRECT(\"__レジメンマスタ\"),2,FALSE),\"\")","v":""},"",{"$f":"IFERROR(VLOOKUP(__疾患別コードレジメン名[[#This Row],[列9]],INDIRECT(\"__レジメンマスタ\"),2,FALSE),\"\")","v":""},"",{"$f":"IFERROR(VLOOKUP(__疾患別コードレジメン名[[#This Row],[列10]],INDIRECT(\"__レジメンマスタ\"),2,FALSE),\"\")","v":""},"",{"$f":"IFERROR(VLOOKUP(__疾患別コードレジメン名[[#This Row],[列11]],INDIRECT(\"__レジメンマスタ\"),2,FALSE),\"\")","v":""},"",{"$f":"IFERROR(VLOOKUP(__疾患別コードレジメン名[[#This Row],[列12]],INDIRECT(\"__レジメンマスタ\"),2,FALSE),\"\")","v":""},"",{"$f":"IFERROR(VLOOKUP(__疾患別コードレジメン名[[#This Row],[列13]],INDIRECT(\"__レジメンマスタ\"),2,FALSE),\"\")","v":""}]
["HEM0094",{"$f":"IFERROR(VLOOKUP(__疾患別コードレジメン名[[#This Row],[列1]],INDIRECT(\"__レジメンマスタ\"),2,FALSE),\"\")","v":"ジフォルタ"},"RES0079-3",{"$f":"IFERROR(VLOOKUP(__疾患別コードレジメン名[[#This Row],[列2]],INDIRECT(\"__レジメンマスタ\"),2,FALSE),\"\")","v":"デュルバルマブ+CBDCA+PEM(術後）"},"SUR0135-02",{"$f":"IFERROR(VLOOKUP(__疾患別コードレジメン名[[#This Row],[列3]],INDIRECT(\"__レジメンマスタ\"),2,FALSE),\"\")","v":"イジュド＋イミフィンジ（体重30kg以下、肝細胞癌）"},"",{"$f":"IFERROR(VLOOKUP(__疾患別コードレジメン名[[#This Row],[列4]],INDIRECT(\"__レジメンマスタ\"),2,FALSE),\"\")","v":""},"",{"$f":"IFERROR(VLOOKUP(__疾患別コードレジメン名[[#This Row],[列5]],INDIRECT(\"__レジメンマスタ\"),2,FALSE),\"\")","v":""},"",{"$f":"IFERROR(VLOOKUP(__疾患別コードレジメン名[[#This Row],[列6]],INDIRECT(\"__レジメンマスタ\"),2,FALSE),\"\")","v":""},"",{"$f":"IFERROR(VLOOKUP(__疾患別コードレジメン名[[#This Row],[列7]],INDIRECT(\"__レジメンマスタ\"),2,FALSE),\"\")","v":""},"",{"$f":"IFERROR(VLOOKUP(__疾患別コードレジメン名[[#This Row],[列8]],INDIRECT(\"__レジメンマスタ\"),2,FALSE),\"\")","v":""},"",{"$f":"IFERROR(VLOOKUP(__疾患別コードレジメン名[[#This Row],[列9]],INDIRECT(\"__レジメンマスタ\"),2,FALSE),\"\")","v":""},"",{"$f":"IFERROR(VLOOKUP(__疾患別コードレジメン名[[#This Row],[列10]],INDIRECT(\"__レジメンマスタ\"),2,FALSE),\"\")","v":""},"",{"$f":"IFERROR(VLOOKUP(__疾患別コードレジメン名[[#This Row],[列11]],INDIRECT(\"__レジメンマスタ\"),2,FALSE),\"\")","v":""},"",{"$f":"IFERROR(VLOOKUP(__疾患別コードレジメン名[[#This Row],[列12]],INDIRECT(\"__レジメンマスタ\"),2,FALSE),\"\")","v":""},"",{"$f":"IFERROR(VLOOKUP(__疾患別コードレジメン名[[#This Row],[列13]],INDIRECT(\"__レジメンマスタ\"),2,FALSE),\"\")","v":""}]
["HEM0095",{"$f":"IFERROR(VLOOKUP(__疾患別コードレジメン名[[#This Row],[列1]],INDIRECT(\"__レジメンマスタ\"),2,FALSE),\"\")","v":"R-BAC500"},"RES0079-4",{"$f":"IFERROR(VLOOKUP(__疾患別コードレジメン名[[#This Row],[列2]],INDIRECT(\"__レジメンマスタ\"),2,FALSE),\"\")","v":"デュルバルマブ+CBDCA+PEM(術後　BW30kg以下)"},"SUR0136",{"$f":"IFERROR(VLOOKUP(__疾患別コードレジメン名[[#This Row],[列3]],INDIRECT(\"__レジメンマスタ\"),2,FALSE),\"\")","v":"FOLFOX（小腸癌）"},"",{"$f":"IFERROR(VLOOKUP(__疾患別コードレジメン名[[#This Row],[列4]],INDIRECT(\"__レジメンマスタ\"),2,FALSE),\"\")","v":""},"",{"$f":"IFERROR(VLOOKUP(__疾患別コードレジメン名[[#This Row],[列5]],INDIRECT(\"__レジメンマスタ\"),2,FALSE),\"\")","v":""},"",{"$f":"IFERROR(VLOOKUP(__疾患別コードレジメン名[[#This Row],[列6]],INDIRECT(\"__レジメンマスタ\"),2,FALSE),\"\")","v":""},"",{"$f":"IFERROR(VLOOKUP(__疾患別コードレジメン名[[#This Row],[列7]],INDIRECT(\"__レジメンマスタ\"),2,FALSE),\"\")","v":""},"",{"$f":"IFERROR(VLOOKUP(__疾患別コードレジメン名[[#This Row],[列8]],INDIRECT(\"__レジメンマスタ\"),2,FALSE),\"\")","v":""},"",{"$f":"IFERROR(VLOOKUP(__疾患別コードレジメン名[[#This Row],[列9]],INDIRECT(\"__レジメンマスタ\"),2,FALSE),\"\")","v":""},"",{"$f":"IFERROR(VLOOKUP(__疾患別コードレジメン名[[#This Row],[列10]],INDIRECT(\"__レジメンマスタ\"),2,FALSE),\"\")","v":""},"",{"$f":"IFERROR(VLOOKUP(__疾患別コードレジメン名[[#This Row],[列11]],INDIRECT(\"__レジメンマスタ\"),2,FALSE),\"\")","v":""},"",{"$f":"IFERROR(VLOOKUP(__疾患別コードレジメン名[[#This Row],[列12]],INDIRECT(\"__レジメンマスタ\"),2,FALSE),\"\")","v":""},"",{"$f":"IFERROR(VLOOKUP(__疾患別コードレジメン名[[#This Row],[列13]],INDIRECT(\"__レジメンマスタ\"),2,FALSE),\"\")","v":""}]
["HEM0096",{"$f":"IFERROR(VLOOKUP(__疾患別コードレジメン名[[#This Row],[列1]],INDIRECT(\"__レジメンマスタ\"),2,FALSE),\"\")","v":"DBd(点滴)"},"",{"$f":"IFERROR(VLOOKUP(__疾患別コードレジメン名[[#This Row],[列2]],INDIRECT(\"__レジメンマスタ\"),2,FALSE),\"\")","v":""},"SUR0137",{"$f":"IFERROR(VLOOKUP(__疾患別コードレジメン名[[#This Row],[列3]],INDIRECT(\"__レジメンマスタ\"),2,FALSE),\"\")","v":"【適応外】CAPOX（小腸癌）"},"",{"$f":"IFERROR(VLOOKUP(__疾患別コードレジメン名[[#This Row],[列4]],INDIRECT(\"__レジメンマスタ\"),2,FALSE),\"\")","v":""},"",{"$f":"IFERROR(VLOOKUP(__疾患別コードレジメン名[[#This Row],[列5]],INDIRECT(\"__レジメンマスタ\"),2,FALSE),\"\")","v":""},"",{"$f":"IFERROR(VLOOKUP(__疾患別コードレジメン名[[#This Row],[列6]],INDIRECT(\"__レジメンマスタ\"),2,FALSE),\"\")","v":""},"",{"$f":"IFERROR(VLOOKUP(__疾患別コードレジメン名[[#This Row],[列7]],INDIRECT(\"__レジメンマスタ\"),2,FALSE),\"\")","v":""},"",{"$f":"IFERROR(VLOOKUP(__疾患別コードレジメン名[[#This Row],[列8]],INDIRECT(\"__レジメンマスタ\"),2,FALSE),\"\")","v":""},"",{"$f":"IFERROR(VLOOKUP(__疾患別コードレジメン名[[#This Row],[列9]],INDIRECT(\"__レジメンマスタ\"),2,FALSE),\"\")","v":""},"",{"$f":"IFERROR(VLOOKUP(__疾患別コードレジメン名[[#This Row],[列10]],INDIRECT(\"__レジメンマスタ\"),2,FALSE),\"\")","v":""},"",{"$f":"IFERROR(VLOOKUP(__疾患別コードレジメン名[[#This Row],[列11]],INDIRECT(\"__レジメンマスタ\"),2,FALSE),\"\")","v":""},"",{"$f":"IFERROR(VLOOKUP(__疾患別コードレジメン名[[#This Row],[列12]],INDIRECT(\"__レジメンマスタ\"),2,FALSE),\"\")","v":""},"",{"$f":"IFERROR(VLOOKUP(__疾患別コードレジメン名[[#This Row],[列13]],INDIRECT(\"__レジメンマスタ\"),2,FALSE),\"\")","v":""}]
["HEM0096-2",{"$f":"IFERROR(VLOOKUP(__疾患別コードレジメン名[[#This Row],[列1]],INDIRECT(\"__レジメンマスタ\"),2,FALSE),\"\")","v":"DBd(皮下)"},"",{"$f":"IFERROR(VLOOKUP(__疾患別コードレジメン名[[#This Row],[列2]],INDIRECT(\"__レジメンマスタ\"),2,FALSE),\"\")","v":""},"SUR0138",{"$f":"IFERROR(VLOOKUP(__疾患別コードレジメン名[[#This Row],[列3]],INDIRECT(\"__レジメンマスタ\"),2,FALSE),\"\")","v":"【適応外】CBDCA+PTX"},"",{"$f":"IFERROR(VLOOKUP(__疾患別コードレジメン名[[#This Row],[列4]],INDIRECT(\"__レジメンマスタ\"),2,FALSE),\"\")","v":""},"",{"$f":"IFERROR(VLOOKUP(__疾患別コードレジメン名[[#This Row],[列5]],INDIRECT(\"__レジメンマスタ\"),2,FALSE),\"\")","v":""},"",{"$f":"IFERROR(VLOOKUP(__疾患別コードレジメン名[[#This Row],[列6]],INDIRECT(\"__レジメンマスタ\"),2,FALSE),\"\")","v":""},"",{"$f":"IFERROR(VLOOKUP(__疾患別コードレジメン名[[#This Row],[列7]],INDIRECT(\"__レジメンマスタ\"),2,FALSE),\"\")","v":""},"",{"$f":"IFERROR(VLOOKUP(__疾患別コードレジメン名[[#This Row],[列8]],INDIRECT(\"__レジメンマスタ\"),2,FALSE),\"\")","v":""},"",{"$f":"IFERROR(VLOOKUP(__疾患別コードレジメン名[[#This Row],[列9]],INDIRECT(\"__レジメンマスタ\"),2,FALSE),\"\")","v":""},"",{"$f":"IFERROR(VLOOKUP(__疾患別コードレジメン名[[#This Row],[列10]],INDIRECT(\"__レジメンマスタ\"),2,FALSE),\"\")","v":""},"",{"$f":"IFERROR(VLOOKUP(__疾患別コードレジメン名[[#This Row],[列11]],INDIRECT(\"__レジメンマスタ\"),2,FALSE),\"\")","v":""},"",{"$f":"IFERROR(VLOOKUP(__疾患別コードレジメン名[[#This Row],[列12]],INDIRECT(\"__レジメンマスタ\"),2,FALSE),\"\")","v":""},"",{"$f":"IFERROR(VLOOKUP(__疾患別コードレジメン名[[#This Row],[列13]],INDIRECT(\"__レジメンマスタ\"),2,FALSE),\"\")","v":""}]
["HEM0096-A1",{"$f":"IFERROR(VLOOKUP(__疾患別コードレジメン名[[#This Row],[列1]],INDIRECT(\"__レジメンマスタ\"),2,FALSE),\"\")","v":"DLd(初発：点滴)"},"",{"$f":"IFERROR(VLOOKUP(__疾患別コードレジメン名[[#This Row],[列2]],INDIRECT(\"__レジメンマスタ\"),2,FALSE),\"\")","v":""},"SUR0139",{"$f":"IFERROR(VLOOKUP(__疾患別コードレジメン名[[#This Row],[列3]],INDIRECT(\"__レジメンマスタ\"),2,FALSE),\"\")","v":"CAPOX+ゾルベツキシマブ"},"",{"$f":"IFERROR(VLOOKUP(__疾患別コードレジメン名[[#This Row],[列4]],INDIRECT(\"__レジメンマスタ\"),2,FALSE),\"\")","v":""},"",{"$f":"IFERROR(VLOOKUP(__疾患別コードレジメン名[[#This Row],[列5]],INDIRECT(\"__レジメンマスタ\"),2,FALSE),\"\")","v":""},"",{"$f":"IFERROR(VLOOKUP(__疾患別コードレジメン名[[#This Row],[列6]],INDIRECT(\"__レジメンマスタ\"),2,FALSE),\"\")","v":""},"",{"$f":"IFERROR(VLOOKUP(__疾患別コードレジメン名[[#This Row],[列7]],INDIRECT(\"__レジメンマスタ\"),2,FALSE),\"\")","v":""},"",{"$f":"IFERROR(VLOOKUP(__疾患別コードレジメン名[[#This Row],[列8]],INDIRECT(\"__レジメンマスタ\"),2,FALSE),\"\")","v":""},"",{"$f":"IFERROR(VLOOKUP(__疾患別コードレジメン名[[#This Row],[列9]],INDIRECT(\"__レジメンマスタ\"),2,FALSE),\"\")","v":""},"",{"$f":"IFERROR(VLOOKUP(__疾患別コードレジメン名[[#This Row],[列10]],INDIRECT(\"__レジメンマスタ\"),2,FALSE),\"\")","v":""},"",{"$f":"IFERROR(VLOOKUP(__疾患別コードレジメン名[[#This Row],[列11]],INDIRECT(\"__レジメンマスタ\"),2,FALSE),\"\")","v":""},"",{"$f":"IFERROR(VLOOKUP(__疾患別コードレジメン名[[#This Row],[列12]],INDIRECT(\"__レジメンマスタ\"),2,FALSE),\"\")","v":""},"",{"$f":"IFERROR(VLOOKUP(__疾患別コードレジメン名[[#This Row],[列13]],INDIRECT(\"__レジメンマスタ\"),2,FALSE),\"\")","v":""}]
["HEM0096-B1",{"$f":"IFERROR(VLOOKUP(__疾患別コードレジメン名[[#This Row],[列1]],INDIRECT(\"__レジメンマスタ\"),2,FALSE),\"\")","v":"DLd(再発：点滴）"},"内服単剤S1：A法",{"$f":"IFERROR(VLOOKUP(__疾患別コードレジメン名[[#This Row],[列2]],INDIRECT(\"__レジメンマスタ\"),2,FALSE),\"\")","v":"S1：A法"},"SUR0140-01",{"$f":"IFERROR(VLOOKUP(__疾患別コードレジメン名[[#This Row],[列3]],INDIRECT(\"__レジメンマスタ\"),2,FALSE),\"\")","v":"GC＋キイトルーダ"},"",{"$f":"IFERROR(VLOOKUP(__疾患別コードレジメン名[[#This Row],[列4]],INDIRECT(\"__レジメンマスタ\"),2,FALSE),\"\")","v":""},"",{"$f":"IFERROR(VLOOKUP(__疾患別コードレジメン名[[#This Row],[列5]],INDIRECT(\"__レジメンマスタ\"),2,FALSE),\"\")","v":""},"",{"$f":"IFERROR(VLOOKUP(__疾患別コードレジメン名[[#This Row],[列6]],INDIRECT(\"__レジメンマスタ\"),2,FALSE),\"\")","v":""},"",{"$f":"IFERROR(VLOOKUP(__疾患別コードレジメン名[[#This Row],[列7]],INDIRECT(\"__レジメンマスタ\"),2,FALSE),\"\")","v":""},"",{"$f":"IFERROR(VLOOKUP(__疾患別コードレジメン名[[#This Row],[列8]],INDIRECT(\"__レジメンマスタ\"),2,FALSE),\"\")","v":""},"",{"$f":"IFERROR(VLOOKUP(__疾患別コードレジメン名[[#This Row],[列9]],INDIRECT(\"__レジメンマスタ\"),2,FALSE),\"\")","v":""},"",{"$f":"IFERROR(VLOOKUP(__疾患別コードレジメン名[[#This Row],[列10]],INDIRECT(\"__レジメンマスタ\"),2,FALSE),\"\")","v":""},"",{"$f":"IFERROR(VLOOKUP(__疾患別コードレジメン名[[#This Row],[列11]],INDIRECT(\"__レジメンマスタ\"),2,FALSE),\"\")","v":""},"",{"$f":"IFERROR(VLOOKUP(__疾患別コードレジメン名[[#This Row],[列12]],INDIRECT(\"__レジメンマスタ\"),2,FALSE),\"\")","v":""},"",{"$f":"IFERROR(VLOOKUP(__疾患別コードレジメン名[[#This Row],[列13]],INDIRECT(\"__レジメンマスタ\"),2,FALSE),\"\")","v":""}]
["HEM0096-C1",{"$f":"IFERROR(VLOOKUP(__疾患別コードレジメン名[[#This Row],[列1]],INDIRECT(\"__レジメンマスタ\"),2,FALSE),\"\")","v":"DLd(初発：皮下)"},"内服単剤S1：B法",{"$f":"IFERROR(VLOOKUP(__疾患別コードレジメン名[[#This Row],[列2]],INDIRECT(\"__レジメンマスタ\"),2,FALSE),\"\")","v":"S1：B法"},"SUR0141",{"$f":"IFERROR(VLOOKUP(__疾患別コードレジメン名[[#This Row],[列3]],INDIRECT(\"__レジメンマスタ\"),2,FALSE),\"\")","v":"CAPOX+ペムブロリズマブ"},"",{"$f":"IFERROR(VLOOKUP(__疾患別コードレジメン名[[#This Row],[列4]],INDIRECT(\"__レジメンマスタ\"),2,FALSE),\"\")","v":""},"",{"$f":"IFERROR(VLOOKUP(__疾患別コードレジメン名[[#This Row],[列5]],INDIRECT(\"__レジメンマスタ\"),2,FALSE),\"\")","v":""},"",{"$f":"IFERROR(VLOOKUP(__疾患別コードレジメン名[[#This Row],[列6]],INDIRECT(\"__レジメンマスタ\"),2,FALSE),\"\")","v":""},"",{"$f":"IFERROR(VLOOKUP(__疾患別コードレジメン名[[#This Row],[列7]],INDIRECT(\"__レジメンマスタ\"),2,FALSE),\"\")","v":""},"",{"$f":"IFERROR(VLOOKUP(__疾患別コードレジメン名[[#This Row],[列8]],INDIRECT(\"__レジメンマスタ\"),2,FALSE),\"\")","v":""},"",{"$f":"IFERROR(VLOOKUP(__疾患別コードレジメン名[[#This Row],[列9]],INDIRECT(\"__レジメンマスタ\"),2,FALSE),\"\")","v":""},"",{"$f":"IFERROR(VLOOKUP(__疾患別コードレジメン名[[#This Row],[列10]],INDIRECT(\"__レジメンマスタ\"),2,FALSE),\"\")","v":""},"",{"$f":"IFERROR(VLOOKUP(__疾患別コードレジメン名[[#This Row],[列11]],INDIRECT(\"__レジメンマスタ\"),2,FALSE),\"\")","v":""},"",{"$f":"IFERROR(VLOOKUP(__疾患別コードレジメン名[[#This Row],[列12]],INDIRECT(\"__レジメンマスタ\"),2,FALSE),\"\")","v":""},"",{"$f":"IFERROR(VLOOKUP(__疾患別コードレジメン名[[#This Row],[列13]],INDIRECT(\"__レジメンマスタ\"),2,FALSE),\"\")","v":""}]
["HEM0096-D1",{"$f":"IFERROR(VLOOKUP(__疾患別コードレジメン名[[#This Row],[列1]],INDIRECT(\"__レジメンマスタ\"),2,FALSE),\"\")","v":"DLd(再発：皮下)"},"内服単剤S1：C法",{"$f":"IFERROR(VLOOKUP(__疾患別コードレジメン名[[#This Row],[列2]],INDIRECT(\"__レジメンマスタ\"),2,FALSE),\"\")","v":"S1：C法"},"SUR0142",{"$f":"IFERROR(VLOOKUP(__疾患別コードレジメン名[[#This Row],[列3]],INDIRECT(\"__レジメンマスタ\"),2,FALSE),\"\")","v":"【適応外】FOLFOX+BEV（小腸癌）"},"",{"$f":"IFERROR(VLOOKUP(__疾患別コードレジメン名[[#This Row],[列4]],INDIRECT(\"__レジメンマスタ\"),2,FALSE),\"\")","v":""},"",{"$f":"IFERROR(VLOOKUP(__疾患別コードレジメン名[[#This Row],[列5]],INDIRECT(\"__レジメンマスタ\"),2,FALSE),\"\")","v":""},"",{"$f":"IFERROR(VLOOKUP(__疾患別コードレジメン名[[#This Row],[列6]],INDIRECT(\"__レジメンマスタ\"),2,FALSE),\"\")","v":""},"",{"$f":"IFERROR(VLOOKUP(__疾患別コードレジメン名[[#This Row],[列7]],INDIRECT(\"__レジメンマスタ\"),2,FALSE),\"\")","v":""},"",{"$f":"IFERROR(VLOOKUP(__疾患別コードレジメン名[[#This Row],[列8]],INDIRECT(\"__レジメンマスタ\"),2,FALSE),\"\")","v":""},"",{"$f":"IFERROR(VLOOKUP(__疾患別コードレジメン名[[#This Row],[列9]],INDIRECT(\"__レジメンマスタ\"),2,FALSE),\"\")","v":""},"",{"$f":"IFERROR(VLOOKUP(__疾患別コードレジメン名[[#This Row],[列10]],INDIRECT(\"__レジメンマスタ\"),2,FALSE),\"\")","v":""},"",{"$f":"IFERROR(VLOOKUP(__疾患別コードレジメン名[[#This Row],[列11]],INDIRECT(\"__レジメンマスタ\"),2,FALSE),\"\")","v":""},"",{"$f":"IFERROR(VLOOKUP(__疾患別コードレジメン名[[#This Row],[列12]],INDIRECT(\"__レジメンマスタ\"),2,FALSE),\"\")","v":""},"",{"$f":"IFERROR(VLOOKUP(__疾患別コードレジメン名[[#This Row],[列13]],INDIRECT(\"__レジメンマスタ\"),2,FALSE),\"\")","v":""}]
["HEM0097",{"$f":"IFERROR(VLOOKUP(__疾患別コードレジメン名[[#This Row],[列1]],INDIRECT(\"__レジメンマスタ\"),2,FALSE),\"\")","v":"ガザイバ＋ベンダムスチン"},"ラステットS(肺小細胞癌）",{"$f":"IFERROR(VLOOKUP(__疾患別コードレジメン名[[#This Row],[列2]],INDIRECT(\"__レジメンマスタ\"),2,FALSE),\"\")","v":"ラステットS(肺小細胞癌）"},"SUR0143",{"$f":"IFERROR(VLOOKUP(__疾患別コードレジメン名[[#This Row],[列3]],INDIRECT(\"__レジメンマスタ\"),2,FALSE),\"\")","v":"【適応外】FOLFIRI+BEV（小腸癌）"},"",{"$f":"IFERROR(VLOOKUP(__疾患別コードレジメン名[[#This Row],[列4]],INDIRECT(\"__レジメンマスタ\"),2,FALSE),\"\")","v":""},"",{"$f":"IFERROR(VLOOKUP(__疾患別コードレジメン名[[#This Row],[列5]],INDIRECT(\"__レジメンマスタ\"),2,FALSE),\"\")","v":""},"",{"$f":"IFERROR(VLOOKUP(__疾患別コードレジメン名[[#This Row],[列6]],INDIRECT(\"__レジメンマスタ\"),2,FALSE),\"\")","v":""},"",{"$f":"IFERROR(VLOOKUP(__疾患別コードレジメン名[[#This Row],[列7]],INDIRECT(\"__レジメンマスタ\"),2,FALSE),\"\")","v":""},"",{"$f":"IFERROR(VLOOKUP(__疾患別コードレジメン名[[#This Row],[列8]],INDIRECT(\"__レジメンマスタ\"),2,FALSE),\"\")","v":""},"",{"$f":"IFERROR(VLOOKUP(__疾患別コードレジメン名[[#This Row],[列9]],INDIRECT(\"__レジメンマスタ\"),2,FALSE),\"\")","v":""},"",{"$f":"IFERROR(VLOOKUP(__疾患別コードレジメン名[[#This Row],[列10]],INDIRECT(\"__レジメンマスタ\"),2,FALSE),\"\")","v":""},"",{"$f":"IFERROR(VLOOKUP(__疾患別コードレジメン名[[#This Row],[列11]],INDIRECT(\"__レジメンマスタ\"),2,FALSE),\"\")","v":""},"",{"$f":"IFERROR(VLOOKUP(__疾患別コードレジメン名[[#This Row],[列12]],INDIRECT(\"__レジメンマスタ\"),2,FALSE),\"\")","v":""},"",{"$f":"IFERROR(VLOOKUP(__疾患別コードレジメン名[[#This Row],[列13]],INDIRECT(\"__レジメンマスタ\"),2,FALSE),\"\")","v":""}]
["HEM0098",{"$f":"IFERROR(VLOOKUP(__疾患別コードレジメン名[[#This Row],[列1]],INDIRECT(\"__レジメンマスタ\"),2,FALSE),\"\")","v":"ガザイバ＋CHOP"},"UFT(ﾃｶﾞﾌｰﾙｳﾗｼﾙ)",{"$f":"IFERROR(VLOOKUP(__疾患別コードレジメン名[[#This Row],[列2]],INDIRECT(\"__レジメンマスタ\"),2,FALSE),\"\")","v":"テガフール・ウラシル療法"},"SUR0144",{"$f":"IFERROR(VLOOKUP(__疾患別コードレジメン名[[#This Row],[列3]],INDIRECT(\"__レジメンマスタ\"),2,FALSE),\"\")","v":"【適応外】CAPOX+BEV（小腸癌）"},"",{"$f":"IFERROR(VLOOKUP(__疾患別コードレジメン名[[#This Row],[列4]],INDIRECT(\"__レジメンマスタ\"),2,FALSE),\"\")","v":""},"",{"$f":"IFERROR(VLOOKUP(__疾患別コードレジメン名[[#This Row],[列5]],INDIRECT(\"__レジメンマスタ\"),2,FALSE),\"\")","v":""},"",{"$f":"IFERROR(VLOOKUP(__疾患別コードレジメン名[[#This Row],[列6]],INDIRECT(\"__レジメンマスタ\"),2,FALSE),\"\")","v":""},"",{"$f":"IFERROR(VLOOKUP(__疾患別コードレジメン名[[#This Row],[列7]],INDIRECT(\"__レジメンマスタ\"),2,FALSE),\"\")","v":""},"",{"$f":"IFERROR(VLOOKUP(__疾患別コードレジメン名[[#This Row],[列8]],INDIRECT(\"__レジメンマスタ\"),2,FALSE),\"\")","v":""},"",{"$f":"IFERROR(VLOOKUP(__疾患別コードレジメン名[[#This Row],[列9]],INDIRECT(\"__レジメンマスタ\"),2,FALSE),\"\")","v":""},"",{"$f":"IFERROR(VLOOKUP(__疾患別コードレジメン名[[#This Row],[列10]],INDIRECT(\"__レジメンマスタ\"),2,FALSE),\"\")","v":""},"",{"$f":"IFERROR(VLOOKUP(__疾患別コードレジメン名[[#This Row],[列11]],INDIRECT(\"__レジメンマスタ\"),2,FALSE),\"\")","v":""},"",{"$f":"IFERROR(VLOOKUP(__疾患別コードレジメン名[[#This Row],[列12]],INDIRECT(\"__レジメンマスタ\"),2,FALSE),\"\")","v":""},"",{"$f":"IFERROR(VLOOKUP(__疾患別コードレジメン名[[#This Row],[列13]],INDIRECT(\"__レジメンマスタ\"),2,FALSE),\"\")","v":""}]
["HEM0099",{"$f":"IFERROR(VLOOKUP(__疾患別コードレジメン名[[#This Row],[列1]],INDIRECT(\"__レジメンマスタ\"),2,FALSE),\"\")","v":"ニボルマブ"},"",{"$f":"IFERROR(VLOOKUP(__疾患別コードレジメン名[[#This Row],[列2]],INDIRECT(\"__レジメンマスタ\"),2,FALSE),\"\")","v":""},"SUR0145",{"$f":"IFERROR(VLOOKUP(__疾患別コードレジメン名[[#This Row],[列3]],INDIRECT(\"__レジメンマスタ\"),2,FALSE),\"\")","v":"【適応外】FOLFIRI（小腸癌）"},"",{"$f":"IFERROR(VLOOKUP(__疾患別コードレジメン名[[#This Row],[列4]],INDIRECT(\"__レジメンマスタ\"),2,FALSE),\"\")","v":""},"",{"$f":"IFERROR(VLOOKUP(__疾患別コードレジメン名[[#This Row],[列5]],INDIRECT(\"__レジメンマスタ\"),2,FALSE),\"\")","v":""},"",{"$f":"IFERROR(VLOOKUP(__疾患別コードレジメン名[[#This Row],[列6]],INDIRECT(\"__レジメンマスタ\"),2,FALSE),\"\")","v":""},"",{"$f":"IFERROR(VLOOKUP(__疾患別コードレジメン名[[#This Row],[列7]],INDIRECT(\"__レジメンマスタ\"),2,FALSE),\"\")","v":""},"",{"$f":"IFERROR(VLOOKUP(__疾患別コードレジメン名[[#This Row],[列8]],INDIRECT(\"__レジメンマスタ\"),2,FALSE),\"\")","v":""},"",{"$f":"IFERROR(VLOOKUP(__疾患別コードレジメン名[[#This Row],[列9]],INDIRECT(\"__レジメンマスタ\"),2,FALSE),\"\")","v":""},"",{"$f":"IFERROR(VLOOKUP(__疾患別コードレジメン名[[#This Row],[列10]],INDIRECT(\"__レジメンマスタ\"),2,FALSE),\"\")","v":""},"",{"$f":"IFERROR(VLOOKUP(__疾患別コードレジメン名[[#This Row],[列11]],INDIRECT(\"__レジメンマスタ\"),2,FALSE),\"\")","v":""},"",{"$f":"IFERROR(VLOOKUP(__疾患別コードレジメン名[[#This Row],[列12]],INDIRECT(\"__レジメンマスタ\"),2,FALSE),\"\")","v":""},"",{"$f":"IFERROR(VLOOKUP(__疾患別コードレジメン名[[#This Row],[列13]],INDIRECT(\"__レジメンマスタ\"),2,FALSE),\"\")","v":""}]
["HEM0100",{"$f":"IFERROR(VLOOKUP(__疾患別コードレジメン名[[#This Row],[列1]],INDIRECT(\"__レジメンマスタ\"),2,FALSE),\"\")","v":"ペムブロリズマブ"},"",{"$f":"IFERROR(VLOOKUP(__疾患別コードレジメン名[[#This Row],[列2]],INDIRECT(\"__レジメンマスタ\"),2,FALSE),\"\")","v":""},"SUR0146",{"$f":"IFERROR(VLOOKUP(__疾患別コードレジメン名[[#This Row],[列3]],INDIRECT(\"__レジメンマスタ\"),2,FALSE),\"\")","v":"MMC+Cape+RT"},"",{"$f":"IFERROR(VLOOKUP(__疾患別コードレジメン名[[#This Row],[列4]],INDIRECT(\"__レジメンマスタ\"),2,FALSE),\"\")","v":""},"",{"$f":"IFERROR(VLOOKUP(__疾患別コードレジメン名[[#This Row],[列5]],INDIRECT(\"__レジメンマスタ\"),2,FALSE),\"\")","v":""},"",{"$f":"IFERROR(VLOOKUP(__疾患別コードレジメン名[[#This Row],[列6]],INDIRECT(\"__レジメンマスタ\"),2,FALSE),\"\")","v":""},"",{"$f":"IFERROR(VLOOKUP(__疾患別コードレジメン名[[#This Row],[列7]],INDIRECT(\"__レジメンマスタ\"),2,FALSE),\"\")","v":""},"",{"$f":"IFERROR(VLOOKUP(__疾患別コードレジメン名[[#This Row],[列8]],INDIRECT(\"__レジメンマスタ\"),2,FALSE),\"\")","v":""},"",{"$f":"IFERROR(VLOOKUP(__疾患別コードレジメン名[[#This Row],[列9]],INDIRECT(\"__レジメンマスタ\"),2,FALSE),\"\")","v":""},"",{"$f":"IFERROR(VLOOKUP(__疾患別コードレジメン名[[#This Row],[列10]],INDIRECT(\"__レジメンマスタ\"),2,FALSE),\"\")","v":""},"",{"$f":"IFERROR(VLOOKUP(__疾患別コードレジメン名[[#This Row],[列11]],INDIRECT(\"__レジメンマスタ\"),2,FALSE),\"\")","v":""},"",{"$f":"IFERROR(VLOOKUP(__疾患別コードレジメン名[[#This Row],[列12]],INDIRECT(\"__レジメンマスタ\"),2,FALSE),\"\")","v":""},"",{"$f":"IFERROR(VLOOKUP(__疾患別コードレジメン名[[#This Row],[列13]],INDIRECT(\"__レジメンマスタ\"),2,FALSE),\"\")","v":""}]
["HEM0101",{"$f":"IFERROR(VLOOKUP(__疾患別コードレジメン名[[#This Row],[列1]],INDIRECT(\"__レジメンマスタ\"),2,FALSE),\"\")","v":"MEEM療法"},"",{"$f":"IFERROR(VLOOKUP(__疾患別コードレジメン名[[#This Row],[列2]],INDIRECT(\"__レジメンマスタ\"),2,FALSE),\"\")","v":""},"SUR0147",{"$f":"IFERROR(VLOOKUP(__疾患別コードレジメン名[[#This Row],[列3]],INDIRECT(\"__レジメンマスタ\"),2,FALSE),\"\")","v":"Pembro＋SOX"},"",{"$f":"IFERROR(VLOOKUP(__疾患別コードレジメン名[[#This Row],[列4]],INDIRECT(\"__レジメンマスタ\"),2,FALSE),\"\")","v":""},"",{"$f":"IFERROR(VLOOKUP(__疾患別コードレジメン名[[#This Row],[列5]],INDIRECT(\"__レジメンマスタ\"),2,FALSE),\"\")","v":""},"",{"$f":"IFERROR(VLOOKUP(__疾患別コードレジメン名[[#This Row],[列6]],INDIRECT(\"__レジメンマスタ\"),2,FALSE),\"\")","v":""},"",{"$f":"IFERROR(VLOOKUP(__疾患別コードレジメン名[[#This Row],[列7]],INDIRECT(\"__レジメンマスタ\"),2,FALSE),\"\")","v":""},"",{"$f":"IFERROR(VLOOKUP(__疾患別コードレジメン名[[#This Row],[列8]],INDIRECT(\"__レジメンマスタ\"),2,FALSE),\"\")","v":""},"",{"$f":"IFERROR(VLOOKUP(__疾患別コードレジメン名[[#This Row],[列9]],INDIRECT(\"__レジメンマスタ\"),2,FALSE),\"\")","v":""},"",{"$f":"IFERROR(VLOOKUP(__疾患別コードレジメン名[[#This Row],[列10]],INDIRECT(\"__レジメンマスタ\"),2,FALSE),\"\")","v":""},"",{"$f":"IFERROR(VLOOKUP(__疾患別コードレジメン名[[#This Row],[列11]],INDIRECT(\"__レジメンマスタ\"),2,FALSE),\"\")","v":""},"",{"$f":"IFERROR(VLOOKUP(__疾患別コードレジメン名[[#This Row],[列12]],INDIRECT(\"__レジメンマスタ\"),2,FALSE),\"\")","v":""},"",{"$f":"IFERROR(VLOOKUP(__疾患別コードレジメン名[[#This Row],[列13]],INDIRECT(\"__レジメンマスタ\"),2,FALSE),\"\")","v":""}]
["HEM0102-01",{"$f":"IFERROR(VLOOKUP(__疾患別コードレジメン名[[#This Row],[列1]],INDIRECT(\"__レジメンマスタ\"),2,FALSE),\"\")","v":"JALSG　T-ALL213-O寛解導入"},"",{"$f":"IFERROR(VLOOKUP(__疾患別コードレジメン名[[#This Row],[列2]],INDIRECT(\"__レジメンマスタ\"),2,FALSE),\"\")","v":""},"SUR0148",{"$f":"IFERROR(VLOOKUP(__疾患別コードレジメン名[[#This Row],[列3]],INDIRECT(\"__レジメンマスタ\"),2,FALSE),\"\")","v":"FOLFOX+ゾルベツキシマブ"},"",{"$f":"IFERROR(VLOOKUP(__疾患別コードレジメン名[[#This Row],[列4]],INDIRECT(\"__レジメンマスタ\"),2,FALSE),\"\")","v":""},"",{"$f":"IFERROR(VLOOKUP(__疾患別コードレジメン名[[#This Row],[列5]],INDIRECT(\"__レジメンマスタ\"),2,FALSE),\"\")","v":""},"",{"$f":"IFERROR(VLOOKUP(__疾患別コードレジメン名[[#This Row],[列6]],INDIRECT(\"__レジメンマスタ\"),2,FALSE),\"\")","v":""},"",{"$f":"IFERROR(VLOOKUP(__疾患別コードレジメン名[[#This Row],[列7]],INDIRECT(\"__レジメンマスタ\"),2,FALSE),\"\")","v":""},"",{"$f":"IFERROR(VLOOKUP(__疾患別コードレジメン名[[#This Row],[列8]],INDIRECT(\"__レジメンマスタ\"),2,FALSE),\"\")","v":""},"",{"$f":"IFERROR(VLOOKUP(__疾患別コードレジメン名[[#This Row],[列9]],INDIRECT(\"__レジメンマスタ\"),2,FALSE),\"\")","v":""},"",{"$f":"IFERROR(VLOOKUP(__疾患別コードレジメン名[[#This Row],[列10]],INDIRECT(\"__レジメンマスタ\"),2,FALSE),\"\")","v":""},"",{"$f":"IFERROR(VLOOKUP(__疾患別コードレジメン名[[#This Row],[列11]],INDIRECT(\"__レジメンマスタ\"),2,FALSE),\"\")","v":""},"",{"$f":"IFERROR(VLOOKUP(__疾患別コードレジメン名[[#This Row],[列12]],INDIRECT(\"__レジメンマスタ\"),2,FALSE),\"\")","v":""},"",{"$f":"IFERROR(VLOOKUP(__疾患別コードレジメン名[[#This Row],[列13]],INDIRECT(\"__レジメンマスタ\"),2,FALSE),\"\")","v":""}]
["HEM0102-02",{"$f":"IFERROR(VLOOKUP(__疾患別コードレジメン名[[#This Row],[列1]],INDIRECT(\"__レジメンマスタ\"),2,FALSE),\"\")","v":"JALSG　T-ALL213-O寛解導入②"},"",{"$f":"IFERROR(VLOOKUP(__疾患別コードレジメン名[[#This Row],[列2]],INDIRECT(\"__レジメンマスタ\"),2,FALSE),\"\")","v":""},"SUR0149-01",{"$f":"IFERROR(VLOOKUP(__疾患別コードレジメン名[[#This Row],[列3]],INDIRECT(\"__レジメンマスタ\"),2,FALSE),\"\")","v":"オプジーボ・ヤーボイ"},"",{"$f":"IFERROR(VLOOKUP(__疾患別コードレジメン名[[#This Row],[列4]],INDIRECT(\"__レジメンマスタ\"),2,FALSE),\"\")","v":""},"",{"$f":"IFERROR(VLOOKUP(__疾患別コードレジメン名[[#This Row],[列5]],INDIRECT(\"__レジメンマスタ\"),2,FALSE),\"\")","v":""},"",{"$f":"IFERROR(VLOOKUP(__疾患別コードレジメン名[[#This Row],[列6]],INDIRECT(\"__レジメンマスタ\"),2,FALSE),\"\")","v":""},"",{"$f":"IFERROR(VLOOKUP(__疾患別コードレジメン名[[#This Row],[列7]],INDIRECT(\"__レジメンマスタ\"),2,FALSE),\"\")","v":""},"",{"$f":"IFERROR(VLOOKUP(__疾患別コードレジメン名[[#This Row],[列8]],INDIRECT(\"__レジメンマスタ\"),2,FALSE),\"\")","v":""},"",{"$f":"IFERROR(VLOOKUP(__疾患別コードレジメン名[[#This Row],[列9]],INDIRECT(\"__レジメンマスタ\"),2,FALSE),\"\")","v":""},"",{"$f":"IFERROR(VLOOKUP(__疾患別コードレジメン名[[#This Row],[列10]],INDIRECT(\"__レジメンマスタ\"),2,FALSE),\"\")","v":""},"",{"$f":"IFERROR(VLOOKUP(__疾患別コードレジメン名[[#This Row],[列11]],INDIRECT(\"__レジメンマスタ\"),2,FALSE),\"\")","v":""},"",{"$f":"IFERROR(VLOOKUP(__疾患別コードレジメン名[[#This Row],[列12]],INDIRECT(\"__レジメンマスタ\"),2,FALSE),\"\")","v":""},"",{"$f":"IFERROR(VLOOKUP(__疾患別コードレジメン名[[#This Row],[列13]],INDIRECT(\"__レジメンマスタ\"),2,FALSE),\"\")","v":""}]
["HEM0102-03",{"$f":"IFERROR(VLOOKUP(__疾患別コードレジメン名[[#This Row],[列1]],INDIRECT(\"__レジメンマスタ\"),2,FALSE),\"\")","v":"JALSG　T-ALL213-O地固め療法C1"},"",{"$f":"IFERROR(VLOOKUP(__疾患別コードレジメン名[[#This Row],[列2]],INDIRECT(\"__レジメンマスタ\"),2,FALSE),\"\")","v":""},"SUR0149-02",{"$f":"IFERROR(VLOOKUP(__疾患別コードレジメン名[[#This Row],[列3]],INDIRECT(\"__レジメンマスタ\"),2,FALSE),\"\")","v":"オプジーボ・ヤーボイ（維持療法）"},"",{"$f":"IFERROR(VLOOKUP(__疾患別コードレジメン名[[#This Row],[列4]],INDIRECT(\"__レジメンマスタ\"),2,FALSE),\"\")","v":""},"",{"$f":"IFERROR(VLOOKUP(__疾患別コードレジメン名[[#This Row],[列5]],INDIRECT(\"__レジメンマスタ\"),2,FALSE),\"\")","v":""},"",{"$f":"IFERROR(VLOOKUP(__疾患別コードレジメン名[[#This Row],[列6]],INDIRECT(\"__レジメンマスタ\"),2,FALSE),\"\")","v":""},"",{"$f":"IFERROR(VLOOKUP(__疾患別コードレジメン名[[#This Row],[列7]],INDIRECT(\"__レジメンマスタ\"),2,FALSE),\"\")","v":""},"",{"$f":"IFERROR(VLOOKUP(__疾患別コードレジメン名[[#This Row],[列8]],INDIRECT(\"__レジメンマスタ\"),2,FALSE),\"\")","v":""},"",{"$f":"IFERROR(VLOOKUP(__疾患別コードレジメン名[[#This Row],[列9]],INDIRECT(\"__レジメンマスタ\"),2,FALSE),\"\")","v":""},"",{"$f":"IFERROR(VLOOKUP(__疾患別コードレジメン名[[#This Row],[列10]],INDIRECT(\"__レジメンマスタ\"),2,FALSE),\"\")","v":""},"",{"$f":"IFERROR(VLOOKUP(__疾患別コードレジメン名[[#This Row],[列11]],INDIRECT(\"__レジメンマスタ\"),2,FALSE),\"\")","v":""},"",{"$f":"IFERROR(VLOOKUP(__疾患別コードレジメン名[[#This Row],[列12]],INDIRECT(\"__レジメンマスタ\"),2,FALSE),\"\")","v":""},"",{"$f":"IFERROR(VLOOKUP(__疾患別コードレジメン名[[#This Row],[列13]],INDIRECT(\"__レジメンマスタ\"),2,FALSE),\"\")","v":""}]
["HEM0102-04",{"$f":"IFERROR(VLOOKUP(__疾患別コードレジメン名[[#This Row],[列1]],INDIRECT(\"__レジメンマスタ\"),2,FALSE),\"\")","v":"JALSG　T-ALL213-O地固め療法C2"},"",{"$f":"IFERROR(VLOOKUP(__疾患別コードレジメン名[[#This Row],[列2]],INDIRECT(\"__レジメンマスタ\"),2,FALSE),\"\")","v":""},"SUR0149-03",{"$f":"IFERROR(VLOOKUP(__疾患別コードレジメン名[[#This Row],[列3]],INDIRECT(\"__レジメンマスタ\"),2,FALSE),\"\")","v":"オプジーボ・ヤーボイ（維持療法、４週間毎）"},"",{"$f":"IFERROR(VLOOKUP(__疾患別コードレジメン名[[#This Row],[列4]],INDIRECT(\"__レジメンマスタ\"),2,FALSE),\"\")","v":""},"",{"$f":"IFERROR(VLOOKUP(__疾患別コードレジメン名[[#This Row],[列5]],INDIRECT(\"__レジメンマスタ\"),2,FALSE),\"\")","v":""},"",{"$f":"IFERROR(VLOOKUP(__疾患別コードレジメン名[[#This Row],[列6]],INDIRECT(\"__レジメンマスタ\"),2,FALSE),\"\")","v":""},"",{"$f":"IFERROR(VLOOKUP(__疾患別コードレジメン名[[#This Row],[列7]],INDIRECT(\"__レジメンマスタ\"),2,FALSE),\"\")","v":""},"",{"$f":"IFERROR(VLOOKUP(__疾患別コードレジメン名[[#This Row],[列8]],INDIRECT(\"__レジメンマスタ\"),2,FALSE),\"\")","v":""},"",{"$f":"IFERROR(VLOOKUP(__疾患別コードレジメン名[[#This Row],[列9]],INDIRECT(\"__レジメンマスタ\"),2,FALSE),\"\")","v":""},"",{"$f":"IFERROR(VLOOKUP(__疾患別コードレジメン名[[#This Row],[列10]],INDIRECT(\"__レジメンマスタ\"),2,FALSE),\"\")","v":""},"",{"$f":"IFERROR(VLOOKUP(__疾患別コードレジメン名[[#This Row],[列11]],INDIRECT(\"__レジメンマスタ\"),2,FALSE),\"\")","v":""},"",{"$f":"IFERROR(VLOOKUP(__疾患別コードレジメン名[[#This Row],[列12]],INDIRECT(\"__レジメンマスタ\"),2,FALSE),\"\")","v":""},"",{"$f":"IFERROR(VLOOKUP(__疾患別コードレジメン名[[#This Row],[列13]],INDIRECT(\"__レジメンマスタ\"),2,FALSE),\"\")","v":""}]
["HEM0103",{"$f":"IFERROR(VLOOKUP(__疾患別コードレジメン名[[#This Row],[列1]],INDIRECT(\"__レジメンマスタ\"),2,FALSE),\"\")","v":"A+AVD"},"",{"$f":"IFERROR(VLOOKUP(__疾患別コードレジメン名[[#This Row],[列2]],INDIRECT(\"__レジメンマスタ\"),2,FALSE),\"\")","v":""},{"$f":"IF(IFERROR(INDIRECT(\"__疾患別コード[@消化管]\"),0)=0,\"\",INDIRECT(\"__疾患別コード[@消化管]\"))","v":"SUR0150"},{"$f":"IFERROR(VLOOKUP(__疾患別コードレジメン名[[#This Row],[列3]],INDIRECT(\"__レジメンマスタ\"),2,FALSE),\"\")","v":"CapeOX＋トラスツズマブ＋ペムブロリズマブ"},"",{"$f":"IFERROR(VLOOKUP(__疾患別コードレジメン名[[#This Row],[列4]],INDIRECT(\"__レジメンマスタ\"),2,FALSE),\"\")","v":""},"",{"$f":"IFERROR(VLOOKUP(__疾患別コードレジメン名[[#This Row],[列5]],INDIRECT(\"__レジメンマスタ\"),2,FALSE),\"\")","v":""},"",{"$f":"IFERROR(VLOOKUP(__疾患別コードレジメン名[[#This Row],[列6]],INDIRECT(\"__レジメンマスタ\"),2,FALSE),\"\")","v":""},"",{"$f":"IFERROR(VLOOKUP(__疾患別コードレジメン名[[#This Row],[列7]],INDIRECT(\"__レジメンマスタ\"),2,FALSE),\"\")","v":""},"",{"$f":"IFERROR(VLOOKUP(__疾患別コードレジメン名[[#This Row],[列8]],INDIRECT(\"__レジメンマスタ\"),2,FALSE),\"\")","v":""},"",{"$f":"IFERROR(VLOOKUP(__疾患別コードレジメン名[[#This Row],[列9]],INDIRECT(\"__レジメンマスタ\"),2,FALSE),\"\")","v":""},"",{"$f":"IFERROR(VLOOKUP(__疾患別コードレジメン名[[#This Row],[列10]],INDIRECT(\"__レジメンマスタ\"),2,FALSE),\"\")","v":""},"",{"$f":"IFERROR(VLOOKUP(__疾患別コードレジメン名[[#This Row],[列11]],INDIRECT(\"__レジメンマスタ\"),2,FALSE),\"\")","v":""},"",{"$f":"IFERROR(VLOOKUP(__疾患別コードレジメン名[[#This Row],[列12]],INDIRECT(\"__レジメンマスタ\"),2,FALSE),\"\")","v":""},"",{"$f":"IFERROR(VLOOKUP(__疾患別コードレジメン名[[#This Row],[列13]],INDIRECT(\"__レジメンマスタ\"),2,FALSE),\"\")","v":""}]
["HEM0104-1",{"$f":"IFERROR(VLOOKUP(__疾患別コードレジメン名[[#This Row],[列1]],INDIRECT(\"__レジメンマスタ\"),2,FALSE),\"\")","v":"Kd（週1回）"},"",{"$f":"IFERROR(VLOOKUP(__疾患別コードレジメン名[[#This Row],[列2]],INDIRECT(\"__レジメンマスタ\"),2,FALSE),\"\")","v":""},{"$f":"IF(IFERROR(INDIRECT(\"__疾患別コード[@消化管]\"),0)=0,\"\",INDIRECT(\"__疾患別コード[@消化管]\"))","v":"SUR0151"},{"$f":"IFERROR(VLOOKUP(__疾患別コードレジメン名[[#This Row],[列3]],INDIRECT(\"__レジメンマスタ\"),2,FALSE),\"\")","v":"SOX＋トラスツズマブ＋ペムブロリズマブ"},"",{"$f":"IFERROR(VLOOKUP(__疾患別コードレジメン名[[#This Row],[列4]],INDIRECT(\"__レジメンマスタ\"),2,FALSE),\"\")","v":""},"",{"$f":"IFERROR(VLOOKUP(__疾患別コードレジメン名[[#This Row],[列5]],INDIRECT(\"__レジメンマスタ\"),2,FALSE),\"\")","v":""},"",{"$f":"IFERROR(VLOOKUP(__疾患別コードレジメン名[[#This Row],[列6]],INDIRECT(\"__レジメンマスタ\"),2,FALSE),\"\")","v":""},"",{"$f":"IFERROR(VLOOKUP(__疾患別コードレジメン名[[#This Row],[列7]],INDIRECT(\"__レジメンマスタ\"),2,FALSE),\"\")","v":""},"",{"$f":"IFERROR(VLOOKUP(__疾患別コードレジメン名[[#This Row],[列8]],INDIRECT(\"__レジメンマスタ\"),2,FALSE),\"\")","v":""},"",{"$f":"IFERROR(VLOOKUP(__疾患別コードレジメン名[[#This Row],[列9]],INDIRECT(\"__レジメンマスタ\"),2,FALSE),\"\")","v":""},"",{"$f":"IFERROR(VLOOKUP(__疾患別コードレジメン名[[#This Row],[列10]],INDIRECT(\"__レジメンマスタ\"),2,FALSE),\"\")","v":""},"",{"$f":"IFERROR(VLOOKUP(__疾患別コードレジメン名[[#This Row],[列11]],INDIRECT(\"__レジメンマスタ\"),2,FALSE),\"\")","v":""},"",{"$f":"IFERROR(VLOOKUP(__疾患別コードレジメン名[[#This Row],[列12]],INDIRECT(\"__レジメンマスタ\"),2,FALSE),\"\")","v":""},"",{"$f":"IFERROR(VLOOKUP(__疾患別コードレジメン名[[#This Row],[列13]],INDIRECT(\"__レジメンマスタ\"),2,FALSE),\"\")","v":""}]
[{"$f":"IF(IFERROR(INDIRECT(\"__疾患別コード[@造血器]\"),0)=0,\"\",INDIRECT(\"__疾患別コード[@造血器]\"))","v":"HEM0105"},{"$f":"IFERROR(VLOOKUP(__疾患別コードレジメン名[[#This Row],[列1]],INDIRECT(\"__レジメンマスタ\"),2,FALSE),\"\")","v":"Special C"},{"$f":"IF(IFERROR(INDIRECT(\"__疾患別コード[@肺]\"),0)=0,\"\",INDIRECT(\"__疾患別コード[@肺]\"))","v":""},{"$f":"IFERROR(VLOOKUP(__疾患別コードレジメン名[[#This Row],[列2]],INDIRECT(\"__レジメンマスタ\"),2,FALSE),\"\")","v":""},{"$f":"IF(IFERROR(INDIRECT(\"__疾患別コード[@消化管]\"),0)=0,\"\",INDIRECT(\"__疾患別コード[@消化管]\"))","v":""},{"$f":"IFERROR(VLOOKUP(__疾患別コードレジメン名[[#This Row],[列3]],INDIRECT(\"__レジメンマスタ\"),2,FALSE),\"\")","v":""},"",{"$f":"IFERROR(VLOOKUP(__疾患別コードレジメン名[[#This Row],[列4]],INDIRECT(\"__レジメンマスタ\"),2,FALSE),\"\")","v":""},"",{"$f":"IFERROR(VLOOKUP(__疾患別コードレジメン名[[#This Row],[列5]],INDIRECT(\"__レジメンマスタ\"),2,FALSE),\"\")","v":""},"",{"$f":"IFERROR(VLOOKUP(__疾患別コードレジメン名[[#This Row],[列6]],INDIRECT(\"__レジメンマスタ\"),2,FALSE),\"\")","v":""},"",{"$f":"IFERROR(VLOOKUP(__疾患別コードレジメン名[[#This Row],[列7]],INDIRECT(\"__レジメンマスタ\"),2,FALSE),\"\")","v":""},{"$f":"IF(IFERROR(INDIRECT(\"__疾患別コード[@脳]\"),0)=0,\"\",INDIRECT(\"__疾患別コード[@脳]\"))","v":""},{"$f":"IFERROR(VLOOKUP(__疾患別コードレジメン名[[#This Row],[列8]],INDIRECT(\"__レジメンマスタ\"),2,FALSE),\"\")","v":""},"",{"$f":"IFERROR(VLOOKUP(__疾患別コードレジメン名[[#This Row],[列9]],INDIRECT(\"__レジメンマスタ\"),2,FALSE),\"\")","v":""},"",{"$f":"IFERROR(VLOOKUP(__疾患別コードレジメン名[[#This Row],[列10]],INDIRECT(\"__レジメンマスタ\"),2,FALSE),\"\")","v":""},"",{"$f":"IFERROR(VLOOKUP(__疾患別コードレジメン名[[#This Row],[列11]],INDIRECT(\"__レジメンマスタ\"),2,FALSE),\"\")","v":""},{"$f":"IF(IFERROR(INDIRECT(\"__疾患別コード[@間質性肺炎]\"),0)=0,\"\",INDIRECT(\"__疾患別コード[@間質性肺炎]\"))","v":""},{"$f":"IFERROR(VLOOKUP(__疾患別コードレジメン名[[#This Row],[列12]],INDIRECT(\"__レジメンマスタ\"),2,FALSE),\"\")","v":""},"",{"$f":"IFERROR(VLOOKUP(__疾患別コードレジメン名[[#This Row],[列13]],INDIRECT(\"__レジメンマスタ\"),2,FALSE),\"\")","v":""}]
["HEM0106",{"$f":"IFERROR(VLOOKUP(__疾患別コードレジメン名[[#This Row],[列1]],INDIRECT(\"__レジメンマスタ\"),2,FALSE),\"\")","v":"R2（リツキシマブ＋レブラミド）"},"",{"$f":"IFERROR(VLOOKUP(__疾患別コードレジメン名[[#This Row],[列2]],INDIRECT(\"__レジメンマスタ\"),2,FALSE),\"\")","v":""},{"$f":"IF(IFERROR(INDIRECT(\"__疾患別コード[@消化管]\"),0)=0,\"\",INDIRECT(\"__疾患別コード[@消化管]\"))","v":""},{"$f":"IFERROR(VLOOKUP(__疾患別コードレジメン名[[#This Row],[列3]],INDIRECT(\"__レジメンマスタ\"),2,FALSE),\"\")","v":""},{"$f":"IF(IFERROR(INDIRECT(\"__疾患別コード[@乳腺]\"),0)=0,\"\",INDIRECT(\"__疾患別コード[@乳腺]\"))","v":""},{"$f":"IFERROR(VLOOKUP(__疾患別コードレジメン名[[#This Row],[列4]],INDIRECT(\"__レジメンマスタ\"),2,FALSE),\"\")","v":""},{"$f":"IF(IFERROR(INDIRECT(\"__疾患別コード[@婦人科]\"),0)=0,\"\",INDIRECT(\"__疾患別コード[@婦人科]\"))","v":""},{"$f":"IFERROR(VLOOKUP(__疾患別コードレジメン名[[#This Row],[列5]],INDIRECT(\"__レジメンマスタ\"),2,FALSE),\"\")","v":""},{"$f":"IF(IFERROR(INDIRECT(\"__疾患別コード[@泌尿器]\"),0)=0,\"\",INDIRECT(\"__疾患別コード[@泌尿器]\"))","v":""},{"$f":"IFERROR(VLOOKUP(__疾患別コードレジメン名[[#This Row],[列6]],INDIRECT(\"__レジメンマスタ\"),2,FALSE),\"\")","v":""},{"$f":"IF(IFERROR(INDIRECT(\"__疾患別コード[@頭頚部]\"),0)=0,\"\",INDIRECT(\"__疾患別コード[@頭頚部]\"))","v":""},{"$f":"IFERROR(VLOOKUP(__疾患別コードレジメン名[[#This Row],[列7]],INDIRECT(\"__レジメンマスタ\"),2,FALSE),\"\")","v":""},"",{"$f":"IFERROR(VLOOKUP(__疾患別コードレジメン名[[#This Row],[列8]],INDIRECT(\"__レジメンマスタ\"),2,FALSE),\"\")","v":""},{"$f":"IF(IFERROR(INDIRECT(\"__疾患別コード[@臓器横断]\"),0)=0,\"\",INDIRECT(\"__疾患別コード[@臓器横断]\"))","v":""},{"$f":"IFERROR(VLOOKUP(__疾患別コードレジメン名[[#This Row],[列9]],INDIRECT(\"__レジメンマスタ\"),2,FALSE),\"\")","v":""},{"$f":"IF(IFERROR(INDIRECT(\"__疾患別コード[@悪性黒色腫]\"),0)=0,\"\",INDIRECT(\"__疾患別コード[@悪性黒色腫]\"))","v":""},{"$f":"IFERROR(VLOOKUP(__疾患別コードレジメン名[[#This Row],[列10]],INDIRECT(\"__レジメンマスタ\"),2,FALSE),\"\")","v":""},"",{"$f":"IFERROR(VLOOKUP(__疾患別コードレジメン名[[#This Row],[列11]],INDIRECT(\"__レジメンマスタ\"),2,FALSE),\"\")","v":""},"",{"$f":"IFERROR(VLOOKUP(__疾患別コードレジメン名[[#This Row],[列12]],INDIRECT(\"__レジメンマスタ\"),2,FALSE),\"\")","v":""},{"$f":"IF(IFERROR(INDIRECT(\"__疾患別コード[@リウマチ腎臓内科]\"),0)=0,\"\",INDIRECT(\"__疾患別コード[@リウマチ腎臓内科]\"))","v":""},{"$f":"IFERROR(VLOOKUP(__疾患別コードレジメン名[[#This Row],[列13]],INDIRECT(\"__レジメンマスタ\"),2,FALSE),\"\")","v":""}]
["HEM0107-01",{"$f":"IFERROR(VLOOKUP(__疾患別コードレジメン名[[#This Row],[列1]],INDIRECT(\"__レジメンマスタ\"),2,FALSE),\"\")","v":"DMPB（点滴）"},"",{"$f":"IFERROR(VLOOKUP(__疾患別コードレジメン名[[#This Row],[列2]],INDIRECT(\"__レジメンマスタ\"),2,FALSE),\"\")","v":""},"",{"$f":"IFERROR(VLOOKUP(__疾患別コードレジメン名[[#This Row],[列3]],INDIRECT(\"__レジメンマスタ\"),2,FALSE),\"\")","v":""},"",{"$f":"IFERROR(VLOOKUP(__疾患別コードレジメン名[[#This Row],[列4]],INDIRECT(\"__レジメンマスタ\"),2,FALSE),\"\")","v":""},"",{"$f":"IFERROR(VLOOKUP(__疾患別コードレジメン名[[#This Row],[列5]],INDIRECT(\"__レジメンマスタ\"),2,FALSE),\"\")","v":""},"",{"$f":"IFERROR(VLOOKUP(__疾患別コードレジメン名[[#This Row],[列6]],INDIRECT(\"__レジメンマスタ\"),2,FALSE),\"\")","v":""},"",{"$f":"IFERROR(VLOOKUP(__疾患別コードレジメン名[[#This Row],[列7]],INDIRECT(\"__レジメンマスタ\"),2,FALSE),\"\")","v":""},"",{"$f":"IFERROR(VLOOKUP(__疾患別コードレジメン名[[#This Row],[列8]],INDIRECT(\"__レジメンマスタ\"),2,FALSE),\"\")","v":""},"",{"$f":"IFERROR(VLOOKUP(__疾患別コードレジメン名[[#This Row],[列9]],INDIRECT(\"__レジメンマスタ\"),2,FALSE),\"\")","v":""},"",{"$f":"IFERROR(VLOOKUP(__疾患別コードレジメン名[[#This Row],[列10]],INDIRECT(\"__レジメンマスタ\"),2,FALSE),\"\")","v":""},{"$f":"IF(IFERROR(INDIRECT(\"__疾患別コード[@口腔癌]\"),0)=0,\"\",INDIRECT(\"__疾患別コード[@口腔癌]\"))","v":""},{"$f":"IFERROR(VLOOKUP(__疾患別コードレジメン名[[#This Row],[列11]],INDIRECT(\"__レジメンマスタ\"),2,FALSE),\"\")","v":""},"",{"$f":"IFERROR(VLOOKUP(__疾患別コードレジメン名[[#This Row],[列12]],INDIRECT(\"__レジメンマスタ\"),2,FALSE),\"\")","v":""},"",{"$f":"IFERROR(VLOOKUP(__疾患別コードレジメン名[[#This Row],[列13]],INDIRECT(\"__レジメンマスタ\"),2,FALSE),\"\")","v":""}]
["HEM0107-11",{"$f":"IFERROR(VLOOKUP(__疾患別コードレジメン名[[#This Row],[列1]],INDIRECT(\"__レジメンマスタ\"),2,FALSE),\"\")","v":"DMPB（皮下）"},"",{"$f":"IFERROR(VLOOKUP(__疾患別コードレジメン名[[#This Row],[列2]],INDIRECT(\"__レジメンマスタ\"),2,FALSE),\"\")","v":""},"",{"$f":"IFERROR(VLOOKUP(__疾患別コードレジメン名[[#This Row],[列3]],INDIRECT(\"__レジメンマスタ\"),2,FALSE),\"\")","v":""},"",{"$f":"IFERROR(VLOOKUP(__疾患別コードレジメン名[[#This Row],[列4]],INDIRECT(\"__レジメンマスタ\"),2,FALSE),\"\")","v":""},"",{"$f":"IFERROR(VLOOKUP(__疾患別コードレジメン名[[#This Row],[列5]],INDIRECT(\"__レジメンマスタ\"),2,FALSE),\"\")","v":""},"",{"$f":"IFERROR(VLOOKUP(__疾患別コードレジメン名[[#This Row],[列6]],INDIRECT(\"__レジメンマスタ\"),2,FALSE),\"\")","v":""},"",{"$f":"IFERROR(VLOOKUP(__疾患別コードレジメン名[[#This Row],[列7]],INDIRECT(\"__レジメンマスタ\"),2,FALSE),\"\")","v":""},"",{"$f":"IFERROR(VLOOKUP(__疾患別コードレジメン名[[#This Row],[列8]],INDIRECT(\"__レジメンマスタ\"),2,FALSE),\"\")","v":""},"",{"$f":"IFERROR(VLOOKUP(__疾患別コードレジメン名[[#This Row],[列9]],INDIRECT(\"__レジメンマスタ\"),2,FALSE),\"\")","v":""},"",{"$f":"IFERROR(VLOOKUP(__疾患別コードレジメン名[[#This Row],[列10]],INDIRECT(\"__レジメンマスタ\"),2,FALSE),\"\")","v":""},"",{"$f":"IFERROR(VLOOKUP(__疾患別コードレジメン名[[#This Row],[列11]],INDIRECT(\"__レジメンマスタ\"),2,FALSE),\"\")","v":""},"",{"$f":"IFERROR(VLOOKUP(__疾患別コードレジメン名[[#This Row],[列12]],INDIRECT(\"__レジメンマスタ\"),2,FALSE),\"\")","v":""},"",{"$f":"IFERROR(VLOOKUP(__疾患別コードレジメン名[[#This Row],[列13]],INDIRECT(\"__レジメンマスタ\"),2,FALSE),\"\")","v":""}]
["HEM0108",{"$f":"IFERROR(VLOOKUP(__疾患別コードレジメン名[[#This Row],[列1]],INDIRECT(\"__レジメンマスタ\"),2,FALSE),\"\")","v":"EPd"},"",{"$f":"IFERROR(VLOOKUP(__疾患別コードレジメン名[[#This Row],[列2]],INDIRECT(\"__レジメンマスタ\"),2,FALSE),\"\")","v":""},"",{"$f":"IFERROR(VLOOKUP(__疾患別コードレジメン名[[#This Row],[列3]],INDIRECT(\"__レジメンマスタ\"),2,FALSE),\"\")","v":""},"",{"$f":"IFERROR(VLOOKUP(__疾患別コードレジメン名[[#This Row],[列4]],INDIRECT(\"__レジメンマスタ\"),2,FALSE),\"\")","v":""},"",{"$f":"IFERROR(VLOOKUP(__疾患別コードレジメン名[[#This Row],[列5]],INDIRECT(\"__レジメンマスタ\"),2,FALSE),\"\")","v":""},"",{"$f":"IFERROR(VLOOKUP(__疾患別コードレジメン名[[#This Row],[列6]],INDIRECT(\"__レジメンマスタ\"),2,FALSE),\"\")","v":""},"",{"$f":"IFERROR(VLOOKUP(__疾患別コードレジメン名[[#This Row],[列7]],INDIRECT(\"__レジメンマスタ\"),2,FALSE),\"\")","v":""},"",{"$f":"IFERROR(VLOOKUP(__疾患別コードレジメン名[[#This Row],[列8]],INDIRECT(\"__レジメンマスタ\"),2,FALSE),\"\")","v":""},"",{"$f":"IFERROR(VLOOKUP(__疾患別コードレジメン名[[#This Row],[列9]],INDIRECT(\"__レジメンマスタ\"),2,FALSE),\"\")","v":""},"",{"$f":"IFERROR(VLOOKUP(__疾患別コードレジメン名[[#This Row],[列10]],INDIRECT(\"__レジメンマスタ\"),2,FALSE),\"\")","v":""},"",{"$f":"IFERROR(VLOOKUP(__疾患別コードレジメン名[[#This Row],[列11]],INDIRECT(\"__レジメンマスタ\"),2,FALSE),\"\")","v":""},"",{"$f":"IFERROR(VLOOKUP(__疾患別コードレジメン名[[#This Row],[列12]],INDIRECT(\"__レジメンマスタ\"),2,FALSE),\"\")","v":""},"",{"$f":"IFERROR(VLOOKUP(__疾患別コードレジメン名[[#This Row],[列13]],INDIRECT(\"__レジメンマスタ\"),2,FALSE),\"\")","v":""}]
["HEM0109",{"$f":"IFERROR(VLOOKUP(__疾患別コードレジメン名[[#This Row],[列1]],INDIRECT(\"__レジメンマスタ\"),2,FALSE),\"\")","v":"CEOP"},"",{"$f":"IFERROR(VLOOKUP(__疾患別コードレジメン名[[#This Row],[列2]],INDIRECT(\"__レジメンマスタ\"),2,FALSE),\"\")","v":""},"内服単剤S1：A法",{"$f":"IFERROR(VLOOKUP(__疾患別コードレジメン名[[#This Row],[列3]],INDIRECT(\"__レジメンマスタ\"),2,FALSE),\"\")","v":"S1：A法"},"",{"$f":"IFERROR(VLOOKUP(__疾患別コードレジメン名[[#This Row],[列4]],INDIRECT(\"__レジメンマスタ\"),2,FALSE),\"\")","v":""},"",{"$f":"IFERROR(VLOOKUP(__疾患別コードレジメン名[[#This Row],[列5]],INDIRECT(\"__レジメンマスタ\"),2,FALSE),\"\")","v":""},"",{"$f":"IFERROR(VLOOKUP(__疾患別コードレジメン名[[#This Row],[列6]],INDIRECT(\"__レジメンマスタ\"),2,FALSE),\"\")","v":""},"",{"$f":"IFERROR(VLOOKUP(__疾患別コードレジメン名[[#This Row],[列7]],INDIRECT(\"__レジメンマスタ\"),2,FALSE),\"\")","v":""},"",{"$f":"IFERROR(VLOOKUP(__疾患別コードレジメン名[[#This Row],[列8]],INDIRECT(\"__レジメンマスタ\"),2,FALSE),\"\")","v":""},"",{"$f":"IFERROR(VLOOKUP(__疾患別コードレジメン名[[#This Row],[列9]],INDIRECT(\"__レジメンマスタ\"),2,FALSE),\"\")","v":""},"",{"$f":"IFERROR(VLOOKUP(__疾患別コードレジメン名[[#This Row],[列10]],INDIRECT(\"__レジメンマスタ\"),2,FALSE),\"\")","v":""},"",{"$f":"IFERROR(VLOOKUP(__疾患別コードレジメン名[[#This Row],[列11]],INDIRECT(\"__レジメンマスタ\"),2,FALSE),\"\")","v":""},"",{"$f":"IFERROR(VLOOKUP(__疾患別コードレジメン名[[#This Row],[列12]],INDIRECT(\"__レジメンマスタ\"),2,FALSE),\"\")","v":""},"",{"$f":"IFERROR(VLOOKUP(__疾患別コードレジメン名[[#This Row],[列13]],INDIRECT(\"__レジメンマスタ\"),2,FALSE),\"\")","v":""}]
["HEM0110",{"$f":"IFERROR(VLOOKUP(__疾患別コードレジメン名[[#This Row],[列1]],INDIRECT(\"__レジメンマスタ\"),2,FALSE),\"\")","v":"GCVP+R"},"",{"$f":"IFERROR(VLOOKUP(__疾患別コードレジメン名[[#This Row],[列2]],INDIRECT(\"__レジメンマスタ\"),2,FALSE),\"\")","v":""},"内服単剤S1：B法",{"$f":"IFERROR(VLOOKUP(__疾患別コードレジメン名[[#This Row],[列3]],INDIRECT(\"__レジメンマスタ\"),2,FALSE),\"\")","v":"S1：B法"},"",{"$f":"IFERROR(VLOOKUP(__疾患別コードレジメン名[[#This Row],[列4]],INDIRECT(\"__レジメンマスタ\"),2,FALSE),\"\")","v":""},"",{"$f":"IFERROR(VLOOKUP(__疾患別コードレジメン名[[#This Row],[列5]],INDIRECT(\"__レジメンマスタ\"),2,FALSE),\"\")","v":""},"",{"$f":"IFERROR(VLOOKUP(__疾患別コードレジメン名[[#This Row],[列6]],INDIRECT(\"__レジメンマスタ\"),2,FALSE),\"\")","v":""},"",{"$f":"IFERROR(VLOOKUP(__疾患別コードレジメン名[[#This Row],[列7]],INDIRECT(\"__レジメンマスタ\"),2,FALSE),\"\")","v":""},"",{"$f":"IFERROR(VLOOKUP(__疾患別コードレジメン名[[#This Row],[列8]],INDIRECT(\"__レジメンマスタ\"),2,FALSE),\"\")","v":""},"",{"$f":"IFERROR(VLOOKUP(__疾患別コードレジメン名[[#This Row],[列9]],INDIRECT(\"__レジメンマスタ\"),2,FALSE),\"\")","v":""},"",{"$f":"IFERROR(VLOOKUP(__疾患別コードレジメン名[[#This Row],[列10]],INDIRECT(\"__レジメンマスタ\"),2,FALSE),\"\")","v":""},"",{"$f":"IFERROR(VLOOKUP(__疾患別コードレジメン名[[#This Row],[列11]],INDIRECT(\"__レジメンマスタ\"),2,FALSE),\"\")","v":""},"",{"$f":"IFERROR(VLOOKUP(__疾患別コードレジメン名[[#This Row],[列12]],INDIRECT(\"__レジメンマスタ\"),2,FALSE),\"\")","v":""},"",{"$f":"IFERROR(VLOOKUP(__疾患別コードレジメン名[[#This Row],[列13]],INDIRECT(\"__レジメンマスタ\"),2,FALSE),\"\")","v":""}]
["HEM0111-1",{"$f":"IFERROR(VLOOKUP(__疾患別コードレジメン名[[#This Row],[列1]],INDIRECT(\"__レジメンマスタ\"),2,FALSE),\"\")","v":"R-MPV療法"},"",{"$f":"IFERROR(VLOOKUP(__疾患別コードレジメン名[[#This Row],[列2]],INDIRECT(\"__レジメンマスタ\"),2,FALSE),\"\")","v":""},"内服単剤S1：C法",{"$f":"IFERROR(VLOOKUP(__疾患別コードレジメン名[[#This Row],[列3]],INDIRECT(\"__レジメンマスタ\"),2,FALSE),\"\")","v":"S1：C法"},"",{"$f":"IFERROR(VLOOKUP(__疾患別コードレジメン名[[#This Row],[列4]],INDIRECT(\"__レジメンマスタ\"),2,FALSE),\"\")","v":""},"",{"$f":"IFERROR(VLOOKUP(__疾患別コードレジメン名[[#This Row],[列5]],INDIRECT(\"__レジメンマスタ\"),2,FALSE),\"\")","v":""},"",{"$f":"IFERROR(VLOOKUP(__疾患別コードレジメン名[[#This Row],[列6]],INDIRECT(\"__レジメンマスタ\"),2,FALSE),\"\")","v":""},"",{"$f":"IFERROR(VLOOKUP(__疾患別コードレジメン名[[#This Row],[列7]],INDIRECT(\"__レジメンマスタ\"),2,FALSE),\"\")","v":""},"",{"$f":"IFERROR(VLOOKUP(__疾患別コードレジメン名[[#This Row],[列8]],INDIRECT(\"__レジメンマスタ\"),2,FALSE),\"\")","v":""},"",{"$f":"IFERROR(VLOOKUP(__疾患別コードレジメン名[[#This Row],[列9]],INDIRECT(\"__レジメンマスタ\"),2,FALSE),\"\")","v":""},"",{"$f":"IFERROR(VLOOKUP(__疾患別コードレジメン名[[#This Row],[列10]],INDIRECT(\"__レジメンマスタ\"),2,FALSE),\"\")","v":""},"",{"$f":"IFERROR(VLOOKUP(__疾患別コードレジメン名[[#This Row],[列11]],INDIRECT(\"__レジメンマスタ\"),2,FALSE),\"\")","v":""},"",{"$f":"IFERROR(VLOOKUP(__疾患別コードレジメン名[[#This Row],[列12]],INDIRECT(\"__レジメンマスタ\"),2,FALSE),\"\")","v":""},"",{"$f":"IFERROR(VLOOKUP(__疾患別コードレジメン名[[#This Row],[列13]],INDIRECT(\"__レジメンマスタ\"),2,FALSE),\"\")","v":""}]
["HEM0111-2",{"$f":"IFERROR(VLOOKUP(__疾患別コードレジメン名[[#This Row],[列1]],INDIRECT(\"__レジメンマスタ\"),2,FALSE),\"\")","v":"大量AraC療法"},"",{"$f":"IFERROR(VLOOKUP(__疾患別コードレジメン名[[#This Row],[列2]],INDIRECT(\"__レジメンマスタ\"),2,FALSE),\"\")","v":""},"内服単剤S1：D法",{"$f":"IFERROR(VLOOKUP(__疾患別コードレジメン名[[#This Row],[列3]],INDIRECT(\"__レジメンマスタ\"),2,FALSE),\"\")","v":"S1：D法"},"",{"$f":"IFERROR(VLOOKUP(__疾患別コードレジメン名[[#This Row],[列4]],INDIRECT(\"__レジメンマスタ\"),2,FALSE),\"\")","v":""},"",{"$f":"IFERROR(VLOOKUP(__疾患別コードレジメン名[[#This Row],[列5]],INDIRECT(\"__レジメンマスタ\"),2,FALSE),\"\")","v":""},"",{"$f":"IFERROR(VLOOKUP(__疾患別コードレジメン名[[#This Row],[列6]],INDIRECT(\"__レジメンマスタ\"),2,FALSE),\"\")","v":""},"",{"$f":"IFERROR(VLOOKUP(__疾患別コードレジメン名[[#This Row],[列7]],INDIRECT(\"__レジメンマスタ\"),2,FALSE),\"\")","v":""},"",{"$f":"IFERROR(VLOOKUP(__疾患別コードレジメン名[[#This Row],[列8]],INDIRECT(\"__レジメンマスタ\"),2,FALSE),\"\")","v":""},"",{"$f":"IFERROR(VLOOKUP(__疾患別コードレジメン名[[#This Row],[列9]],INDIRECT(\"__レジメンマスタ\"),2,FALSE),\"\")","v":""},"",{"$f":"IFERROR(VLOOKUP(__疾患別コードレジメン名[[#This Row],[列10]],INDIRECT(\"__レジメンマスタ\"),2,FALSE),\"\")","v":""},"",{"$f":"IFERROR(VLOOKUP(__疾患別コードレジメン名[[#This Row],[列11]],INDIRECT(\"__レジメンマスタ\"),2,FALSE),\"\")","v":""},"",{"$f":"IFERROR(VLOOKUP(__疾患別コードレジメン名[[#This Row],[列12]],INDIRECT(\"__レジメンマスタ\"),2,FALSE),\"\")","v":""},"",{"$f":"IFERROR(VLOOKUP(__疾患別コードレジメン名[[#This Row],[列13]],INDIRECT(\"__レジメンマスタ\"),2,FALSE),\"\")","v":""}]
["HEM0112-01",{"$f":"IFERROR(VLOOKUP(__疾患別コードレジメン名[[#This Row],[列1]],INDIRECT(\"__レジメンマスタ\"),2,FALSE),\"\")","v":"JALSG　Ph(+)ALL208寛解導入"},"",{"$f":"IFERROR(VLOOKUP(__疾患別コードレジメン名[[#This Row],[列2]],INDIRECT(\"__レジメンマスタ\"),2,FALSE),\"\")","v":""},"内服単剤S1：E法",{"$f":"IFERROR(VLOOKUP(__疾患別コードレジメン名[[#This Row],[列3]],INDIRECT(\"__レジメンマスタ\"),2,FALSE),\"\")","v":"S1：E法"},"",{"$f":"IFERROR(VLOOKUP(__疾患別コードレジメン名[[#This Row],[列4]],INDIRECT(\"__レジメンマスタ\"),2,FALSE),\"\")","v":""},"",{"$f":"IFERROR(VLOOKUP(__疾患別コードレジメン名[[#This Row],[列5]],INDIRECT(\"__レジメンマスタ\"),2,FALSE),\"\")","v":""},"",{"$f":"IFERROR(VLOOKUP(__疾患別コードレジメン名[[#This Row],[列6]],INDIRECT(\"__レジメンマスタ\"),2,FALSE),\"\")","v":""},"",{"$f":"IFERROR(VLOOKUP(__疾患別コードレジメン名[[#This Row],[列7]],INDIRECT(\"__レジメンマスタ\"),2,FALSE),\"\")","v":""},"",{"$f":"IFERROR(VLOOKUP(__疾患別コードレジメン名[[#This Row],[列8]],INDIRECT(\"__レジメンマスタ\"),2,FALSE),\"\")","v":""},"",{"$f":"IFERROR(VLOOKUP(__疾患別コードレジメン名[[#This Row],[列9]],INDIRECT(\"__レジメンマスタ\"),2,FALSE),\"\")","v":""},"",{"$f":"IFERROR(VLOOKUP(__疾患別コードレジメン名[[#This Row],[列10]],INDIRECT(\"__レジメンマスタ\"),2,FALSE),\"\")","v":""},"",{"$f":"IFERROR(VLOOKUP(__疾患別コードレジメン名[[#This Row],[列11]],INDIRECT(\"__レジメンマスタ\"),2,FALSE),\"\")","v":""},"",{"$f":"IFERROR(VLOOKUP(__疾患別コードレジメン名[[#This Row],[列12]],INDIRECT(\"__レジメンマスタ\"),2,FALSE),\"\")","v":""},"",{"$f":"IFERROR(VLOOKUP(__疾患別コードレジメン名[[#This Row],[列13]],INDIRECT(\"__レジメンマスタ\"),2,FALSE),\"\")","v":""}]
["HEM0112-04",{"$f":"IFERROR(VLOOKUP(__疾患別コードレジメン名[[#This Row],[列1]],INDIRECT(\"__レジメンマスタ\"),2,FALSE),\"\")","v":"JALSG　Ph(+)ALL208維持療法"},"",{"$f":"IFERROR(VLOOKUP(__疾患別コードレジメン名[[#This Row],[列2]],INDIRECT(\"__レジメンマスタ\"),2,FALSE),\"\")","v":""},"内服単剤S1：F法",{"$f":"IFERROR(VLOOKUP(__疾患別コードレジメン名[[#This Row],[列3]],INDIRECT(\"__レジメンマスタ\"),2,FALSE),\"\")","v":"S1：F法"},"",{"$f":"IFERROR(VLOOKUP(__疾患別コードレジメン名[[#This Row],[列4]],INDIRECT(\"__レジメンマスタ\"),2,FALSE),\"\")","v":""},"",{"$f":"IFERROR(VLOOKUP(__疾患別コードレジメン名[[#This Row],[列5]],INDIRECT(\"__レジメンマスタ\"),2,FALSE),\"\")","v":""},"",{"$f":"IFERROR(VLOOKUP(__疾患別コードレジメン名[[#This Row],[列6]],INDIRECT(\"__レジメンマスタ\"),2,FALSE),\"\")","v":""},"",{"$f":"IFERROR(VLOOKUP(__疾患別コードレジメン名[[#This Row],[列7]],INDIRECT(\"__レジメンマスタ\"),2,FALSE),\"\")","v":""},"",{"$f":"IFERROR(VLOOKUP(__疾患別コードレジメン名[[#This Row],[列8]],INDIRECT(\"__レジメンマスタ\"),2,FALSE),\"\")","v":""},"",{"$f":"IFERROR(VLOOKUP(__疾患別コードレジメン名[[#This Row],[列9]],INDIRECT(\"__レジメンマスタ\"),2,FALSE),\"\")","v":""},"",{"$f":"IFERROR(VLOOKUP(__疾患別コードレジメン名[[#This Row],[列10]],INDIRECT(\"__レジメンマスタ\"),2,FALSE),\"\")","v":""},"",{"$f":"IFERROR(VLOOKUP(__疾患別コードレジメン名[[#This Row],[列11]],INDIRECT(\"__レジメンマスタ\"),2,FALSE),\"\")","v":""},"",{"$f":"IFERROR(VLOOKUP(__疾患別コードレジメン名[[#This Row],[列12]],INDIRECT(\"__レジメンマスタ\"),2,FALSE),\"\")","v":""},"",{"$f":"IFERROR(VLOOKUP(__疾患別コードレジメン名[[#This Row],[列13]],INDIRECT(\"__レジメンマスタ\"),2,FALSE),\"\")","v":""}]
["HEM0112-21",{"$f":"IFERROR(VLOOKUP(__疾患別コードレジメン名[[#This Row],[列1]],INDIRECT(\"__レジメンマスタ\"),2,FALSE),\"\")","v":"JALSG　Ph(+)ALL208地固めC2"},"",{"$f":"IFERROR(VLOOKUP(__疾患別コードレジメン名[[#This Row],[列2]],INDIRECT(\"__レジメンマスタ\"),2,FALSE),\"\")","v":""},"内服Cape：B法",{"$f":"IFERROR(VLOOKUP(__疾患別コードレジメン名[[#This Row],[列3]],INDIRECT(\"__レジメンマスタ\"),2,FALSE),\"\")","v":"カペシタビン：B法"},"",{"$f":"IFERROR(VLOOKUP(__疾患別コードレジメン名[[#This Row],[列4]],INDIRECT(\"__レジメンマスタ\"),2,FALSE),\"\")","v":""},"",{"$f":"IFERROR(VLOOKUP(__疾患別コードレジメン名[[#This Row],[列5]],INDIRECT(\"__レジメンマスタ\"),2,FALSE),\"\")","v":""},"",{"$f":"IFERROR(VLOOKUP(__疾患別コードレジメン名[[#This Row],[列6]],INDIRECT(\"__レジメンマスタ\"),2,FALSE),\"\")","v":""},"",{"$f":"IFERROR(VLOOKUP(__疾患別コードレジメン名[[#This Row],[列7]],INDIRECT(\"__レジメンマスタ\"),2,FALSE),\"\")","v":""},"",{"$f":"IFERROR(VLOOKUP(__疾患別コードレジメン名[[#This Row],[列8]],INDIRECT(\"__レジメンマスタ\"),2,FALSE),\"\")","v":""},"",{"$f":"IFERROR(VLOOKUP(__疾患別コードレジメン名[[#This Row],[列9]],INDIRECT(\"__レジメンマスタ\"),2,FALSE),\"\")","v":""},"",{"$f":"IFERROR(VLOOKUP(__疾患別コードレジメン名[[#This Row],[列10]],INDIRECT(\"__レジメンマスタ\"),2,FALSE),\"\")","v":""},"",{"$f":"IFERROR(VLOOKUP(__疾患別コードレジメン名[[#This Row],[列11]],INDIRECT(\"__レジメンマスタ\"),2,FALSE),\"\")","v":""},"",{"$f":"IFERROR(VLOOKUP(__疾患別コードレジメン名[[#This Row],[列12]],INDIRECT(\"__レジメンマスタ\"),2,FALSE),\"\")","v":""},"",{"$f":"IFERROR(VLOOKUP(__疾患別コードレジメン名[[#This Row],[列13]],INDIRECT(\"__レジメンマスタ\"),2,FALSE),\"\")","v":""}]
["HEM0113-11",{"$f":"IFERROR(VLOOKUP(__疾患別コードレジメン名[[#This Row],[列1]],INDIRECT(\"__レジメンマスタ\"),2,FALSE),\"\")","v":"DKd（点滴：75歳以下）"},"",{"$f":"IFERROR(VLOOKUP(__疾患別コードレジメン名[[#This Row],[列2]],INDIRECT(\"__レジメンマスタ\"),2,FALSE),\"\")","v":""},"内服Cape：D法",{"$f":"IFERROR(VLOOKUP(__疾患別コードレジメン名[[#This Row],[列3]],INDIRECT(\"__レジメンマスタ\"),2,FALSE),\"\")","v":"カペシタビン：D法"},"",{"$f":"IFERROR(VLOOKUP(__疾患別コードレジメン名[[#This Row],[列4]],INDIRECT(\"__レジメンマスタ\"),2,FALSE),\"\")","v":""},"",{"$f":"IFERROR(VLOOKUP(__疾患別コードレジメン名[[#This Row],[列5]],INDIRECT(\"__レジメンマスタ\"),2,FALSE),\"\")","v":""},"",{"$f":"IFERROR(VLOOKUP(__疾患別コードレジメン名[[#This Row],[列6]],INDIRECT(\"__レジメンマスタ\"),2,FALSE),\"\")","v":""},"",{"$f":"IFERROR(VLOOKUP(__疾患別コードレジメン名[[#This Row],[列7]],INDIRECT(\"__レジメンマスタ\"),2,FALSE),\"\")","v":""},"",{"$f":"IFERROR(VLOOKUP(__疾患別コードレジメン名[[#This Row],[列8]],INDIRECT(\"__レジメンマスタ\"),2,FALSE),\"\")","v":""},"",{"$f":"IFERROR(VLOOKUP(__疾患別コードレジメン名[[#This Row],[列9]],INDIRECT(\"__レジメンマスタ\"),2,FALSE),\"\")","v":""},"",{"$f":"IFERROR(VLOOKUP(__疾患別コードレジメン名[[#This Row],[列10]],INDIRECT(\"__レジメンマスタ\"),2,FALSE),\"\")","v":""},"",{"$f":"IFERROR(VLOOKUP(__疾患別コードレジメン名[[#This Row],[列11]],INDIRECT(\"__レジメンマスタ\"),2,FALSE),\"\")","v":""},"",{"$f":"IFERROR(VLOOKUP(__疾患別コードレジメン名[[#This Row],[列12]],INDIRECT(\"__レジメンマスタ\"),2,FALSE),\"\")","v":""},"",{"$f":"IFERROR(VLOOKUP(__疾患別コードレジメン名[[#This Row],[列13]],INDIRECT(\"__レジメンマスタ\"),2,FALSE),\"\")","v":""}]
["HEM0113-21",{"$f":"IFERROR(VLOOKUP(__疾患別コードレジメン名[[#This Row],[列1]],INDIRECT(\"__レジメンマスタ\"),2,FALSE),\"\")","v":"DKd（点滴：76歳以上）"},"",{"$f":"IFERROR(VLOOKUP(__疾患別コードレジメン名[[#This Row],[列2]],INDIRECT(\"__レジメンマスタ\"),2,FALSE),\"\")","v":""},"内服Cape：E法",{"$f":"IFERROR(VLOOKUP(__疾患別コードレジメン名[[#This Row],[列3]],INDIRECT(\"__レジメンマスタ\"),2,FALSE),\"\")","v":"カペシタビン：E法"},"",{"$f":"IFERROR(VLOOKUP(__疾患別コードレジメン名[[#This Row],[列4]],INDIRECT(\"__レジメンマスタ\"),2,FALSE),\"\")","v":""},"",{"$f":"IFERROR(VLOOKUP(__疾患別コードレジメン名[[#This Row],[列5]],INDIRECT(\"__レジメンマスタ\"),2,FALSE),\"\")","v":""},"",{"$f":"IFERROR(VLOOKUP(__疾患別コードレジメン名[[#This Row],[列6]],INDIRECT(\"__レジメンマスタ\"),2,FALSE),\"\")","v":""},"",{"$f":"IFERROR(VLOOKUP(__疾患別コードレジメン名[[#This Row],[列7]],INDIRECT(\"__レジメンマスタ\"),2,FALSE),\"\")","v":""},"",{"$f":"IFERROR(VLOOKUP(__疾患別コードレジメン名[[#This Row],[列8]],INDIRECT(\"__レジメンマスタ\"),2,FALSE),\"\")","v":""},"",{"$f":"IFERROR(VLOOKUP(__疾患別コードレジメン名[[#This Row],[列9]],INDIRECT(\"__レジメンマスタ\"),2,FALSE),\"\")","v":""},"",{"$f":"IFERROR(VLOOKUP(__疾患別コードレジメン名[[#This Row],[列10]],INDIRECT(\"__レジメンマスタ\"),2,FALSE),\"\")","v":""},"",{"$f":"IFERROR(VLOOKUP(__疾患別コードレジメン名[[#This Row],[列11]],INDIRECT(\"__レジメンマスタ\"),2,FALSE),\"\")","v":""},"",{"$f":"IFERROR(VLOOKUP(__疾患別コードレジメン名[[#This Row],[列12]],INDIRECT(\"__レジメンマスタ\"),2,FALSE),\"\")","v":""},"",{"$f":"IFERROR(VLOOKUP(__疾患別コードレジメン名[[#This Row],[列13]],INDIRECT(\"__レジメンマスタ\"),2,FALSE),\"\")","v":""}]
["HEM0113-31",{"$f":"IFERROR(VLOOKUP(__疾患別コードレジメン名[[#This Row],[列1]],INDIRECT(\"__レジメンマスタ\"),2,FALSE),\"\")","v":"DKd（皮下：75歳以下）"},"",{"$f":"IFERROR(VLOOKUP(__疾患別コードレジメン名[[#This Row],[列2]],INDIRECT(\"__レジメンマスタ\"),2,FALSE),\"\")","v":""},"ロンサーフ単剤",{"$f":"IFERROR(VLOOKUP(__疾患別コードレジメン名[[#This Row],[列3]],INDIRECT(\"__レジメンマスタ\"),2,FALSE),\"\")","v":"ロンサーフ単剤"},"",{"$f":"IFERROR(VLOOKUP(__疾患別コードレジメン名[[#This Row],[列4]],INDIRECT(\"__レジメンマスタ\"),2,FALSE),\"\")","v":""},"",{"$f":"IFERROR(VLOOKUP(__疾患別コードレジメン名[[#This Row],[列5]],INDIRECT(\"__レジメンマスタ\"),2,FALSE),\"\")","v":""},"",{"$f":"IFERROR(VLOOKUP(__疾患別コードレジメン名[[#This Row],[列6]],INDIRECT(\"__レジメンマスタ\"),2,FALSE),\"\")","v":""},"",{"$f":"IFERROR(VLOOKUP(__疾患別コードレジメン名[[#This Row],[列7]],INDIRECT(\"__レジメンマスタ\"),2,FALSE),\"\")","v":""},"",{"$f":"IFERROR(VLOOKUP(__疾患別コードレジメン名[[#This Row],[列8]],INDIRECT(\"__レジメンマスタ\"),2,FALSE),\"\")","v":""},"",{"$f":"IFERROR(VLOOKUP(__疾患別コードレジメン名[[#This Row],[列9]],INDIRECT(\"__レジメンマスタ\"),2,FALSE),\"\")","v":""},"",{"$f":"IFERROR(VLOOKUP(__疾患別コードレジメン名[[#This Row],[列10]],INDIRECT(\"__レジメンマスタ\"),2,FALSE),\"\")","v":""},"",{"$f":"IFERROR(VLOOKUP(__疾患別コードレジメン名[[#This Row],[列11]],INDIRECT(\"__レジメンマスタ\"),2,FALSE),\"\")","v":""},"",{"$f":"IFERROR(VLOOKUP(__疾患別コードレジメン名[[#This Row],[列12]],INDIRECT(\"__レジメンマスタ\"),2,FALSE),\"\")","v":""},"",{"$f":"IFERROR(VLOOKUP(__疾患別コードレジメン名[[#This Row],[列13]],INDIRECT(\"__レジメンマスタ\"),2,FALSE),\"\")","v":""}]
["HEM0113-41",{"$f":"IFERROR(VLOOKUP(__疾患別コードレジメン名[[#This Row],[列1]],INDIRECT(\"__レジメンマスタ\"),2,FALSE),\"\")","v":"DKd（皮下：76歳以上）"},"",{"$f":"IFERROR(VLOOKUP(__疾患別コードレジメン名[[#This Row],[列2]],INDIRECT(\"__レジメンマスタ\"),2,FALSE),\"\")","v":""},"スチバーガ",{"$f":"IFERROR(VLOOKUP(__疾患別コードレジメン名[[#This Row],[列3]],INDIRECT(\"__レジメンマスタ\"),2,FALSE),\"\")","v":"スチバーガ"},"",{"$f":"IFERROR(VLOOKUP(__疾患別コードレジメン名[[#This Row],[列4]],INDIRECT(\"__レジメンマスタ\"),2,FALSE),\"\")","v":""},"",{"$f":"IFERROR(VLOOKUP(__疾患別コードレジメン名[[#This Row],[列5]],INDIRECT(\"__レジメンマスタ\"),2,FALSE),\"\")","v":""},"",{"$f":"IFERROR(VLOOKUP(__疾患別コードレジメン名[[#This Row],[列6]],INDIRECT(\"__レジメンマスタ\"),2,FALSE),\"\")","v":""},"",{"$f":"IFERROR(VLOOKUP(__疾患別コードレジメン名[[#This Row],[列7]],INDIRECT(\"__レジメンマスタ\"),2,FALSE),\"\")","v":""},"",{"$f":"IFERROR(VLOOKUP(__疾患別コードレジメン名[[#This Row],[列8]],INDIRECT(\"__レジメンマスタ\"),2,FALSE),\"\")","v":""},"",{"$f":"IFERROR(VLOOKUP(__疾患別コードレジメン名[[#This Row],[列9]],INDIRECT(\"__レジメンマスタ\"),2,FALSE),\"\")","v":""},"",{"$f":"IFERROR(VLOOKUP(__疾患別コードレジメン名[[#This Row],[列10]],INDIRECT(\"__レジメンマスタ\"),2,FALSE),\"\")","v":""},"",{"$f":"IFERROR(VLOOKUP(__疾患別コードレジメン名[[#This Row],[列11]],INDIRECT(\"__レジメンマスタ\"),2,FALSE),\"\")","v":""},"",{"$f":"IFERROR(VLOOKUP(__疾患別コードレジメン名[[#This Row],[列12]],INDIRECT(\"__レジメンマスタ\"),2,FALSE),\"\")","v":""},"",{"$f":"IFERROR(VLOOKUP(__疾患別コードレジメン名[[#This Row],[列13]],INDIRECT(\"__レジメンマスタ\"),2,FALSE),\"\")","v":""}]
["HEM0114",{"$f":"IFERROR(VLOOKUP(__疾患別コードレジメン名[[#This Row],[列1]],INDIRECT(\"__レジメンマスタ\"),2,FALSE),\"\")","v":"RB（B:120mg/㎡）"},"",{"$f":"IFERROR(VLOOKUP(__疾患別コードレジメン名[[#This Row],[列2]],INDIRECT(\"__レジメンマスタ\"),2,FALSE),\"\")","v":""},{"$f":"IF(IFERROR(INDIRECT(\"__疾患別コード[@消化管]\"),0)=0,\"\",INDIRECT(\"__疾患別コード[@消化管]\"))","v":"フリュザクラ"},{"$f":"IFERROR(VLOOKUP(__疾患別コードレジメン名[[#This Row],[列3]],INDIRECT(\"__レジメンマスタ\"),2,FALSE),\"\")","v":"フリュザクラ"},"",{"$f":"IFERROR(VLOOKUP(__疾患別コードレジメン名[[#This Row],[列4]],INDIRECT(\"__レジメンマスタ\"),2,FALSE),\"\")","v":""},"",{"$f":"IFERROR(VLOOKUP(__疾患別コードレジメン名[[#This Row],[列5]],INDIRECT(\"__レジメンマスタ\"),2,FALSE),\"\")","v":""},"",{"$f":"IFERROR(VLOOKUP(__疾患別コードレジメン名[[#This Row],[列6]],INDIRECT(\"__レジメンマスタ\"),2,FALSE),\"\")","v":""},"",{"$f":"IFERROR(VLOOKUP(__疾患別コードレジメン名[[#This Row],[列7]],INDIRECT(\"__レジメンマスタ\"),2,FALSE),\"\")","v":""},"",{"$f":"IFERROR(VLOOKUP(__疾患別コードレジメン名[[#This Row],[列8]],INDIRECT(\"__レジメンマスタ\"),2,FALSE),\"\")","v":""},"",{"$f":"IFERROR(VLOOKUP(__疾患別コードレジメン名[[#This Row],[列9]],INDIRECT(\"__レジメンマスタ\"),2,FALSE),\"\")","v":""},"",{"$f":"IFERROR(VLOOKUP(__疾患別コードレジメン名[[#This Row],[列10]],INDIRECT(\"__レジメンマスタ\"),2,FALSE),\"\")","v":""},"",{"$f":"IFERROR(VLOOKUP(__疾患別コードレジメン名[[#This Row],[列11]],INDIRECT(\"__レジメンマスタ\"),2,FALSE),\"\")","v":""},"",{"$f":"IFERROR(VLOOKUP(__疾患別コードレジメン名[[#This Row],[列12]],INDIRECT(\"__レジメンマスタ\"),2,FALSE),\"\")","v":""},"",{"$f":"IFERROR(VLOOKUP(__疾患別コードレジメン名[[#This Row],[列13]],INDIRECT(\"__レジメンマスタ\"),2,FALSE),\"\")","v":""}]
["HEM0115",{"$f":"IFERROR(VLOOKUP(__疾患別コードレジメン名[[#This Row],[列1]],INDIRECT(\"__レジメンマスタ\"),2,FALSE),\"\")","v":"pola-BR"},"",{"$f":"IFERROR(VLOOKUP(__疾患別コードレジメン名[[#This Row],[列2]],INDIRECT(\"__レジメンマスタ\"),2,FALSE),\"\")","v":""},{"$f":"IF(IFERROR(INDIRECT(\"__疾患別コード[@消化管]\"),0)=0,\"\",INDIRECT(\"__疾患別コード[@消化管]\"))","v":"UFT(ﾃｶﾞﾌｰﾙｳﾗｼﾙ)"},{"$f":"IFERROR(VLOOKUP(__疾患別コードレジメン名[[#This Row],[列3]],INDIRECT(\"__レジメンマスタ\"),2,FALSE),\"\")","v":"テガフール・ウラシル療法"},"",{"$f":"IFERROR(VLOOKUP(__疾患別コードレジメン名[[#This Row],[列4]],INDIRECT(\"__レジメンマスタ\"),2,FALSE),\"\")","v":""},"",{"$f":"IFERROR(VLOOKUP(__疾患別コードレジメン名[[#This Row],[列5]],INDIRECT(\"__レジメンマスタ\"),2,FALSE),\"\")","v":""},"",{"$f":"IFERROR(VLOOKUP(__疾患別コードレジメン名[[#This Row],[列6]],INDIRECT(\"__レジメンマスタ\"),2,FALSE),\"\")","v":""},"",{"$f":"IFERROR(VLOOKUP(__疾患別コードレジメン名[[#This Row],[列7]],INDIRECT(\"__レジメンマスタ\"),2,FALSE),\"\")","v":""},"",{"$f":"IFERROR(VLOOKUP(__疾患別コードレジメン名[[#This Row],[列8]],INDIRECT(\"__レジメンマスタ\"),2,FALSE),\"\")","v":""},"",{"$f":"IFERROR(VLOOKUP(__疾患別コードレジメン名[[#This Row],[列9]],INDIRECT(\"__レジメンマスタ\"),2,FALSE),\"\")","v":""},"",{"$f":"IFERROR(VLOOKUP(__疾患別コードレジメン名[[#This Row],[列10]],INDIRECT(\"__レジメンマスタ\"),2,FALSE),\"\")","v":""},"",{"$f":"IFERROR(VLOOKUP(__疾患別コードレジメン名[[#This Row],[列11]],INDIRECT(\"__レジメンマスタ\"),2,FALSE),\"\")","v":""},"",{"$f":"IFERROR(VLOOKUP(__疾患別コードレジメン名[[#This Row],[列12]],INDIRECT(\"__レジメンマスタ\"),2,FALSE),\"\")","v":""},"",{"$f":"IFERROR(VLOOKUP(__疾患別コードレジメン名[[#This Row],[列13]],INDIRECT(\"__レジメンマスタ\"),2,FALSE),\"\")","v":""}]
["HEM0116",{"$f":"IFERROR(VLOOKUP(__疾患別コードレジメン名[[#This Row],[列1]],INDIRECT(\"__レジメンマスタ\"),2,FALSE),\"\")","v":"DCyBorD(Cy内服)"},"",{"$f":"IFERROR(VLOOKUP(__疾患別コードレジメン名[[#This Row],[列2]],INDIRECT(\"__レジメンマスタ\"),2,FALSE),\"\")","v":""},"UFT(ﾎﾘﾅｰﾄﾃｶﾞﾌｰﾙｳﾗｼﾙ)",{"$f":"IFERROR(VLOOKUP(__疾患別コードレジメン名[[#This Row],[列3]],INDIRECT(\"__レジメンマスタ\"),2,FALSE),\"\")","v":"ホリナート・テガフール・ウラシル療法"},"",{"$f":"IFERROR(VLOOKUP(__疾患別コードレジメン名[[#This Row],[列4]],INDIRECT(\"__レジメンマスタ\"),2,FALSE),\"\")","v":""},"",{"$f":"IFERROR(VLOOKUP(__疾患別コードレジメン名[[#This Row],[列5]],INDIRECT(\"__レジメンマスタ\"),2,FALSE),\"\")","v":""},"",{"$f":"IFERROR(VLOOKUP(__疾患別コードレジメン名[[#This Row],[列6]],INDIRECT(\"__レジメンマスタ\"),2,FALSE),\"\")","v":""},"",{"$f":"IFERROR(VLOOKUP(__疾患別コードレジメン名[[#This Row],[列7]],INDIRECT(\"__レジメンマスタ\"),2,FALSE),\"\")","v":""},"",{"$f":"IFERROR(VLOOKUP(__疾患別コードレジメン名[[#This Row],[列8]],INDIRECT(\"__レジメンマスタ\"),2,FALSE),\"\")","v":""},"",{"$f":"IFERROR(VLOOKUP(__疾患別コードレジメン名[[#This Row],[列9]],INDIRECT(\"__レジメンマスタ\"),2,FALSE),\"\")","v":""},"",{"$f":"IFERROR(VLOOKUP(__疾患別コードレジメン名[[#This Row],[列10]],INDIRECT(\"__レジメンマスタ\"),2,FALSE),\"\")","v":""},"",{"$f":"IFERROR(VLOOKUP(__疾患別コードレジメン名[[#This Row],[列11]],INDIRECT(\"__レジメンマスタ\"),2,FALSE),\"\")","v":""},"",{"$f":"IFERROR(VLOOKUP(__疾患別コードレジメン名[[#This Row],[列12]],INDIRECT(\"__レジメンマスタ\"),2,FALSE),\"\")","v":""},"",{"$f":"IFERROR(VLOOKUP(__疾患別コードレジメン名[[#This Row],[列13]],INDIRECT(\"__レジメンマスタ\"),2,FALSE),\"\")","v":""}]
["HEM0116-21",{"$f":"IFERROR(VLOOKUP(__疾患別コードレジメン名[[#This Row],[列1]],INDIRECT(\"__レジメンマスタ\"),2,FALSE),\"\")","v":"DCyBorD(Cy点滴)"},"",{"$f":"IFERROR(VLOOKUP(__疾患別コードレジメン名[[#This Row],[列2]],INDIRECT(\"__レジメンマスタ\"),2,FALSE),\"\")","v":""},"スーテント(GIST,腎細胞癌)",{"$f":"IFERROR(VLOOKUP(__疾患別コードレジメン名[[#This Row],[列3]],INDIRECT(\"__レジメンマスタ\"),2,FALSE),\"\")","v":"スーテント(GIST,腎細胞癌)"},"",{"$f":"IFERROR(VLOOKUP(__疾患別コードレジメン名[[#This Row],[列4]],INDIRECT(\"__レジメンマスタ\"),2,FALSE),\"\")","v":""},"",{"$f":"IFERROR(VLOOKUP(__疾患別コードレジメン名[[#This Row],[列5]],INDIRECT(\"__レジメンマスタ\"),2,FALSE),\"\")","v":""},"",{"$f":"IFERROR(VLOOKUP(__疾患別コードレジメン名[[#This Row],[列6]],INDIRECT(\"__レジメンマスタ\"),2,FALSE),\"\")","v":""},"",{"$f":"IFERROR(VLOOKUP(__疾患別コードレジメン名[[#This Row],[列7]],INDIRECT(\"__レジメンマスタ\"),2,FALSE),\"\")","v":""},"",{"$f":"IFERROR(VLOOKUP(__疾患別コードレジメン名[[#This Row],[列8]],INDIRECT(\"__レジメンマスタ\"),2,FALSE),\"\")","v":""},"",{"$f":"IFERROR(VLOOKUP(__疾患別コードレジメン名[[#This Row],[列9]],INDIRECT(\"__レジメンマスタ\"),2,FALSE),\"\")","v":""},"",{"$f":"IFERROR(VLOOKUP(__疾患別コードレジメン名[[#This Row],[列10]],INDIRECT(\"__レジメンマスタ\"),2,FALSE),\"\")","v":""},"",{"$f":"IFERROR(VLOOKUP(__疾患別コードレジメン名[[#This Row],[列11]],INDIRECT(\"__レジメンマスタ\"),2,FALSE),\"\")","v":""},"",{"$f":"IFERROR(VLOOKUP(__疾患別コードレジメン名[[#This Row],[列12]],INDIRECT(\"__レジメンマスタ\"),2,FALSE),\"\")","v":""},"",{"$f":"IFERROR(VLOOKUP(__疾患別コードレジメン名[[#This Row],[列13]],INDIRECT(\"__レジメンマスタ\"),2,FALSE),\"\")","v":""}]
["HEM0117",{"$f":"IFERROR(VLOOKUP(__疾患別コードレジメン名[[#This Row],[列1]],INDIRECT(\"__レジメンマスタ\"),2,FALSE),\"\")","v":"【適応外】血球貪食症候群（CHOP）"},"",{"$f":"IFERROR(VLOOKUP(__疾患別コードレジメン名[[#This Row],[列2]],INDIRECT(\"__レジメンマスタ\"),2,FALSE),\"\")","v":""},"スーテント(膵神経内分泌腫瘍)",{"$f":"IFERROR(VLOOKUP(__疾患別コードレジメン名[[#This Row],[列3]],INDIRECT(\"__レジメンマスタ\"),2,FALSE),\"\")","v":"スーテント(膵神経内分泌腫瘍)"},"",{"$f":"IFERROR(VLOOKUP(__疾患別コードレジメン名[[#This Row],[列4]],INDIRECT(\"__レジメンマスタ\"),2,FALSE),\"\")","v":""},"",{"$f":"IFERROR(VLOOKUP(__疾患別コードレジメン名[[#This Row],[列5]],INDIRECT(\"__レジメンマスタ\"),2,FALSE),\"\")","v":""},"",{"$f":"IFERROR(VLOOKUP(__疾患別コードレジメン名[[#This Row],[列6]],INDIRECT(\"__レジメンマスタ\"),2,FALSE),\"\")","v":""},"",{"$f":"IFERROR(VLOOKUP(__疾患別コードレジメン名[[#This Row],[列7]],INDIRECT(\"__レジメンマスタ\"),2,FALSE),\"\")","v":""},"",{"$f":"IFERROR(VLOOKUP(__疾患別コードレジメン名[[#This Row],[列8]],INDIRECT(\"__レジメンマスタ\"),2,FALSE),\"\")","v":""},"",{"$f":"IFERROR(VLOOKUP(__疾患別コードレジメン名[[#This Row],[列9]],INDIRECT(\"__レジメンマスタ\"),2,FALSE),\"\")","v":""},"",{"$f":"IFERROR(VLOOKUP(__疾患別コードレジメン名[[#This Row],[列10]],INDIRECT(\"__レジメンマスタ\"),2,FALSE),\"\")","v":""},"",{"$f":"IFERROR(VLOOKUP(__疾患別コードレジメン名[[#This Row],[列11]],INDIRECT(\"__レジメンマスタ\"),2,FALSE),\"\")","v":""},"",{"$f":"IFERROR(VLOOKUP(__疾患別コードレジメン名[[#This Row],[列12]],INDIRECT(\"__レジメンマスタ\"),2,FALSE),\"\")","v":""},"",{"$f":"IFERROR(VLOOKUP(__疾患別コードレジメン名[[#This Row],[列13]],INDIRECT(\"__レジメンマスタ\"),2,FALSE),\"\")","v":""}]
["HEM0118",{"$f":"IFERROR(VLOOKUP(__疾患別コードレジメン名[[#This Row],[列1]],INDIRECT(\"__レジメンマスタ\"),2,FALSE),\"\")","v":"BUTT療法"},"",{"$f":"IFERROR(VLOOKUP(__疾患別コードレジメン名[[#This Row],[列2]],INDIRECT(\"__レジメンマスタ\"),2,FALSE),\"\")","v":""},"",{"$f":"IFERROR(VLOOKUP(__疾患別コードレジメン名[[#This Row],[列3]],INDIRECT(\"__レジメンマスタ\"),2,FALSE),\"\")","v":""},"",{"$f":"IFERROR(VLOOKUP(__疾患別コードレジメン名[[#This Row],[列4]],INDIRECT(\"__レジメンマスタ\"),2,FALSE),\"\")","v":""},"",{"$f":"IFERROR(VLOOKUP(__疾患別コードレジメン名[[#This Row],[列5]],INDIRECT(\"__レジメンマスタ\"),2,FALSE),\"\")","v":""},"",{"$f":"IFERROR(VLOOKUP(__疾患別コードレジメン名[[#This Row],[列6]],INDIRECT(\"__レジメンマスタ\"),2,FALSE),\"\")","v":""},"",{"$f":"IFERROR(VLOOKUP(__疾患別コードレジメン名[[#This Row],[列7]],INDIRECT(\"__レジメンマスタ\"),2,FALSE),\"\")","v":""},"",{"$f":"IFERROR(VLOOKUP(__疾患別コードレジメン名[[#This Row],[列8]],INDIRECT(\"__レジメンマスタ\"),2,FALSE),\"\")","v":""},"",{"$f":"IFERROR(VLOOKUP(__疾患別コードレジメン名[[#This Row],[列9]],INDIRECT(\"__レジメンマスタ\"),2,FALSE),\"\")","v":""},"",{"$f":"IFERROR(VLOOKUP(__疾患別コードレジメン名[[#This Row],[列10]],INDIRECT(\"__レジメンマスタ\"),2,FALSE),\"\")","v":""},"",{"$f":"IFERROR(VLOOKUP(__疾患別コードレジメン名[[#This Row],[列11]],INDIRECT(\"__レジメンマスタ\"),2,FALSE),\"\")","v":""},"",{"$f":"IFERROR(VLOOKUP(__疾患別コードレジメン名[[#This Row],[列12]],INDIRECT(\"__レジメンマスタ\"),2,FALSE),\"\")","v":""},"",{"$f":"IFERROR(VLOOKUP(__疾患別コードレジメン名[[#This Row],[列13]],INDIRECT(\"__レジメンマスタ\"),2,FALSE),\"\")","v":""}]
["HEM0119",{"$f":"IFERROR(VLOOKUP(__疾患別コードレジメン名[[#This Row],[列1]],INDIRECT(\"__レジメンマスタ\"),2,FALSE),\"\")","v":"イノツズマブ　オゾガマイシン"},"",{"$f":"IFERROR(VLOOKUP(__疾患別コードレジメン名[[#This Row],[列2]],INDIRECT(\"__レジメンマスタ\"),2,FALSE),\"\")","v":""},"",{"$f":"IFERROR(VLOOKUP(__疾患別コードレジメン名[[#This Row],[列3]],INDIRECT(\"__レジメンマスタ\"),2,FALSE),\"\")","v":""},"",{"$f":"IFERROR(VLOOKUP(__疾患別コードレジメン名[[#This Row],[列4]],INDIRECT(\"__レジメンマスタ\"),2,FALSE),\"\")","v":""},"",{"$f":"IFERROR(VLOOKUP(__疾患別コードレジメン名[[#This Row],[列5]],INDIRECT(\"__レジメンマスタ\"),2,FALSE),\"\")","v":""},"",{"$f":"IFERROR(VLOOKUP(__疾患別コードレジメン名[[#This Row],[列6]],INDIRECT(\"__レジメンマスタ\"),2,FALSE),\"\")","v":""},"",{"$f":"IFERROR(VLOOKUP(__疾患別コードレジメン名[[#This Row],[列7]],INDIRECT(\"__レジメンマスタ\"),2,FALSE),\"\")","v":""},"",{"$f":"IFERROR(VLOOKUP(__疾患別コードレジメン名[[#This Row],[列8]],INDIRECT(\"__レジメンマスタ\"),2,FALSE),\"\")","v":""},"",{"$f":"IFERROR(VLOOKUP(__疾患別コードレジメン名[[#This Row],[列9]],INDIRECT(\"__レジメンマスタ\"),2,FALSE),\"\")","v":""},"",{"$f":"IFERROR(VLOOKUP(__疾患別コードレジメン名[[#This Row],[列10]],INDIRECT(\"__レジメンマスタ\"),2,FALSE),\"\")","v":""},"",{"$f":"IFERROR(VLOOKUP(__疾患別コードレジメン名[[#This Row],[列11]],INDIRECT(\"__レジメンマスタ\"),2,FALSE),\"\")","v":""},"",{"$f":"IFERROR(VLOOKUP(__疾患別コードレジメン名[[#This Row],[列12]],INDIRECT(\"__レジメンマスタ\"),2,FALSE),\"\")","v":""},"",{"$f":"IFERROR(VLOOKUP(__疾患別コードレジメン名[[#This Row],[列13]],INDIRECT(\"__レジメンマスタ\"),2,FALSE),\"\")","v":""}]
["HEM0120-11",{"$f":"IFERROR(VLOOKUP(__疾患別コードレジメン名[[#This Row],[列1]],INDIRECT(\"__レジメンマスタ\"),2,FALSE),\"\")","v":"ブリナツモマブ (18歳以上、BW45kg以上）"},"",{"$f":"IFERROR(VLOOKUP(__疾患別コードレジメン名[[#This Row],[列2]],INDIRECT(\"__レジメンマスタ\"),2,FALSE),\"\")","v":""},"",{"$f":"IFERROR(VLOOKUP(__疾患別コードレジメン名[[#This Row],[列3]],INDIRECT(\"__レジメンマスタ\"),2,FALSE),\"\")","v":""},"",{"$f":"IFERROR(VLOOKUP(__疾患別コードレジメン名[[#This Row],[列4]],INDIRECT(\"__レジメンマスタ\"),2,FALSE),\"\")","v":""},"",{"$f":"IFERROR(VLOOKUP(__疾患別コードレジメン名[[#This Row],[列5]],INDIRECT(\"__レジメンマスタ\"),2,FALSE),\"\")","v":""},"",{"$f":"IFERROR(VLOOKUP(__疾患別コードレジメン名[[#This Row],[列6]],INDIRECT(\"__レジメンマスタ\"),2,FALSE),\"\")","v":""},"",{"$f":"IFERROR(VLOOKUP(__疾患別コードレジメン名[[#This Row],[列7]],INDIRECT(\"__レジメンマスタ\"),2,FALSE),\"\")","v":""},"",{"$f":"IFERROR(VLOOKUP(__疾患別コードレジメン名[[#This Row],[列8]],INDIRECT(\"__レジメンマスタ\"),2,FALSE),\"\")","v":""},"",{"$f":"IFERROR(VLOOKUP(__疾患別コードレジメン名[[#This Row],[列9]],INDIRECT(\"__レジメンマスタ\"),2,FALSE),\"\")","v":""},"",{"$f":"IFERROR(VLOOKUP(__疾患別コードレジメン名[[#This Row],[列10]],INDIRECT(\"__レジメンマスタ\"),2,FALSE),\"\")","v":""},"",{"$f":"IFERROR(VLOOKUP(__疾患別コードレジメン名[[#This Row],[列11]],INDIRECT(\"__レジメンマスタ\"),2,FALSE),\"\")","v":""},"",{"$f":"IFERROR(VLOOKUP(__疾患別コードレジメン名[[#This Row],[列12]],INDIRECT(\"__レジメンマスタ\"),2,FALSE),\"\")","v":""},"",{"$f":"IFERROR(VLOOKUP(__疾患別コードレジメン名[[#This Row],[列13]],INDIRECT(\"__レジメンマスタ\"),2,FALSE),\"\")","v":""}]
["HEM0120-21",{"$f":"IFERROR(VLOOKUP(__疾患別コードレジメン名[[#This Row],[列1]],INDIRECT(\"__レジメンマスタ\"),2,FALSE),\"\")","v":"ブリナツモマブ (18歳以上、BW45kg未満）"},"",{"$f":"IFERROR(VLOOKUP(__疾患別コードレジメン名[[#This Row],[列2]],INDIRECT(\"__レジメンマスタ\"),2,FALSE),\"\")","v":""},"",{"$f":"IFERROR(VLOOKUP(__疾患別コードレジメン名[[#This Row],[列3]],INDIRECT(\"__レジメンマスタ\"),2,FALSE),\"\")","v":""},"",{"$f":"IFERROR(VLOOKUP(__疾患別コードレジメン名[[#This Row],[列4]],INDIRECT(\"__レジメンマスタ\"),2,FALSE),\"\")","v":""},"",{"$f":"IFERROR(VLOOKUP(__疾患別コードレジメン名[[#This Row],[列5]],INDIRECT(\"__レジメンマスタ\"),2,FALSE),\"\")","v":""},"",{"$f":"IFERROR(VLOOKUP(__疾患別コードレジメン名[[#This Row],[列6]],INDIRECT(\"__レジメンマスタ\"),2,FALSE),\"\")","v":""},"",{"$f":"IFERROR(VLOOKUP(__疾患別コードレジメン名[[#This Row],[列7]],INDIRECT(\"__レジメンマスタ\"),2,FALSE),\"\")","v":""},"",{"$f":"IFERROR(VLOOKUP(__疾患別コードレジメン名[[#This Row],[列8]],INDIRECT(\"__レジメンマスタ\"),2,FALSE),\"\")","v":""},"",{"$f":"IFERROR(VLOOKUP(__疾患別コードレジメン名[[#This Row],[列9]],INDIRECT(\"__レジメンマスタ\"),2,FALSE),\"\")","v":""},"",{"$f":"IFERROR(VLOOKUP(__疾患別コードレジメン名[[#This Row],[列10]],INDIRECT(\"__レジメンマスタ\"),2,FALSE),\"\")","v":""},"",{"$f":"IFERROR(VLOOKUP(__疾患別コードレジメン名[[#This Row],[列11]],INDIRECT(\"__レジメンマスタ\"),2,FALSE),\"\")","v":""},"",{"$f":"IFERROR(VLOOKUP(__疾患別コードレジメン名[[#This Row],[列12]],INDIRECT(\"__レジメンマスタ\"),2,FALSE),\"\")","v":""},"",{"$f":"IFERROR(VLOOKUP(__疾患別コードレジメン名[[#This Row],[列13]],INDIRECT(\"__レジメンマスタ\"),2,FALSE),\"\")","v":""}]
["HEM0121",{"$f":"IFERROR(VLOOKUP(__疾患別コードレジメン名[[#This Row],[列1]],INDIRECT(\"__レジメンマスタ\"),2,FALSE),\"\")","v":"DPd(皮下)"},"",{"$f":"IFERROR(VLOOKUP(__疾患別コードレジメン名[[#This Row],[列2]],INDIRECT(\"__レジメンマスタ\"),2,FALSE),\"\")","v":""},"",{"$f":"IFERROR(VLOOKUP(__疾患別コードレジメン名[[#This Row],[列3]],INDIRECT(\"__レジメンマスタ\"),2,FALSE),\"\")","v":""},"",{"$f":"IFERROR(VLOOKUP(__疾患別コードレジメン名[[#This Row],[列4]],INDIRECT(\"__レジメンマスタ\"),2,FALSE),\"\")","v":""},"",{"$f":"IFERROR(VLOOKUP(__疾患別コードレジメン名[[#This Row],[列5]],INDIRECT(\"__レジメンマスタ\"),2,FALSE),\"\")","v":""},"",{"$f":"IFERROR(VLOOKUP(__疾患別コードレジメン名[[#This Row],[列6]],INDIRECT(\"__レジメンマスタ\"),2,FALSE),\"\")","v":""},"",{"$f":"IFERROR(VLOOKUP(__疾患別コードレジメン名[[#This Row],[列7]],INDIRECT(\"__レジメンマスタ\"),2,FALSE),\"\")","v":""},"",{"$f":"IFERROR(VLOOKUP(__疾患別コードレジメン名[[#This Row],[列8]],INDIRECT(\"__レジメンマスタ\"),2,FALSE),\"\")","v":""},"",{"$f":"IFERROR(VLOOKUP(__疾患別コードレジメン名[[#This Row],[列9]],INDIRECT(\"__レジメンマスタ\"),2,FALSE),\"\")","v":""},"",{"$f":"IFERROR(VLOOKUP(__疾患別コードレジメン名[[#This Row],[列10]],INDIRECT(\"__レジメンマスタ\"),2,FALSE),\"\")","v":""},"",{"$f":"IFERROR(VLOOKUP(__疾患別コードレジメン名[[#This Row],[列11]],INDIRECT(\"__レジメンマスタ\"),2,FALSE),\"\")","v":""},"",{"$f":"IFERROR(VLOOKUP(__疾患別コードレジメン名[[#This Row],[列12]],INDIRECT(\"__レジメンマスタ\"),2,FALSE),\"\")","v":""},"",{"$f":"IFERROR(VLOOKUP(__疾患別コードレジメン名[[#This Row],[列13]],INDIRECT(\"__レジメンマスタ\"),2,FALSE),\"\")","v":""}]
["HEM0122",{"$f":"IFERROR(VLOOKUP(__疾患別コードレジメン名[[#This Row],[列1]],INDIRECT(\"__レジメンマスタ\"),2,FALSE),\"\")","v":"IsaPd"},"",{"$f":"IFERROR(VLOOKUP(__疾患別コードレジメン名[[#This Row],[列2]],INDIRECT(\"__レジメンマスタ\"),2,FALSE),\"\")","v":""},"",{"$f":"IFERROR(VLOOKUP(__疾患別コードレジメン名[[#This Row],[列3]],INDIRECT(\"__レジメンマスタ\"),2,FALSE),\"\")","v":""},"",{"$f":"IFERROR(VLOOKUP(__疾患別コードレジメン名[[#This Row],[列4]],INDIRECT(\"__レジメンマスタ\"),2,FALSE),\"\")","v":""},"",{"$f":"IFERROR(VLOOKUP(__疾患別コードレジメン名[[#This Row],[列5]],INDIRECT(\"__レジメンマスタ\"),2,FALSE),\"\")","v":""},"",{"$f":"IFERROR(VLOOKUP(__疾患別コードレジメン名[[#This Row],[列6]],INDIRECT(\"__レジメンマスタ\"),2,FALSE),\"\")","v":""},"",{"$f":"IFERROR(VLOOKUP(__疾患別コードレジメン名[[#This Row],[列7]],INDIRECT(\"__レジメンマスタ\"),2,FALSE),\"\")","v":""},"",{"$f":"IFERROR(VLOOKUP(__疾患別コードレジメン名[[#This Row],[列8]],INDIRECT(\"__レジメンマスタ\"),2,FALSE),\"\")","v":""},"",{"$f":"IFERROR(VLOOKUP(__疾患別コードレジメン名[[#This Row],[列9]],INDIRECT(\"__レジメンマスタ\"),2,FALSE),\"\")","v":""},"",{"$f":"IFERROR(VLOOKUP(__疾患別コードレジメン名[[#This Row],[列10]],INDIRECT(\"__レジメンマスタ\"),2,FALSE),\"\")","v":""},"",{"$f":"IFERROR(VLOOKUP(__疾患別コードレジメン名[[#This Row],[列11]],INDIRECT(\"__レジメンマスタ\"),2,FALSE),\"\")","v":""},"",{"$f":"IFERROR(VLOOKUP(__疾患別コードレジメン名[[#This Row],[列12]],INDIRECT(\"__レジメンマスタ\"),2,FALSE),\"\")","v":""},"",{"$f":"IFERROR(VLOOKUP(__疾患別コードレジメン名[[#This Row],[列13]],INDIRECT(\"__レジメンマスタ\"),2,FALSE),\"\")","v":""}]
["HEM0123-11",{"$f":"IFERROR(VLOOKUP(__疾患別コードレジメン名[[#This Row],[列1]],INDIRECT(\"__レジメンマスタ\"),2,FALSE),\"\")","v":"IsaKd"},"",{"$f":"IFERROR(VLOOKUP(__疾患別コードレジメン名[[#This Row],[列2]],INDIRECT(\"__レジメンマスタ\"),2,FALSE),\"\")","v":""},"",{"$f":"IFERROR(VLOOKUP(__疾患別コードレジメン名[[#This Row],[列3]],INDIRECT(\"__レジメンマスタ\"),2,FALSE),\"\")","v":""},"",{"$f":"IFERROR(VLOOKUP(__疾患別コードレジメン名[[#This Row],[列4]],INDIRECT(\"__レジメンマスタ\"),2,FALSE),\"\")","v":""},"",{"$f":"IFERROR(VLOOKUP(__疾患別コードレジメン名[[#This Row],[列5]],INDIRECT(\"__レジメンマスタ\"),2,FALSE),\"\")","v":""},"",{"$f":"IFERROR(VLOOKUP(__疾患別コードレジメン名[[#This Row],[列6]],INDIRECT(\"__レジメンマスタ\"),2,FALSE),\"\")","v":""},"",{"$f":"IFERROR(VLOOKUP(__疾患別コードレジメン名[[#This Row],[列7]],INDIRECT(\"__レジメンマスタ\"),2,FALSE),\"\")","v":""},"",{"$f":"IFERROR(VLOOKUP(__疾患別コードレジメン名[[#This Row],[列8]],INDIRECT(\"__レジメンマスタ\"),2,FALSE),\"\")","v":""},"",{"$f":"IFERROR(VLOOKUP(__疾患別コードレジメン名[[#This Row],[列9]],INDIRECT(\"__レジメンマスタ\"),2,FALSE),\"\")","v":""},"",{"$f":"IFERROR(VLOOKUP(__疾患別コードレジメン名[[#This Row],[列10]],INDIRECT(\"__レジメンマスタ\"),2,FALSE),\"\")","v":""},"",{"$f":"IFERROR(VLOOKUP(__疾患別コードレジメン名[[#This Row],[列11]],INDIRECT(\"__レジメンマスタ\"),2,FALSE),\"\")","v":""},"",{"$f":"IFERROR(VLOOKUP(__疾患別コードレジメン名[[#This Row],[列12]],INDIRECT(\"__レジメンマスタ\"),2,FALSE),\"\")","v":""},"",{"$f":"IFERROR(VLOOKUP(__疾患別コードレジメン名[[#This Row],[列13]],INDIRECT(\"__レジメンマスタ\"),2,FALSE),\"\")","v":""}]
["HEM0124-11",{"$f":"IFERROR(VLOOKUP(__疾患別コードレジメン名[[#This Row],[列1]],INDIRECT(\"__レジメンマスタ\"),2,FALSE),\"\")","v":"Isa+d"},"",{"$f":"IFERROR(VLOOKUP(__疾患別コードレジメン名[[#This Row],[列2]],INDIRECT(\"__レジメンマスタ\"),2,FALSE),\"\")","v":""},"",{"$f":"IFERROR(VLOOKUP(__疾患別コードレジメン名[[#This Row],[列3]],INDIRECT(\"__レジメンマスタ\"),2,FALSE),\"\")","v":""},"",{"$f":"IFERROR(VLOOKUP(__疾患別コードレジメン名[[#This Row],[列4]],INDIRECT(\"__レジメンマスタ\"),2,FALSE),\"\")","v":""},"",{"$f":"IFERROR(VLOOKUP(__疾患別コードレジメン名[[#This Row],[列5]],INDIRECT(\"__レジメンマスタ\"),2,FALSE),\"\")","v":""},"",{"$f":"IFERROR(VLOOKUP(__疾患別コードレジメン名[[#This Row],[列6]],INDIRECT(\"__レジメンマスタ\"),2,FALSE),\"\")","v":""},"",{"$f":"IFERROR(VLOOKUP(__疾患別コードレジメン名[[#This Row],[列7]],INDIRECT(\"__レジメンマスタ\"),2,FALSE),\"\")","v":""},"",{"$f":"IFERROR(VLOOKUP(__疾患別コードレジメン名[[#This Row],[列8]],INDIRECT(\"__レジメンマスタ\"),2,FALSE),\"\")","v":""},"",{"$f":"IFERROR(VLOOKUP(__疾患別コードレジメン名[[#This Row],[列9]],INDIRECT(\"__レジメンマスタ\"),2,FALSE),\"\")","v":""},"",{"$f":"IFERROR(VLOOKUP(__疾患別コードレジメン名[[#This Row],[列10]],INDIRECT(\"__レジメンマスタ\"),2,FALSE),\"\")","v":""},"",{"$f":"IFERROR(VLOOKUP(__疾患別コードレジメン名[[#This Row],[列11]],INDIRECT(\"__レジメンマスタ\"),2,FALSE),\"\")","v":""},"",{"$f":"IFERROR(VLOOKUP(__疾患別コードレジメン名[[#This Row],[列12]],INDIRECT(\"__レジメンマスタ\"),2,FALSE),\"\")","v":""},"",{"$f":"IFERROR(VLOOKUP(__疾患別コードレジメン名[[#This Row],[列13]],INDIRECT(\"__レジメンマスタ\"),2,FALSE),\"\")","v":""}]
["HEM0124-41",{"$f":"IFERROR(VLOOKUP(__疾患別コードレジメン名[[#This Row],[列1]],INDIRECT(\"__レジメンマスタ\"),2,FALSE),\"\")","v":"Isa単剤"},"",{"$f":"IFERROR(VLOOKUP(__疾患別コードレジメン名[[#This Row],[列2]],INDIRECT(\"__レジメンマスタ\"),2,FALSE),\"\")","v":""},"",{"$f":"IFERROR(VLOOKUP(__疾患別コードレジメン名[[#This Row],[列3]],INDIRECT(\"__レジメンマスタ\"),2,FALSE),\"\")","v":""},"",{"$f":"IFERROR(VLOOKUP(__疾患別コードレジメン名[[#This Row],[列4]],INDIRECT(\"__レジメンマスタ\"),2,FALSE),\"\")","v":""},"",{"$f":"IFERROR(VLOOKUP(__疾患別コードレジメン名[[#This Row],[列5]],INDIRECT(\"__レジメンマスタ\"),2,FALSE),\"\")","v":""},"",{"$f":"IFERROR(VLOOKUP(__疾患別コードレジメン名[[#This Row],[列6]],INDIRECT(\"__レジメンマスタ\"),2,FALSE),\"\")","v":""},"",{"$f":"IFERROR(VLOOKUP(__疾患別コードレジメン名[[#This Row],[列7]],INDIRECT(\"__レジメンマスタ\"),2,FALSE),\"\")","v":""},"",{"$f":"IFERROR(VLOOKUP(__疾患別コードレジメン名[[#This Row],[列8]],INDIRECT(\"__レジメンマスタ\"),2,FALSE),\"\")","v":""},"",{"$f":"IFERROR(VLOOKUP(__疾患別コードレジメン名[[#This Row],[列9]],INDIRECT(\"__レジメンマスタ\"),2,FALSE),\"\")","v":""},"",{"$f":"IFERROR(VLOOKUP(__疾患別コードレジメン名[[#This Row],[列10]],INDIRECT(\"__レジメンマスタ\"),2,FALSE),\"\")","v":""},"",{"$f":"IFERROR(VLOOKUP(__疾患別コードレジメン名[[#This Row],[列11]],INDIRECT(\"__レジメンマスタ\"),2,FALSE),\"\")","v":""},"",{"$f":"IFERROR(VLOOKUP(__疾患別コードレジメン名[[#This Row],[列12]],INDIRECT(\"__レジメンマスタ\"),2,FALSE),\"\")","v":""},"",{"$f":"IFERROR(VLOOKUP(__疾患別コードレジメン名[[#This Row],[列13]],INDIRECT(\"__レジメンマスタ\"),2,FALSE),\"\")","v":""}]
["HEM0125",{"$f":"IFERROR(VLOOKUP(__疾患別コードレジメン名[[#This Row],[列1]],INDIRECT(\"__レジメンマスタ\"),2,FALSE),\"\")","v":"A-CHP"},"",{"$f":"IFERROR(VLOOKUP(__疾患別コードレジメン名[[#This Row],[列2]],INDIRECT(\"__レジメンマスタ\"),2,FALSE),\"\")","v":""},"",{"$f":"IFERROR(VLOOKUP(__疾患別コードレジメン名[[#This Row],[列3]],INDIRECT(\"__レジメンマスタ\"),2,FALSE),\"\")","v":""},"",{"$f":"IFERROR(VLOOKUP(__疾患別コードレジメン名[[#This Row],[列4]],INDIRECT(\"__レジメンマスタ\"),2,FALSE),\"\")","v":""},"",{"$f":"IFERROR(VLOOKUP(__疾患別コードレジメン名[[#This Row],[列5]],INDIRECT(\"__レジメンマスタ\"),2,FALSE),\"\")","v":""},"",{"$f":"IFERROR(VLOOKUP(__疾患別コードレジメン名[[#This Row],[列6]],INDIRECT(\"__レジメンマスタ\"),2,FALSE),\"\")","v":""},"",{"$f":"IFERROR(VLOOKUP(__疾患別コードレジメン名[[#This Row],[列7]],INDIRECT(\"__レジメンマスタ\"),2,FALSE),\"\")","v":""},"",{"$f":"IFERROR(VLOOKUP(__疾患別コードレジメン名[[#This Row],[列8]],INDIRECT(\"__レジメンマスタ\"),2,FALSE),\"\")","v":""},"",{"$f":"IFERROR(VLOOKUP(__疾患別コードレジメン名[[#This Row],[列9]],INDIRECT(\"__レジメンマスタ\"),2,FALSE),\"\")","v":""},"",{"$f":"IFERROR(VLOOKUP(__疾患別コードレジメン名[[#This Row],[列10]],INDIRECT(\"__レジメンマスタ\"),2,FALSE),\"\")","v":""},"",{"$f":"IFERROR(VLOOKUP(__疾患別コードレジメン名[[#This Row],[列11]],INDIRECT(\"__レジメンマスタ\"),2,FALSE),\"\")","v":""},"",{"$f":"IFERROR(VLOOKUP(__疾患別コードレジメン名[[#This Row],[列12]],INDIRECT(\"__レジメンマスタ\"),2,FALSE),\"\")","v":""},"",{"$f":"IFERROR(VLOOKUP(__疾患別コードレジメン名[[#This Row],[列13]],INDIRECT(\"__レジメンマスタ\"),2,FALSE),\"\")","v":""}]
["HEM0126",{"$f":"IFERROR(VLOOKUP(__疾患別コードレジメン名[[#This Row],[列1]],INDIRECT(\"__レジメンマスタ\"),2,FALSE),\"\")","v":"VTD-PACE"},"",{"$f":"IFERROR(VLOOKUP(__疾患別コードレジメン名[[#This Row],[列2]],INDIRECT(\"__レジメンマスタ\"),2,FALSE),\"\")","v":""},"",{"$f":"IFERROR(VLOOKUP(__疾患別コードレジメン名[[#This Row],[列3]],INDIRECT(\"__レジメンマスタ\"),2,FALSE),\"\")","v":""},"",{"$f":"IFERROR(VLOOKUP(__疾患別コードレジメン名[[#This Row],[列4]],INDIRECT(\"__レジメンマスタ\"),2,FALSE),\"\")","v":""},"",{"$f":"IFERROR(VLOOKUP(__疾患別コードレジメン名[[#This Row],[列5]],INDIRECT(\"__レジメンマスタ\"),2,FALSE),\"\")","v":""},"",{"$f":"IFERROR(VLOOKUP(__疾患別コードレジメン名[[#This Row],[列6]],INDIRECT(\"__レジメンマスタ\"),2,FALSE),\"\")","v":""},"",{"$f":"IFERROR(VLOOKUP(__疾患別コードレジメン名[[#This Row],[列7]],INDIRECT(\"__レジメンマスタ\"),2,FALSE),\"\")","v":""},"",{"$f":"IFERROR(VLOOKUP(__疾患別コードレジメン名[[#This Row],[列8]],INDIRECT(\"__レジメンマスタ\"),2,FALSE),\"\")","v":""},"",{"$f":"IFERROR(VLOOKUP(__疾患別コードレジメン名[[#This Row],[列9]],INDIRECT(\"__レジメンマスタ\"),2,FALSE),\"\")","v":""},"",{"$f":"IFERROR(VLOOKUP(__疾患別コードレジメン名[[#This Row],[列10]],INDIRECT(\"__レジメンマスタ\"),2,FALSE),\"\")","v":""},"",{"$f":"IFERROR(VLOOKUP(__疾患別コードレジメン名[[#This Row],[列11]],INDIRECT(\"__レジメンマスタ\"),2,FALSE),\"\")","v":""},"",{"$f":"IFERROR(VLOOKUP(__疾患別コードレジメン名[[#This Row],[列12]],INDIRECT(\"__レジメンマスタ\"),2,FALSE),\"\")","v":""},"",{"$f":"IFERROR(VLOOKUP(__疾患別コードレジメン名[[#This Row],[列13]],INDIRECT(\"__レジメンマスタ\"),2,FALSE),\"\")","v":""}]
["HEM0127",{"$f":"IFERROR(VLOOKUP(__疾患別コードレジメン名[[#This Row],[列1]],INDIRECT(\"__レジメンマスタ\"),2,FALSE),\"\")","v":"イストダックス"},"",{"$f":"IFERROR(VLOOKUP(__疾患別コードレジメン名[[#This Row],[列2]],INDIRECT(\"__レジメンマスタ\"),2,FALSE),\"\")","v":""},"",{"$f":"IFERROR(VLOOKUP(__疾患別コードレジメン名[[#This Row],[列3]],INDIRECT(\"__レジメンマスタ\"),2,FALSE),\"\")","v":""},"",{"$f":"IFERROR(VLOOKUP(__疾患別コードレジメン名[[#This Row],[列4]],INDIRECT(\"__レジメンマスタ\"),2,FALSE),\"\")","v":""},"",{"$f":"IFERROR(VLOOKUP(__疾患別コードレジメン名[[#This Row],[列5]],INDIRECT(\"__レジメンマスタ\"),2,FALSE),\"\")","v":""},"",{"$f":"IFERROR(VLOOKUP(__疾患別コードレジメン名[[#This Row],[列6]],INDIRECT(\"__レジメンマスタ\"),2,FALSE),\"\")","v":""},"",{"$f":"IFERROR(VLOOKUP(__疾患別コードレジメン名[[#This Row],[列7]],INDIRECT(\"__レジメンマスタ\"),2,FALSE),\"\")","v":""},"",{"$f":"IFERROR(VLOOKUP(__疾患別コードレジメン名[[#This Row],[列8]],INDIRECT(\"__レジメンマスタ\"),2,FALSE),\"\")","v":""},"",{"$f":"IFERROR(VLOOKUP(__疾患別コードレジメン名[[#This Row],[列9]],INDIRECT(\"__レジメンマスタ\"),2,FALSE),\"\")","v":""},"",{"$f":"IFERROR(VLOOKUP(__疾患別コードレジメン名[[#This Row],[列10]],INDIRECT(\"__レジメンマスタ\"),2,FALSE),\"\")","v":""},"",{"$f":"IFERROR(VLOOKUP(__疾患別コードレジメン名[[#This Row],[列11]],INDIRECT(\"__レジメンマスタ\"),2,FALSE),\"\")","v":""},"",{"$f":"IFERROR(VLOOKUP(__疾患別コードレジメン名[[#This Row],[列12]],INDIRECT(\"__レジメンマスタ\"),2,FALSE),\"\")","v":""},"",{"$f":"IFERROR(VLOOKUP(__疾患別コードレジメン名[[#This Row],[列13]],INDIRECT(\"__レジメンマスタ\"),2,FALSE),\"\")","v":""}]
["HEM0128",{"$f":"IFERROR(VLOOKUP(__疾患別コードレジメン名[[#This Row],[列1]],INDIRECT(\"__レジメンマスタ\"),2,FALSE),\"\")","v":"【適応外】血球貪食症候群（ETP：150mg/㎡）"},"",{"$f":"IFERROR(VLOOKUP(__疾患別コードレジメン名[[#This Row],[列2]],INDIRECT(\"__レジメンマスタ\"),2,FALSE),\"\")","v":""},"",{"$f":"IFERROR(VLOOKUP(__疾患別コードレジメン名[[#This Row],[列3]],INDIRECT(\"__レジメンマスタ\"),2,FALSE),\"\")","v":""},"",{"$f":"IFERROR(VLOOKUP(__疾患別コードレジメン名[[#This Row],[列4]],INDIRECT(\"__レジメンマスタ\"),2,FALSE),\"\")","v":""},"",{"$f":"IFERROR(VLOOKUP(__疾患別コードレジメン名[[#This Row],[列5]],INDIRECT(\"__レジメンマスタ\"),2,FALSE),\"\")","v":""},"",{"$f":"IFERROR(VLOOKUP(__疾患別コードレジメン名[[#This Row],[列6]],INDIRECT(\"__レジメンマスタ\"),2,FALSE),\"\")","v":""},"",{"$f":"IFERROR(VLOOKUP(__疾患別コードレジメン名[[#This Row],[列7]],INDIRECT(\"__レジメンマスタ\"),2,FALSE),\"\")","v":""},"",{"$f":"IFERROR(VLOOKUP(__疾患別コードレジメン名[[#This Row],[列8]],INDIRECT(\"__レジメンマスタ\"),2,FALSE),\"\")","v":""},"",{"$f":"IFERROR(VLOOKUP(__疾患別コードレジメン名[[#This Row],[列9]],INDIRECT(\"__レジメンマスタ\"),2,FALSE),\"\")","v":""},"",{"$f":"IFERROR(VLOOKUP(__疾患別コードレジメン名[[#This Row],[列10]],INDIRECT(\"__レジメンマスタ\"),2,FALSE),\"\")","v":""},"",{"$f":"IFERROR(VLOOKUP(__疾患別コードレジメン名[[#This Row],[列11]],INDIRECT(\"__レジメンマスタ\"),2,FALSE),\"\")","v":""},"",{"$f":"IFERROR(VLOOKUP(__疾患別コードレジメン名[[#This Row],[列12]],INDIRECT(\"__レジメンマスタ\"),2,FALSE),\"\")","v":""},"",{"$f":"IFERROR(VLOOKUP(__疾患別コードレジメン名[[#This Row],[列13]],INDIRECT(\"__レジメンマスタ\"),2,FALSE),\"\")","v":""}]
["HEM0129",{"$f":"IFERROR(VLOOKUP(__疾患別コードレジメン名[[#This Row],[列1]],INDIRECT(\"__レジメンマスタ\"),2,FALSE),\"\")","v":"Pola-R-CHP"},"",{"$f":"IFERROR(VLOOKUP(__疾患別コードレジメン名[[#This Row],[列2]],INDIRECT(\"__レジメンマスタ\"),2,FALSE),\"\")","v":""},"",{"$f":"IFERROR(VLOOKUP(__疾患別コードレジメン名[[#This Row],[列3]],INDIRECT(\"__レジメンマスタ\"),2,FALSE),\"\")","v":""},"",{"$f":"IFERROR(VLOOKUP(__疾患別コードレジメン名[[#This Row],[列4]],INDIRECT(\"__レジメンマスタ\"),2,FALSE),\"\")","v":""},"",{"$f":"IFERROR(VLOOKUP(__疾患別コードレジメン名[[#This Row],[列5]],INDIRECT(\"__レジメンマスタ\"),2,FALSE),\"\")","v":""},"",{"$f":"IFERROR(VLOOKUP(__疾患別コードレジメン名[[#This Row],[列6]],INDIRECT(\"__レジメンマスタ\"),2,FALSE),\"\")","v":""},"",{"$f":"IFERROR(VLOOKUP(__疾患別コードレジメン名[[#This Row],[列7]],INDIRECT(\"__レジメンマスタ\"),2,FALSE),\"\")","v":""},"",{"$f":"IFERROR(VLOOKUP(__疾患別コードレジメン名[[#This Row],[列8]],INDIRECT(\"__レジメンマスタ\"),2,FALSE),\"\")","v":""},"",{"$f":"IFERROR(VLOOKUP(__疾患別コードレジメン名[[#This Row],[列9]],INDIRECT(\"__レジメンマスタ\"),2,FALSE),\"\")","v":""},"",{"$f":"IFERROR(VLOOKUP(__疾患別コードレジメン名[[#This Row],[列10]],INDIRECT(\"__レジメンマスタ\"),2,FALSE),\"\")","v":""},"",{"$f":"IFERROR(VLOOKUP(__疾患別コードレジメン名[[#This Row],[列11]],INDIRECT(\"__レジメンマスタ\"),2,FALSE),\"\")","v":""},"",{"$f":"IFERROR(VLOOKUP(__疾患別コードレジメン名[[#This Row],[列12]],INDIRECT(\"__レジメンマスタ\"),2,FALSE),\"\")","v":""},"",{"$f":"IFERROR(VLOOKUP(__疾患別コードレジメン名[[#This Row],[列13]],INDIRECT(\"__レジメンマスタ\"),2,FALSE),\"\")","v":""}]
["HEM0130-1",{"$f":"IFERROR(VLOOKUP(__疾患別コードレジメン名[[#This Row],[列1]],INDIRECT(\"__レジメンマスタ\"),2,FALSE),\"\")","v":"R-high-CHOP"},"",{"$f":"IFERROR(VLOOKUP(__疾患別コードレジメン名[[#This Row],[列2]],INDIRECT(\"__レジメンマスタ\"),2,FALSE),\"\")","v":""},"",{"$f":"IFERROR(VLOOKUP(__疾患別コードレジメン名[[#This Row],[列3]],INDIRECT(\"__レジメンマスタ\"),2,FALSE),\"\")","v":""},"",{"$f":"IFERROR(VLOOKUP(__疾患別コードレジメン名[[#This Row],[列4]],INDIRECT(\"__レジメンマスタ\"),2,FALSE),\"\")","v":""},"",{"$f":"IFERROR(VLOOKUP(__疾患別コードレジメン名[[#This Row],[列5]],INDIRECT(\"__レジメンマスタ\"),2,FALSE),\"\")","v":""},"",{"$f":"IFERROR(VLOOKUP(__疾患別コードレジメン名[[#This Row],[列6]],INDIRECT(\"__レジメンマスタ\"),2,FALSE),\"\")","v":""},"",{"$f":"IFERROR(VLOOKUP(__疾患別コードレジメン名[[#This Row],[列7]],INDIRECT(\"__レジメンマスタ\"),2,FALSE),\"\")","v":""},"",{"$f":"IFERROR(VLOOKUP(__疾患別コードレジメン名[[#This Row],[列8]],INDIRECT(\"__レジメンマスタ\"),2,FALSE),\"\")","v":""},"",{"$f":"IFERROR(VLOOKUP(__疾患別コードレジメン名[[#This Row],[列9]],INDIRECT(\"__レジメンマスタ\"),2,FALSE),\"\")","v":""},"",{"$f":"IFERROR(VLOOKUP(__疾患別コードレジメン名[[#This Row],[列10]],INDIRECT(\"__レジメンマスタ\"),2,FALSE),\"\")","v":""},"",{"$f":"IFERROR(VLOOKUP(__疾患別コードレジメン名[[#This Row],[列11]],INDIRECT(\"__レジメンマスタ\"),2,FALSE),\"\")","v":""},"",{"$f":"IFERROR(VLOOKUP(__疾患別コードレジメン名[[#This Row],[列12]],INDIRECT(\"__レジメンマスタ\"),2,FALSE),\"\")","v":""},"",{"$f":"IFERROR(VLOOKUP(__疾患別コードレジメン名[[#This Row],[列13]],INDIRECT(\"__レジメンマスタ\"),2,FALSE),\"\")","v":""}]
["HEM0130-2",{"$f":"IFERROR(VLOOKUP(__疾患別コードレジメン名[[#This Row],[列1]],INDIRECT(\"__レジメンマスタ\"),2,FALSE),\"\")","v":"CHASER療法"},"",{"$f":"IFERROR(VLOOKUP(__疾患別コードレジメン名[[#This Row],[列2]],INDIRECT(\"__レジメンマスタ\"),2,FALSE),\"\")","v":""},"",{"$f":"IFERROR(VLOOKUP(__疾患別コードレジメン名[[#This Row],[列3]],INDIRECT(\"__レジメンマスタ\"),2,FALSE),\"\")","v":""},"",{"$f":"IFERROR(VLOOKUP(__疾患別コードレジメン名[[#This Row],[列4]],INDIRECT(\"__レジメンマスタ\"),2,FALSE),\"\")","v":""},"",{"$f":"IFERROR(VLOOKUP(__疾患別コードレジメン名[[#This Row],[列5]],INDIRECT(\"__レジメンマスタ\"),2,FALSE),\"\")","v":""},"",{"$f":"IFERROR(VLOOKUP(__疾患別コードレジメン名[[#This Row],[列6]],INDIRECT(\"__レジメンマスタ\"),2,FALSE),\"\")","v":""},"",{"$f":"IFERROR(VLOOKUP(__疾患別コードレジメン名[[#This Row],[列7]],INDIRECT(\"__レジメンマスタ\"),2,FALSE),\"\")","v":""},"",{"$f":"IFERROR(VLOOKUP(__疾患別コードレジメン名[[#This Row],[列8]],INDIRECT(\"__レジメンマスタ\"),2,FALSE),\"\")","v":""},"",{"$f":"IFERROR(VLOOKUP(__疾患別コードレジメン名[[#This Row],[列9]],INDIRECT(\"__レジメンマスタ\"),2,FALSE),\"\")","v":""},"",{"$f":"IFERROR(VLOOKUP(__疾患別コードレジメン名[[#This Row],[列10]],INDIRECT(\"__レジメンマスタ\"),2,FALSE),\"\")","v":""},"",{"$f":"IFERROR(VLOOKUP(__疾患別コードレジメン名[[#This Row],[列11]],INDIRECT(\"__レジメンマスタ\"),2,FALSE),\"\")","v":""},"",{"$f":"IFERROR(VLOOKUP(__疾患別コードレジメン名[[#This Row],[列12]],INDIRECT(\"__レジメンマスタ\"),2,FALSE),\"\")","v":""},"",{"$f":"IFERROR(VLOOKUP(__疾患別コードレジメン名[[#This Row],[列13]],INDIRECT(\"__レジメンマスタ\"),2,FALSE),\"\")","v":""}]
["HEM0131-01",{"$f":"IFERROR(VLOOKUP(__疾患別コードレジメン名[[#This Row],[列1]],INDIRECT(\"__レジメンマスタ\"),2,FALSE),\"\")","v":"エプコリタマブ"},"",{"$f":"IFERROR(VLOOKUP(__疾患別コードレジメン名[[#This Row],[列2]],INDIRECT(\"__レジメンマスタ\"),2,FALSE),\"\")","v":""},"",{"$f":"IFERROR(VLOOKUP(__疾患別コードレジメン名[[#This Row],[列3]],INDIRECT(\"__レジメンマスタ\"),2,FALSE),\"\")","v":""},"",{"$f":"IFERROR(VLOOKUP(__疾患別コードレジメン名[[#This Row],[列4]],INDIRECT(\"__レジメンマスタ\"),2,FALSE),\"\")","v":""},"",{"$f":"IFERROR(VLOOKUP(__疾患別コードレジメン名[[#This Row],[列5]],INDIRECT(\"__レジメンマスタ\"),2,FALSE),\"\")","v":""},"",{"$f":"IFERROR(VLOOKUP(__疾患別コードレジメン名[[#This Row],[列6]],INDIRECT(\"__レジメンマスタ\"),2,FALSE),\"\")","v":""},"",{"$f":"IFERROR(VLOOKUP(__疾患別コードレジメン名[[#This Row],[列7]],INDIRECT(\"__レジメンマスタ\"),2,FALSE),\"\")","v":""},"",{"$f":"IFERROR(VLOOKUP(__疾患別コードレジメン名[[#This Row],[列8]],INDIRECT(\"__レジメンマスタ\"),2,FALSE),\"\")","v":""},"",{"$f":"IFERROR(VLOOKUP(__疾患別コードレジメン名[[#This Row],[列9]],INDIRECT(\"__レジメンマスタ\"),2,FALSE),\"\")","v":""},"",{"$f":"IFERROR(VLOOKUP(__疾患別コードレジメン名[[#This Row],[列10]],INDIRECT(\"__レジメンマスタ\"),2,FALSE),\"\")","v":""},"",{"$f":"IFERROR(VLOOKUP(__疾患別コードレジメン名[[#This Row],[列11]],INDIRECT(\"__レジメンマスタ\"),2,FALSE),\"\")","v":""},"",{"$f":"IFERROR(VLOOKUP(__疾患別コードレジメン名[[#This Row],[列12]],INDIRECT(\"__レジメンマスタ\"),2,FALSE),\"\")","v":""},"",{"$f":"IFERROR(VLOOKUP(__疾患別コードレジメン名[[#This Row],[列13]],INDIRECT(\"__レジメンマスタ\"),2,FALSE),\"\")","v":""}]
["HEM0132",{"$f":"IFERROR(VLOOKUP(__疾患別コードレジメン名[[#This Row],[列1]],INDIRECT(\"__レジメンマスタ\"),2,FALSE),\"\")","v":"mini MEC"},"",{"$f":"IFERROR(VLOOKUP(__疾患別コードレジメン名[[#This Row],[列2]],INDIRECT(\"__レジメンマスタ\"),2,FALSE),\"\")","v":""},"",{"$f":"IFERROR(VLOOKUP(__疾患別コードレジメン名[[#This Row],[列3]],INDIRECT(\"__レジメンマスタ\"),2,FALSE),\"\")","v":""},"",{"$f":"IFERROR(VLOOKUP(__疾患別コードレジメン名[[#This Row],[列4]],INDIRECT(\"__レジメンマスタ\"),2,FALSE),\"\")","v":""},"",{"$f":"IFERROR(VLOOKUP(__疾患別コードレジメン名[[#This Row],[列5]],INDIRECT(\"__レジメンマスタ\"),2,FALSE),\"\")","v":""},"",{"$f":"IFERROR(VLOOKUP(__疾患別コードレジメン名[[#This Row],[列6]],INDIRECT(\"__レジメンマスタ\"),2,FALSE),\"\")","v":""},"",{"$f":"IFERROR(VLOOKUP(__疾患別コードレジメン名[[#This Row],[列7]],INDIRECT(\"__レジメンマスタ\"),2,FALSE),\"\")","v":""},"",{"$f":"IFERROR(VLOOKUP(__疾患別コードレジメン名[[#This Row],[列8]],INDIRECT(\"__レジメンマスタ\"),2,FALSE),\"\")","v":""},"",{"$f":"IFERROR(VLOOKUP(__疾患別コードレジメン名[[#This Row],[列9]],INDIRECT(\"__レジメンマスタ\"),2,FALSE),\"\")","v":""},"",{"$f":"IFERROR(VLOOKUP(__疾患別コードレジメン名[[#This Row],[列10]],INDIRECT(\"__レジメンマスタ\"),2,FALSE),\"\")","v":""},"",{"$f":"IFERROR(VLOOKUP(__疾患別コードレジメン名[[#This Row],[列11]],INDIRECT(\"__レジメンマスタ\"),2,FALSE),\"\")","v":""},"",{"$f":"IFERROR(VLOOKUP(__疾患別コードレジメン名[[#This Row],[列12]],INDIRECT(\"__レジメンマスタ\"),2,FALSE),\"\")","v":""},"",{"$f":"IFERROR(VLOOKUP(__疾患別コードレジメン名[[#This Row],[列13]],INDIRECT(\"__レジメンマスタ\"),2,FALSE),\"\")","v":""}]
["HEM0133",{"$f":"IFERROR(VLOOKUP(__疾患別コードレジメン名[[#This Row],[列1]],INDIRECT(\"__レジメンマスタ\"),2,FALSE),\"\")","v":"MCEC療法"},"",{"$f":"IFERROR(VLOOKUP(__疾患別コードレジメン名[[#This Row],[列2]],INDIRECT(\"__レジメンマスタ\"),2,FALSE),\"\")","v":""},"",{"$f":"IFERROR(VLOOKUP(__疾患別コードレジメン名[[#This Row],[列3]],INDIRECT(\"__レジメンマスタ\"),2,FALSE),\"\")","v":""},"",{"$f":"IFERROR(VLOOKUP(__疾患別コードレジメン名[[#This Row],[列4]],INDIRECT(\"__レジメンマスタ\"),2,FALSE),\"\")","v":""},"",{"$f":"IFERROR(VLOOKUP(__疾患別コードレジメン名[[#This Row],[列5]],INDIRECT(\"__レジメンマスタ\"),2,FALSE),\"\")","v":""},"",{"$f":"IFERROR(VLOOKUP(__疾患別コードレジメン名[[#This Row],[列6]],INDIRECT(\"__レジメンマスタ\"),2,FALSE),\"\")","v":""},"",{"$f":"IFERROR(VLOOKUP(__疾患別コードレジメン名[[#This Row],[列7]],INDIRECT(\"__レジメンマスタ\"),2,FALSE),\"\")","v":""},"",{"$f":"IFERROR(VLOOKUP(__疾患別コードレジメン名[[#This Row],[列8]],INDIRECT(\"__レジメンマスタ\"),2,FALSE),\"\")","v":""},"",{"$f":"IFERROR(VLOOKUP(__疾患別コードレジメン名[[#This Row],[列9]],INDIRECT(\"__レジメンマスタ\"),2,FALSE),\"\")","v":""},"",{"$f":"IFERROR(VLOOKUP(__疾患別コードレジメン名[[#This Row],[列10]],INDIRECT(\"__レジメンマスタ\"),2,FALSE),\"\")","v":""},"",{"$f":"IFERROR(VLOOKUP(__疾患別コードレジメン名[[#This Row],[列11]],INDIRECT(\"__レジメンマスタ\"),2,FALSE),\"\")","v":""},"",{"$f":"IFERROR(VLOOKUP(__疾患別コードレジメン名[[#This Row],[列12]],INDIRECT(\"__レジメンマスタ\"),2,FALSE),\"\")","v":""},"",{"$f":"IFERROR(VLOOKUP(__疾患別コードレジメン名[[#This Row],[列13]],INDIRECT(\"__レジメンマスタ\"),2,FALSE),\"\")","v":""}]
["HEM0134",{"$f":"IFERROR(VLOOKUP(__疾患別コードレジメン名[[#This Row],[列1]],INDIRECT(\"__レジメンマスタ\"),2,FALSE),\"\")","v":"QUIZ+DNR+AraC"},"",{"$f":"IFERROR(VLOOKUP(__疾患別コードレジメン名[[#This Row],[列2]],INDIRECT(\"__レジメンマスタ\"),2,FALSE),\"\")","v":""},"",{"$f":"IFERROR(VLOOKUP(__疾患別コードレジメン名[[#This Row],[列3]],INDIRECT(\"__レジメンマスタ\"),2,FALSE),\"\")","v":""},"",{"$f":"IFERROR(VLOOKUP(__疾患別コードレジメン名[[#This Row],[列4]],INDIRECT(\"__レジメンマスタ\"),2,FALSE),\"\")","v":""},"",{"$f":"IFERROR(VLOOKUP(__疾患別コードレジメン名[[#This Row],[列5]],INDIRECT(\"__レジメンマスタ\"),2,FALSE),\"\")","v":""},"",{"$f":"IFERROR(VLOOKUP(__疾患別コードレジメン名[[#This Row],[列6]],INDIRECT(\"__レジメンマスタ\"),2,FALSE),\"\")","v":""},"",{"$f":"IFERROR(VLOOKUP(__疾患別コードレジメン名[[#This Row],[列7]],INDIRECT(\"__レジメンマスタ\"),2,FALSE),\"\")","v":""},"",{"$f":"IFERROR(VLOOKUP(__疾患別コードレジメン名[[#This Row],[列8]],INDIRECT(\"__レジメンマスタ\"),2,FALSE),\"\")","v":""},"",{"$f":"IFERROR(VLOOKUP(__疾患別コードレジメン名[[#This Row],[列9]],INDIRECT(\"__レジメンマスタ\"),2,FALSE),\"\")","v":""},"",{"$f":"IFERROR(VLOOKUP(__疾患別コードレジメン名[[#This Row],[列10]],INDIRECT(\"__レジメンマスタ\"),2,FALSE),\"\")","v":""},"",{"$f":"IFERROR(VLOOKUP(__疾患別コードレジメン名[[#This Row],[列11]],INDIRECT(\"__レジメンマスタ\"),2,FALSE),\"\")","v":""},"",{"$f":"IFERROR(VLOOKUP(__疾患別コードレジメン名[[#This Row],[列12]],INDIRECT(\"__レジメンマスタ\"),2,FALSE),\"\")","v":""},"",{"$f":"IFERROR(VLOOKUP(__疾患別コードレジメン名[[#This Row],[列13]],INDIRECT(\"__レジメンマスタ\"),2,FALSE),\"\")","v":""}]
["HEM0135-01",{"$f":"IFERROR(VLOOKUP(__疾患別コードレジメン名[[#This Row],[列1]],INDIRECT(\"__レジメンマスタ\"),2,FALSE),\"\")","v":"QUIZ+HD-AraC（60歳未満）"},"",{"$f":"IFERROR(VLOOKUP(__疾患別コードレジメン名[[#This Row],[列2]],INDIRECT(\"__レジメンマスタ\"),2,FALSE),\"\")","v":""},"",{"$f":"IFERROR(VLOOKUP(__疾患別コードレジメン名[[#This Row],[列3]],INDIRECT(\"__レジメンマスタ\"),2,FALSE),\"\")","v":""},"",{"$f":"IFERROR(VLOOKUP(__疾患別コードレジメン名[[#This Row],[列4]],INDIRECT(\"__レジメンマスタ\"),2,FALSE),\"\")","v":""},"",{"$f":"IFERROR(VLOOKUP(__疾患別コードレジメン名[[#This Row],[列5]],INDIRECT(\"__レジメンマスタ\"),2,FALSE),\"\")","v":""},"",{"$f":"IFERROR(VLOOKUP(__疾患別コードレジメン名[[#This Row],[列6]],INDIRECT(\"__レジメンマスタ\"),2,FALSE),\"\")","v":""},"",{"$f":"IFERROR(VLOOKUP(__疾患別コードレジメン名[[#This Row],[列7]],INDIRECT(\"__レジメンマスタ\"),2,FALSE),\"\")","v":""},"",{"$f":"IFERROR(VLOOKUP(__疾患別コードレジメン名[[#This Row],[列8]],INDIRECT(\"__レジメンマスタ\"),2,FALSE),\"\")","v":""},"",{"$f":"IFERROR(VLOOKUP(__疾患別コードレジメン名[[#This Row],[列9]],INDIRECT(\"__レジメンマスタ\"),2,FALSE),\"\")","v":""},"",{"$f":"IFERROR(VLOOKUP(__疾患別コードレジメン名[[#This Row],[列10]],INDIRECT(\"__レジメンマスタ\"),2,FALSE),\"\")","v":""},"",{"$f":"IFERROR(VLOOKUP(__疾患別コードレジメン名[[#This Row],[列11]],INDIRECT(\"__レジメンマスタ\"),2,FALSE),\"\")","v":""},"",{"$f":"IFERROR(VLOOKUP(__疾患別コードレジメン名[[#This Row],[列12]],INDIRECT(\"__レジメンマスタ\"),2,FALSE),\"\")","v":""},"",{"$f":"IFERROR(VLOOKUP(__疾患別コードレジメン名[[#This Row],[列13]],INDIRECT(\"__レジメンマスタ\"),2,FALSE),\"\")","v":""}]
["HEM0135-02",{"$f":"IFERROR(VLOOKUP(__疾患別コードレジメン名[[#This Row],[列1]],INDIRECT(\"__レジメンマスタ\"),2,FALSE),\"\")","v":"QUIZ+HD-AraC（60歳以上）"},"",{"$f":"IFERROR(VLOOKUP(__疾患別コードレジメン名[[#This Row],[列2]],INDIRECT(\"__レジメンマスタ\"),2,FALSE),\"\")","v":""},"",{"$f":"IFERROR(VLOOKUP(__疾患別コードレジメン名[[#This Row],[列3]],INDIRECT(\"__レジメンマスタ\"),2,FALSE),\"\")","v":""},"",{"$f":"IFERROR(VLOOKUP(__疾患別コードレジメン名[[#This Row],[列4]],INDIRECT(\"__レジメンマスタ\"),2,FALSE),\"\")","v":""},"",{"$f":"IFERROR(VLOOKUP(__疾患別コードレジメン名[[#This Row],[列5]],INDIRECT(\"__レジメンマスタ\"),2,FALSE),\"\")","v":""},"",{"$f":"IFERROR(VLOOKUP(__疾患別コードレジメン名[[#This Row],[列6]],INDIRECT(\"__レジメンマスタ\"),2,FALSE),\"\")","v":""},"",{"$f":"IFERROR(VLOOKUP(__疾患別コードレジメン名[[#This Row],[列7]],INDIRECT(\"__レジメンマスタ\"),2,FALSE),\"\")","v":""},"",{"$f":"IFERROR(VLOOKUP(__疾患別コードレジメン名[[#This Row],[列8]],INDIRECT(\"__レジメンマスタ\"),2,FALSE),\"\")","v":""},"",{"$f":"IFERROR(VLOOKUP(__疾患別コードレジメン名[[#This Row],[列9]],INDIRECT(\"__レジメンマスタ\"),2,FALSE),\"\")","v":""},"",{"$f":"IFERROR(VLOOKUP(__疾患別コードレジメン名[[#This Row],[列10]],INDIRECT(\"__レジメンマスタ\"),2,FALSE),\"\")","v":""},"",{"$f":"IFERROR(VLOOKUP(__疾患別コードレジメン名[[#This Row],[列11]],INDIRECT(\"__レジメンマスタ\"),2,FALSE),\"\")","v":""},"",{"$f":"IFERROR(VLOOKUP(__疾患別コードレジメン名[[#This Row],[列12]],INDIRECT(\"__レジメンマスタ\"),2,FALSE),\"\")","v":""},"",{"$f":"IFERROR(VLOOKUP(__疾患別コードレジメン名[[#This Row],[列13]],INDIRECT(\"__レジメンマスタ\"),2,FALSE),\"\")","v":""}]
["HEM0136-01",{"$f":"IFERROR(VLOOKUP(__疾患別コードレジメン名[[#This Row],[列1]],INDIRECT(\"__レジメンマスタ\"),2,FALSE),\"\")","v":"エルラナタマブ"},"",{"$f":"IFERROR(VLOOKUP(__疾患別コードレジメン名[[#This Row],[列2]],INDIRECT(\"__レジメンマスタ\"),2,FALSE),\"\")","v":""},"",{"$f":"IFERROR(VLOOKUP(__疾患別コードレジメン名[[#This Row],[列3]],INDIRECT(\"__レジメンマスタ\"),2,FALSE),\"\")","v":""},"",{"$f":"IFERROR(VLOOKUP(__疾患別コードレジメン名[[#This Row],[列4]],INDIRECT(\"__レジメンマスタ\"),2,FALSE),\"\")","v":""},"",{"$f":"IFERROR(VLOOKUP(__疾患別コードレジメン名[[#This Row],[列5]],INDIRECT(\"__レジメンマスタ\"),2,FALSE),\"\")","v":""},"",{"$f":"IFERROR(VLOOKUP(__疾患別コードレジメン名[[#This Row],[列6]],INDIRECT(\"__レジメンマスタ\"),2,FALSE),\"\")","v":""},"",{"$f":"IFERROR(VLOOKUP(__疾患別コードレジメン名[[#This Row],[列7]],INDIRECT(\"__レジメンマスタ\"),2,FALSE),\"\")","v":""},"",{"$f":"IFERROR(VLOOKUP(__疾患別コードレジメン名[[#This Row],[列8]],INDIRECT(\"__レジメンマスタ\"),2,FALSE),\"\")","v":""},"",{"$f":"IFERROR(VLOOKUP(__疾患別コードレジメン名[[#This Row],[列9]],INDIRECT(\"__レジメンマスタ\"),2,FALSE),\"\")","v":""},"",{"$f":"IFERROR(VLOOKUP(__疾患別コードレジメン名[[#This Row],[列10]],INDIRECT(\"__レジメンマスタ\"),2,FALSE),\"\")","v":""},"",{"$f":"IFERROR(VLOOKUP(__疾患別コードレジメン名[[#This Row],[列11]],INDIRECT(\"__レジメンマスタ\"),2,FALSE),\"\")","v":""},"",{"$f":"IFERROR(VLOOKUP(__疾患別コードレジメン名[[#This Row],[列12]],INDIRECT(\"__レジメンマスタ\"),2,FALSE),\"\")","v":""},"",{"$f":"IFERROR(VLOOKUP(__疾患別コードレジメン名[[#This Row],[列13]],INDIRECT(\"__レジメンマスタ\"),2,FALSE),\"\")","v":""}]
["HEM0137",{"$f":"IFERROR(VLOOKUP(__疾患別コードレジメン名[[#This Row],[列1]],INDIRECT(\"__レジメンマスタ\"),2,FALSE),\"\")","v":"ベネトクラクス＋低用量シタラビン"},"",{"$f":"IFERROR(VLOOKUP(__疾患別コードレジメン名[[#This Row],[列2]],INDIRECT(\"__レジメンマスタ\"),2,FALSE),\"\")","v":""},"",{"$f":"IFERROR(VLOOKUP(__疾患別コードレジメン名[[#This Row],[列3]],INDIRECT(\"__レジメンマスタ\"),2,FALSE),\"\")","v":""},"",{"$f":"IFERROR(VLOOKUP(__疾患別コードレジメン名[[#This Row],[列4]],INDIRECT(\"__レジメンマスタ\"),2,FALSE),\"\")","v":""},"",{"$f":"IFERROR(VLOOKUP(__疾患別コードレジメン名[[#This Row],[列5]],INDIRECT(\"__レジメンマスタ\"),2,FALSE),\"\")","v":""},"",{"$f":"IFERROR(VLOOKUP(__疾患別コードレジメン名[[#This Row],[列6]],INDIRECT(\"__レジメンマスタ\"),2,FALSE),\"\")","v":""},"",{"$f":"IFERROR(VLOOKUP(__疾患別コードレジメン名[[#This Row],[列7]],INDIRECT(\"__レジメンマスタ\"),2,FALSE),\"\")","v":""},"",{"$f":"IFERROR(VLOOKUP(__疾患別コードレジメン名[[#This Row],[列8]],INDIRECT(\"__レジメンマスタ\"),2,FALSE),\"\")","v":""},"",{"$f":"IFERROR(VLOOKUP(__疾患別コードレジメン名[[#This Row],[列9]],INDIRECT(\"__レジメンマスタ\"),2,FALSE),\"\")","v":""},"",{"$f":"IFERROR(VLOOKUP(__疾患別コードレジメン名[[#This Row],[列10]],INDIRECT(\"__レジメンマスタ\"),2,FALSE),\"\")","v":""},"",{"$f":"IFERROR(VLOOKUP(__疾患別コードレジメン名[[#This Row],[列11]],INDIRECT(\"__レジメンマスタ\"),2,FALSE),\"\")","v":""},"",{"$f":"IFERROR(VLOOKUP(__疾患別コードレジメン名[[#This Row],[列12]],INDIRECT(\"__レジメンマスタ\"),2,FALSE),\"\")","v":""},"",{"$f":"IFERROR(VLOOKUP(__疾患別コードレジメン名[[#This Row],[列13]],INDIRECT(\"__レジメンマスタ\"),2,FALSE),\"\")","v":""}]
["HEM0138",{"$f":"IFERROR(VLOOKUP(__疾患別コードレジメン名[[#This Row],[列1]],INDIRECT(\"__レジメンマスタ\"),2,FALSE),\"\")","v":"modified SMILE　(22歳以上）"},"",{"$f":"IFERROR(VLOOKUP(__疾患別コードレジメン名[[#This Row],[列2]],INDIRECT(\"__レジメンマスタ\"),2,FALSE),\"\")","v":""},"",{"$f":"IFERROR(VLOOKUP(__疾患別コードレジメン名[[#This Row],[列3]],INDIRECT(\"__レジメンマスタ\"),2,FALSE),\"\")","v":""},"",{"$f":"IFERROR(VLOOKUP(__疾患別コードレジメン名[[#This Row],[列4]],INDIRECT(\"__レジメンマスタ\"),2,FALSE),\"\")","v":""},"",{"$f":"IFERROR(VLOOKUP(__疾患別コードレジメン名[[#This Row],[列5]],INDIRECT(\"__レジメンマスタ\"),2,FALSE),\"\")","v":""},"",{"$f":"IFERROR(VLOOKUP(__疾患別コードレジメン名[[#This Row],[列6]],INDIRECT(\"__レジメンマスタ\"),2,FALSE),\"\")","v":""},"",{"$f":"IFERROR(VLOOKUP(__疾患別コードレジメン名[[#This Row],[列7]],INDIRECT(\"__レジメンマスタ\"),2,FALSE),\"\")","v":""},"",{"$f":"IFERROR(VLOOKUP(__疾患別コードレジメン名[[#This Row],[列8]],INDIRECT(\"__レジメンマスタ\"),2,FALSE),\"\")","v":""},"",{"$f":"IFERROR(VLOOKUP(__疾患別コードレジメン名[[#This Row],[列9]],INDIRECT(\"__レジメンマスタ\"),2,FALSE),\"\")","v":""},"",{"$f":"IFERROR(VLOOKUP(__疾患別コードレジメン名[[#This Row],[列10]],INDIRECT(\"__レジメンマスタ\"),2,FALSE),\"\")","v":""},"",{"$f":"IFERROR(VLOOKUP(__疾患別コードレジメン名[[#This Row],[列11]],INDIRECT(\"__レジメンマスタ\"),2,FALSE),\"\")","v":""},"",{"$f":"IFERROR(VLOOKUP(__疾患別コードレジメン名[[#This Row],[列12]],INDIRECT(\"__レジメンマスタ\"),2,FALSE),\"\")","v":""},"",{"$f":"IFERROR(VLOOKUP(__疾患別コードレジメン名[[#This Row],[列13]],INDIRECT(\"__レジメンマスタ\"),2,FALSE),\"\")","v":""}]
["HEM0139-01",{"$f":"IFERROR(VLOOKUP(__疾患別コードレジメン名[[#This Row],[列1]],INDIRECT(\"__レジメンマスタ\"),2,FALSE),\"\")","v":"ビキセオス（CPX-351、寛解導入療法）"},"",{"$f":"IFERROR(VLOOKUP(__疾患別コードレジメン名[[#This Row],[列2]],INDIRECT(\"__レジメンマスタ\"),2,FALSE),\"\")","v":""},"",{"$f":"IFERROR(VLOOKUP(__疾患別コードレジメン名[[#This Row],[列3]],INDIRECT(\"__レジメンマスタ\"),2,FALSE),\"\")","v":""},"",{"$f":"IFERROR(VLOOKUP(__疾患別コードレジメン名[[#This Row],[列4]],INDIRECT(\"__レジメンマスタ\"),2,FALSE),\"\")","v":""},"",{"$f":"IFERROR(VLOOKUP(__疾患別コードレジメン名[[#This Row],[列5]],INDIRECT(\"__レジメンマスタ\"),2,FALSE),\"\")","v":""},"",{"$f":"IFERROR(VLOOKUP(__疾患別コードレジメン名[[#This Row],[列6]],INDIRECT(\"__レジメンマスタ\"),2,FALSE),\"\")","v":""},"",{"$f":"IFERROR(VLOOKUP(__疾患別コードレジメン名[[#This Row],[列7]],INDIRECT(\"__レジメンマスタ\"),2,FALSE),\"\")","v":""},"",{"$f":"IFERROR(VLOOKUP(__疾患別コードレジメン名[[#This Row],[列8]],INDIRECT(\"__レジメンマスタ\"),2,FALSE),\"\")","v":""},"",{"$f":"IFERROR(VLOOKUP(__疾患別コードレジメン名[[#This Row],[列9]],INDIRECT(\"__レジメンマスタ\"),2,FALSE),\"\")","v":""},"",{"$f":"IFERROR(VLOOKUP(__疾患別コードレジメン名[[#This Row],[列10]],INDIRECT(\"__レジメンマスタ\"),2,FALSE),\"\")","v":""},"",{"$f":"IFERROR(VLOOKUP(__疾患別コードレジメン名[[#This Row],[列11]],INDIRECT(\"__レジメンマスタ\"),2,FALSE),\"\")","v":""},"",{"$f":"IFERROR(VLOOKUP(__疾患別コードレジメン名[[#This Row],[列12]],INDIRECT(\"__レジメンマスタ\"),2,FALSE),\"\")","v":""},"",{"$f":"IFERROR(VLOOKUP(__疾患別コードレジメン名[[#This Row],[列13]],INDIRECT(\"__レジメンマスタ\"),2,FALSE),\"\")","v":""}]
["HEM0139-21",{"$f":"IFERROR(VLOOKUP(__疾患別コードレジメン名[[#This Row],[列1]],INDIRECT(\"__レジメンマスタ\"),2,FALSE),\"\")","v":"ビキセオス（CPX-351、地固め療法）"},"",{"$f":"IFERROR(VLOOKUP(__疾患別コードレジメン名[[#This Row],[列2]],INDIRECT(\"__レジメンマスタ\"),2,FALSE),\"\")","v":""},"",{"$f":"IFERROR(VLOOKUP(__疾患別コードレジメン名[[#This Row],[列3]],INDIRECT(\"__レジメンマスタ\"),2,FALSE),\"\")","v":""},"",{"$f":"IFERROR(VLOOKUP(__疾患別コードレジメン名[[#This Row],[列4]],INDIRECT(\"__レジメンマスタ\"),2,FALSE),\"\")","v":""},"",{"$f":"IFERROR(VLOOKUP(__疾患別コードレジメン名[[#This Row],[列5]],INDIRECT(\"__レジメンマスタ\"),2,FALSE),\"\")","v":""},"",{"$f":"IFERROR(VLOOKUP(__疾患別コードレジメン名[[#This Row],[列6]],INDIRECT(\"__レジメンマスタ\"),2,FALSE),\"\")","v":""},"",{"$f":"IFERROR(VLOOKUP(__疾患別コードレジメン名[[#This Row],[列7]],INDIRECT(\"__レジメンマスタ\"),2,FALSE),\"\")","v":""},"",{"$f":"IFERROR(VLOOKUP(__疾患別コードレジメン名[[#This Row],[列8]],INDIRECT(\"__レジメンマスタ\"),2,FALSE),\"\")","v":""},"",{"$f":"IFERROR(VLOOKUP(__疾患別コードレジメン名[[#This Row],[列9]],INDIRECT(\"__レジメンマスタ\"),2,FALSE),\"\")","v":""},"",{"$f":"IFERROR(VLOOKUP(__疾患別コードレジメン名[[#This Row],[列10]],INDIRECT(\"__レジメンマスタ\"),2,FALSE),\"\")","v":""},"",{"$f":"IFERROR(VLOOKUP(__疾患別コードレジメン名[[#This Row],[列11]],INDIRECT(\"__レジメンマスタ\"),2,FALSE),\"\")","v":""},"",{"$f":"IFERROR(VLOOKUP(__疾患別コードレジメン名[[#This Row],[列12]],INDIRECT(\"__レジメンマスタ\"),2,FALSE),\"\")","v":""},"",{"$f":"IFERROR(VLOOKUP(__疾患別コードレジメン名[[#This Row],[列13]],INDIRECT(\"__レジメンマスタ\"),2,FALSE),\"\")","v":""}]
["HEM0140-11",{"$f":"IFERROR(VLOOKUP(__疾患別コードレジメン名[[#This Row],[列1]],INDIRECT(\"__レジメンマスタ\"),2,FALSE),\"\")","v":"カルケンス＋ガザイバ"},"",{"$f":"IFERROR(VLOOKUP(__疾患別コードレジメン名[[#This Row],[列2]],INDIRECT(\"__レジメンマスタ\"),2,FALSE),\"\")","v":""},"",{"$f":"IFERROR(VLOOKUP(__疾患別コードレジメン名[[#This Row],[列3]],INDIRECT(\"__レジメンマスタ\"),2,FALSE),\"\")","v":""},"",{"$f":"IFERROR(VLOOKUP(__疾患別コードレジメン名[[#This Row],[列4]],INDIRECT(\"__レジメンマスタ\"),2,FALSE),\"\")","v":""},"",{"$f":"IFERROR(VLOOKUP(__疾患別コードレジメン名[[#This Row],[列5]],INDIRECT(\"__レジメンマスタ\"),2,FALSE),\"\")","v":""},"",{"$f":"IFERROR(VLOOKUP(__疾患別コードレジメン名[[#This Row],[列6]],INDIRECT(\"__レジメンマスタ\"),2,FALSE),\"\")","v":""},"",{"$f":"IFERROR(VLOOKUP(__疾患別コードレジメン名[[#This Row],[列7]],INDIRECT(\"__レジメンマスタ\"),2,FALSE),\"\")","v":""},"",{"$f":"IFERROR(VLOOKUP(__疾患別コードレジメン名[[#This Row],[列8]],INDIRECT(\"__レジメンマスタ\"),2,FALSE),\"\")","v":""},"",{"$f":"IFERROR(VLOOKUP(__疾患別コードレジメン名[[#This Row],[列9]],INDIRECT(\"__レジメンマスタ\"),2,FALSE),\"\")","v":""},"",{"$f":"IFERROR(VLOOKUP(__疾患別コードレジメン名[[#This Row],[列10]],INDIRECT(\"__レジメンマスタ\"),2,FALSE),\"\")","v":""},"",{"$f":"IFERROR(VLOOKUP(__疾患別コードレジメン名[[#This Row],[列11]],INDIRECT(\"__レジメンマスタ\"),2,FALSE),\"\")","v":""},"",{"$f":"IFERROR(VLOOKUP(__疾患別コードレジメン名[[#This Row],[列12]],INDIRECT(\"__レジメンマスタ\"),2,FALSE),\"\")","v":""},"",{"$f":"IFERROR(VLOOKUP(__疾患別コードレジメン名[[#This Row],[列13]],INDIRECT(\"__レジメンマスタ\"),2,FALSE),\"\")","v":""}]
["HEM0141-1",{"$f":"IFERROR(VLOOKUP(__疾患別コードレジメン名[[#This Row],[列1]],INDIRECT(\"__レジメンマスタ\"),2,FALSE),\"\")","v":"Isa-VRd(IMROZ)(1-4ｻｲｸﾙ目)"},"",{"$f":"IFERROR(VLOOKUP(__疾患別コードレジメン名[[#This Row],[列2]],INDIRECT(\"__レジメンマスタ\"),2,FALSE),\"\")","v":""},"",{"$f":"IFERROR(VLOOKUP(__疾患別コードレジメン名[[#This Row],[列3]],INDIRECT(\"__レジメンマスタ\"),2,FALSE),\"\")","v":""},"",{"$f":"IFERROR(VLOOKUP(__疾患別コードレジメン名[[#This Row],[列4]],INDIRECT(\"__レジメンマスタ\"),2,FALSE),\"\")","v":""},"",{"$f":"IFERROR(VLOOKUP(__疾患別コードレジメン名[[#This Row],[列5]],INDIRECT(\"__レジメンマスタ\"),2,FALSE),\"\")","v":""},"",{"$f":"IFERROR(VLOOKUP(__疾患別コードレジメン名[[#This Row],[列6]],INDIRECT(\"__レジメンマスタ\"),2,FALSE),\"\")","v":""},"",{"$f":"IFERROR(VLOOKUP(__疾患別コードレジメン名[[#This Row],[列7]],INDIRECT(\"__レジメンマスタ\"),2,FALSE),\"\")","v":""},"",{"$f":"IFERROR(VLOOKUP(__疾患別コードレジメン名[[#This Row],[列8]],INDIRECT(\"__レジメンマスタ\"),2,FALSE),\"\")","v":""},"",{"$f":"IFERROR(VLOOKUP(__疾患別コードレジメン名[[#This Row],[列9]],INDIRECT(\"__レジメンマスタ\"),2,FALSE),\"\")","v":""},"",{"$f":"IFERROR(VLOOKUP(__疾患別コードレジメン名[[#This Row],[列10]],INDIRECT(\"__レジメンマスタ\"),2,FALSE),\"\")","v":""},"",{"$f":"IFERROR(VLOOKUP(__疾患別コードレジメン名[[#This Row],[列11]],INDIRECT(\"__レジメンマスタ\"),2,FALSE),\"\")","v":""},"",{"$f":"IFERROR(VLOOKUP(__疾患別コードレジメン名[[#This Row],[列12]],INDIRECT(\"__レジメンマスタ\"),2,FALSE),\"\")","v":""},"",{"$f":"IFERROR(VLOOKUP(__疾患別コードレジメン名[[#This Row],[列13]],INDIRECT(\"__レジメンマスタ\"),2,FALSE),\"\")","v":""}]
["HEM0141-3",{"$f":"IFERROR(VLOOKUP(__疾患別コードレジメン名[[#This Row],[列1]],INDIRECT(\"__レジメンマスタ\"),2,FALSE),\"\")","v":"Isa-VRd(IMROZ)(5ｻｲｸﾙ目以降)"},"",{"$f":"IFERROR(VLOOKUP(__疾患別コードレジメン名[[#This Row],[列2]],INDIRECT(\"__レジメンマスタ\"),2,FALSE),\"\")","v":""},"",{"$f":"IFERROR(VLOOKUP(__疾患別コードレジメン名[[#This Row],[列3]],INDIRECT(\"__レジメンマスタ\"),2,FALSE),\"\")","v":""},"",{"$f":"IFERROR(VLOOKUP(__疾患別コードレジメン名[[#This Row],[列4]],INDIRECT(\"__レジメンマスタ\"),2,FALSE),\"\")","v":""},"",{"$f":"IFERROR(VLOOKUP(__疾患別コードレジメン名[[#This Row],[列5]],INDIRECT(\"__レジメンマスタ\"),2,FALSE),\"\")","v":""},"",{"$f":"IFERROR(VLOOKUP(__疾患別コードレジメン名[[#This Row],[列6]],INDIRECT(\"__レジメンマスタ\"),2,FALSE),\"\")","v":""},"",{"$f":"IFERROR(VLOOKUP(__疾患別コードレジメン名[[#This Row],[列7]],INDIRECT(\"__レジメンマスタ\"),2,FALSE),\"\")","v":""},"",{"$f":"IFERROR(VLOOKUP(__疾患別コードレジメン名[[#This Row],[列8]],INDIRECT(\"__レジメンマスタ\"),2,FALSE),\"\")","v":""},"",{"$f":"IFERROR(VLOOKUP(__疾患別コードレジメン名[[#This Row],[列9]],INDIRECT(\"__レジメンマスタ\"),2,FALSE),\"\")","v":""},"",{"$f":"IFERROR(VLOOKUP(__疾患別コードレジメン名[[#This Row],[列10]],INDIRECT(\"__レジメンマスタ\"),2,FALSE),\"\")","v":""},"",{"$f":"IFERROR(VLOOKUP(__疾患別コードレジメン名[[#This Row],[列11]],INDIRECT(\"__レジメンマスタ\"),2,FALSE),\"\")","v":""},"",{"$f":"IFERROR(VLOOKUP(__疾患別コードレジメン名[[#This Row],[列12]],INDIRECT(\"__レジメンマスタ\"),2,FALSE),\"\")","v":""},"",{"$f":"IFERROR(VLOOKUP(__疾患別コードレジメン名[[#This Row],[列13]],INDIRECT(\"__レジメンマスタ\"),2,FALSE),\"\")","v":""}]
["HEM0142-1",{"$f":"IFERROR(VLOOKUP(__疾患別コードレジメン名[[#This Row],[列1]],INDIRECT(\"__レジメンマスタ\"),2,FALSE),\"\")","v":"Isa-VRd(BENEFIT)(1-12ｻｲｸﾙ目)"},"",{"$f":"IFERROR(VLOOKUP(__疾患別コードレジメン名[[#This Row],[列2]],INDIRECT(\"__レジメンマスタ\"),2,FALSE),\"\")","v":""},"",{"$f":"IFERROR(VLOOKUP(__疾患別コードレジメン名[[#This Row],[列3]],INDIRECT(\"__レジメンマスタ\"),2,FALSE),\"\")","v":""},"",{"$f":"IFERROR(VLOOKUP(__疾患別コードレジメン名[[#This Row],[列4]],INDIRECT(\"__レジメンマスタ\"),2,FALSE),\"\")","v":""},"",{"$f":"IFERROR(VLOOKUP(__疾患別コードレジメン名[[#This Row],[列5]],INDIRECT(\"__レジメンマスタ\"),2,FALSE),\"\")","v":""},"",{"$f":"IFERROR(VLOOKUP(__疾患別コードレジメン名[[#This Row],[列6]],INDIRECT(\"__レジメンマスタ\"),2,FALSE),\"\")","v":""},"",{"$f":"IFERROR(VLOOKUP(__疾患別コードレジメン名[[#This Row],[列7]],INDIRECT(\"__レジメンマスタ\"),2,FALSE),\"\")","v":""},"",{"$f":"IFERROR(VLOOKUP(__疾患別コードレジメン名[[#This Row],[列8]],INDIRECT(\"__レジメンマスタ\"),2,FALSE),\"\")","v":""},"",{"$f":"IFERROR(VLOOKUP(__疾患別コードレジメン名[[#This Row],[列9]],INDIRECT(\"__レジメンマスタ\"),2,FALSE),\"\")","v":""},"",{"$f":"IFERROR(VLOOKUP(__疾患別コードレジメン名[[#This Row],[列10]],INDIRECT(\"__レジメンマスタ\"),2,FALSE),\"\")","v":""},"",{"$f":"IFERROR(VLOOKUP(__疾患別コードレジメン名[[#This Row],[列11]],INDIRECT(\"__レジメンマスタ\"),2,FALSE),\"\")","v":""},"",{"$f":"IFERROR(VLOOKUP(__疾患別コードレジメン名[[#This Row],[列12]],INDIRECT(\"__レジメンマスタ\"),2,FALSE),\"\")","v":""},"",{"$f":"IFERROR(VLOOKUP(__疾患別コードレジメン名[[#This Row],[列13]],INDIRECT(\"__レジメンマスタ\"),2,FALSE),\"\")","v":""}]
["HEM0142-3",{"$f":"IFERROR(VLOOKUP(__疾患別コードレジメン名[[#This Row],[列1]],INDIRECT(\"__レジメンマスタ\"),2,FALSE),\"\")","v":"Isa-VRd(BENEFIT)(13ｻｲｸﾙ目以降)"},"",{"$f":"IFERROR(VLOOKUP(__疾患別コードレジメン名[[#This Row],[列2]],INDIRECT(\"__レジメンマスタ\"),2,FALSE),\"\")","v":""},"",{"$f":"IFERROR(VLOOKUP(__疾患別コードレジメン名[[#This Row],[列3]],INDIRECT(\"__レジメンマスタ\"),2,FALSE),\"\")","v":""},"",{"$f":"IFERROR(VLOOKUP(__疾患別コードレジメン名[[#This Row],[列4]],INDIRECT(\"__レジメンマスタ\"),2,FALSE),\"\")","v":""},"",{"$f":"IFERROR(VLOOKUP(__疾患別コードレジメン名[[#This Row],[列5]],INDIRECT(\"__レジメンマスタ\"),2,FALSE),\"\")","v":""},"",{"$f":"IFERROR(VLOOKUP(__疾患別コードレジメン名[[#This Row],[列6]],INDIRECT(\"__レジメンマスタ\"),2,FALSE),\"\")","v":""},"",{"$f":"IFERROR(VLOOKUP(__疾患別コードレジメン名[[#This Row],[列7]],INDIRECT(\"__レジメンマスタ\"),2,FALSE),\"\")","v":""},"",{"$f":"IFERROR(VLOOKUP(__疾患別コードレジメン名[[#This Row],[列8]],INDIRECT(\"__レジメンマスタ\"),2,FALSE),\"\")","v":""},"",{"$f":"IFERROR(VLOOKUP(__疾患別コードレジメン名[[#This Row],[列9]],INDIRECT(\"__レジメンマスタ\"),2,FALSE),\"\")","v":""},"",{"$f":"IFERROR(VLOOKUP(__疾患別コードレジメン名[[#This Row],[列10]],INDIRECT(\"__レジメンマスタ\"),2,FALSE),\"\")","v":""},"",{"$f":"IFERROR(VLOOKUP(__疾患別コードレジメン名[[#This Row],[列11]],INDIRECT(\"__レジメンマスタ\"),2,FALSE),\"\")","v":""},"",{"$f":"IFERROR(VLOOKUP(__疾患別コードレジメン名[[#This Row],[列12]],INDIRECT(\"__レジメンマスタ\"),2,FALSE),\"\")","v":""},"",{"$f":"IFERROR(VLOOKUP(__疾患別コードレジメン名[[#This Row],[列13]],INDIRECT(\"__レジメンマスタ\"),2,FALSE),\"\")","v":""}]
["HEM0143",{"$f":"IFERROR(VLOOKUP(__疾患別コードレジメン名[[#This Row],[列1]],INDIRECT(\"__レジメンマスタ\"),2,FALSE),\"\")","v":"ベネクレクスタ＋リツキサン"},"",{"$f":"IFERROR(VLOOKUP(__疾患別コードレジメン名[[#This Row],[列2]],INDIRECT(\"__レジメンマスタ\"),2,FALSE),\"\")","v":""},"",{"$f":"IFERROR(VLOOKUP(__疾患別コードレジメン名[[#This Row],[列3]],INDIRECT(\"__レジメンマスタ\"),2,FALSE),\"\")","v":""},"",{"$f":"IFERROR(VLOOKUP(__疾患別コードレジメン名[[#This Row],[列4]],INDIRECT(\"__レジメンマスタ\"),2,FALSE),\"\")","v":""},"",{"$f":"IFERROR(VLOOKUP(__疾患別コードレジメン名[[#This Row],[列5]],INDIRECT(\"__レジメンマスタ\"),2,FALSE),\"\")","v":""},"",{"$f":"IFERROR(VLOOKUP(__疾患別コードレジメン名[[#This Row],[列6]],INDIRECT(\"__レジメンマスタ\"),2,FALSE),\"\")","v":""},"",{"$f":"IFERROR(VLOOKUP(__疾患別コードレジメン名[[#This Row],[列7]],INDIRECT(\"__レジメンマスタ\"),2,FALSE),\"\")","v":""},"",{"$f":"IFERROR(VLOOKUP(__疾患別コードレジメン名[[#This Row],[列8]],INDIRECT(\"__レジメンマスタ\"),2,FALSE),\"\")","v":""},"",{"$f":"IFERROR(VLOOKUP(__疾患別コードレジメン名[[#This Row],[列9]],INDIRECT(\"__レジメンマスタ\"),2,FALSE),\"\")","v":""},"",{"$f":"IFERROR(VLOOKUP(__疾患別コードレジメン名[[#This Row],[列10]],INDIRECT(\"__レジメンマスタ\"),2,FALSE),\"\")","v":""},"",{"$f":"IFERROR(VLOOKUP(__疾患別コードレジメン名[[#This Row],[列11]],INDIRECT(\"__レジメンマスタ\"),2,FALSE),\"\")","v":""},"",{"$f":"IFERROR(VLOOKUP(__疾患別コードレジメン名[[#This Row],[列12]],INDIRECT(\"__レジメンマスタ\"),2,FALSE),\"\")","v":""},"",{"$f":"IFERROR(VLOOKUP(__疾患別コードレジメン名[[#This Row],[列13]],INDIRECT(\"__レジメンマスタ\"),2,FALSE),\"\")","v":""}]
["HEM0144",{"$f":"IFERROR(VLOOKUP(__疾患別コードレジメン名[[#This Row],[列1]],INDIRECT(\"__レジメンマスタ\"),2,FALSE),\"\")","v":"DBLd(PERSEUS)(1-6ｻｲｸﾙ目)"},"",{"$f":"IFERROR(VLOOKUP(__疾患別コードレジメン名[[#This Row],[列2]],INDIRECT(\"__レジメンマスタ\"),2,FALSE),\"\")","v":""},"",{"$f":"IFERROR(VLOOKUP(__疾患別コードレジメン名[[#This Row],[列3]],INDIRECT(\"__レジメンマスタ\"),2,FALSE),\"\")","v":""},"",{"$f":"IFERROR(VLOOKUP(__疾患別コードレジメン名[[#This Row],[列4]],INDIRECT(\"__レジメンマスタ\"),2,FALSE),\"\")","v":""},"",{"$f":"IFERROR(VLOOKUP(__疾患別コードレジメン名[[#This Row],[列5]],INDIRECT(\"__レジメンマスタ\"),2,FALSE),\"\")","v":""},"",{"$f":"IFERROR(VLOOKUP(__疾患別コードレジメン名[[#This Row],[列6]],INDIRECT(\"__レジメンマスタ\"),2,FALSE),\"\")","v":""},"",{"$f":"IFERROR(VLOOKUP(__疾患別コードレジメン名[[#This Row],[列7]],INDIRECT(\"__レジメンマスタ\"),2,FALSE),\"\")","v":""},"",{"$f":"IFERROR(VLOOKUP(__疾患別コードレジメン名[[#This Row],[列8]],INDIRECT(\"__レジメンマスタ\"),2,FALSE),\"\")","v":""},"",{"$f":"IFERROR(VLOOKUP(__疾患別コードレジメン名[[#This Row],[列9]],INDIRECT(\"__レジメンマスタ\"),2,FALSE),\"\")","v":""},"",{"$f":"IFERROR(VLOOKUP(__疾患別コードレジメン名[[#This Row],[列10]],INDIRECT(\"__レジメンマスタ\"),2,FALSE),\"\")","v":""},"",{"$f":"IFERROR(VLOOKUP(__疾患別コードレジメン名[[#This Row],[列11]],INDIRECT(\"__レジメンマスタ\"),2,FALSE),\"\")","v":""},"",{"$f":"IFERROR(VLOOKUP(__疾患別コードレジメン名[[#This Row],[列12]],INDIRECT(\"__レジメンマスタ\"),2,FALSE),\"\")","v":""},"",{"$f":"IFERROR(VLOOKUP(__疾患別コードレジメン名[[#This Row],[列13]],INDIRECT(\"__レジメンマスタ\"),2,FALSE),\"\")","v":""}]
["HEM0144-4",{"$f":"IFERROR(VLOOKUP(__疾患別コードレジメン名[[#This Row],[列1]],INDIRECT(\"__レジメンマスタ\"),2,FALSE),\"\")","v":"DBLd(PERSEUS)(7ｻｲｸﾙ目以降)"},"",{"$f":"IFERROR(VLOOKUP(__疾患別コードレジメン名[[#This Row],[列2]],INDIRECT(\"__レジメンマスタ\"),2,FALSE),\"\")","v":""},"",{"$f":"IFERROR(VLOOKUP(__疾患別コードレジメン名[[#This Row],[列3]],INDIRECT(\"__レジメンマスタ\"),2,FALSE),\"\")","v":""},"",{"$f":"IFERROR(VLOOKUP(__疾患別コードレジメン名[[#This Row],[列4]],INDIRECT(\"__レジメンマスタ\"),2,FALSE),\"\")","v":""},"",{"$f":"IFERROR(VLOOKUP(__疾患別コードレジメン名[[#This Row],[列5]],INDIRECT(\"__レジメンマスタ\"),2,FALSE),\"\")","v":""},"",{"$f":"IFERROR(VLOOKUP(__疾患別コードレジメン名[[#This Row],[列6]],INDIRECT(\"__レジメンマスタ\"),2,FALSE),\"\")","v":""},"",{"$f":"IFERROR(VLOOKUP(__疾患別コードレジメン名[[#This Row],[列7]],INDIRECT(\"__レジメンマスタ\"),2,FALSE),\"\")","v":""},"",{"$f":"IFERROR(VLOOKUP(__疾患別コードレジメン名[[#This Row],[列8]],INDIRECT(\"__レジメンマスタ\"),2,FALSE),\"\")","v":""},"",{"$f":"IFERROR(VLOOKUP(__疾患別コードレジメン名[[#This Row],[列9]],INDIRECT(\"__レジメンマスタ\"),2,FALSE),\"\")","v":""},"",{"$f":"IFERROR(VLOOKUP(__疾患別コードレジメン名[[#This Row],[列10]],INDIRECT(\"__レジメンマスタ\"),2,FALSE),\"\")","v":""},"",{"$f":"IFERROR(VLOOKUP(__疾患別コードレジメン名[[#This Row],[列11]],INDIRECT(\"__レジメンマスタ\"),2,FALSE),\"\")","v":""},"",{"$f":"IFERROR(VLOOKUP(__疾患別コードレジメン名[[#This Row],[列12]],INDIRECT(\"__レジメンマスタ\"),2,FALSE),\"\")","v":""},"",{"$f":"IFERROR(VLOOKUP(__疾患別コードレジメン名[[#This Row],[列13]],INDIRECT(\"__レジメンマスタ\"),2,FALSE),\"\")","v":""}]
["HEM0145",{"$f":"IFERROR(VLOOKUP(__疾患別コードレジメン名[[#This Row],[列1]],INDIRECT(\"__レジメンマスタ\"),2,FALSE),\"\")","v":"ダリナパルシン単剤"},"",{"$f":"IFERROR(VLOOKUP(__疾患別コードレジメン名[[#This Row],[列2]],INDIRECT(\"__レジメンマスタ\"),2,FALSE),\"\")","v":""},"",{"$f":"IFERROR(VLOOKUP(__疾患別コードレジメン名[[#This Row],[列3]],INDIRECT(\"__レジメンマスタ\"),2,FALSE),\"\")","v":""},"",{"$f":"IFERROR(VLOOKUP(__疾患別コードレジメン名[[#This Row],[列4]],INDIRECT(\"__レジメンマスタ\"),2,FALSE),\"\")","v":""},"",{"$f":"IFERROR(VLOOKUP(__疾患別コードレジメン名[[#This Row],[列5]],INDIRECT(\"__レジメンマスタ\"),2,FALSE),\"\")","v":""},"",{"$f":"IFERROR(VLOOKUP(__疾患別コードレジメン名[[#This Row],[列6]],INDIRECT(\"__レジメンマスタ\"),2,FALSE),\"\")","v":""},"",{"$f":"IFERROR(VLOOKUP(__疾患別コードレジメン名[[#This Row],[列7]],INDIRECT(\"__レジメンマスタ\"),2,FALSE),\"\")","v":""},"",{"$f":"IFERROR(VLOOKUP(__疾患別コードレジメン名[[#This Row],[列8]],INDIRECT(\"__レジメンマスタ\"),2,FALSE),\"\")","v":""},"",{"$f":"IFERROR(VLOOKUP(__疾患別コードレジメン名[[#This Row],[列9]],INDIRECT(\"__レジメンマスタ\"),2,FALSE),\"\")","v":""},"",{"$f":"IFERROR(VLOOKUP(__疾患別コードレジメン名[[#This Row],[列10]],INDIRECT(\"__レジメンマスタ\"),2,FALSE),\"\")","v":""},"",{"$f":"IFERROR(VLOOKUP(__疾患別コードレジメン名[[#This Row],[列11]],INDIRECT(\"__レジメンマスタ\"),2,FALSE),\"\")","v":""},"",{"$f":"IFERROR(VLOOKUP(__疾患別コードレジメン名[[#This Row],[列12]],INDIRECT(\"__レジメンマスタ\"),2,FALSE),\"\")","v":""},"",{"$f":"IFERROR(VLOOKUP(__疾患別コードレジメン名[[#This Row],[列13]],INDIRECT(\"__レジメンマスタ\"),2,FALSE),\"\")","v":""}]
["HEM0146",{"$f":"IFERROR(VLOOKUP(__疾患別コードレジメン名[[#This Row],[列1]],INDIRECT(\"__レジメンマスタ\"),2,FALSE),\"\")","v":"（作成中）DBLd(CEPHEUS)(1-8ｻｲｸﾙ目)"},"",{"$f":"IFERROR(VLOOKUP(__疾患別コードレジメン名[[#This Row],[列2]],INDIRECT(\"__レジメンマスタ\"),2,FALSE),\"\")","v":""},"",{"$f":"IFERROR(VLOOKUP(__疾患別コードレジメン名[[#This Row],[列3]],INDIRECT(\"__レジメンマスタ\"),2,FALSE),\"\")","v":""},"",{"$f":"IFERROR(VLOOKUP(__疾患別コードレジメン名[[#This Row],[列4]],INDIRECT(\"__レジメンマスタ\"),2,FALSE),\"\")","v":""},"",{"$f":"IFERROR(VLOOKUP(__疾患別コードレジメン名[[#This Row],[列5]],INDIRECT(\"__レジメンマスタ\"),2,FALSE),\"\")","v":""},"",{"$f":"IFERROR(VLOOKUP(__疾患別コードレジメン名[[#This Row],[列6]],INDIRECT(\"__レジメンマスタ\"),2,FALSE),\"\")","v":""},"",{"$f":"IFERROR(VLOOKUP(__疾患別コードレジメン名[[#This Row],[列7]],INDIRECT(\"__レジメンマスタ\"),2,FALSE),\"\")","v":""},"",{"$f":"IFERROR(VLOOKUP(__疾患別コードレジメン名[[#This Row],[列8]],INDIRECT(\"__レジメンマスタ\"),2,FALSE),\"\")","v":""},"",{"$f":"IFERROR(VLOOKUP(__疾患別コードレジメン名[[#This Row],[列9]],INDIRECT(\"__レジメンマスタ\"),2,FALSE),\"\")","v":""},"",{"$f":"IFERROR(VLOOKUP(__疾患別コードレジメン名[[#This Row],[列10]],INDIRECT(\"__レジメンマスタ\"),2,FALSE),\"\")","v":""},"",{"$f":"IFERROR(VLOOKUP(__疾患別コードレジメン名[[#This Row],[列11]],INDIRECT(\"__レジメンマスタ\"),2,FALSE),\"\")","v":""},"",{"$f":"IFERROR(VLOOKUP(__疾患別コードレジメン名[[#This Row],[列12]],INDIRECT(\"__レジメンマスタ\"),2,FALSE),\"\")","v":""},"",{"$f":"IFERROR(VLOOKUP(__疾患別コードレジメン名[[#This Row],[列13]],INDIRECT(\"__レジメンマスタ\"),2,FALSE),\"\")","v":""}]
["HEM0146-4",{"$f":"IFERROR(VLOOKUP(__疾患別コードレジメン名[[#This Row],[列1]],INDIRECT(\"__レジメンマスタ\"),2,FALSE),\"\")","v":"（作成中）DBLd(CEPHEUS)(9ｻｲｸﾙ目以降)"},"",{"$f":"IFERROR(VLOOKUP(__疾患別コードレジメン名[[#This Row],[列2]],INDIRECT(\"__レジメンマスタ\"),2,FALSE),\"\")","v":""},"",{"$f":"IFERROR(VLOOKUP(__疾患別コードレジメン名[[#This Row],[列3]],INDIRECT(\"__レジメンマスタ\"),2,FALSE),\"\")","v":""},"",{"$f":"IFERROR(VLOOKUP(__疾患別コードレジメン名[[#This Row],[列4]],INDIRECT(\"__レジメンマスタ\"),2,FALSE),\"\")","v":""},"",{"$f":"IFERROR(VLOOKUP(__疾患別コードレジメン名[[#This Row],[列5]],INDIRECT(\"__レジメンマスタ\"),2,FALSE),\"\")","v":""},"",{"$f":"IFERROR(VLOOKUP(__疾患別コードレジメン名[[#This Row],[列6]],INDIRECT(\"__レジメンマスタ\"),2,FALSE),\"\")","v":""},"",{"$f":"IFERROR(VLOOKUP(__疾患別コードレジメン名[[#This Row],[列7]],INDIRECT(\"__レジメンマスタ\"),2,FALSE),\"\")","v":""},"",{"$f":"IFERROR(VLOOKUP(__疾患別コードレジメン名[[#This Row],[列8]],INDIRECT(\"__レジメンマスタ\"),2,FALSE),\"\")","v":""},"",{"$f":"IFERROR(VLOOKUP(__疾患別コードレジメン名[[#This Row],[列9]],INDIRECT(\"__レジメンマスタ\"),2,FALSE),\"\")","v":""},"",{"$f":"IFERROR(VLOOKUP(__疾患別コードレジメン名[[#This Row],[列10]],INDIRECT(\"__レジメンマスタ\"),2,FALSE),\"\")","v":""},"",{"$f":"IFERROR(VLOOKUP(__疾患別コードレジメン名[[#This Row],[列11]],INDIRECT(\"__レジメンマスタ\"),2,FALSE),\"\")","v":""},"",{"$f":"IFERROR(VLOOKUP(__疾患別コードレジメン名[[#This Row],[列12]],INDIRECT(\"__レジメンマスタ\"),2,FALSE),\"\")","v":""},"",{"$f":"IFERROR(VLOOKUP(__疾患別コードレジメン名[[#This Row],[列13]],INDIRECT(\"__レジメンマスタ\"),2,FALSE),\"\")","v":""}]
["HEM0147-1",{"$f":"IFERROR(VLOOKUP(__疾患別コードレジメン名[[#This Row],[列1]],INDIRECT(\"__レジメンマスタ\"),2,FALSE),\"\")","v":"タービー（1週間毎）"},"",{"$f":"IFERROR(VLOOKUP(__疾患別コードレジメン名[[#This Row],[列2]],INDIRECT(\"__レジメンマスタ\"),2,FALSE),\"\")","v":""},"",{"$f":"IFERROR(VLOOKUP(__疾患別コードレジメン名[[#This Row],[列3]],INDIRECT(\"__レジメンマスタ\"),2,FALSE),\"\")","v":""},"",{"$f":"IFERROR(VLOOKUP(__疾患別コードレジメン名[[#This Row],[列4]],INDIRECT(\"__レジメンマスタ\"),2,FALSE),\"\")","v":""},"",{"$f":"IFERROR(VLOOKUP(__疾患別コードレジメン名[[#This Row],[列5]],INDIRECT(\"__レジメンマスタ\"),2,FALSE),\"\")","v":""},"",{"$f":"IFERROR(VLOOKUP(__疾患別コードレジメン名[[#This Row],[列6]],INDIRECT(\"__レジメンマスタ\"),2,FALSE),\"\")","v":""},"",{"$f":"IFERROR(VLOOKUP(__疾患別コードレジメン名[[#This Row],[列7]],INDIRECT(\"__レジメンマスタ\"),2,FALSE),\"\")","v":""},"",{"$f":"IFERROR(VLOOKUP(__疾患別コードレジメン名[[#This Row],[列8]],INDIRECT(\"__レジメンマスタ\"),2,FALSE),\"\")","v":""},"",{"$f":"IFERROR(VLOOKUP(__疾患別コードレジメン名[[#This Row],[列9]],INDIRECT(\"__レジメンマスタ\"),2,FALSE),\"\")","v":""},"",{"$f":"IFERROR(VLOOKUP(__疾患別コードレジメン名[[#This Row],[列10]],INDIRECT(\"__レジメンマスタ\"),2,FALSE),\"\")","v":""},"",{"$f":"IFERROR(VLOOKUP(__疾患別コードレジメン名[[#This Row],[列11]],INDIRECT(\"__レジメンマスタ\"),2,FALSE),\"\")","v":""},"",{"$f":"IFERROR(VLOOKUP(__疾患別コードレジメン名[[#This Row],[列12]],INDIRECT(\"__レジメンマスタ\"),2,FALSE),\"\")","v":""},"",{"$f":"IFERROR(VLOOKUP(__疾患別コードレジメン名[[#This Row],[列13]],INDIRECT(\"__レジメンマスタ\"),2,FALSE),\"\")","v":""}]
["HEM0147-2",{"$f":"IFERROR(VLOOKUP(__疾患別コードレジメン名[[#This Row],[列1]],INDIRECT(\"__レジメンマスタ\"),2,FALSE),\"\")","v":"タービー（2週間毎）"},"",{"$f":"IFERROR(VLOOKUP(__疾患別コードレジメン名[[#This Row],[列2]],INDIRECT(\"__レジメンマスタ\"),2,FALSE),\"\")","v":""},"",{"$f":"IFERROR(VLOOKUP(__疾患別コードレジメン名[[#This Row],[列3]],INDIRECT(\"__レジメンマスタ\"),2,FALSE),\"\")","v":""},"",{"$f":"IFERROR(VLOOKUP(__疾患別コードレジメン名[[#This Row],[列4]],INDIRECT(\"__レジメンマスタ\"),2,FALSE),\"\")","v":""},"",{"$f":"IFERROR(VLOOKUP(__疾患別コードレジメン名[[#This Row],[列5]],INDIRECT(\"__レジメンマスタ\"),2,FALSE),\"\")","v":""},"",{"$f":"IFERROR(VLOOKUP(__疾患別コードレジメン名[[#This Row],[列6]],INDIRECT(\"__レジメンマスタ\"),2,FALSE),\"\")","v":""},"",{"$f":"IFERROR(VLOOKUP(__疾患別コードレジメン名[[#This Row],[列7]],INDIRECT(\"__レジメンマスタ\"),2,FALSE),\"\")","v":""},"",{"$f":"IFERROR(VLOOKUP(__疾患別コードレジメン名[[#This Row],[列8]],INDIRECT(\"__レジメンマスタ\"),2,FALSE),\"\")","v":""},"",{"$f":"IFERROR(VLOOKUP(__疾患別コードレジメン名[[#This Row],[列9]],INDIRECT(\"__レジメンマスタ\"),2,FALSE),\"\")","v":""},"",{"$f":"IFERROR(VLOOKUP(__疾患別コードレジメン名[[#This Row],[列10]],INDIRECT(\"__レジメンマスタ\"),2,FALSE),\"\")","v":""},"",{"$f":"IFERROR(VLOOKUP(__疾患別コードレジメン名[[#This Row],[列11]],INDIRECT(\"__レジメンマスタ\"),2,FALSE),\"\")","v":""},"",{"$f":"IFERROR(VLOOKUP(__疾患別コードレジメン名[[#This Row],[列12]],INDIRECT(\"__レジメンマスタ\"),2,FALSE),\"\")","v":""},"",{"$f":"IFERROR(VLOOKUP(__疾患別コードレジメン名[[#This Row],[列13]],INDIRECT(\"__レジメンマスタ\"),2,FALSE),\"\")","v":""}]
["HEM0148",{"$f":"IFERROR(VLOOKUP(__疾患別コードレジメン名[[#This Row],[列1]],INDIRECT(\"__レジメンマスタ\"),2,FALSE),\"\")","v":"DRC"},"",{"$f":"IFERROR(VLOOKUP(__疾患別コードレジメン名[[#This Row],[列2]],INDIRECT(\"__レジメンマスタ\"),2,FALSE),\"\")","v":""},"",{"$f":"IFERROR(VLOOKUP(__疾患別コードレジメン名[[#This Row],[列3]],INDIRECT(\"__レジメンマスタ\"),2,FALSE),\"\")","v":""},"",{"$f":"IFERROR(VLOOKUP(__疾患別コードレジメン名[[#This Row],[列4]],INDIRECT(\"__レジメンマスタ\"),2,FALSE),\"\")","v":""},"",{"$f":"IFERROR(VLOOKUP(__疾患別コードレジメン名[[#This Row],[列5]],INDIRECT(\"__レジメンマスタ\"),2,FALSE),\"\")","v":""},"",{"$f":"IFERROR(VLOOKUP(__疾患別コードレジメン名[[#This Row],[列6]],INDIRECT(\"__レジメンマスタ\"),2,FALSE),\"\")","v":""},"",{"$f":"IFERROR(VLOOKUP(__疾患別コードレジメン名[[#This Row],[列7]],INDIRECT(\"__レジメンマスタ\"),2,FALSE),\"\")","v":""},"",{"$f":"IFERROR(VLOOKUP(__疾患別コードレジメン名[[#This Row],[列8]],INDIRECT(\"__レジメンマスタ\"),2,FALSE),\"\")","v":""},"",{"$f":"IFERROR(VLOOKUP(__疾患別コードレジメン名[[#This Row],[列9]],INDIRECT(\"__レジメンマスタ\"),2,FALSE),\"\")","v":""},"",{"$f":"IFERROR(VLOOKUP(__疾患別コードレジメン名[[#This Row],[列10]],INDIRECT(\"__レジメンマスタ\"),2,FALSE),\"\")","v":""},"",{"$f":"IFERROR(VLOOKUP(__疾患別コードレジメン名[[#This Row],[列11]],INDIRECT(\"__レジメンマスタ\"),2,FALSE),\"\")","v":""},"",{"$f":"IFERROR(VLOOKUP(__疾患別コードレジメン名[[#This Row],[列12]],INDIRECT(\"__レジメンマスタ\"),2,FALSE),\"\")","v":""},"",{"$f":"IFERROR(VLOOKUP(__疾患別コードレジメン名[[#This Row],[列13]],INDIRECT(\"__レジメンマスタ\"),2,FALSE),\"\")","v":""}]
["",{"$f":"IFERROR(VLOOKUP(__疾患別コードレジメン名[[#This Row],[列1]],INDIRECT(\"__レジメンマスタ\"),2,FALSE),\"\")","v":""},"",{"$f":"IFERROR(VLOOKUP(__疾患別コードレジメン名[[#This Row],[列2]],INDIRECT(\"__レジメンマスタ\"),2,FALSE),\"\")","v":""},"",{"$f":"IFERROR(VLOOKUP(__疾患別コードレジメン名[[#This Row],[列3]],INDIRECT(\"__レジメンマスタ\"),2,FALSE),\"\")","v":""},"",{"$f":"IFERROR(VLOOKUP(__疾患別コードレジメン名[[#This Row],[列4]],INDIRECT(\"__レジメンマスタ\"),2,FALSE),\"\")","v":""},"",{"$f":"IFERROR(VLOOKUP(__疾患別コードレジメン名[[#This Row],[列5]],INDIRECT(\"__レジメンマスタ\"),2,FALSE),\"\")","v":""},"",{"$f":"IFERROR(VLOOKUP(__疾患別コードレジメン名[[#This Row],[列6]],INDIRECT(\"__レジメンマスタ\"),2,FALSE),\"\")","v":""},"",{"$f":"IFERROR(VLOOKUP(__疾患別コードレジメン名[[#This Row],[列7]],INDIRECT(\"__レジメンマスタ\"),2,FALSE),\"\")","v":""},"",{"$f":"IFERROR(VLOOKUP(__疾患別コードレジメン名[[#This Row],[列8]],INDIRECT(\"__レジメンマスタ\"),2,FALSE),\"\")","v":""},"",{"$f":"IFERROR(VLOOKUP(__疾患別コードレジメン名[[#This Row],[列9]],INDIRECT(\"__レジメンマスタ\"),2,FALSE),\"\")","v":""},"",{"$f":"IFERROR(VLOOKUP(__疾患別コードレジメン名[[#This Row],[列10]],INDIRECT(\"__レジメンマスタ\"),2,FALSE),\"\")","v":""},"",{"$f":"IFERROR(VLOOKUP(__疾患別コードレジメン名[[#This Row],[列11]],INDIRECT(\"__レジメンマスタ\"),2,FALSE),\"\")","v":""},"",{"$f":"IFERROR(VLOOKUP(__疾患別コードレジメン名[[#This Row],[列12]],INDIRECT(\"__レジメンマスタ\"),2,FALSE),\"\")","v":""},"",{"$f":"IFERROR(VLOOKUP(__疾患別コードレジメン名[[#This Row],[列13]],INDIRECT(\"__レジメンマスタ\"),2,FALSE),\"\")","v":""}]
["",{"$f":"IFERROR(VLOOKUP(__疾患別コードレジメン名[[#This Row],[列1]],INDIRECT(\"__レジメンマスタ\"),2,FALSE),\"\")","v":""},"",{"$f":"IFERROR(VLOOKUP(__疾患別コードレジメン名[[#This Row],[列2]],INDIRECT(\"__レジメンマスタ\"),2,FALSE),\"\")","v":""},"",{"$f":"IFERROR(VLOOKUP(__疾患別コードレジメン名[[#This Row],[列3]],INDIRECT(\"__レジメンマスタ\"),2,FALSE),\"\")","v":""},"",{"$f":"IFERROR(VLOOKUP(__疾患別コードレジメン名[[#This Row],[列4]],INDIRECT(\"__レジメンマスタ\"),2,FALSE),\"\")","v":""},"",{"$f":"IFERROR(VLOOKUP(__疾患別コードレジメン名[[#This Row],[列5]],INDIRECT(\"__レジメンマスタ\"),2,FALSE),\"\")","v":""},"",{"$f":"IFERROR(VLOOKUP(__疾患別コードレジメン名[[#This Row],[列6]],INDIRECT(\"__レジメンマスタ\"),2,FALSE),\"\")","v":""},"",{"$f":"IFERROR(VLOOKUP(__疾患別コードレジメン名[[#This Row],[列7]],INDIRECT(\"__レジメンマスタ\"),2,FALSE),\"\")","v":""},"",{"$f":"IFERROR(VLOOKUP(__疾患別コードレジメン名[[#This Row],[列8]],INDIRECT(\"__レジメンマスタ\"),2,FALSE),\"\")","v":""},"",{"$f":"IFERROR(VLOOKUP(__疾患別コードレジメン名[[#This Row],[列9]],INDIRECT(\"__レジメンマスタ\"),2,FALSE),\"\")","v":""},"",{"$f":"IFERROR(VLOOKUP(__疾患別コードレジメン名[[#This Row],[列10]],INDIRECT(\"__レジメンマスタ\"),2,FALSE),\"\")","v":""},"",{"$f":"IFERROR(VLOOKUP(__疾患別コードレジメン名[[#This Row],[列11]],INDIRECT(\"__レジメンマスタ\"),2,FALSE),\"\")","v":""},"",{"$f":"IFERROR(VLOOKUP(__疾患別コードレジメン名[[#This Row],[列12]],INDIRECT(\"__レジメンマスタ\"),2,FALSE),\"\")","v":""},"",{"$f":"IFERROR(VLOOKUP(__疾患別コードレジメン名[[#This Row],[列13]],INDIRECT(\"__レジメンマスタ\"),2,FALSE),\"\")","v":""}]
[{"$f":"IF(IFERROR(INDIRECT(\"__疾患別コード[@造血器]\"),0)=0,\"\",INDIRECT(\"__疾患別コード[@造血器]\"))","v":"ニンラーロ(+LEN、再発難治)"},{"$f":"IFERROR(VLOOKUP(__疾患別コードレジメン名[[#This Row],[列1]],INDIRECT(\"__レジメンマスタ\"),2,FALSE),\"\")","v":"ニンラーロ(+LEN、再発難治)"},{"$f":"IF(IFERROR(INDIRECT(\"__疾患別コード[@肺]\"),0)=0,\"\",INDIRECT(\"__疾患別コード[@肺]\"))","v":""},{"$f":"IFERROR(VLOOKUP(__疾患別コードレジメン名[[#This Row],[列2]],INDIRECT(\"__レジメンマスタ\"),2,FALSE),\"\")","v":""},"",{"$f":"IFERROR(VLOOKUP(__疾患別コードレジメン名[[#This Row],[列3]],INDIRECT(\"__レジメンマスタ\"),2,FALSE),\"\")","v":""},"",{"$f":"IFERROR(VLOOKUP(__疾患別コードレジメン名[[#This Row],[列4]],INDIRECT(\"__レジメンマスタ\"),2,FALSE),\"\")","v":""},"",{"$f":"IFERROR(VLOOKUP(__疾患別コードレジメン名[[#This Row],[列5]],INDIRECT(\"__レジメンマスタ\"),2,FALSE),\"\")","v":""},"",{"$f":"IFERROR(VLOOKUP(__疾患別コードレジメン名[[#This Row],[列6]],INDIRECT(\"__レジメンマスタ\"),2,FALSE),\"\")","v":""},"",{"$f":"IFERROR(VLOOKUP(__疾患別コードレジメン名[[#This Row],[列7]],INDIRECT(\"__レジメンマスタ\"),2,FALSE),\"\")","v":""},{"$f":"IF(IFERROR(INDIRECT(\"__疾患別コード[@脳]\"),0)=0,\"\",INDIRECT(\"__疾患別コード[@脳]\"))","v":""},{"$f":"IFERROR(VLOOKUP(__疾患別コードレジメン名[[#This Row],[列8]],INDIRECT(\"__レジメンマスタ\"),2,FALSE),\"\")","v":""},"",{"$f":"IFERROR(VLOOKUP(__疾患別コードレジメン名[[#This Row],[列9]],INDIRECT(\"__レジメンマスタ\"),2,FALSE),\"\")","v":""},"",{"$f":"IFERROR(VLOOKUP(__疾患別コードレジメン名[[#This Row],[列10]],INDIRECT(\"__レジメンマスタ\"),2,FALSE),\"\")","v":""},"",{"$f":"IFERROR(VLOOKUP(__疾患別コードレジメン名[[#This Row],[列11]],INDIRECT(\"__レジメンマスタ\"),2,FALSE),\"\")","v":""},{"$f":"IF(IFERROR(INDIRECT(\"__疾患別コード[@間質性肺炎]\"),0)=0,\"\",INDIRECT(\"__疾患別コード[@間質性肺炎]\"))","v":""},{"$f":"IFERROR(VLOOKUP(__疾患別コードレジメン名[[#This Row],[列12]],INDIRECT(\"__レジメンマスタ\"),2,FALSE),\"\")","v":""},"",{"$f":"IFERROR(VLOOKUP(__疾患別コードレジメン名[[#This Row],[列13]],INDIRECT(\"__レジメンマスタ\"),2,FALSE),\"\")","v":""}]
["ニンラーロ(維持)",{"$f":"IFERROR(VLOOKUP(__疾患別コードレジメン名[[#This Row],[列1]],INDIRECT(\"__レジメンマスタ\"),2,FALSE),\"\")","v":"ニンラーロ(維持)"},"",{"$f":"IFERROR(VLOOKUP(__疾患別コードレジメン名[[#This Row],[列2]],INDIRECT(\"__レジメンマスタ\"),2,FALSE),\"\")","v":""},"",{"$f":"IFERROR(VLOOKUP(__疾患別コードレジメン名[[#This Row],[列3]],INDIRECT(\"__レジメンマスタ\"),2,FALSE),\"\")","v":""},{"$f":"IF(IFERROR(INDIRECT(\"__疾患別コード[@乳腺]\"),0)=0,\"\",INDIRECT(\"__疾患別コード[@乳腺]\"))","v":""},{"$f":"IFERROR(VLOOKUP(__疾患別コードレジメン名[[#This Row],[列4]],INDIRECT(\"__レジメンマスタ\"),2,FALSE),\"\")","v":""},{"$f":"IF(IFERROR(INDIRECT(\"__疾患別コード[@婦人科]\"),0)=0,\"\",INDIRECT(\"__疾患別コード[@婦人科]\"))","v":""},{"$f":"IFERROR(VLOOKUP(__疾患別コードレジメン名[[#This Row],[列5]],INDIRECT(\"__レジメンマスタ\"),2,FALSE),\"\")","v":""},{"$f":"IF(IFERROR(INDIRECT(\"__疾患別コード[@泌尿器]\"),0)=0,\"\",INDIRECT(\"__疾患別コード[@泌尿器]\"))","v":""},{"$f":"IFERROR(VLOOKUP(__疾患別コードレジメン名[[#This Row],[列6]],INDIRECT(\"__レジメンマスタ\"),2,FALSE),\"\")","v":""},{"$f":"IF(IFERROR(INDIRECT(\"__疾患別コード[@頭頚部]\"),0)=0,\"\",INDIRECT(\"__疾患別コード[@頭頚部]\"))","v":""},{"$f":"IFERROR(VLOOKUP(__疾患別コードレジメン名[[#This Row],[列7]],INDIRECT(\"__レジメンマスタ\"),2,FALSE),\"\")","v":""},"",{"$f":"IFERROR(VLOOKUP(__疾患別コードレジメン名[[#This Row],[列8]],INDIRECT(\"__レジメンマスタ\"),2,FALSE),\"\")","v":""},{"$f":"IF(IFERROR(INDIRECT(\"__疾患別コード[@臓器横断]\"),0)=0,\"\",INDIRECT(\"__疾患別コード[@臓器横断]\"))","v":""},{"$f":"IFERROR(VLOOKUP(__疾患別コードレジメン名[[#This Row],[列9]],INDIRECT(\"__レジメンマスタ\"),2,FALSE),\"\")","v":""},{"$f":"IF(IFERROR(INDIRECT(\"__疾患別コード[@悪性黒色腫]\"),0)=0,\"\",INDIRECT(\"__疾患別コード[@悪性黒色腫]\"))","v":""},{"$f":"IFERROR(VLOOKUP(__疾患別コードレジメン名[[#This Row],[列10]],INDIRECT(\"__レジメンマスタ\"),2,FALSE),\"\")","v":""},"",{"$f":"IFERROR(VLOOKUP(__疾患別コードレジメン名[[#This Row],[列11]],INDIRECT(\"__レジメンマスタ\"),2,FALSE),\"\")","v":""},"",{"$f":"IFERROR(VLOOKUP(__疾患別コードレジメン名[[#This Row],[列12]],INDIRECT(\"__レジメンマスタ\"),2,FALSE),\"\")","v":""},{"$f":"IF(IFERROR(INDIRECT(\"__疾患別コード[@リウマチ腎臓内科]\"),0)=0,\"\",INDIRECT(\"__疾患別コード[@リウマチ腎臓内科]\"))","v":""},{"$f":"IFERROR(VLOOKUP(__疾患別コードレジメン名[[#This Row],[列13]],INDIRECT(\"__レジメンマスタ\"),2,FALSE),\"\")","v":""}]
["レブラミド(MM:A法)",{"$f":"IFERROR(VLOOKUP(__疾患別コードレジメン名[[#This Row],[列1]],INDIRECT(\"__レジメンマスタ\"),2,FALSE),\"\")","v":"レナリドミド(MM:A法)"},"",{"$f":"IFERROR(VLOOKUP(__疾患別コードレジメン名[[#This Row],[列2]],INDIRECT(\"__レジメンマスタ\"),2,FALSE),\"\")","v":""},"",{"$f":"IFERROR(VLOOKUP(__疾患別コードレジメン名[[#This Row],[列3]],INDIRECT(\"__レジメンマスタ\"),2,FALSE),\"\")","v":""},"",{"$f":"IFERROR(VLOOKUP(__疾患別コードレジメン名[[#This Row],[列4]],INDIRECT(\"__レジメンマスタ\"),2,FALSE),\"\")","v":""},"",{"$f":"IFERROR(VLOOKUP(__疾患別コードレジメン名[[#This Row],[列5]],INDIRECT(\"__レジメンマスタ\"),2,FALSE),\"\")","v":""},"",{"$f":"IFERROR(VLOOKUP(__疾患別コードレジメン名[[#This Row],[列6]],INDIRECT(\"__レジメンマスタ\"),2,FALSE),\"\")","v":""},"",{"$f":"IFERROR(VLOOKUP(__疾患別コードレジメン名[[#This Row],[列7]],INDIRECT(\"__レジメンマスタ\"),2,FALSE),\"\")","v":""},"",{"$f":"IFERROR(VLOOKUP(__疾患別コードレジメン名[[#This Row],[列8]],INDIRECT(\"__レジメンマスタ\"),2,FALSE),\"\")","v":""},"",{"$f":"IFERROR(VLOOKUP(__疾患別コードレジメン名[[#This Row],[列9]],INDIRECT(\"__レジメンマスタ\"),2,FALSE),\"\")","v":""},"",{"$f":"IFERROR(VLOOKUP(__疾患別コードレジメン名[[#This Row],[列10]],INDIRECT(\"__レジメンマスタ\"),2,FALSE),\"\")","v":""},{"$f":"IF(IFERROR(INDIRECT(\"__疾患別コード[@口腔癌]\"),0)=0,\"\",INDIRECT(\"__疾患別コード[@口腔癌]\"))","v":""},{"$f":"IFERROR(VLOOKUP(__疾患別コードレジメン名[[#This Row],[列11]],INDIRECT(\"__レジメンマスタ\"),2,FALSE),\"\")","v":""},"",{"$f":"IFERROR(VLOOKUP(__疾患別コードレジメン名[[#This Row],[列12]],INDIRECT(\"__レジメンマスタ\"),2,FALSE),\"\")","v":""},"",{"$f":"IFERROR(VLOOKUP(__疾患別コードレジメン名[[#This Row],[列13]],INDIRECT(\"__レジメンマスタ\"),2,FALSE),\"\")","v":""}]
["レブラミド(MM:B法)",{"$f":"IFERROR(VLOOKUP(__疾患別コードレジメン名[[#This Row],[列1]],INDIRECT(\"__レジメンマスタ\"),2,FALSE),\"\")","v":"レナリドミド(MM:B法)"},"",{"$f":"IFERROR(VLOOKUP(__疾患別コードレジメン名[[#This Row],[列2]],INDIRECT(\"__レジメンマスタ\"),2,FALSE),\"\")","v":""},"",{"$f":"IFERROR(VLOOKUP(__疾患別コードレジメン名[[#This Row],[列3]],INDIRECT(\"__レジメンマスタ\"),2,FALSE),\"\")","v":""},"",{"$f":"IFERROR(VLOOKUP(__疾患別コードレジメン名[[#This Row],[列4]],INDIRECT(\"__レジメンマスタ\"),2,FALSE),\"\")","v":""},"",{"$f":"IFERROR(VLOOKUP(__疾患別コードレジメン名[[#This Row],[列5]],INDIRECT(\"__レジメンマスタ\"),2,FALSE),\"\")","v":""},"",{"$f":"IFERROR(VLOOKUP(__疾患別コードレジメン名[[#This Row],[列6]],INDIRECT(\"__レジメンマスタ\"),2,FALSE),\"\")","v":""},"",{"$f":"IFERROR(VLOOKUP(__疾患別コードレジメン名[[#This Row],[列7]],INDIRECT(\"__レジメンマスタ\"),2,FALSE),\"\")","v":""},"",{"$f":"IFERROR(VLOOKUP(__疾患別コードレジメン名[[#This Row],[列8]],INDIRECT(\"__レジメンマスタ\"),2,FALSE),\"\")","v":""},"",{"$f":"IFERROR(VLOOKUP(__疾患別コードレジメン名[[#This Row],[列9]],INDIRECT(\"__レジメンマスタ\"),2,FALSE),\"\")","v":""},"",{"$f":"IFERROR(VLOOKUP(__疾患別コードレジメン名[[#This Row],[列10]],INDIRECT(\"__レジメンマスタ\"),2,FALSE),\"\")","v":""},"",{"$f":"IFERROR(VLOOKUP(__疾患別コードレジメン名[[#This Row],[列11]],INDIRECT(\"__レジメンマスタ\"),2,FALSE),\"\")","v":""},"",{"$f":"IFERROR(VLOOKUP(__疾患別コードレジメン名[[#This Row],[列12]],INDIRECT(\"__レジメンマスタ\"),2,FALSE),\"\")","v":""},"",{"$f":"IFERROR(VLOOKUP(__疾患別コードレジメン名[[#This Row],[列13]],INDIRECT(\"__レジメンマスタ\"),2,FALSE),\"\")","v":""}]
["レブラミド(5q-MDS)",{"$f":"IFERROR(VLOOKUP(__疾患別コードレジメン名[[#This Row],[列1]],INDIRECT(\"__レジメンマスタ\"),2,FALSE),\"\")","v":"レナリドミド(5q-MDS)"},"",{"$f":"IFERROR(VLOOKUP(__疾患別コードレジメン名[[#This Row],[列2]],INDIRECT(\"__レジメンマスタ\"),2,FALSE),\"\")","v":""},"",{"$f":"IFERROR(VLOOKUP(__疾患別コードレジメン名[[#This Row],[列3]],INDIRECT(\"__レジメンマスタ\"),2,FALSE),\"\")","v":""},"",{"$f":"IFERROR(VLOOKUP(__疾患別コードレジメン名[[#This Row],[列4]],INDIRECT(\"__レジメンマスタ\"),2,FALSE),\"\")","v":""},"",{"$f":"IFERROR(VLOOKUP(__疾患別コードレジメン名[[#This Row],[列5]],INDIRECT(\"__レジメンマスタ\"),2,FALSE),\"\")","v":""},"",{"$f":"IFERROR(VLOOKUP(__疾患別コードレジメン名[[#This Row],[列6]],INDIRECT(\"__レジメンマスタ\"),2,FALSE),\"\")","v":""},"",{"$f":"IFERROR(VLOOKUP(__疾患別コードレジメン名[[#This Row],[列7]],INDIRECT(\"__レジメンマスタ\"),2,FALSE),\"\")","v":""},"",{"$f":"IFERROR(VLOOKUP(__疾患別コードレジメン名[[#This Row],[列8]],INDIRECT(\"__レジメンマスタ\"),2,FALSE),\"\")","v":""},"",{"$f":"IFERROR(VLOOKUP(__疾患別コードレジメン名[[#This Row],[列9]],INDIRECT(\"__レジメンマスタ\"),2,FALSE),\"\")","v":""},"",{"$f":"IFERROR(VLOOKUP(__疾患別コードレジメン名[[#This Row],[列10]],INDIRECT(\"__レジメンマスタ\"),2,FALSE),\"\")","v":""},"",{"$f":"IFERROR(VLOOKUP(__疾患別コードレジメン名[[#This Row],[列11]],INDIRECT(\"__レジメンマスタ\"),2,FALSE),\"\")","v":""},"",{"$f":"IFERROR(VLOOKUP(__疾患別コードレジメン名[[#This Row],[列12]],INDIRECT(\"__レジメンマスタ\"),2,FALSE),\"\")","v":""},"",{"$f":"IFERROR(VLOOKUP(__疾患別コードレジメン名[[#This Row],[列13]],INDIRECT(\"__レジメンマスタ\"),2,FALSE),\"\")","v":""}]
["レブラミド(再発難治ATL)",{"$f":"IFERROR(VLOOKUP(__疾患別コードレジメン名[[#This Row],[列1]],INDIRECT(\"__レジメンマスタ\"),2,FALSE),\"\")","v":"レブラミド(再発難治ATL)"},"",{"$f":"IFERROR(VLOOKUP(__疾患別コードレジメン名[[#This Row],[列2]],INDIRECT(\"__レジメンマスタ\"),2,FALSE),\"\")","v":""},"",{"$f":"IFERROR(VLOOKUP(__疾患別コードレジメン名[[#This Row],[列3]],INDIRECT(\"__レジメンマスタ\"),2,FALSE),\"\")","v":""},"",{"$f":"IFERROR(VLOOKUP(__疾患別コードレジメン名[[#This Row],[列4]],INDIRECT(\"__レジメンマスタ\"),2,FALSE),\"\")","v":""},"",{"$f":"IFERROR(VLOOKUP(__疾患別コードレジメン名[[#This Row],[列5]],INDIRECT(\"__レジメンマスタ\"),2,FALSE),\"\")","v":""},"",{"$f":"IFERROR(VLOOKUP(__疾患別コードレジメン名[[#This Row],[列6]],INDIRECT(\"__レジメンマスタ\"),2,FALSE),\"\")","v":""},"",{"$f":"IFERROR(VLOOKUP(__疾患別コードレジメン名[[#This Row],[列7]],INDIRECT(\"__レジメンマスタ\"),2,FALSE),\"\")","v":""},"",{"$f":"IFERROR(VLOOKUP(__疾患別コードレジメン名[[#This Row],[列8]],INDIRECT(\"__レジメンマスタ\"),2,FALSE),\"\")","v":""},"",{"$f":"IFERROR(VLOOKUP(__疾患別コードレジメン名[[#This Row],[列9]],INDIRECT(\"__レジメンマスタ\"),2,FALSE),\"\")","v":""},"",{"$f":"IFERROR(VLOOKUP(__疾患別コードレジメン名[[#This Row],[列10]],INDIRECT(\"__レジメンマスタ\"),2,FALSE),\"\")","v":""},"",{"$f":"IFERROR(VLOOKUP(__疾患別コードレジメン名[[#This Row],[列11]],INDIRECT(\"__レジメンマスタ\"),2,FALSE),\"\")","v":""},"",{"$f":"IFERROR(VLOOKUP(__疾患別コードレジメン名[[#This Row],[列12]],INDIRECT(\"__レジメンマスタ\"),2,FALSE),\"\")","v":""},"",{"$f":"IFERROR(VLOOKUP(__疾患別コードレジメン名[[#This Row],[列13]],INDIRECT(\"__レジメンマスタ\"),2,FALSE),\"\")","v":""}]
["レブラミド(再発難治FL又はMZL)",{"$f":"IFERROR(VLOOKUP(__疾患別コードレジメン名[[#This Row],[列1]],INDIRECT(\"__レジメンマスタ\"),2,FALSE),\"\")","v":"レブラミド(再発難治FL又はMZL)"},"",{"$f":"IFERROR(VLOOKUP(__疾患別コードレジメン名[[#This Row],[列2]],INDIRECT(\"__レジメンマスタ\"),2,FALSE),\"\")","v":""},"",{"$f":"IFERROR(VLOOKUP(__疾患別コードレジメン名[[#This Row],[列3]],INDIRECT(\"__レジメンマスタ\"),2,FALSE),\"\")","v":""},"",{"$f":"IFERROR(VLOOKUP(__疾患別コードレジメン名[[#This Row],[列4]],INDIRECT(\"__レジメンマスタ\"),2,FALSE),\"\")","v":""},"",{"$f":"IFERROR(VLOOKUP(__疾患別コードレジメン名[[#This Row],[列5]],INDIRECT(\"__レジメンマスタ\"),2,FALSE),\"\")","v":""},"",{"$f":"IFERROR(VLOOKUP(__疾患別コードレジメン名[[#This Row],[列6]],INDIRECT(\"__レジメンマスタ\"),2,FALSE),\"\")","v":""},"",{"$f":"IFERROR(VLOOKUP(__疾患別コードレジメン名[[#This Row],[列7]],INDIRECT(\"__レジメンマスタ\"),2,FALSE),\"\")","v":""},"",{"$f":"IFERROR(VLOOKUP(__疾患別コードレジメン名[[#This Row],[列8]],INDIRECT(\"__レジメンマスタ\"),2,FALSE),\"\")","v":""},"",{"$f":"IFERROR(VLOOKUP(__疾患別コードレジメン名[[#This Row],[列9]],INDIRECT(\"__レジメンマスタ\"),2,FALSE),\"\")","v":""},"",{"$f":"IFERROR(VLOOKUP(__疾患別コードレジメン名[[#This Row],[列10]],INDIRECT(\"__レジメンマスタ\"),2,FALSE),\"\")","v":""},"",{"$f":"IFERROR(VLOOKUP(__疾患別コードレジメン名[[#This Row],[列11]],INDIRECT(\"__レジメンマスタ\"),2,FALSE),\"\")","v":""},"",{"$f":"IFERROR(VLOOKUP(__疾患別コードレジメン名[[#This Row],[列12]],INDIRECT(\"__レジメンマスタ\"),2,FALSE),\"\")","v":""},"",{"$f":"IFERROR(VLOOKUP(__疾患別コードレジメン名[[#This Row],[列13]],INDIRECT(\"__レジメンマスタ\"),2,FALSE),\"\")","v":""}]
["ポマリスト(DEX)",{"$f":"IFERROR(VLOOKUP(__疾患別コードレジメン名[[#This Row],[列1]],INDIRECT(\"__レジメンマスタ\"),2,FALSE),\"\")","v":"ポマリスト(DEX)"},"",{"$f":"IFERROR(VLOOKUP(__疾患別コードレジメン名[[#This Row],[列2]],INDIRECT(\"__レジメンマスタ\"),2,FALSE),\"\")","v":""},"",{"$f":"IFERROR(VLOOKUP(__疾患別コードレジメン名[[#This Row],[列3]],INDIRECT(\"__レジメンマスタ\"),2,FALSE),\"\")","v":""},"",{"$f":"IFERROR(VLOOKUP(__疾患別コードレジメン名[[#This Row],[列4]],INDIRECT(\"__レジメンマスタ\"),2,FALSE),\"\")","v":""},"",{"$f":"IFERROR(VLOOKUP(__疾患別コードレジメン名[[#This Row],[列5]],INDIRECT(\"__レジメンマスタ\"),2,FALSE),\"\")","v":""},"",{"$f":"IFERROR(VLOOKUP(__疾患別コードレジメン名[[#This Row],[列6]],INDIRECT(\"__レジメンマスタ\"),2,FALSE),\"\")","v":""},"",{"$f":"IFERROR(VLOOKUP(__疾患別コードレジメン名[[#This Row],[列7]],INDIRECT(\"__レジメンマスタ\"),2,FALSE),\"\")","v":""},"",{"$f":"IFERROR(VLOOKUP(__疾患別コードレジメン名[[#This Row],[列8]],INDIRECT(\"__レジメンマスタ\"),2,FALSE),\"\")","v":""},"",{"$f":"IFERROR(VLOOKUP(__疾患別コードレジメン名[[#This Row],[列9]],INDIRECT(\"__レジメンマスタ\"),2,FALSE),\"\")","v":""},"",{"$f":"IFERROR(VLOOKUP(__疾患別コードレジメン名[[#This Row],[列10]],INDIRECT(\"__レジメンマスタ\"),2,FALSE),\"\")","v":""},"",{"$f":"IFERROR(VLOOKUP(__疾患別コードレジメン名[[#This Row],[列11]],INDIRECT(\"__レジメンマスタ\"),2,FALSE),\"\")","v":""},"",{"$f":"IFERROR(VLOOKUP(__疾患別コードレジメン名[[#This Row],[列12]],INDIRECT(\"__レジメンマスタ\"),2,FALSE),\"\")","v":""},"",{"$f":"IFERROR(VLOOKUP(__疾患別コードレジメン名[[#This Row],[列13]],INDIRECT(\"__レジメンマスタ\"),2,FALSE),\"\")","v":""}]
["ポマリスト(Bor+DEX)",{"$f":"IFERROR(VLOOKUP(__疾患別コードレジメン名[[#This Row],[列1]],INDIRECT(\"__レジメンマスタ\"),2,FALSE),\"\")","v":"ポマリスト(Bor+DEX)"},"",{"$f":"IFERROR(VLOOKUP(__疾患別コードレジメン名[[#This Row],[列2]],INDIRECT(\"__レジメンマスタ\"),2,FALSE),\"\")","v":""},"",{"$f":"IFERROR(VLOOKUP(__疾患別コードレジメン名[[#This Row],[列3]],INDIRECT(\"__レジメンマスタ\"),2,FALSE),\"\")","v":""},"",{"$f":"IFERROR(VLOOKUP(__疾患別コードレジメン名[[#This Row],[列4]],INDIRECT(\"__レジメンマスタ\"),2,FALSE),\"\")","v":""},"",{"$f":"IFERROR(VLOOKUP(__疾患別コードレジメン名[[#This Row],[列5]],INDIRECT(\"__レジメンマスタ\"),2,FALSE),\"\")","v":""},"",{"$f":"IFERROR(VLOOKUP(__疾患別コードレジメン名[[#This Row],[列6]],INDIRECT(\"__レジメンマスタ\"),2,FALSE),\"\")","v":""},"",{"$f":"IFERROR(VLOOKUP(__疾患別コードレジメン名[[#This Row],[列7]],INDIRECT(\"__レジメンマスタ\"),2,FALSE),\"\")","v":""},"",{"$f":"IFERROR(VLOOKUP(__疾患別コードレジメン名[[#This Row],[列8]],INDIRECT(\"__レジメンマスタ\"),2,FALSE),\"\")","v":""},"",{"$f":"IFERROR(VLOOKUP(__疾患別コードレジメン名[[#This Row],[列9]],INDIRECT(\"__レジメンマスタ\"),2,FALSE),\"\")","v":""},"",{"$f":"IFERROR(VLOOKUP(__疾患別コードレジメン名[[#This Row],[列10]],INDIRECT(\"__レジメンマスタ\"),2,FALSE),\"\")","v":""},"",{"$f":"IFERROR(VLOOKUP(__疾患別コードレジメン名[[#This Row],[列11]],INDIRECT(\"__レジメンマスタ\"),2,FALSE),\"\")","v":""},"",{"$f":"IFERROR(VLOOKUP(__疾患別コードレジメン名[[#This Row],[列12]],INDIRECT(\"__レジメンマスタ\"),2,FALSE),\"\")","v":""},"",{"$f":"IFERROR(VLOOKUP(__疾患別コードレジメン名[[#This Row],[列13]],INDIRECT(\"__レジメンマスタ\"),2,FALSE),\"\")","v":""}]
["フルダラ",{"$f":"IFERROR(VLOOKUP(__疾患別コードレジメン名[[#This Row],[列1]],INDIRECT(\"__レジメンマスタ\"),2,FALSE),\"\")","v":"フルダラ"},"",{"$f":"IFERROR(VLOOKUP(__疾患別コードレジメン名[[#This Row],[列2]],INDIRECT(\"__レジメンマスタ\"),2,FALSE),\"\")","v":""},"",{"$f":"IFERROR(VLOOKUP(__疾患別コードレジメン名[[#This Row],[列3]],INDIRECT(\"__レジメンマスタ\"),2,FALSE),\"\")","v":""},"",{"$f":"IFERROR(VLOOKUP(__疾患別コードレジメン名[[#This Row],[列4]],INDIRECT(\"__レジメンマスタ\"),2,FALSE),\"\")","v":""},"",{"$f":"IFERROR(VLOOKUP(__疾患別コードレジメン名[[#This Row],[列5]],INDIRECT(\"__レジメンマスタ\"),2,FALSE),\"\")","v":""},"",{"$f":"IFERROR(VLOOKUP(__疾患別コードレジメン名[[#This Row],[列6]],INDIRECT(\"__レジメンマスタ\"),2,FALSE),\"\")","v":""},"",{"$f":"IFERROR(VLOOKUP(__疾患別コードレジメン名[[#This Row],[列7]],INDIRECT(\"__レジメンマスタ\"),2,FALSE),\"\")","v":""},"",{"$f":"IFERROR(VLOOKUP(__疾患別コードレジメン名[[#This Row],[列8]],INDIRECT(\"__レジメンマスタ\"),2,FALSE),\"\")","v":""},"",{"$f":"IFERROR(VLOOKUP(__疾患別コードレジメン名[[#This Row],[列9]],INDIRECT(\"__レジメンマスタ\"),2,FALSE),\"\")","v":""},"",{"$f":"IFERROR(VLOOKUP(__疾患別コードレジメン名[[#This Row],[列10]],INDIRECT(\"__レジメンマスタ\"),2,FALSE),\"\")","v":""},"",{"$f":"IFERROR(VLOOKUP(__疾患別コードレジメン名[[#This Row],[列11]],INDIRECT(\"__レジメンマスタ\"),2,FALSE),\"\")","v":""},"",{"$f":"IFERROR(VLOOKUP(__疾患別コードレジメン名[[#This Row],[列12]],INDIRECT(\"__レジメンマスタ\"),2,FALSE),\"\")","v":""},"",{"$f":"IFERROR(VLOOKUP(__疾患別コードレジメン名[[#This Row],[列13]],INDIRECT(\"__レジメンマスタ\"),2,FALSE),\"\")","v":""}]
["ラステットS(リンパ腫A法)",{"$f":"IFERROR(VLOOKUP(__疾患別コードレジメン名[[#This Row],[列1]],INDIRECT(\"__レジメンマスタ\"),2,FALSE),\"\")","v":"ラステットS(リンパ腫A法)"},"",{"$f":"IFERROR(VLOOKUP(__疾患別コードレジメン名[[#This Row],[列2]],INDIRECT(\"__レジメンマスタ\"),2,FALSE),\"\")","v":""},"",{"$f":"IFERROR(VLOOKUP(__疾患別コードレジメン名[[#This Row],[列3]],INDIRECT(\"__レジメンマスタ\"),2,FALSE),\"\")","v":""},"",{"$f":"IFERROR(VLOOKUP(__疾患別コードレジメン名[[#This Row],[列4]],INDIRECT(\"__レジメンマスタ\"),2,FALSE),\"\")","v":""},"",{"$f":"IFERROR(VLOOKUP(__疾患別コードレジメン名[[#This Row],[列5]],INDIRECT(\"__レジメンマスタ\"),2,FALSE),\"\")","v":""},"",{"$f":"IFERROR(VLOOKUP(__疾患別コードレジメン名[[#This Row],[列6]],INDIRECT(\"__レジメンマスタ\"),2,FALSE),\"\")","v":""},"",{"$f":"IFERROR(VLOOKUP(__疾患別コードレジメン名[[#This Row],[列7]],INDIRECT(\"__レジメンマスタ\"),2,FALSE),\"\")","v":""},"",{"$f":"IFERROR(VLOOKUP(__疾患別コードレジメン名[[#This Row],[列8]],INDIRECT(\"__レジメンマスタ\"),2,FALSE),\"\")","v":""},"",{"$f":"IFERROR(VLOOKUP(__疾患別コードレジメン名[[#This Row],[列9]],INDIRECT(\"__レジメンマスタ\"),2,FALSE),\"\")","v":""},"",{"$f":"IFERROR(VLOOKUP(__疾患別コードレジメン名[[#This Row],[列10]],INDIRECT(\"__レジメンマスタ\"),2,FALSE),\"\")","v":""},"",{"$f":"IFERROR(VLOOKUP(__疾患別コードレジメン名[[#This Row],[列11]],INDIRECT(\"__レジメンマスタ\"),2,FALSE),\"\")","v":""},"",{"$f":"IFERROR(VLOOKUP(__疾患別コードレジメン名[[#This Row],[列12]],INDIRECT(\"__レジメンマスタ\"),2,FALSE),\"\")","v":""},"",{"$f":"IFERROR(VLOOKUP(__疾患別コードレジメン名[[#This Row],[列13]],INDIRECT(\"__レジメンマスタ\"),2,FALSE),\"\")","v":""}]
["ラステットS(リンパ腫B法)",{"$f":"IFERROR(VLOOKUP(__疾患別コードレジメン名[[#This Row],[列1]],INDIRECT(\"__レジメンマスタ\"),2,FALSE),\"\")","v":"ラステットS(リンパ腫B法)"},"",{"$f":"IFERROR(VLOOKUP(__疾患別コードレジメン名[[#This Row],[列2]],INDIRECT(\"__レジメンマスタ\"),2,FALSE),\"\")","v":""},"",{"$f":"IFERROR(VLOOKUP(__疾患別コードレジメン名[[#This Row],[列3]],INDIRECT(\"__レジメンマスタ\"),2,FALSE),\"\")","v":""},"",{"$f":"IFERROR(VLOOKUP(__疾患別コードレジメン名[[#This Row],[列4]],INDIRECT(\"__レジメンマスタ\"),2,FALSE),\"\")","v":""},"",{"$f":"IFERROR(VLOOKUP(__疾患別コードレジメン名[[#This Row],[列5]],INDIRECT(\"__レジメンマスタ\"),2,FALSE),\"\")","v":""},"",{"$f":"IFERROR(VLOOKUP(__疾患別コードレジメン名[[#This Row],[列6]],INDIRECT(\"__レジメンマスタ\"),2,FALSE),\"\")","v":""},"",{"$f":"IFERROR(VLOOKUP(__疾患別コードレジメン名[[#This Row],[列7]],INDIRECT(\"__レジメンマスタ\"),2,FALSE),\"\")","v":""},"",{"$f":"IFERROR(VLOOKUP(__疾患別コードレジメン名[[#This Row],[列8]],INDIRECT(\"__レジメンマスタ\"),2,FALSE),\"\")","v":""},"",{"$f":"IFERROR(VLOOKUP(__疾患別コードレジメン名[[#This Row],[列9]],INDIRECT(\"__レジメンマスタ\"),2,FALSE),\"\")","v":""},"",{"$f":"IFERROR(VLOOKUP(__疾患別コードレジメン名[[#This Row],[列10]],INDIRECT(\"__レジメンマスタ\"),2,FALSE),\"\")","v":""},"",{"$f":"IFERROR(VLOOKUP(__疾患別コードレジメン名[[#This Row],[列11]],INDIRECT(\"__レジメンマスタ\"),2,FALSE),\"\")","v":""},"",{"$f":"IFERROR(VLOOKUP(__疾患別コードレジメン名[[#This Row],[列12]],INDIRECT(\"__レジメンマスタ\"),2,FALSE),\"\")","v":""},"",{"$f":"IFERROR(VLOOKUP(__疾患別コードレジメン名[[#This Row],[列13]],INDIRECT(\"__レジメンマスタ\"),2,FALSE),\"\")","v":""}]
["ヴァンフリタ",{"$f":"IFERROR(VLOOKUP(__疾患別コードレジメン名[[#This Row],[列1]],INDIRECT(\"__レジメンマスタ\"),2,FALSE),\"\")","v":"ヴァンフリタ（維持療法）"},"",{"$f":"IFERROR(VLOOKUP(__疾患別コードレジメン名[[#This Row],[列2]],INDIRECT(\"__レジメンマスタ\"),2,FALSE),\"\")","v":""},"",{"$f":"IFERROR(VLOOKUP(__疾患別コードレジメン名[[#This Row],[列3]],INDIRECT(\"__レジメンマスタ\"),2,FALSE),\"\")","v":""},"",{"$f":"IFERROR(VLOOKUP(__疾患別コードレジメン名[[#This Row],[列4]],INDIRECT(\"__レジメンマスタ\"),2,FALSE),\"\")","v":""},"",{"$f":"IFERROR(VLOOKUP(__疾患別コードレジメン名[[#This Row],[列5]],INDIRECT(\"__レジメンマスタ\"),2,FALSE),\"\")","v":""},"",{"$f":"IFERROR(VLOOKUP(__疾患別コードレジメン名[[#This Row],[列6]],INDIRECT(\"__レジメンマスタ\"),2,FALSE),\"\")","v":""},"",{"$f":"IFERROR(VLOOKUP(__疾患別コードレジメン名[[#This Row],[列7]],INDIRECT(\"__レジメンマスタ\"),2,FALSE),\"\")","v":""},"",{"$f":"IFERROR(VLOOKUP(__疾患別コードレジメン名[[#This Row],[列8]],INDIRECT(\"__レジメンマスタ\"),2,FALSE),\"\")","v":""},"",{"$f":"IFERROR(VLOOKUP(__疾患別コードレジメン名[[#This Row],[列9]],INDIRECT(\"__レジメンマスタ\"),2,FALSE),\"\")","v":""},"",{"$f":"IFERROR(VLOOKUP(__疾患別コードレジメン名[[#This Row],[列10]],INDIRECT(\"__レジメンマスタ\"),2,FALSE),\"\")","v":""},"",{"$f":"IFERROR(VLOOKUP(__疾患別コードレジメン名[[#This Row],[列11]],INDIRECT(\"__レジメンマスタ\"),2,FALSE),\"\")","v":""},"",{"$f":"IFERROR(VLOOKUP(__疾患別コードレジメン名[[#This Row],[列12]],INDIRECT(\"__レジメンマスタ\"),2,FALSE),\"\")","v":""},"",{"$f":"IFERROR(VLOOKUP(__疾患別コードレジメン名[[#This Row],[列13]],INDIRECT(\"__レジメンマスタ\"),2,FALSE),\"\")","v":""}]
["",{"$f":"IFERROR(VLOOKUP(__疾患別コードレジメン名[[#This Row],[列1]],INDIRECT(\"__レジメンマスタ\"),2,FALSE),\"\")","v":""},"",{"$f":"IFERROR(VLOOKUP(__疾患別コードレジメン名[[#This Row],[列2]],INDIRECT(\"__レジメンマスタ\"),2,FALSE),\"\")","v":""},"",{"$f":"IFERROR(VLOOKUP(__疾患別コードレジメン名[[#This Row],[列3]],INDIRECT(\"__レジメンマスタ\"),2,FALSE),\"\")","v":""},"",{"$f":"IFERROR(VLOOKUP(__疾患別コードレジメン名[[#This Row],[列4]],INDIRECT(\"__レジメンマスタ\"),2,FALSE),\"\")","v":""},"",{"$f":"IFERROR(VLOOKUP(__疾患別コードレジメン名[[#This Row],[列5]],INDIRECT(\"__レジメンマスタ\"),2,FALSE),\"\")","v":""},"",{"$f":"IFERROR(VLOOKUP(__疾患別コードレジメン名[[#This Row],[列6]],INDIRECT(\"__レジメンマスタ\"),2,FALSE),\"\")","v":""},"",{"$f":"IFERROR(VLOOKUP(__疾患別コードレジメン名[[#This Row],[列7]],INDIRECT(\"__レジメンマスタ\"),2,FALSE),\"\")","v":""},"",{"$f":"IFERROR(VLOOKUP(__疾患別コードレジメン名[[#This Row],[列8]],INDIRECT(\"__レジメンマスタ\"),2,FALSE),\"\")","v":""},"",{"$f":"IFERROR(VLOOKUP(__疾患別コードレジメン名[[#This Row],[列9]],INDIRECT(\"__レジメンマスタ\"),2,FALSE),\"\")","v":""},"",{"$f":"IFERROR(VLOOKUP(__疾患別コードレジメン名[[#This Row],[列10]],INDIRECT(\"__レジメンマスタ\"),2,FALSE),\"\")","v":""},"",{"$f":"IFERROR(VLOOKUP(__疾患別コードレジメン名[[#This Row],[列11]],INDIRECT(\"__レジメンマスタ\"),2,FALSE),\"\")","v":""},"",{"$f":"IFERROR(VLOOKUP(__疾患別コードレジメン名[[#This Row],[列12]],INDIRECT(\"__レジメンマスタ\"),2,FALSE),\"\")","v":""},"",{"$f":"IFERROR(VLOOKUP(__疾患別コードレジメン名[[#This Row],[列13]],INDIRECT(\"__レジメンマスタ\"),2,FALSE),\"\")","v":""}]
["",{"$f":"IFERROR(VLOOKUP(__疾患別コードレジメン名[[#This Row],[列1]],INDIRECT(\"__レジメンマスタ\"),2,FALSE),\"\")","v":""},"",{"$f":"IFERROR(VLOOKUP(__疾患別コードレジメン名[[#This Row],[列2]],INDIRECT(\"__レジメンマスタ\"),2,FALSE),\"\")","v":""},"",{"$f":"IFERROR(VLOOKUP(__疾患別コードレジメン名[[#This Row],[列3]],INDIRECT(\"__レジメンマスタ\"),2,FALSE),\"\")","v":""},"",{"$f":"IFERROR(VLOOKUP(__疾患別コードレジメン名[[#This Row],[列4]],INDIRECT(\"__レジメンマスタ\"),2,FALSE),\"\")","v":""},"",{"$f":"IFERROR(VLOOKUP(__疾患別コードレジメン名[[#This Row],[列5]],INDIRECT(\"__レジメンマスタ\"),2,FALSE),\"\")","v":""},"",{"$f":"IFERROR(VLOOKUP(__疾患別コードレジメン名[[#This Row],[列6]],INDIRECT(\"__レジメンマスタ\"),2,FALSE),\"\")","v":""},"",{"$f":"IFERROR(VLOOKUP(__疾患別コードレジメン名[[#This Row],[列7]],INDIRECT(\"__レジメンマスタ\"),2,FALSE),\"\")","v":""},"",{"$f":"IFERROR(VLOOKUP(__疾患別コードレジメン名[[#This Row],[列8]],INDIRECT(\"__レジメンマスタ\"),2,FALSE),\"\")","v":""},"",{"$f":"IFERROR(VLOOKUP(__疾患別コードレジメン名[[#This Row],[列9]],INDIRECT(\"__レジメンマスタ\"),2,FALSE),\"\")","v":""},"",{"$f":"IFERROR(VLOOKUP(__疾患別コードレジメン名[[#This Row],[列10]],INDIRECT(\"__レジメンマスタ\"),2,FALSE),\"\")","v":""},"",{"$f":"IFERROR(VLOOKUP(__疾患別コードレジメン名[[#This Row],[列11]],INDIRECT(\"__レジメンマスタ\"),2,FALSE),\"\")","v":""},"",{"$f":"IFERROR(VLOOKUP(__疾患別コードレジメン名[[#This Row],[列12]],INDIRECT(\"__レジメンマスタ\"),2,FALSE),\"\")","v":""},"",{"$f":"IFERROR(VLOOKUP(__疾患別コードレジメン名[[#This Row],[列13]],INDIRECT(\"__レジメンマスタ\"),2,FALSE),\"\")","v":""}]
["",{"$f":"IFERROR(VLOOKUP(__疾患別コードレジメン名[[#This Row],[列1]],INDIRECT(\"__レジメンマスタ\"),2,FALSE),\"\")","v":""},"",{"$f":"IFERROR(VLOOKUP(__疾患別コードレジメン名[[#This Row],[列2]],INDIRECT(\"__レジメンマスタ\"),2,FALSE),\"\")","v":""},"",{"$f":"IFERROR(VLOOKUP(__疾患別コードレジメン名[[#This Row],[列3]],INDIRECT(\"__レジメンマスタ\"),2,FALSE),\"\")","v":""},"",{"$f":"IFERROR(VLOOKUP(__疾患別コードレジメン名[[#This Row],[列4]],INDIRECT(\"__レジメンマスタ\"),2,FALSE),\"\")","v":""},"",{"$f":"IFERROR(VLOOKUP(__疾患別コードレジメン名[[#This Row],[列5]],INDIRECT(\"__レジメンマスタ\"),2,FALSE),\"\")","v":""},"",{"$f":"IFERROR(VLOOKUP(__疾患別コードレジメン名[[#This Row],[列6]],INDIRECT(\"__レジメンマスタ\"),2,FALSE),\"\")","v":""},"",{"$f":"IFERROR(VLOOKUP(__疾患別コードレジメン名[[#This Row],[列7]],INDIRECT(\"__レジメンマスタ\"),2,FALSE),\"\")","v":""},"",{"$f":"IFERROR(VLOOKUP(__疾患別コードレジメン名[[#This Row],[列8]],INDIRECT(\"__レジメンマスタ\"),2,FALSE),\"\")","v":""},"",{"$f":"IFERROR(VLOOKUP(__疾患別コードレジメン名[[#This Row],[列9]],INDIRECT(\"__レジメンマスタ\"),2,FALSE),\"\")","v":""},"",{"$f":"IFERROR(VLOOKUP(__疾患別コードレジメン名[[#This Row],[列10]],INDIRECT(\"__レジメンマスタ\"),2,FALSE),\"\")","v":""},"",{"$f":"IFERROR(VLOOKUP(__疾患別コードレジメン名[[#This Row],[列11]],INDIRECT(\"__レジメンマスタ\"),2,FALSE),\"\")","v":""},"",{"$f":"IFERROR(VLOOKUP(__疾患別コードレジメン名[[#This Row],[列12]],INDIRECT(\"__レジメンマスタ\"),2,FALSE),\"\")","v":""},"",{"$f":"IFERROR(VLOOKUP(__疾患別コードレジメン名[[#This Row],[列13]],INDIRECT(\"__レジメンマスタ\"),2,FALSE),\"\")","v":""}]
["",{"$f":"IFERROR(VLOOKUP(__疾患別コードレジメン名[[#This Row],[列1]],INDIRECT(\"__レジメンマスタ\"),2,FALSE),\"\")","v":""},"",{"$f":"IFERROR(VLOOKUP(__疾患別コードレジメン名[[#This Row],[列2]],INDIRECT(\"__レジメンマスタ\"),2,FALSE),\"\")","v":""},"",{"$f":"IFERROR(VLOOKUP(__疾患別コードレジメン名[[#This Row],[列3]],INDIRECT(\"__レジメンマスタ\"),2,FALSE),\"\")","v":""},"",{"$f":"IFERROR(VLOOKUP(__疾患別コードレジメン名[[#This Row],[列4]],INDIRECT(\"__レジメンマスタ\"),2,FALSE),\"\")","v":""},"",{"$f":"IFERROR(VLOOKUP(__疾患別コードレジメン名[[#This Row],[列5]],INDIRECT(\"__レジメンマスタ\"),2,FALSE),\"\")","v":""},"",{"$f":"IFERROR(VLOOKUP(__疾患別コードレジメン名[[#This Row],[列6]],INDIRECT(\"__レジメンマスタ\"),2,FALSE),\"\")","v":""},"",{"$f":"IFERROR(VLOOKUP(__疾患別コードレジメン名[[#This Row],[列7]],INDIRECT(\"__レジメンマスタ\"),2,FALSE),\"\")","v":""},"",{"$f":"IFERROR(VLOOKUP(__疾患別コードレジメン名[[#This Row],[列8]],INDIRECT(\"__レジメンマスタ\"),2,FALSE),\"\")","v":""},"",{"$f":"IFERROR(VLOOKUP(__疾患別コードレジメン名[[#This Row],[列9]],INDIRECT(\"__レジメンマスタ\"),2,FALSE),\"\")","v":""},"",{"$f":"IFERROR(VLOOKUP(__疾患別コードレジメン名[[#This Row],[列10]],INDIRECT(\"__レジメンマスタ\"),2,FALSE),\"\")","v":""},"",{"$f":"IFERROR(VLOOKUP(__疾患別コードレジメン名[[#This Row],[列11]],INDIRECT(\"__レジメンマスタ\"),2,FALSE),\"\")","v":""},"",{"$f":"IFERROR(VLOOKUP(__疾患別コードレジメン名[[#This Row],[列12]],INDIRECT(\"__レジメンマスタ\"),2,FALSE),\"\")","v":""},"",{"$f":"IFERROR(VLOOKUP(__疾患別コードレジメン名[[#This Row],[列13]],INDIRECT(\"__レジメンマスタ\"),2,FALSE),\"\")","v":""}]
["",{"$f":"IFERROR(VLOOKUP(__疾患別コードレジメン名[[#This Row],[列1]],INDIRECT(\"__レジメンマスタ\"),2,FALSE),\"\")","v":""},"",{"$f":"IFERROR(VLOOKUP(__疾患別コードレジメン名[[#This Row],[列2]],INDIRECT(\"__レジメンマスタ\"),2,FALSE),\"\")","v":""},{"$f":"IF(IFERROR(INDIRECT(\"__疾患別コード[@消化管]\"),0)=0,\"\",INDIRECT(\"__疾患別コード[@消化管]\"))","v":""},{"$f":"IFERROR(VLOOKUP(__疾患別コードレジメン名[[#This Row],[列3]],INDIRECT(\"__レジメンマスタ\"),2,FALSE),\"\")","v":""},"",{"$f":"IFERROR(VLOOKUP(__疾患別コードレジメン名[[#This Row],[列4]],INDIRECT(\"__レジメンマスタ\"),2,FALSE),\"\")","v":""},"",{"$f":"IFERROR(VLOOKUP(__疾患別コードレジメン名[[#This Row],[列5]],INDIRECT(\"__レジメンマスタ\"),2,FALSE),\"\")","v":""},"",{"$f":"IFERROR(VLOOKUP(__疾患別コードレジメン名[[#This Row],[列6]],INDIRECT(\"__レジメンマスタ\"),2,FALSE),\"\")","v":""},"",{"$f":"IFERROR(VLOOKUP(__疾患別コードレジメン名[[#This Row],[列7]],INDIRECT(\"__レジメンマスタ\"),2,FALSE),\"\")","v":""},"",{"$f":"IFERROR(VLOOKUP(__疾患別コードレジメン名[[#This Row],[列8]],INDIRECT(\"__レジメンマスタ\"),2,FALSE),\"\")","v":""},"",{"$f":"IFERROR(VLOOKUP(__疾患別コードレジメン名[[#This Row],[列9]],INDIRECT(\"__レジメンマスタ\"),2,FALSE),\"\")","v":""},"",{"$f":"IFERROR(VLOOKUP(__疾患別コードレジメン名[[#This Row],[列10]],INDIRECT(\"__レジメンマスタ\"),2,FALSE),\"\")","v":""},"",{"$f":"IFERROR(VLOOKUP(__疾患別コードレジメン名[[#This Row],[列11]],INDIRECT(\"__レジメンマスタ\"),2,FALSE),\"\")","v":""},"",{"$f":"IFERROR(VLOOKUP(__疾患別コードレジメン名[[#This Row],[列12]],INDIRECT(\"__レジメンマスタ\"),2,FALSE),\"\")","v":""},"",{"$f":"IFERROR(VLOOKUP(__疾患別コードレジメン名[[#This Row],[列13]],INDIRECT(\"__レジメンマスタ\"),2,FALSE),\"\")","v":""}]
["",{"$f":"IFERROR(VLOOKUP(__疾患別コードレジメン名[[#This Row],[列1]],INDIRECT(\"__レジメンマスタ\"),2,FALSE),\"\")","v":""},"",{"$f":"IFERROR(VLOOKUP(__疾患別コードレジメン名[[#This Row],[列2]],INDIRECT(\"__レジメンマスタ\"),2,FALSE),\"\")","v":""},"",{"$f":"IFERROR(VLOOKUP(__疾患別コードレジメン名[[#This Row],[列3]],INDIRECT(\"__レジメンマスタ\"),2,FALSE),\"\")","v":""},"",{"$f":"IFERROR(VLOOKUP(__疾患別コードレジメン名[[#This Row],[列4]],INDIRECT(\"__レジメンマスタ\"),2,FALSE),\"\")","v":""},"",{"$f":"IFERROR(VLOOKUP(__疾患別コードレジメン名[[#This Row],[列5]],INDIRECT(\"__レジメンマスタ\"),2,FALSE),\"\")","v":""},"",{"$f":"IFERROR(VLOOKUP(__疾患別コードレジメン名[[#This Row],[列6]],INDIRECT(\"__レジメンマスタ\"),2,FALSE),\"\")","v":""},"",{"$f":"IFERROR(VLOOKUP(__疾患別コードレジメン名[[#This Row],[列7]],INDIRECT(\"__レジメンマスタ\"),2,FALSE),\"\")","v":""},"",{"$f":"IFERROR(VLOOKUP(__疾患別コードレジメン名[[#This Row],[列8]],INDIRECT(\"__レジメンマスタ\"),2,FALSE),\"\")","v":""},"",{"$f":"IFERROR(VLOOKUP(__疾患別コードレジメン名[[#This Row],[列9]],INDIRECT(\"__レジメンマスタ\"),2,FALSE),\"\")","v":""},"",{"$f":"IFERROR(VLOOKUP(__疾患別コードレジメン名[[#This Row],[列10]],INDIRECT(\"__レジメンマスタ\"),2,FALSE),\"\")","v":""},"",{"$f":"IFERROR(VLOOKUP(__疾患別コードレジメン名[[#This Row],[列11]],INDIRECT(\"__レジメンマスタ\"),2,FALSE),\"\")","v":""},"",{"$f":"IFERROR(VLOOKUP(__疾患別コードレジメン名[[#This Row],[列12]],INDIRECT(\"__レジメンマスタ\"),2,FALSE),\"\")","v":""},"",{"$f":"IFERROR(VLOOKUP(__疾患別コードレジメン名[[#This Row],[列13]],INDIRECT(\"__レジメンマスタ\"),2,FALSE),\"\")","v":""}]
["",{"$f":"IFERROR(VLOOKUP(__疾患別コードレジメン名[[#This Row],[列1]],INDIRECT(\"__レジメンマスタ\"),2,FALSE),\"\")","v":""},"",{"$f":"IFERROR(VLOOKUP(__疾患別コードレジメン名[[#This Row],[列2]],INDIRECT(\"__レジメンマスタ\"),2,FALSE),\"\")","v":""},"",{"$f":"IFERROR(VLOOKUP(__疾患別コードレジメン名[[#This Row],[列3]],INDIRECT(\"__レジメンマスタ\"),2,FALSE),\"\")","v":""},"",{"$f":"IFERROR(VLOOKUP(__疾患別コードレジメン名[[#This Row],[列4]],INDIRECT(\"__レジメンマスタ\"),2,FALSE),\"\")","v":""},"",{"$f":"IFERROR(VLOOKUP(__疾患別コードレジメン名[[#This Row],[列5]],INDIRECT(\"__レジメンマスタ\"),2,FALSE),\"\")","v":""},"",{"$f":"IFERROR(VLOOKUP(__疾患別コードレジメン名[[#This Row],[列6]],INDIRECT(\"__レジメンマスタ\"),2,FALSE),\"\")","v":""},"",{"$f":"IFERROR(VLOOKUP(__疾患別コードレジメン名[[#This Row],[列7]],INDIRECT(\"__レジメンマスタ\"),2,FALSE),\"\")","v":""},"",{"$f":"IFERROR(VLOOKUP(__疾患別コードレジメン名[[#This Row],[列8]],INDIRECT(\"__レジメンマスタ\"),2,FALSE),\"\")","v":""},"",{"$f":"IFERROR(VLOOKUP(__疾患別コードレジメン名[[#This Row],[列9]],INDIRECT(\"__レジメンマスタ\"),2,FALSE),\"\")","v":""},"",{"$f":"IFERROR(VLOOKUP(__疾患別コードレジメン名[[#This Row],[列10]],INDIRECT(\"__レジメンマスタ\"),2,FALSE),\"\")","v":""},"",{"$f":"IFERROR(VLOOKUP(__疾患別コードレジメン名[[#This Row],[列11]],INDIRECT(\"__レジメンマスタ\"),2,FALSE),\"\")","v":""},"",{"$f":"IFERROR(VLOOKUP(__疾患別コードレジメン名[[#This Row],[列12]],INDIRECT(\"__レジメンマスタ\"),2,FALSE),\"\")","v":""},"",{"$f":"IFERROR(VLOOKUP(__疾患別コードレジメン名[[#This Row],[列13]],INDIRECT(\"__レジメンマスタ\"),2,FALSE),\"\")","v":""}]
["",{"$f":"IFERROR(VLOOKUP(__疾患別コードレジメン名[[#This Row],[列1]],INDIRECT(\"__レジメンマスタ\"),2,FALSE),\"\")","v":""},"",{"$f":"IFERROR(VLOOKUP(__疾患別コードレジメン名[[#This Row],[列2]],INDIRECT(\"__レジメンマスタ\"),2,FALSE),\"\")","v":""},"",{"$f":"IFERROR(VLOOKUP(__疾患別コードレジメン名[[#This Row],[列3]],INDIRECT(\"__レジメンマスタ\"),2,FALSE),\"\")","v":""},"",{"$f":"IFERROR(VLOOKUP(__疾患別コードレジメン名[[#This Row],[列4]],INDIRECT(\"__レジメンマスタ\"),2,FALSE),\"\")","v":""},"",{"$f":"IFERROR(VLOOKUP(__疾患別コードレジメン名[[#This Row],[列5]],INDIRECT(\"__レジメンマスタ\"),2,FALSE),\"\")","v":""},"",{"$f":"IFERROR(VLOOKUP(__疾患別コードレジメン名[[#This Row],[列6]],INDIRECT(\"__レジメンマスタ\"),2,FALSE),\"\")","v":""},"",{"$f":"IFERROR(VLOOKUP(__疾患別コードレジメン名[[#This Row],[列7]],INDIRECT(\"__レジメンマスタ\"),2,FALSE),\"\")","v":""},"",{"$f":"IFERROR(VLOOKUP(__疾患別コードレジメン名[[#This Row],[列8]],INDIRECT(\"__レジメンマスタ\"),2,FALSE),\"\")","v":""},"",{"$f":"IFERROR(VLOOKUP(__疾患別コードレジメン名[[#This Row],[列9]],INDIRECT(\"__レジメンマスタ\"),2,FALSE),\"\")","v":""},"",{"$f":"IFERROR(VLOOKUP(__疾患別コードレジメン名[[#This Row],[列10]],INDIRECT(\"__レジメンマスタ\"),2,FALSE),\"\")","v":""},"",{"$f":"IFERROR(VLOOKUP(__疾患別コードレジメン名[[#This Row],[列11]],INDIRECT(\"__レジメンマスタ\"),2,FALSE),\"\")","v":""},"",{"$f":"IFERROR(VLOOKUP(__疾患別コードレジメン名[[#This Row],[列12]],INDIRECT(\"__レジメンマスタ\"),2,FALSE),\"\")","v":""},"",{"$f":"IFERROR(VLOOKUP(__疾患別コードレジメン名[[#This Row],[列13]],INDIRECT(\"__レジメンマスタ\"),2,FALSE),\"\")","v":""}]
["",{"$f":"IFERROR(VLOOKUP(__疾患別コードレジメン名[[#This Row],[列1]],INDIRECT(\"__レジメンマスタ\"),2,FALSE),\"\")","v":""},"",{"$f":"IFERROR(VLOOKUP(__疾患別コードレジメン名[[#This Row],[列2]],INDIRECT(\"__レジメンマスタ\"),2,FALSE),\"\")","v":""},"",{"$f":"IFERROR(VLOOKUP(__疾患別コードレジメン名[[#This Row],[列3]],INDIRECT(\"__レジメンマスタ\"),2,FALSE),\"\")","v":""},"",{"$f":"IFERROR(VLOOKUP(__疾患別コードレジメン名[[#This Row],[列4]],INDIRECT(\"__レジメンマスタ\"),2,FALSE),\"\")","v":""},"",{"$f":"IFERROR(VLOOKUP(__疾患別コードレジメン名[[#This Row],[列5]],INDIRECT(\"__レジメンマスタ\"),2,FALSE),\"\")","v":""},"",{"$f":"IFERROR(VLOOKUP(__疾患別コードレジメン名[[#This Row],[列6]],INDIRECT(\"__レジメンマスタ\"),2,FALSE),\"\")","v":""},"",{"$f":"IFERROR(VLOOKUP(__疾患別コードレジメン名[[#This Row],[列7]],INDIRECT(\"__レジメンマスタ\"),2,FALSE),\"\")","v":""},"",{"$f":"IFERROR(VLOOKUP(__疾患別コードレジメン名[[#This Row],[列8]],INDIRECT(\"__レジメンマスタ\"),2,FALSE),\"\")","v":""},"",{"$f":"IFERROR(VLOOKUP(__疾患別コードレジメン名[[#This Row],[列9]],INDIRECT(\"__レジメンマスタ\"),2,FALSE),\"\")","v":""},"",{"$f":"IFERROR(VLOOKUP(__疾患別コードレジメン名[[#This Row],[列10]],INDIRECT(\"__レジメンマスタ\"),2,FALSE),\"\")","v":""},"",{"$f":"IFERROR(VLOOKUP(__疾患別コードレジメン名[[#This Row],[列11]],INDIRECT(\"__レジメンマスタ\"),2,FALSE),\"\")","v":""},"",{"$f":"IFERROR(VLOOKUP(__疾患別コードレジメン名[[#This Row],[列12]],INDIRECT(\"__レジメンマスタ\"),2,FALSE),\"\")","v":""},"",{"$f":"IFERROR(VLOOKUP(__疾患別コードレジメン名[[#This Row],[列13]],INDIRECT(\"__レジメンマスタ\"),2,FALSE),\"\")","v":""}]
["",{"$f":"IFERROR(VLOOKUP(__疾患別コードレジメン名[[#This Row],[列1]],INDIRECT(\"__レジメンマスタ\"),2,FALSE),\"\")","v":""},"",{"$f":"IFERROR(VLOOKUP(__疾患別コードレジメン名[[#This Row],[列2]],INDIRECT(\"__レジメンマスタ\"),2,FALSE),\"\")","v":""},"",{"$f":"IFERROR(VLOOKUP(__疾患別コードレジメン名[[#This Row],[列3]],INDIRECT(\"__レジメンマスタ\"),2,FALSE),\"\")","v":""},"",{"$f":"IFERROR(VLOOKUP(__疾患別コードレジメン名[[#This Row],[列4]],INDIRECT(\"__レジメンマスタ\"),2,FALSE),\"\")","v":""},"",{"$f":"IFERROR(VLOOKUP(__疾患別コードレジメン名[[#This Row],[列5]],INDIRECT(\"__レジメンマスタ\"),2,FALSE),\"\")","v":""},"",{"$f":"IFERROR(VLOOKUP(__疾患別コードレジメン名[[#This Row],[列6]],INDIRECT(\"__レジメンマスタ\"),2,FALSE),\"\")","v":""},"",{"$f":"IFERROR(VLOOKUP(__疾患別コードレジメン名[[#This Row],[列7]],INDIRECT(\"__レジメンマスタ\"),2,FALSE),\"\")","v":""},"",{"$f":"IFERROR(VLOOKUP(__疾患別コードレジメン名[[#This Row],[列8]],INDIRECT(\"__レジメンマスタ\"),2,FALSE),\"\")","v":""},"",{"$f":"IFERROR(VLOOKUP(__疾患別コードレジメン名[[#This Row],[列9]],INDIRECT(\"__レジメンマスタ\"),2,FALSE),\"\")","v":""},"",{"$f":"IFERROR(VLOOKUP(__疾患別コードレジメン名[[#This Row],[列10]],INDIRECT(\"__レジメンマスタ\"),2,FALSE),\"\")","v":""},"",{"$f":"IFERROR(VLOOKUP(__疾患別コードレジメン名[[#This Row],[列11]],INDIRECT(\"__レジメンマスタ\"),2,FALSE),\"\")","v":""},"",{"$f":"IFERROR(VLOOKUP(__疾患別コードレジメン名[[#This Row],[列12]],INDIRECT(\"__レジメンマスタ\"),2,FALSE),\"\")","v":""},"",{"$f":"IFERROR(VLOOKUP(__疾患別コードレジメン名[[#This Row],[列13]],INDIRECT(\"__レジメンマスタ\"),2,FALSE),\"\")","v":""}]
["",{"$f":"IFERROR(VLOOKUP(__疾患別コードレジメン名[[#This Row],[列1]],INDIRECT(\"__レジメンマスタ\"),2,FALSE),\"\")","v":""},"",{"$f":"IFERROR(VLOOKUP(__疾患別コードレジメン名[[#This Row],[列2]],INDIRECT(\"__レジメンマスタ\"),2,FALSE),\"\")","v":""},"",{"$f":"IFERROR(VLOOKUP(__疾患別コードレジメン名[[#This Row],[列3]],INDIRECT(\"__レジメンマスタ\"),2,FALSE),\"\")","v":""},"",{"$f":"IFERROR(VLOOKUP(__疾患別コードレジメン名[[#This Row],[列4]],INDIRECT(\"__レジメンマスタ\"),2,FALSE),\"\")","v":""},"",{"$f":"IFERROR(VLOOKUP(__疾患別コードレジメン名[[#This Row],[列5]],INDIRECT(\"__レジメンマスタ\"),2,FALSE),\"\")","v":""},"",{"$f":"IFERROR(VLOOKUP(__疾患別コードレジメン名[[#This Row],[列6]],INDIRECT(\"__レジメンマスタ\"),2,FALSE),\"\")","v":""},"",{"$f":"IFERROR(VLOOKUP(__疾患別コードレジメン名[[#This Row],[列7]],INDIRECT(\"__レジメンマスタ\"),2,FALSE),\"\")","v":""},"",{"$f":"IFERROR(VLOOKUP(__疾患別コードレジメン名[[#This Row],[列8]],INDIRECT(\"__レジメンマスタ\"),2,FALSE),\"\")","v":""},"",{"$f":"IFERROR(VLOOKUP(__疾患別コードレジメン名[[#This Row],[列9]],INDIRECT(\"__レジメンマスタ\"),2,FALSE),\"\")","v":""},"",{"$f":"IFERROR(VLOOKUP(__疾患別コードレジメン名[[#This Row],[列10]],INDIRECT(\"__レジメンマスタ\"),2,FALSE),\"\")","v":""},"",{"$f":"IFERROR(VLOOKUP(__疾患別コードレジメン名[[#This Row],[列11]],INDIRECT(\"__レジメンマスタ\"),2,FALSE),\"\")","v":""},"",{"$f":"IFERROR(VLOOKUP(__疾患別コードレジメン名[[#This Row],[列12]],INDIRECT(\"__レジメンマスタ\"),2,FALSE),\"\")","v":""},"",{"$f":"IFERROR(VLOOKUP(__疾患別コードレジメン名[[#This Row],[列13]],INDIRECT(\"__レジメンマスタ\"),2,FALSE),\"\")","v":""}]
["",{"$f":"IFERROR(VLOOKUP(__疾患別コードレジメン名[[#This Row],[列1]],INDIRECT(\"__レジメンマスタ\"),2,FALSE),\"\")","v":""},"",{"$f":"IFERROR(VLOOKUP(__疾患別コードレジメン名[[#This Row],[列2]],INDIRECT(\"__レジメンマスタ\"),2,FALSE),\"\")","v":""},"",{"$f":"IFERROR(VLOOKUP(__疾患別コードレジメン名[[#This Row],[列3]],INDIRECT(\"__レジメンマスタ\"),2,FALSE),\"\")","v":""},"",{"$f":"IFERROR(VLOOKUP(__疾患別コードレジメン名[[#This Row],[列4]],INDIRECT(\"__レジメンマスタ\"),2,FALSE),\"\")","v":""},"",{"$f":"IFERROR(VLOOKUP(__疾患別コードレジメン名[[#This Row],[列5]],INDIRECT(\"__レジメンマスタ\"),2,FALSE),\"\")","v":""},"",{"$f":"IFERROR(VLOOKUP(__疾患別コードレジメン名[[#This Row],[列6]],INDIRECT(\"__レジメンマスタ\"),2,FALSE),\"\")","v":""},"",{"$f":"IFERROR(VLOOKUP(__疾患別コードレジメン名[[#This Row],[列7]],INDIRECT(\"__レジメンマスタ\"),2,FALSE),\"\")","v":""},"",{"$f":"IFERROR(VLOOKUP(__疾患別コードレジメン名[[#This Row],[列8]],INDIRECT(\"__レジメンマスタ\"),2,FALSE),\"\")","v":""},"",{"$f":"IFERROR(VLOOKUP(__疾患別コードレジメン名[[#This Row],[列9]],INDIRECT(\"__レジメンマスタ\"),2,FALSE),\"\")","v":""},"",{"$f":"IFERROR(VLOOKUP(__疾患別コードレジメン名[[#This Row],[列10]],INDIRECT(\"__レジメンマスタ\"),2,FALSE),\"\")","v":""},"",{"$f":"IFERROR(VLOOKUP(__疾患別コードレジメン名[[#This Row],[列11]],INDIRECT(\"__レジメンマスタ\"),2,FALSE),\"\")","v":""},"",{"$f":"IFERROR(VLOOKUP(__疾患別コードレジメン名[[#This Row],[列12]],INDIRECT(\"__レジメンマスタ\"),2,FALSE),\"\")","v":""},"",{"$f":"IFERROR(VLOOKUP(__疾患別コードレジメン名[[#This Row],[列13]],INDIRECT(\"__レジメンマスタ\"),2,FALSE),\"\")","v":""}]
["",{"$f":"IFERROR(VLOOKUP(__疾患別コードレジメン名[[#This Row],[列1]],INDIRECT(\"__レジメンマスタ\"),2,FALSE),\"\")","v":""},"",{"$f":"IFERROR(VLOOKUP(__疾患別コードレジメン名[[#This Row],[列2]],INDIRECT(\"__レジメンマスタ\"),2,FALSE),\"\")","v":""},"",{"$f":"IFERROR(VLOOKUP(__疾患別コードレジメン名[[#This Row],[列3]],INDIRECT(\"__レジメンマスタ\"),2,FALSE),\"\")","v":""},"",{"$f":"IFERROR(VLOOKUP(__疾患別コードレジメン名[[#This Row],[列4]],INDIRECT(\"__レジメンマスタ\"),2,FALSE),\"\")","v":""},"",{"$f":"IFERROR(VLOOKUP(__疾患別コードレジメン名[[#This Row],[列5]],INDIRECT(\"__レジメンマスタ\"),2,FALSE),\"\")","v":""},"",{"$f":"IFERROR(VLOOKUP(__疾患別コードレジメン名[[#This Row],[列6]],INDIRECT(\"__レジメンマスタ\"),2,FALSE),\"\")","v":""},"",{"$f":"IFERROR(VLOOKUP(__疾患別コードレジメン名[[#This Row],[列7]],INDIRECT(\"__レジメンマスタ\"),2,FALSE),\"\")","v":""},"",{"$f":"IFERROR(VLOOKUP(__疾患別コードレジメン名[[#This Row],[列8]],INDIRECT(\"__レジメンマスタ\"),2,FALSE),\"\")","v":""},"",{"$f":"IFERROR(VLOOKUP(__疾患別コードレジメン名[[#This Row],[列9]],INDIRECT(\"__レジメンマスタ\"),2,FALSE),\"\")","v":""},"",{"$f":"IFERROR(VLOOKUP(__疾患別コードレジメン名[[#This Row],[列10]],INDIRECT(\"__レジメンマスタ\"),2,FALSE),\"\")","v":""},"",{"$f":"IFERROR(VLOOKUP(__疾患別コードレジメン名[[#This Row],[列11]],INDIRECT(\"__レジメンマスタ\"),2,FALSE),\"\")","v":""},"",{"$f":"IFERROR(VLOOKUP(__疾患別コードレジメン名[[#This Row],[列12]],INDIRECT(\"__レジメンマスタ\"),2,FALSE),\"\")","v":""},"",{"$f":"IFERROR(VLOOKUP(__疾患別コードレジメン名[[#This Row],[列13]],INDIRECT(\"__レジメンマスタ\"),2,FALSE),\"\")","v":""}]
["",{"$f":"IFERROR(VLOOKUP(__疾患別コードレジメン名[[#This Row],[列1]],INDIRECT(\"__レジメンマスタ\"),2,FALSE),\"\")","v":""},"",{"$f":"IFERROR(VLOOKUP(__疾患別コードレジメン名[[#This Row],[列2]],INDIRECT(\"__レジメンマスタ\"),2,FALSE),\"\")","v":""},"",{"$f":"IFERROR(VLOOKUP(__疾患別コードレジメン名[[#This Row],[列3]],INDIRECT(\"__レジメンマスタ\"),2,FALSE),\"\")","v":""},"",{"$f":"IFERROR(VLOOKUP(__疾患別コードレジメン名[[#This Row],[列4]],INDIRECT(\"__レジメンマスタ\"),2,FALSE),\"\")","v":""},"",{"$f":"IFERROR(VLOOKUP(__疾患別コードレジメン名[[#This Row],[列5]],INDIRECT(\"__レジメンマスタ\"),2,FALSE),\"\")","v":""},"",{"$f":"IFERROR(VLOOKUP(__疾患別コードレジメン名[[#This Row],[列6]],INDIRECT(\"__レジメンマスタ\"),2,FALSE),\"\")","v":""},"",{"$f":"IFERROR(VLOOKUP(__疾患別コードレジメン名[[#This Row],[列7]],INDIRECT(\"__レジメンマスタ\"),2,FALSE),\"\")","v":""},"",{"$f":"IFERROR(VLOOKUP(__疾患別コードレジメン名[[#This Row],[列8]],INDIRECT(\"__レジメンマスタ\"),2,FALSE),\"\")","v":""},"",{"$f":"IFERROR(VLOOKUP(__疾患別コードレジメン名[[#This Row],[列9]],INDIRECT(\"__レジメンマスタ\"),2,FALSE),\"\")","v":""},"",{"$f":"IFERROR(VLOOKUP(__疾患別コードレジメン名[[#This Row],[列10]],INDIRECT(\"__レジメンマスタ\"),2,FALSE),\"\")","v":""},"",{"$f":"IFERROR(VLOOKUP(__疾患別コードレジメン名[[#This Row],[列11]],INDIRECT(\"__レジメンマスタ\"),2,FALSE),\"\")","v":""},"",{"$f":"IFERROR(VLOOKUP(__疾患別コードレジメン名[[#This Row],[列12]],INDIRECT(\"__レジメンマスタ\"),2,FALSE),\"\")","v":""},"",{"$f":"IFERROR(VLOOKUP(__疾患別コードレジメン名[[#This Row],[列13]],INDIRECT(\"__レジメンマスタ\"),2,FALSE),\"\")","v":""}]
["",{"$f":"IFERROR(VLOOKUP(__疾患別コードレジメン名[[#This Row],[列1]],INDIRECT(\"__レジメンマスタ\"),2,FALSE),\"\")","v":""},"",{"$f":"IFERROR(VLOOKUP(__疾患別コードレジメン名[[#This Row],[列2]],INDIRECT(\"__レジメンマスタ\"),2,FALSE),\"\")","v":""},"",{"$f":"IFERROR(VLOOKUP(__疾患別コードレジメン名[[#This Row],[列3]],INDIRECT(\"__レジメンマスタ\"),2,FALSE),\"\")","v":""},"",{"$f":"IFERROR(VLOOKUP(__疾患別コードレジメン名[[#This Row],[列4]],INDIRECT(\"__レジメンマスタ\"),2,FALSE),\"\")","v":""},"",{"$f":"IFERROR(VLOOKUP(__疾患別コードレジメン名[[#This Row],[列5]],INDIRECT(\"__レジメンマスタ\"),2,FALSE),\"\")","v":""},"",{"$f":"IFERROR(VLOOKUP(__疾患別コードレジメン名[[#This Row],[列6]],INDIRECT(\"__レジメンマスタ\"),2,FALSE),\"\")","v":""},"",{"$f":"IFERROR(VLOOKUP(__疾患別コードレジメン名[[#This Row],[列7]],INDIRECT(\"__レジメンマスタ\"),2,FALSE),\"\")","v":""},"",{"$f":"IFERROR(VLOOKUP(__疾患別コードレジメン名[[#This Row],[列8]],INDIRECT(\"__レジメンマスタ\"),2,FALSE),\"\")","v":""},"",{"$f":"IFERROR(VLOOKUP(__疾患別コードレジメン名[[#This Row],[列9]],INDIRECT(\"__レジメンマスタ\"),2,FALSE),\"\")","v":""},"",{"$f":"IFERROR(VLOOKUP(__疾患別コードレジメン名[[#This Row],[列10]],INDIRECT(\"__レジメンマスタ\"),2,FALSE),\"\")","v":""},"",{"$f":"IFERROR(VLOOKUP(__疾患別コードレジメン名[[#This Row],[列11]],INDIRECT(\"__レジメンマスタ\"),2,FALSE),\"\")","v":""},"",{"$f":"IFERROR(VLOOKUP(__疾患別コードレジメン名[[#This Row],[列12]],INDIRECT(\"__レジメンマスタ\"),2,FALSE),\"\")","v":""},"",{"$f":"IFERROR(VLOOKUP(__疾患別コードレジメン名[[#This Row],[列13]],INDIRECT(\"__レジメンマスタ\"),2,FALSE),\"\")","v":""}]
["",{"$f":"IFERROR(VLOOKUP(__疾患別コードレジメン名[[#This Row],[列1]],INDIRECT(\"__レジメンマスタ\"),2,FALSE),\"\")","v":""},"",{"$f":"IFERROR(VLOOKUP(__疾患別コードレジメン名[[#This Row],[列2]],INDIRECT(\"__レジメンマスタ\"),2,FALSE),\"\")","v":""},"",{"$f":"IFERROR(VLOOKUP(__疾患別コードレジメン名[[#This Row],[列3]],INDIRECT(\"__レジメンマスタ\"),2,FALSE),\"\")","v":""},"",{"$f":"IFERROR(VLOOKUP(__疾患別コードレジメン名[[#This Row],[列4]],INDIRECT(\"__レジメンマスタ\"),2,FALSE),\"\")","v":""},"",{"$f":"IFERROR(VLOOKUP(__疾患別コードレジメン名[[#This Row],[列5]],INDIRECT(\"__レジメンマスタ\"),2,FALSE),\"\")","v":""},"",{"$f":"IFERROR(VLOOKUP(__疾患別コードレジメン名[[#This Row],[列6]],INDIRECT(\"__レジメンマスタ\"),2,FALSE),\"\")","v":""},"",{"$f":"IFERROR(VLOOKUP(__疾患別コードレジメン名[[#This Row],[列7]],INDIRECT(\"__レジメンマスタ\"),2,FALSE),\"\")","v":""},"",{"$f":"IFERROR(VLOOKUP(__疾患別コードレジメン名[[#This Row],[列8]],INDIRECT(\"__レジメンマスタ\"),2,FALSE),\"\")","v":""},"",{"$f":"IFERROR(VLOOKUP(__疾患別コードレジメン名[[#This Row],[列9]],INDIRECT(\"__レジメンマスタ\"),2,FALSE),\"\")","v":""},"",{"$f":"IFERROR(VLOOKUP(__疾患別コードレジメン名[[#This Row],[列10]],INDIRECT(\"__レジメンマスタ\"),2,FALSE),\"\")","v":""},"",{"$f":"IFERROR(VLOOKUP(__疾患別コードレジメン名[[#This Row],[列11]],INDIRECT(\"__レジメンマスタ\"),2,FALSE),\"\")","v":""},"",{"$f":"IFERROR(VLOOKUP(__疾患別コードレジメン名[[#This Row],[列12]],INDIRECT(\"__レジメンマスタ\"),2,FALSE),\"\")","v":""},"",{"$f":"IFERROR(VLOOKUP(__疾患別コードレジメン名[[#This Row],[列13]],INDIRECT(\"__レジメンマスタ\"),2,FALSE),\"\")","v":""}]
["",{"$f":"IFERROR(VLOOKUP(__疾患別コードレジメン名[[#This Row],[列1]],INDIRECT(\"__レジメンマスタ\"),2,FALSE),\"\")","v":""},"",{"$f":"IFERROR(VLOOKUP(__疾患別コードレジメン名[[#This Row],[列2]],INDIRECT(\"__レジメンマスタ\"),2,FALSE),\"\")","v":""},"",{"$f":"IFERROR(VLOOKUP(__疾患別コードレジメン名[[#This Row],[列3]],INDIRECT(\"__レジメンマスタ\"),2,FALSE),\"\")","v":""},"",{"$f":"IFERROR(VLOOKUP(__疾患別コードレジメン名[[#This Row],[列4]],INDIRECT(\"__レジメンマスタ\"),2,FALSE),\"\")","v":""},"",{"$f":"IFERROR(VLOOKUP(__疾患別コードレジメン名[[#This Row],[列5]],INDIRECT(\"__レジメンマスタ\"),2,FALSE),\"\")","v":""},"",{"$f":"IFERROR(VLOOKUP(__疾患別コードレジメン名[[#This Row],[列6]],INDIRECT(\"__レジメンマスタ\"),2,FALSE),\"\")","v":""},"",{"$f":"IFERROR(VLOOKUP(__疾患別コードレジメン名[[#This Row],[列7]],INDIRECT(\"__レジメンマスタ\"),2,FALSE),\"\")","v":""},"",{"$f":"IFERROR(VLOOKUP(__疾患別コードレジメン名[[#This Row],[列8]],INDIRECT(\"__レジメンマスタ\"),2,FALSE),\"\")","v":""},"",{"$f":"IFERROR(VLOOKUP(__疾患別コードレジメン名[[#This Row],[列9]],INDIRECT(\"__レジメンマスタ\"),2,FALSE),\"\")","v":""},"",{"$f":"IFERROR(VLOOKUP(__疾患別コードレジメン名[[#This Row],[列10]],INDIRECT(\"__レジメンマスタ\"),2,FALSE),\"\")","v":""},"",{"$f":"IFERROR(VLOOKUP(__疾患別コードレジメン名[[#This Row],[列11]],INDIRECT(\"__レジメンマスタ\"),2,FALSE),\"\")","v":""},"",{"$f":"IFERROR(VLOOKUP(__疾患別コードレジメン名[[#This Row],[列12]],INDIRECT(\"__レジメンマスタ\"),2,FALSE),\"\")","v":""},"",{"$f":"IFERROR(VLOOKUP(__疾患別コードレジメン名[[#This Row],[列13]],INDIRECT(\"__レジメンマスタ\"),2,FALSE),\"\")","v":""}]
["",{"$f":"IFERROR(VLOOKUP(__疾患別コードレジメン名[[#This Row],[列1]],INDIRECT(\"__レジメンマスタ\"),2,FALSE),\"\")","v":""},"",{"$f":"IFERROR(VLOOKUP(__疾患別コードレジメン名[[#This Row],[列2]],INDIRECT(\"__レジメンマスタ\"),2,FALSE),\"\")","v":""},"",{"$f":"IFERROR(VLOOKUP(__疾患別コードレジメン名[[#This Row],[列3]],INDIRECT(\"__レジメンマスタ\"),2,FALSE),\"\")","v":""},"",{"$f":"IFERROR(VLOOKUP(__疾患別コードレジメン名[[#This Row],[列4]],INDIRECT(\"__レジメンマスタ\"),2,FALSE),\"\")","v":""},"",{"$f":"IFERROR(VLOOKUP(__疾患別コードレジメン名[[#This Row],[列5]],INDIRECT(\"__レジメンマスタ\"),2,FALSE),\"\")","v":""},"",{"$f":"IFERROR(VLOOKUP(__疾患別コードレジメン名[[#This Row],[列6]],INDIRECT(\"__レジメンマスタ\"),2,FALSE),\"\")","v":""},"",{"$f":"IFERROR(VLOOKUP(__疾患別コードレジメン名[[#This Row],[列7]],INDIRECT(\"__レジメンマスタ\"),2,FALSE),\"\")","v":""},"",{"$f":"IFERROR(VLOOKUP(__疾患別コードレジメン名[[#This Row],[列8]],INDIRECT(\"__レジメンマスタ\"),2,FALSE),\"\")","v":""},"",{"$f":"IFERROR(VLOOKUP(__疾患別コードレジメン名[[#This Row],[列9]],INDIRECT(\"__レジメンマスタ\"),2,FALSE),\"\")","v":""},"",{"$f":"IFERROR(VLOOKUP(__疾患別コードレジメン名[[#This Row],[列10]],INDIRECT(\"__レジメンマスタ\"),2,FALSE),\"\")","v":""},"",{"$f":"IFERROR(VLOOKUP(__疾患別コードレジメン名[[#This Row],[列11]],INDIRECT(\"__レジメンマスタ\"),2,FALSE),\"\")","v":""},"",{"$f":"IFERROR(VLOOKUP(__疾患別コードレジメン名[[#This Row],[列12]],INDIRECT(\"__レジメンマスタ\"),2,FALSE),\"\")","v":""},"",{"$f":"IFERROR(VLOOKUP(__疾患別コードレジメン名[[#This Row],[列13]],INDIRECT(\"__レジメンマスタ\"),2,FALSE),\"\")","v":""}]

{"sheet":"前投薬リスト","index":4,"n_rows":167,"n_cols":4,"rows_kept":167,"cut":false,"hidden":true,"merged":[]}
["YJコード","成分名","薬剤名称","前投薬"]
["2454002F3020","DEX"]
["4291501A2024","IN フェスゴ(初回量)","危 IN ﾌｪｽｺﾞ配合皮下注 15mL（P 1200mg+T 600mg）"]
["4291501A1028","MA フェスゴ(2回目～)","危 MA ﾌｪｽｺﾞ配合皮下注 10mL（P 600mg+T 600mg）"]
["4291415A1021","アービタックス","危 ｱｰﾋﾞﾀｯｸｽ注射液 100㎎/20mL","抗ヒス,(ステ)"]
["4291401D1026","アイエーコール動注用","危〈毒〉100mg 動注用ｱｲｴｰｺｰﾙ"]
["4291401D2022","アイエーコール動注用","危〈毒〉50mg 動注用ｱｲｴｰｺｰﾙ"]
["4291027F2025","アキシチニブ"]
["4291405F2021","アクプラ"]
["4235400D1030","アクラシノン"]
["4291419D1050","アザシチジン","危 ｱｻﾞｼﾁｼﾞﾝ注射用「ｻﾜｲ」100mg（溶解液:Aq）（先:ﾋﾞﾀﾞｰｻﾞ）"]
["4291425D1021","アドセトリス","危 臨）ｱﾄﾞｾﾄﾘｽ点滴静注用 50mg（溶解液:Aq）"]
["4291413A2029","アバスチン","危 400mg/16mL ｱﾊﾞｽﾁﾝ点滴静注用"]
["4240409D1023","アブラキサン","危〈毒〉ｱﾌﾞﾗｷｻﾝ点滴静注用 100mg"]
["4219002F1034","アルケラン"]
["4291440D1026","イストダックス"]
["4235405D1033","イダマイシン"]
["4291051F2029","イブランス"]
["4211402D1020","イホマイド","危 注射用ｲﾎﾏｲﾄﾞ 1g（溶解液:生食orAq）"]
["4291011F1052","イマチニブ"]
["4291443A2020","イミフィンジ","危 500mg/10mL ｲﾐﾌｨﾝｼﾞ点滴静注（希釈液:生食orTZ）"]
["4291477D1029","イムデトラ",null,"①d1,8→ステ"]
["4291477D2025","イムデトラ",null,"①d1,8→ステ"]
["4240404A2055","イリノテカン","危 100mg/5mL ｲﾘﾉﾃｶﾝ塩酸塩点滴静注液「NK」（先:ﾄﾎﾟﾃｼﾝ）"]
["4291060F1021","ヴァンフリタ"]
["4291060F2028","ヴァンフリタ"]
["3929406A2026","ウロミテキサン"]
["4240401D2031","エクザール"]
["4229101F2057","エスワン"]
["4240403A2069","エトポシド","危 ｴﾄﾎﾟｼﾄﾞ点滴静注液「ｻﾝﾄﾞ」100mg/5mL（先:ﾗｽﾃｯﾄ）"]
["4235404D2060","エピルビシン","危 50mg ｴﾋﾟﾙﾋﾞｼﾝ塩酸塩注射用「NK」"]
["4291469A1028","エプキンリ","危 臨）4mg/0.8mL ｴﾌﾟｷﾝﾘ皮下注（希釈液:生食）","①抗ヒス,ステ,解　②(ステ)"]
["4291469A2024","エプキンリ","危 臨）48mg/0.8mL ｴﾌﾟｷﾝﾘ皮下注","①抗ヒス,ステ,解　②(ステ)"]
["4291434D2027","エムプリシティ",null,"抗ヒス,H2B,ステ,解"]
["4291420A1022","エリブリン","危 ﾊﾗｳﾞｪﾝ静注 1mg/2mL（希釈液:生食）"]
["4291470A1020","エルレフィオ","危 臨）44mg/1.1mL ｴﾙﾚﾌｨｵ皮下注","①d1,4,8:抗ヒス,ステ,解"]
["4291470A2027","エルレフィオ","危 臨）76mg/1.9mL ｴﾙﾚﾌｨｵ皮下注","①d1,4,8:抗ヒス,ステ,解"]
["4291016F2035","エルロチニブ"]
["4291016F3031","エルロチニブ"]
["4211002F1044","エンドキサン","エンドキサン錠"]
["4211401D2021","エンドキサン","危 注射用ｴﾝﾄﾞｷｻﾝ 500㎎"]
["4291452D1029","エンハーツ","危 ｴﾝﾊｰﾂ点滴静注用 100mg（溶解液:Aq）"]
["4291410A2092","オキサリプラチン","危〈毒〉100㎎/20mL ｵｷｻﾘﾌﾟﾗﾁﾝ点滴静注液「NK」（先:ｴﾙﾌﾟﾗｯﾄ）"]
["4240404A3027","オニバイド","危 臨）ｵﾆﾊﾞｲﾄﾞ点滴静注 43mg/10mL"]
["4291427A3027","オプジーボ","危 240mg/24mL ｵﾌﾟｼﾞｰﾎﾞ点滴静注（希釈液:生食orTZ）"]
["4291468D1020","オンキャスパー",null,"(抗ヒス,ステ,解)"]
["4240400D1030","オンコビン","危 ｵﾝｺﾋﾞﾝ注射用 1㎎"]
["4291433D2022","カイプロリス","危〈毒〉40mg ｶｲﾌﾟﾛﾘｽ点滴静注用（溶解液:Aq、希釈液:TZ）","(ステ)"]
["4291444A1028","ガザイバ","危 ｶﾞｻﾞｲﾊﾞ点滴静注 1000mg/40mL（希釈液:生食）","抗ヒス,解,(ステ)"]
["4291426D2022","カドサイラ","危 160mg ｶﾄﾞｻｲﾗ点滴静注用（溶解液:Aq、希釈液:生食）"]
["4223005F1065","カペシタビン"]
["4291070M1024","カルケンス"]
["4235406D2026","カルセド","危 50mg ｶﾙｾﾄﾞ注射用（溶解液:生食orTZ）"]
["4291403A2092","カルボプラチン","危〈毒〉ｶﾙﾎﾞﾌﾟﾗﾁﾝ点滴静注液「NK」150mg/15mL（先:ﾊﾟﾗﾌﾟﾗﾁﾝ）"]
["4291435A2025","キイトルーダ","危 ｷｲﾄﾙｰﾀﾞ点滴静注 100mg/4mL（希釈液:生食orTZ）"]
["4224401A5030","キロサイド"]
["4224401A1035","キロサイド(少量）","危 20mg/1mL ｷﾛｻｲﾄﾞ注"]
["4291013F1035","ゲフィチニブ"]
["4224403D2061","ゲムシタビン","危 1g ｹﾞﾑｼﾀﾋﾞﾝ点滴静注用「ﾔｸﾙﾄ」（溶解液:生食）（先:ｼﾞｪﾑｻﾞｰﾙ）"]
["4291454A2028","サークリサ","危 500mg/25mL ｻｰｸﾘｻ点滴静注","抗ヒス,H2B,ステ,解"]
["4219402D1028","サイメリン"]
["4291429A2020","サイラムザ","危 500mg/50mL ｻｲﾗﾑｻﾞ点滴静注液（希釈液:生食）","(抗ヒス)"]
["4219406D1026","ザノサー","危 臨）ｻﾞﾉｻｰ点滴静注用 1g"]
["4291436A2020","ザルトラップ"]
["4291019M1023","サレド"]
["4224402D2032","サンラビン"]
["4240410A1020","ジェブタナ","危〈毒〉臨）ｼﾞｪﾌﾞﾀﾅ点滴静注 60mg（溶解液5.67mL付）","抗ヒス,H2B,ステ"]
["4291401A1119","シスプラチン","危〈毒〉10mg/20mL ｼｽﾌﾟﾗﾁﾝ点滴静注「ﾏﾙｺ」（先:ﾗﾝﾀﾞ）"]
["4291401A3111","シスプラチン","危〈毒〉50mg/100mL ｼｽﾌﾟﾗﾁﾝ点滴静注「ﾏﾙｺ」（先:ﾗﾝﾀﾞ）"]
["4224401A7041","シタラビン","危 1g/50mL ｼﾀﾗﾋﾞﾝ点滴静注液「NIG」（希釈液:生食orTZ）（先:ｷﾛｻｲﾄﾞN）"]
["4229404A1027","ジフォルタ"]
["4291018M1029","スーテント"]
["4291029F1028","スチバーガ"]
["2456400D1067","ソル・メドロール"]
["4291022F1026","タイケルブ"]
["4235401D1035","ダウノマイシン"]
["4219401D1031","ダカルバジン"]
["4291045F2023","タグリッソ"]
["4291474D1025","ダトロウェイ","ダトロウェイ点滴静注用１００ｍｇ","抗ヒス,ステ,解"]
["4291480A1024","タービー","タービー皮下注３ｍｇ","抗ヒス,ステ,解"]
["4291480A2020","タービー","タービー皮下注４０ｍｇ","抗ヒス,ステ,解"]
["4291500A1023","ダラキューロ","危 ﾀﾞﾗｷｭｰﾛ配合皮下注 1800mg/15mL","抗ヒス,ステ,解"]
["4291437A2024","ダラザレックス",null,"抗ヒス,ステ,解"]
["4291462D1022","ダルビアス"]
["2454405H5038","デキサート"]
["4291441A1024","テセントリク","危 ﾃｾﾝﾄﾘｸ点滴静注 1200mg/20mL（溶解液:生食）"]
["4291441A2020","テセントリク"]
["4219004F2021","テモゾロミド"]
["4219404D1027","テモゾロミド"]
["4291418A1025","トーリセル",null,"抗ヒス"]
["4235402A1025","ドキシル","ドキシル注２０ｍｇ"]
["4235402D1048","ドキソルビシン","危 10mg ﾄﾞｷｿﾙﾋﾞｼﾝ塩酸塩注射用「NK」（溶解液:生食orAq）（先:ｱﾄﾞﾘｱｼﾝ）"]
["4235402D2028","ドキソルビシン","危 50mg ﾄﾞｷｿﾙﾋﾞｼﾝ塩酸塩注射用「NK」（溶解液:生食orAq）（先:ｱﾄﾞﾘｱｼﾝ）"]
["4240405A3102","ドセタキセル","危〈毒〉20㎎/1mL ﾄﾞｾﾀｷｾﾙ点滴静注「ﾆﾌﾟﾛ」（先:ﾀｷｿﾃｰﾙ）"]
["4240405A4109","ドセタキセル","危〈毒〉80㎎/4mL ﾄﾞｾﾀｷｾﾙ点滴静注「ﾆﾌﾟﾛ」（先:ﾀｷｿﾃｰﾙ）"]
["4291442D2030","トラスツズマブ","危 ﾊｰｾﾌﾟﾁﾝ注射用 150mg（溶解液:Aq,希釈液:生食）"]
["4291409A2022","トリセノックス"]
["4291472D1026","トロデルビ","トロデルビ点滴静注用２００ｍｇ","抗ヒス,H2B,ステ,解"]
["4219400D1029","ニドラン","ニドラン注射用２５ｍｇ"]
["4219400D2025","ニドラン","ニドラン注射用５０ｍｇ"]
["4291063F1025","ニュベクオ"]
["4291049M3027","ニンラーロ"]
["4291402A1032","ノバントロン"]
["4291424A1020","パージェタ","危 ﾊﾟｰｼﾞｪﾀ点滴静注 420mg/14mL（希釈液:生食）"]
["4291406D6020","ハーセプチン","危 ﾊｰｾﾌﾟﾁﾝ注射用 150mg（溶解液:Aq,希釈液:生食）"]
["4240408D1037","ハイカムチン","危 臨）ﾊｲｶﾑﾁﾝ注射用 1.1mg"]
["4240406A1040","パクリタキセル","危〈毒〉30mg/5mL ﾊﾟｸﾘﾀｷｾﾙ注「NK」（希釈液:生食orTZ）（先:ﾀｷｿｰﾙ）","抗ヒス,H2B,ステ"]
["4240406A2046","パクリタキセル","危〈毒〉100mg/16.7mL ﾊﾟｸﾘﾀｷｾﾙ注「NK」（希釈液:生食orTZ）（先:ﾀｷｿｰﾙ）","抗ヒス,H2B,ステ"]
["4291459D1020","パドセブ","危 臨）30mg ﾊﾟﾄﾞｾﾌﾞ点滴静注用（溶解液:Aq）"]
["4291438A1022","バベンチオ","危 臨）ﾊﾞﾍﾞﾝﾁｵ点滴静注 200mg/10mL","抗ヒス,解"]
["4291420A1022","ハラヴェン(先発品）","危 ﾊﾗｳﾞｪﾝ静注 1mg/2mL（希釈液:生食）"]
["4291445D1029","ビーリンサイト"]
["4291502D1029","ビキセオス"]
["4235403D3029","ピノルビン"]
["4240407A2032","ビノレルビン","危〈毒〉40㎎/4mL ﾛｾﾞｳｽ静注液（先:ﾅﾍﾞﾙﾋﾞﾝ）"]
["4291057M2025","ビラフトビ"]
["4240402D1021","フィルデシン"]
["4240402D2028","フィルデシン"]
["4213400A2025","ブスルフェクス"]
["4291088M2020","フリュザクラ"]
["4223401A3030","フルオロウラシル","危 1000mg/20mL ﾌﾙｵﾛｳﾗｼﾙ注「ﾄｰﾜ」（先:5-FU）"]
["4223401A4037","フルオロウラシル持続","危 250mg/5mL ﾌﾙｵﾛｳﾗｼﾙ注「ﾄｰﾜ」（先:5-FU）"]
["4229002F1022","フルダラ"]
["4229400D1033","フルダラ"]
["4234400D5039","ブレオマイシン"]
["2456001F1310","プレドニゾロン"]
["2456405D1027","プレドニン"]
["2456405D2023","プレドニン"]
["4291002M1044","プロカルバジン"]
["4291417A1020","ベクティビックス","危 ﾍﾞｸﾃｨﾋﾞｯｸｽ点滴静注 100mg/5mL（希釈液:生食）"]
["4291006M1034","ベサノイド"]
["4239401D1026","ベスポンサ"]
["4291062F3023","ベネクレクスタ"]
["4291463A2027","ベバシズマブ","危 400mg/16mL ﾍﾞﾊﾞｼｽﾞﾏﾌﾞBS点滴静注「CTNK」（希釈液:生食）（先:ｱﾊﾞｽﾁﾝ）"]
["4229401A2020","ペメトレキセド","危 500mg/20mL ﾍﾟﾒﾄﾚｷｾﾄﾞ点滴静注液「NK」（希釈液:生食）（先:ｱﾘﾑﾀ）","(ステ)"]
["4229401A3026","ペメトレキセド","危 800mg/32mL ﾍﾟﾒﾄﾚｷｾﾄﾞ点滴静注液「NK」（希釈液:生食）（先:ｱﾘﾑﾀ）","(ステ)"]
["4291412D1024","ベルケイド（先発品）","危 ﾍﾞﾙｹｲﾄﾞ注射用 3mg（溶解液:生食）"]
["4219405A1033","ベンダムスチン","危 100mg/4mL ﾍﾞﾝﾀﾞﾑｽﾁﾝ塩酸塩点滴静注液「ﾄｰﾜ」（希釈液:生食）（先:ﾄﾚｱｷｼﾝ）"]
["4291448A1026","ポートラーザ"]
["4291422A1021","ポテリジオ",null,"抗ヒス,解,ステ"]
["4291038M4025","ポマリスト"]
["4291455D1022","ポライビー","危 30mg ﾎﾟﾗｲﾋﾞｰ点滴静注用（溶解液:Aq、希釈液:生食orTz）","(抗ヒス,ステ,解)"]
["3929004F2048","ホリナート"]
["4291412D1040","ボルテゾミブ","危 ﾎﾞﾙﾃｿﾞﾐﾌﾞ注射用 3mg「NK」（溶解液:生食）（先:ﾍﾞﾙｹｲﾄﾞ）"]
["4231400D1031","マイトマイシン","危 臨）ﾏｲﾄﾏｲｼﾝ注用 2mg（溶解液:生食）"]
["4291058F1024","メクトビ"]
["4222001F1027","メソトレキセート"]
["4222400A1036","メソトレキセート","危 200mg/8mL ﾒｿﾄﾚｷｾｰﾄ点滴静注液"]
["4222400A2024","メソトレキセート","危 1000mg/40mL ﾒｿﾄﾚｷｾｰﾄ点滴静注液"]
["4222400D1024","メソトレキセート 5mg","危 5mg 注射用ﾒｿﾄﾚｷｾｰﾄ"]
["4291430A1026","ヤーボイ","危 臨）50mg/10mL ﾔｰﾎﾞｲ点滴静注液"]
["4229100M2035","ユーエフティ"]
["4291473A1024","ライブリバント",null,"①d1,2:抗ﾋｽ,ｽﾃ,解,(H2B)d8以降:抗ﾋｽ,解,(H2B,ｽﾃ)"]
["4240001M1067","ラステットS"]
["4212400A1021","リサイオ"]
["4291407A2031","リツキサン","危 ﾘﾂｷｻﾝ点滴静注 500mg/50mL（希釈液:生食orTZ）","抗ヒス,解,(ステ)"]
["4291451A2024","リツキシマブ","危 500㎎/50mL ﾘﾂｷｼﾏﾌﾞBS点滴静注「ﾌｧｲｻﾞｰ」（希釈液:生食orTZ）（先:ﾘﾂｷｻﾝ）","抗ヒス,解,(ステ)"]
["4291466A1024","リブタヨ"]
["4291052F1027","リムパーザ"]
["4291024M1024","レナリドミド"]
["3929407D2060","レボホリナート","危 100mg ﾚﾎﾞﾎﾘﾅｰﾄ点滴静注用「ﾔｸﾙﾄ」（先:ｱｲｿﾎﾞﾘﾝ）"]
["4291039M1020","レンビマカプセル"]
["4221001B1052","ロイケリン散"]
["4291400A1033","ロイナーゼ"]
["4299100F2022","ロンサーフ"]
["4291465A1020","臨）イジュド","危 臨）25mg/1.25mL ｲｼﾞｭﾄﾞ点滴静注（希釈液:生食orTZ）"]
["4291471D1021","臨）ビロイ","危 臨）ﾋﾞﾛｲ点滴静注用 100mg（溶解液:Aq、希釈液:生食）"]

{"sheet":"用量調整表","index":5,"n_rows":170,"n_cols":7,"rows_kept":170,"cut":false,"hidden":true,"merged":[]}
["YJコード","成分名","薬剤名称","用法","腎機能","肝機能","備考"]
["2454002F3020","DEX",null,null,"腎機能正常者と同じ"]
["4291501A2024","IN フェスゴ","危 IN ﾌｪｽｺﾞ配合皮下注 15mL（P 1200mg+T 600mg）",null,"腎機能正常者と同じ","減量不要"]
["4291501A1028","MA フェスゴ","危 MA ﾌｪｽｺﾞ配合皮下注 10mL（P 600mg+T 600mg）",null,"腎機能正常者と同じ","減量不要"]
["4291401D2022","アイエーコール動注用","危〈毒〉50mg 動注用ｱｲｴｰｺｰﾙ"]
["4291401D1026","アイエーコール動注用","危〈毒〉100mg 動注用ｱｲｴｰｺｰﾙ"]
["4291027F2025","アキシチニブ",null,null,"腎機能正常者と同じ","・中等度:慎重判断(AUC2倍)・重度:該当資料なし"]
["4291405F2021","アクプラ",null,null,"CCr60-30:減量考慮、<30:禁忌","データ確認未"]
["4235400D1030","アクラシノン",null,null,"腎機能正常者と同じ","副作用が強く表れるおそれがある","生涯投与量注意"]
["4291419D1050","アザシチジン","危 ｱｻﾞｼﾁｼﾞﾝ注射用「ｻﾜｲ」100mg（溶解液:Aq）（先:ﾋﾞﾀﾞｰｻﾞ）",null,"腎機能正常者と同じ、BUN,Scrが2倍に上昇した場合は、改善後に50％dose","該当資料なし"]
["4291425D1021","アドセトリス",null,null,"60-30:腎機能正常者と同じ,<30:減量考慮\nFDA:使用を避ける","Child-Pugh分類A～C：減量考慮"]
["4291413A2029","アバスチン","危 400mg/16mL ｱﾊﾞｽﾁﾝ点滴静注用",null,"腎機能正常者と同じ","減量不要"]
["4240409D1023","アブラキサン","危〈毒〉ｱﾌﾞﾗｷｻﾝ点滴静注用 100mg",null,"腎機能正常と同じ\n定期的な腎機能確認","[膵癌肝転移以外]AST≦10×ULNかつT-Bil≦5×ULN:減量不要,AST≧10×ULNかつT-Bil≧5×ULN:禁忌\n[膵癌肝転移]AST≦10×ULNかつ1.5×ULN<T-Bil≦5×ULN:禁忌\nAST≧10×ULNかつT-Bil≧5×ULN:禁忌"]
["4219002F1034","アルケラン",null,null,"CCr=60-15:75%,=15-HD:50%\n副作用増悪の恐れ、減量目安なし","減量不要","安定性注意：90分"]
["4291415A1021","アービタックス","危 ｱｰﾋﾞﾀｯｸｽ注射液 100㎎/20mL",null,"腎機能正常者と同じ","減量不要"]
["4291440D1026","イストダックス",null,null,"腎機能正常者と同じ","減量不要"]
["4235405D1033","イダマイシン",null,null,"(添)60-30:消失遅延、<30:禁忌\n（血内緑本）減量しない","T-Bil=2.6～5.0mg/dL:50%に減量,>5.0mg/dL:投与不可\n(緑本)T-Bil>2mg/dL：減量する","生涯投与量注意"]
["4291051F2029","イブランス",null,null,"腎機能正常者と同じ、ただしHDでの臨床試験実施なし","・T-Bil>3×ULNかつAST規定なし:減量(1日1回75mgを投与)を考慮"]
["4211402D1020","イホマイド","危 注射用ｲﾎﾏｲﾄﾞ 1g（溶解液:生食orAq）",null,"CCr=60-45:80%,45-30:75%,<30:70%:HD-<15:不可\n","T-bil＞3g:25%に減量"]
["4291011F1052","イマチニブ",null,null,"報告により投与量異なるためTDM実施を検討","AST,ALT,T-bilで休薬中止基準あり詳細確認"]
["4291443A2020","イミフィンジ","危 500mg/10mL ｲﾐﾌｨﾝｼﾞ点滴静注（希釈液:生食orTZ）",null,"腎機能正常と同じ\n定期的な腎機能確認","減量不要"]
["4291477D2025","イムデトラ",null,null,null,"データ確認未"]
["4291477D1029","イムデトラ",null,null,null,"データ確認未"]
["4240404A2055","イリノテカン","危 100mg/5mL ｲﾘﾉﾃｶﾝ塩酸塩点滴静注液「NK」（先:ﾄﾎﾟﾃｼﾝ）",null,"腎機能正常者と同じだが、HDでは投与は推奨されない(FDA)","T-Bil=1.5～3.0mg/dL:75%に減量","ホモ接合体（*6/*6 または *28/*28）、複合ヘテロ接合体（*6/*28）では減量して投与"]
["4291060F1021","ヴァンフリタ","ヴァンフリタ錠17.7mg",null,"該当資料なし","該当資料なし","相互作用注意"]
["4291060F2028","ヴァンフリタ","ヴァンフリタ錠26.5mg",null,"該当資料なし","該当資料なし","相互作用注意"]
["3929406A2026","ウロミテキサン"]
["4240401D2031","エクザール",null,null,"腎機能正常者と同じ","T-Bil>1.5mg/dL:50%に減量,T-Bil>3mg/sL:25％に減量"]
["4229101F2057","エスワン",null,null,"CCr≧80：通常用量、80>CCr≧50:一段階減量,50>CCr≧30:二段階減量,>30：禁忌","T-bil>1.5×ULN（>2mg/dL),\nAST/ALT>2.5×ULN:休薬を考慮"]
["4240403A2069","エトポシド","危 ｴﾄﾎﾟｼﾄﾞ点滴静注液「ｻﾝﾄﾞ」100mg/5mL（先:ﾗｽﾃｯﾄ）",null,"(FDA)50-15:75%,<10-HD:50%\n(緑本)60-45:85%,45-30:80%,<30:75%,HD:50%","T-Bil=1.5～3.0mg/dL:50%に減量,>3.0mg/dL:投与不可,AST60～180IU/L:50%に減量,>180IU/L:投与不可\n(緑本)T-Bil=1.2～3.0mg/dLまたはAST>180IU/Lの時:50%,T-Bil>3mg/dL:25%"]
["4235404D2060","エピルビシン","危 50mg ｴﾋﾟﾙﾋﾞｼﾝ塩酸塩注射用「NK」",null,"腎機能正常者と同じ、副作用が強く表れる恐れ","T-Bil=1.2～3.0mg/dL AST=2～4×ULN:50%に減量,T-Bil=3.1～5mg/dL AST>4×ULN:25%に減量\n(緑本)T-Bil>2mg/dL:50%,AST<150IU/L:100%,150-250:72%,250-500:48%,>500IU/L:24%","生涯投与量注意"]
["4291469A2024","エプキンリ","危 臨）48mg/0.8mL ｴﾌﾟｷﾝﾘ皮下注",null,"腎機能正常者と同じ","データ確認未"]
["4291469A1028","エプキンリ","危 臨）4mg/0.8mL ｴﾌﾟｷﾝﾘ皮下注（希釈液:生食）",null,"腎機能正常者と同じ","データ確認未"]
["4291420A1022","エリブリン","危 ﾊﾗｳﾞｪﾝ静注 1mg/2mL（希釈液:生食）",null,"CCr<50:AUC増加傾向、開始量1.1mg/㎡(FDA)","軽度(ChilPughA相当):1.1mg/㎡,\n中等度(ChildPughB相当):0.7mg/㎡,\n重度(ChildPughC相当):該当資料なし"]
["4291470A1020","エルレフィオ","危 臨）44mg/1.1mL ｴﾙﾚﾌｨｵ皮下注",null,"データ確認未","データ確認未"]
["4291470A2027","エルレフィオ","危 臨）76mg/1.9mL ｴﾙﾚﾌｨｵ皮下注",null,"データ確認未","データ確認未"]
["4291016F3031","エルロチニブ",null,null,"腎機能正常者と同じ","Grade4:投与中止,Grade2以上ではGrade1に回復するまで休薬、1段階減量で再開"]
["4291016F2035","エルロチニブ",null,null,"腎機能正常者と同じ","Grade4:投与中止,Grade2以上ではGrade1に回復するまで休薬、1段階減量で再開"]
["4211401D2021","エンドキサン","危 注射用ｴﾝﾄﾞｷｻﾝ 500㎎",null,"<500mg/㎡：CCr<15:50-75%,常用量を18～24時間毎,腎外CL30％低下\n≧500mg/㎡:45-30:75%,<30:70%,HD:50%","T-bil=3.1-5mg/dl又はAST/ALT>3.0×ULN以上：75%に減量\nT-bil＞5mg/dl：投与中止"]
["4211002F1044","エンドキサン","内服",null,"<500mg/㎡：CCr<15:50-75%,常用量を18～24時間毎,腎外CL30％低下\n≧500mg/㎡:45-30:75%,<30:70%,HD:50%","T-bil=3.1-5mg/dl又はAST/ALT>3.0×ULN以上：75%に減量\nT-bil＞5mg/dl：投与中止"]
["4291410A2092","オキサリプラチン","危〈毒〉100㎎/20mL ｵｷｻﾘﾌﾟﾗﾁﾝ点滴静注液「NK」（先:ｴﾙﾌﾟﾗｯﾄ）",null,"CCr>20であれば1回量の減量必要性なし","特記事項なし"]
["4240404A3027","オニバイド","危 臨）ｵﾆﾊﾞｲﾄﾞ点滴静注 43mg/10mL",null,"腎機能正常者と同じだが、腎機能悪化の恐れ","T-Bil>ULN,AST/ALT>2.5×ULN(肝転移有はAST/ALT>5×ULN):該当資料なし"]
["4291427A3027","オプジーボ","危 240mg/24mL ｵﾌﾟｼﾞｰﾎﾞ点滴静注（希釈液:生食orTZ）",null,"腎機能正常と同じ\n定期的な腎機能確認","減量不要"]
["4291468D1020","オンキャスパー",null,null,"腎機能正常者と同じ","データ確認未"]
["4240400D1030","オンコビン","危 ｵﾝｺﾋﾞﾝ注射用 1㎎",null,"腎機能正常者と同じ","T-Bil>1.5mg/dL:50%に減量,T-Bil>3mg/sL:25％に減量\n(緑本)T-Bil>2mg/dL:投与せず,T-Bil正常でもAST>ULN:50%","MAX2mg"]
["4291433D2022","カイプロリス","危〈毒〉40mg ｶｲﾌﾟﾛﾘｽ点滴静注用（溶解液:Aq、希釈液:TZ）",null,"腎機能正常者と同じ、CCr<15:休薬\nHD後に投与","減量不要"]
["4223005F1065","カペシタビン",null,null,"CCr=50-30:副作用増悪の恐れ、1段階減量,<30:禁忌","該当資料なし"]
["4291070M1024","カルケンス",null,null,"腎機能正常者と同じ、ただし重度腎機能障害では臨床試験実施なし","データ確認未"]
["4235406D2026","カルセド","危 50mg ｶﾙｾﾄﾞ注射用（溶解液:生食orTZ）",null,"腎機能正常者と同じ、骨髄抑制など副作用が強く表れる恐れ","肝障害への投与には注意"]
["4291403A2092","カルボプラチン","危〈毒〉ｶﾙﾎﾞﾌﾟﾗﾁﾝ点滴静注液「NK」150mg/15mL（先:ﾊﾟﾗﾌﾟﾗﾁﾝ）",null,"カルバート式:D(mg)=目標AUC×(GFR+25),過量投与防止のためGFR上限125ml/min","特記事項なし"]
["4291444A1028","ガザイバ","危 ｶﾞｻﾞｲﾊﾞ点滴静注 1000mg/40mL（希釈液:生食）",null,"腎機能正常者と同じ","減量不要"]
["4291435A2025","キイトルーダ","危 ｷｲﾄﾙｰﾀﾞ点滴静注 100mg/4mL（希釈液:生食orTZ）",null,"腎機能正常と同じ\n定期的な腎機能確認","減量不要"]
["4224401A5030","キロサイド","200mg",null,"腎機能正常者と同じ","該当資料なし\n(緑本)T-bil>2.0mg/dL：50%"]
["4224401A1035","キロサイド(少量）","危 20mg/1mL ｷﾛｻｲﾄﾞ注",null,"腎機能正常者と同じ","該当資料なし\n(緑本)T-bil>2.0mg/dL：50%"]
["4291013F1035","ゲフィチニブ",null,null,"腎機能正常者と同じ","Child-Pugh分類による中等度＆重症かなんじゃではAUC上昇の報告あり"]
["4224403D2061","ゲムシタビン","危 1g ｹﾞﾑｼﾀﾋﾞﾝ点滴静注用「ﾔｸﾙﾄ」（溶解液:生食）（先:ｼﾞｪﾑｻﾞｰﾙ）",null,"腎機能正常者と同じ","慎重投与\n"]
["4219402D1028","サイメリン",null,null,"CCr<60:腎機能正常者と同じ、定期的な腎機能確認","該当資料なし"]
["4291429A2020","サイラムザ","危 500mg/50mL ｻｲﾗﾑｻﾞ点滴静注液（希釈液:生食）",null,"腎機能正常者と同じ","減量不要"]
["4291019M1023","サレド",null,null,"腎機能正常者と同じ","該当資料なし"]
["4224402D2032","サンラビン",null,null,"検討されていないが、腎機能正常者と同じか"]
["4291454A2028","サークリサ","危 500mg/25mL ｻｰｸﾘｻ点滴静注",null,"腎機能正常者と同じ","減量不要"]
["4219406D1026","ザノサー","危 臨）ｻﾞﾉｻｰ点滴静注用 1g",null,"CCr<60:腎機能正常者と同じ、定期的な腎機能確認","速やかに肝臓にて代謝されるため注意必要"]
["4291436A2020","ザルトラップ",null,null,"腎機能正常者と同じ","減量不要"]
["4291401A3111","シスプラチン","危〈毒〉50mg/100mL ｼｽﾌﾟﾗﾁﾝ点滴静注「ﾏﾙｺ」（先:ﾗﾝﾀﾞ）",null,"CCr=60-46:75%,45-31:50%,<30：禁忌(血内)\n60-31:75%,30-15:50%,※添書上<30は禁忌","特記事項なし"]
["4291401A1119","シスプラチン","危〈毒〉10mg/20mL ｼｽﾌﾟﾗﾁﾝ点滴静注「ﾏﾙｺ」（先:ﾗﾝﾀﾞ）",null,"CCr=60-46:75%,45-31:50%,<30：禁忌(血内)\n60-31:75%,30-15:50%,※添書上<30は禁忌","特記事項なし"]
["4224401A7041","シタラビン","危 1g/50mL ｼﾀﾗﾋﾞﾝ点滴静注液「NIG」（希釈液:生食orTZ）（先:ｷﾛｻｲﾄﾞN）",null,"≧1g/㎡用量時：CCr=60-45:60%,45-30:50%,<30:禁忌","慎重投与\n(緑本)T-bil>2.0mg/dL：50%"]
["4240410A1020","ジェブタナ","危〈毒〉臨）ｼﾞｪﾌﾞﾀﾅ点滴静注 60mg（溶解液5.67mL付）",null,"腎機能正常と同じ\n定期的な腎機能確認","T-Bil≦1.5×ULN又はAST>1.5×ULN:20mg/㎡,1.5×ULN<T-Bil≦3×ULN(かつASTはいずれの結果でも):15mg/㎡,T-Bil>3×ULN:禁忌"]
["4229404A1027","ジフォルタ",null,null,"CCr=60-30:腎機能正常者と同じ,30-15:初回量15mg/㎡に減量、毒性により10mg/㎡減,15>投与避ける","データ確認未"]
["4291029F1028","スチバーガ",null,null,"腎機能正常者と同じ","軽度および中等度：減量不要\n重度：該当資料なし"]
["4291018M1029","スーテント",null,null,"腎機能正常と同じ\nHDでは詳細参照のこと","・軽度および中等度:減量不要・重度:該当資料なし"]
["2456400D1067","ソル・メドロール",null,null,"腎機能正常者と同じ"]
["4291022F1026","タイケルブ",null,null,"腎機能正常者と同じ","データ確認未"]
["4291045F2023","タグリッソ",null,null,"腎機能正常者と同じ、ただし末期腎機能障害＋HDでの臨床試験実施なし","Child-Pugh分類による中等度ではAUC変化なしだが、重度肝機能障害には慎重投与すべき"]
["4235401D1035","ダウノマイシン",null,null,"腎機能正常者と同じ、副作用が強く表れる恐れ","T-Bil=1.5～3.0mg/dL:75%に減量,3.1～5mg/dL:50%に減量,>5.0mg/dL:投与不可\n(緑本)T-Bil=2.0～3.0mg/dL:75%に減量,3.1～5mg/dL:50%に減量,>5.0mg/dL:投与不可","生涯投与量注意"]
["4219401D1031","ダカルバジン",null,null,"CCr=60-45:80%,45-30:75%,30>:70%","減量不要","ルートも遮光、発痛物質生成のため"]
["4291474D1025","ダトロウェイ","ダトロウェイ点滴静注用１００ｍｇ"]
["4291480A1024","タービー","タービー皮下注３ｍｇ"]
["4291480A2020","タービー","タービー皮下注４０ｍｇ"]
["4291500A1023","ダラキューロ","危 ﾀﾞﾗｷｭｰﾛ配合皮下注 1800mg/15mL",null,"腎機能正常者と同じ","減量不要","初回投与前に不規則抗体検査を実施、検査結果を患者カードに記載する"]
["4291437A2024","ダラザレックス",null,null,"腎機能正常者と同じ","減量不要","初回投与前に不規則抗体検査を実施、検査結果を患者カードに記載する"]
["4291462D1022","ダルビアス",null,null,"血中濃度上昇の可能性、腎機能障害患者を対象の臨床試験実施未減量基準なし\n軽度(eGFR:60以上90未満),中等度(30以上60未満)のAUCは健常者のそれぞれ1.34倍、1.82倍になる","Child-Pugh分類A、Bで曝露量の増大なし(IF)"]
["4291441A1024","テセントリク","危 ﾃｾﾝﾄﾘｸ点滴静注 1200mg/20mL（溶解液:生食）",null,"腎機能正常と同じ\n定期的な腎機能確認","減量不要"]
["4291441A2020","テセントリク",null,null,"腎機能正常と同じ\n定期的な腎機能確認","減量不要"]
["4219004F2021","テモゾロミド",null,null,"腎機能正常者と同じ","Child-Pugh分類C：該当資料なし、注意必要"]
["4219404D1027","テモダール",null,null,"腎機能正常者と同じ","Child-Pugh分類C：該当資料なし、注意必要"]
["2454405H5038","デキサート",null,null,"腎機能正常者と同じ"]
["4291442D2030","トラスツズマブ","危 ﾄﾗｽﾂｽﾞﾏﾌﾞBS点滴静注用 150mg「NK」（溶解液:Aq,希釈液:生食）（先:ﾊｰｾﾌﾟﾁﾝ）",null,"腎機能正常者と同じ","減量不要"]
["4291426D2022","トラスツズマブエムタンシン","危 160mg ｶﾄﾞｻｲﾗ点滴静注用（溶解液:Aq、希釈液:生食）",null,"腎機能正常者と同じ","AST,ALT,T-bilで休薬中止基準あり詳細確認"]
["4291452D1029","トラスツズマブデルクステカン","危 ｴﾝﾊｰﾂ点滴静注用 100mg（溶解液:Aq）",null,"腎機能正常者と同じ","AST,ALT,T-bilで休薬中止基準あり詳細確認"]
["4291409A2022","トリセノックス",null,null,"(添)排泄機能低下により濃度上昇の恐れ、詳細参照","肝機能低下患者には慎重投与"]
["4291418A1025","トーリセル",null,null,"腎機能正常と同じ\n定期的な腎機能確認","重度肝機能障害患者：減量を考慮"]
["4235402A1025","ドキシル","ドキシル注２０ｍｇ",null,"腎機能正常者と同じ","T-Bil=1.5～3.0mg/dL:50%に減量,3.1～5mg/dL:25%に減量,>5.0mg/dL:投与不可","生涯投与量注意"]
["4235402D2028","ドキソルビシン","危 50mg ﾄﾞｷｿﾙﾋﾞｼﾝ塩酸塩注射用「NK」（溶解液:生食orAq）（先:ｱﾄﾞﾘｱｼﾝ）",null,"腎機能正常者と同じ、副作用が強く表れる恐れ\nCCr<10:75%","T-Bil=1.5～3.0mg/dL:50%に減量,3.1～5mg/dL:25%に減量,>5.0mg/dL:投与不可\n(緑本)T-Bil=2.0～3.0mg/dL:50%に減量,3.1～5mg/dL:50%に減量,>5.0mg/dL:投与不可\nAST>2～3×ULN:75%,AST>3×ULN:50%","生涯投与量注意"]
["4235402D1048","ドキソルビシン","危 10mg ﾄﾞｷｿﾙﾋﾞｼﾝ塩酸塩注射用「NK」（溶解液:生食orAq）（先:ｱﾄﾞﾘｱｼﾝ）",null,"腎機能正常者と同じ、副作用が強く表れる恐れ\nCCr<10:75%","T-Bil=1.5～3.0mg/dL:50%に減量,3.1～5mg/dL:25%に減量,>5.0mg/dL:投与不可\n(緑本)T-Bil=2.0～3.0mg/dL:50%に減量,3.1～5mg/dL:50%に減量,>5.0mg/dL:投与不可\nAST>2～3×ULN:75%,AST>3×ULN:50%","生涯投与量注意"]
["4240405A3102","ドセタキセル","危〈毒〉20㎎/1mL ﾄﾞｾﾀｷｾﾙ点滴静注「ﾆﾌﾟﾛ」（先:ﾀｷｿﾃｰﾙ）",null,"腎機能正常と同じ\n定期的な腎機能確認","T-Bil>ULN:禁忌,AST/ALT>1.5×ULNかつALP>2.5×ULN:禁忌\n※多剤併用時に別基準あり、引用文献参照"]
["4240405A4109","ドセタキセル","危〈毒〉80㎎/4mL ﾄﾞｾﾀｷｾﾙ点滴静注「ﾆﾌﾟﾛ」（先:ﾀｷｿﾃｰﾙ）",null,"腎機能正常と同じ\n定期的な腎機能確認","T-Bil>ULN:禁忌,AST/ALT>1.5×ULNかつALP>2.5×ULN:禁忌\n※多剤併用時に別基準あり、引用文献参照"]
["4291472D1026","トロデルビ","トロデルビ点滴静注用２００ｍｇ",null,"データ確認未","データ確認未"]
["4291427A3027","ニボルマブ","危 240mg/24mL ｵﾌﾟｼﾞｰﾎﾞ点滴静注（希釈液:生食orTZ）",null,"腎機能正常と同じ\n定期的な腎機能確認","減量不要"]
["4219400D1029","ニドラン","ニドラン注射用２５ｍｇ",null,"データ確認未","データ確認未"]
["4219400D2025","ニドラン","ニドラン注射用５０ｍｇ",null,"データ確認未","データ確認未"]
["4291063F1025","ニュベクオ",null,null,"データ確認未","データ確認未"]
["4291049M3027","ニンラーロ",null,null,"腎機能正常者と同じ,CCr<30は減量考慮","T-Bil値が基準上限の1.5倍超：減量考慮"]
["4291402A1032","ノバントロン",null,null,"腎機能正常者と同じ、副作用が強く表れる恐れ","データ確認未","生涯投与量注意"]
["4240408D1037","ハイカムチン","危 臨）ﾊｲｶﾑﾁﾝ注射用 1.1mg",null,"60-40:腎機能正常者と同じ,40-20:初回量は50%,<20:十分な成績なし","影響しない(T-Bil:10mg/dLまでは安全に使用できる可能性がある)"]
["4291420A1022","ハラヴェン(先発品）","危 ﾊﾗｳﾞｪﾝ静注 1mg/2mL（希釈液:生食）",null,"CCr<50:AUC増加傾向、開始量1.1mg/㎡(FDA)","軽度(ChilPughA相当):1.1mg/㎡,\n中等度(ChildPughB相当):0.7mg/㎡,\n重度(ChildPughC相当):該当資料なし"]
["4291406D6020","ハーセプチン","危 ﾊｰｾﾌﾟﾁﾝ注射用 150mg（溶解液:Aq,希釈液:生食）",null,"腎機能正常者と同じ","減量不要"]
["4291438A1022","バベンチオ","危 臨）ﾊﾞﾍﾞﾝﾁｵ点滴静注 200mg/10mL",null,"腎機能正常と同じ\n定期的な腎機能確認","減量不要"]
["4240406A2046","パクリタキセル","危〈毒〉100mg/16.7mL ﾊﾟｸﾘﾀｷｾﾙ注「NK」（希釈液:生食orTZ）（先:ﾀｷｿｰﾙ）",null,"腎機能正常と同じ\n定期的な腎機能確認","AST/ALT<10×ULNかつT-Bil≦1.25×ULN:減量不要\nAST/ALT<10×ULNかつ1.26×ULN≦T-Bil≦2×ULN:135mg/㎡\nAST/ALT<10×ULNかつ2.01×ULN≦T-Bil≦5×ULN:90mg/㎡\nAST/ALT>10×ULN又はT-Bil>5×ULN:禁忌","開始基準：WBC≧3000,Neu≧1500,Plt≧7.5万,Hb≧9,PN≦Grade2※同一サイクル内投与基準は添付文書参照"]
["4240406A1040","パクリタキセル","危〈毒〉30mg/5mL ﾊﾟｸﾘﾀｷｾﾙ注「NK」（希釈液:生食orTZ）（先:ﾀｷｿｰﾙ）",null,"腎機能正常と同じ\n定期的な腎機能確認","AST/ALT<10×ULNかつT-Bil≦1.25×ULN:減量不要\nAST/ALT<10×ULNかつ1.26×ULN≦T-Bil≦2×ULN:135mg/㎡\nAST/ALT<10×ULNかつ2.01×ULN≦T-Bil≦5×ULN:90mg/㎡\nAST/ALT>10×ULN又はT-Bil>5×ULN:禁忌","開始基準：WBC≧3000,Neu≧1500,Plt≧7.5万,Hb≧9,PN≦Grade2※同一サイクル内投与基準は添付文書参照"]
["4291459D1020","パドセブ","危 臨）30mg ﾊﾟﾄﾞｾﾌﾞ点滴静注用（溶解液:Aq）",null,"腎機能正常者と同じ","データ確認未"]
["4291424A1020","パージェタ","危 ﾊﾟｰｼﾞｪﾀ点滴静注 420mg/14mL（希釈液:生食）",null,"腎機能正常者と同じ","減量不要"]
["4291502D1029","ビキセオス",null,null,"データ確認未","データ確認未"]
["4240407A2032","ビノレルビン","危〈毒〉40㎎/4mL ﾛｾﾞｳｽ静注液（先:ﾅﾍﾞﾙﾋﾞﾝ）",null,"腎機能正常者と同じ","T-Bil>1.5mg/dL:50%に減量,T-Bil>3mg/sL:25％に減量"]
["4291057M2025","ビラフトビ",null,null,"腎機能正常者と同じ、ただしCCr<30での臨床試験実施なし","・AST/ALT>3～5×ULT:3×ULT以下まで休薬・AST/ALT>5～20×ULT:3×ULT以下まで休薬・AST/ALT>5～20×ULT(血清Bil上昇を伴う):投与中止"]
["4291445D1029","ビーリンサイト",null,null,"腎機能正常者と同じ","減量不要"]
["4235403D3029","ピノルビン",null,null,"腎機能正常者と同じ、副作用が強く表れる恐れ",null,"生涯投与量注意"]
["4240402D1021","フィルデシン",null,null,"腎機能正常者と同じ","T-Bil>1.5mg/dL:50%に減量,T-Bil>3mg/sL:25％に減量"]
["4240402D2028","フィルデシン",null,null,"腎機能正常者と同じ","T-Bil>1.5mg/dL:50%に減量,T-Bil>3mg/sL:25％に減量"]
["4291088M2020","フリュザクラ",null,null,"データ確認未"]
["4223401A4037","フルオロウラシル","危 250mg/5mL ﾌﾙｵﾛｳﾗｼﾙ注「ﾄｰﾜ」（先:5-FU）",null,"腎機能正常者と同じ、HD日はHD後","血清Bil>5.0mg/dL:投与禁止"]
["4223401A3030","フルオロウラシル","危 1000mg/20mL ﾌﾙｵﾛｳﾗｼﾙ注「ﾄｰﾜ」（先:5-FU）",null,"腎機能正常者と同じ、HD日はHD後","血清Bil>5.0mg/dL:投与禁止"]
["4229400D1033","フルダラ",null,null,"CCr=60-45:80%,45-30:75,>30:禁忌(緑本より)","慎重投与"]
["4229002F1022","フルダラ",null,null,"CCr=60-45:80%,45-30:75,>30:禁忌(緑本より)","慎重投与"]
["4213400A2025","ブスルフェクス",null,null,"CCr=60-30:腎機能正常と同じ\n定期的な腎機能確認","該当資料なし"]
["4234400D5039","ブレオマイシン",null,null,"CCr=40-50:70%,30-40:60%,<30:禁忌\nFDAでは<30でも減量して投与","データ確認未"]
["2456001F1310","プレドニン",null,null,"腎機能正常者と同じ"]
["2456405D1027","プレドニン",null,null,"腎機能正常者と同じ"]
["2456405D2023","プレドニン",null,null,"腎機能正常者と同じ"]
["4291002M1044","プロカルバジン",null,null,"腎機能正常者と同じ","AST/ALT>3.0×ULNかつT-bil>5mg/dL:投与中止\nAST/ALT>1.6～6.0×ULN:75％に減量\nAST/ALT>6.0×ULN以上：臨床医判断"]
["4291417A1020","ベクティビックス","危 ﾍﾞｸﾃｨﾋﾞｯｸｽ点滴静注 100mg/5mL（希釈液:生食）",null,"腎機能正常と同じ\n定期的な腎機能確認","減量不要"]
["4291006M1034","ベサノイド",null,null,"CCr<60:禁忌","重度な肝障害のある患者には禁忌"]
["4239401D1026","ベスポンサ",null,null,"腎機能正常者と同じ","減量不要"]
["4291062F3023","ベネクレクスタ",null,null,"腎機能正常者と同じ","・軽度または中等度：減量不要\n・重度(ChildPugh分類C):減量を考慮"]
["4291463A2027","ベバシズマブ","危 400mg/16mL ﾍﾞﾊﾞｼｽﾞﾏﾌﾞBS点滴静注「CTNK」（希釈液:生食）（先:ｱﾊﾞｽﾁﾝ）",null,"腎機能正常者と同じ","減量不要"]
["4291412D1024","ベルケイド","危 ﾍﾞﾙｹｲﾄﾞ注射用 3mg（溶解液:生食）",null,"腎機能正常者と同じ","減量不要"]
["4219405A1033","ベンダムスチン","危 100mg/4mL ﾍﾞﾝﾀﾞﾑｽﾁﾝ塩酸塩点滴静注液「ﾄｰﾜ」（希釈液:生食）（先:ﾄﾚｱｷｼﾝ）",null,"CCr=60-30:腎機能正常と同じだが副作用増悪の恐れ\nCCr<40には安全性確立未、投与避ける(FDA)","AST/ALT>2.5～10.0×ULN,T-bil>1.5～3.0×ULN:投与中止"]
["4291435A2025","ペムブロリズマブ","危 ｷｲﾄﾙｰﾀﾞ点滴静注 100mg/4mL（希釈液:生食orTZ）",null,"腎機能正常と同じ\n定期的な腎機能確認","減量不要"]
["4229401A2020","ペメトレキセド","危 500mg/20mL ﾍﾟﾒﾄﾚｷｾﾄﾞ点滴静注液「NK」（希釈液:生食）（先:ｱﾘﾑﾀ）",null,"CCr<45:警告(死亡例あり重度の腎機能障害には投与避ける事が望ましい)、AUC1.48倍","慎重投与"]
["4229401A3026","ペメトレキセド","危 800mg/32mL ﾍﾟﾒﾄﾚｷｾﾄﾞ点滴静注液「NK」（希釈液:生食）（先:ｱﾘﾑﾀ）",null,"CCr<45:警告(死亡例あり重度の腎機能障害には投与避ける事が望ましい)、AUC1.48倍","慎重投与"]
["4291424A1020","ペルツズマブ","危 ﾊﾟｰｼﾞｪﾀ点滴静注 420mg/14mL（希釈液:生食）",null,"腎機能正常者と同じ","減量不要"]
["4291412D1040","ボルテゾミブ","危 ﾎﾞﾙﾃｿﾞﾐﾌﾞ注射用 3mg「NK」（溶解液:生食）（先:ﾍﾞﾙｹｲﾄﾞ）",null,"腎機能正常者と同じ","減量不要"]
["4291422A1021","ポテリジオ",null,null,"腎機能正常者と同じ","減量不要"]
["4291038M4025","ポマリスト",null,null,"(添)CCr<60:安全性確立未、HD:3mg/day　HD後","安全性が確認されていないため慎重投与"]
["4291455D1022","ポライビー","危 30mg ﾎﾟﾗｲﾋﾞｰ点滴静注用（溶解液:Aq、希釈液:生食orTz）",null,"腎機能正常者と同じ","データ確認未"]
["4291448A1026","ポートラーザ",null,null,"腎機能正常と同じ\n定期的な腎機能確認","減量不要"]
["4231400D1031","マイトマイシン","危 臨）ﾏｲﾄﾏｲｼﾝ注用 2mg（溶解液:生食）",null,"60-45:80%,45-30:75%,30>:70%,HD:50%(緑本より)","データ確認未"]
["4291058F1024","メクトビ",null,null,"腎機能正常者と同じ","・AST/ALT>3～5×ULT:3×ULT以下まで休薬・AST/ALT>5～20×ULT:3×ULT以下まで休薬・AST/ALT>5～20×ULT(血清Bil上昇を伴う):投与中止"]
["4222001F1027","メソトレキセート",null,null,"60-45:65%,45-30:50%,30>-HD:禁忌","肝障害：禁忌"]
["4222400A1036","メソトレキセート","危 200mg/8mL ﾒｿﾄﾚｷｾｰﾄ点滴静注液",null,"60-45:65%,45-30:50%,30>-HD:禁忌","肝障害：禁忌"]
["4222400A2024","メソトレキセート","危 1000mg/40mL ﾒｿﾄﾚｷｾｰﾄ点滴静注液",null,"60-45:65%,45-30:50%,30>-HD:禁忌","肝障害：禁忌"]
["4222400D1024","メソトレキセート 5mg","危 5mg 注射用ﾒｿﾄﾚｷｾｰﾄ",null,"60-45:65%,45-30:50%,30>-HD:禁忌","肝障害：禁忌"]
["4291430A1026","ヤーボイ","危 臨）50mg/10mL ﾔｰﾎﾞｲ点滴静注液",null,"腎機能正常と同じ\n定期的な腎機能確認","減量不要"]
["4229100M2035","ユーエフティ",null,null,"CCr<15：1日300mgを分3、HD日はHD後","慎重投与"]
["4291473A1024","ライブリバント",null,null,null,"データ確認未"]
["4240001M1067","ラステットS",null,null,"(FDA)50-15:75%,<10-HD:50%\n(緑本)60-45:85%,45-30:80%,<30:75%,HD:50%","T-Bil=1.5～3.0mg/dL:50%に減量,>3.0mg/dL:投与不可,AST60～180IU/L:50%に減量,>180IU/L:投与不可\n(緑本)T-Bil=1.2～3.0mg/dLまたはAST>180IU/Lの時:50%,T-Bil>3mg/dL:25%"]
["4212400A1021","リサイオ",null,null,"CCr=60-30:腎機能正常と同じ\n定期的な腎機能確認","T-bil>1.5×ULN:毒性が増強するため注意必要"]
["4291407A2031","リツキサン","危 ﾘﾂｷｻﾝ点滴静注 500mg/50mL（希釈液:生食orTZ）",null,"腎機能正常者と同じ","減量不要"]
["4291451A2024","リツキシマブ","危 500㎎/50mL ﾘﾂｷｼﾏﾌﾞBS点滴静注「ﾌｧｲｻﾞｰ」（希釈液:生食orTZ）（先:ﾘﾂｷｻﾝ）",null,"腎機能正常者と同じ","減量不要"]
["4291466A1024","リブタヨ",null,null,"腎機能正常と同じ\n定期的な腎機能確認","減量不要"]
["4291052F1027","リムパーザ"]
["4291024M1024","レブラミド",null,null,"添付文書参照","該当資料なし"]
["3929407D2060","レボホリナート","危 100mg ﾚﾎﾞﾎﾘﾅｰﾄ点滴静注用「ﾔｸﾙﾄ」（先:ｱｲｿﾎﾞﾘﾝ）",null,"腎機能正常者と同じ"]
["4291039M1020","レンビマカプセル4mg",null,null,"腎機能正常者と同じ","軽度および中等度：減量不要\n重度：慎重投与（AUC1.8倍）"]
["4221001B1052","ロイケリン散",null,null,"CCr<50:低用量から開始(FDA)","慎重投与"]
["4291400A1033","ロイナーゼ",null,null,"腎機能正常者と同じ","肝機能低下患者には慎重投与：高アンモニア血症が現れやすい"]
["4240407A2032","ロゼウス","危〈毒〉40㎎/4mL ﾛｾﾞｳｽ静注液（先:ﾅﾍﾞﾙﾋﾞﾝ）",null,"腎機能正常者と同じ","T-Bil>1.5mg/dL:50%に減量,T-Bil>3mg/sL:25％に減量"]
["4299100F2022","ロンサーフ",null,null,"CCr=60-30:腎機能正常者と同じ,<30:減量を考慮し、Scr1.5mg/dl以上は休薬","T-bil>2.0mg/dL:休薬\nAST/ALT>2.5(肝転移症例5.0)×ULN:休薬"]
["4291465A1020","臨）イジュド","危 臨）25mg/1.25mL ｲｼﾞｭﾄﾞ点滴静注（希釈液:生食orTZ）",null,"腎機能正常と同じ\n定期的な腎機能確認","データ確認未"]
["4291471D1021","臨）ビロイ（2回目～）","危 臨）ﾋﾞﾛｲ点滴静注用 100mg（溶解液:Aq、希釈液:生食）",null,"データ確認未","データ確認未"]
["4291471D1021","臨）ビロイ（初回）","危 臨）ﾋﾞﾛｲ点滴静注用 100mg（溶解液:Aq、希釈液:生食）",null,"データ確認未","データ確認未"]

{"sheet":"患者確認事項一覧","index":6,"n_rows":82,"n_cols":12,"rows_kept":82,"cut":false,"hidden":true,"merged":[]}
["分類名称","マスターコード","列1","列2","列3","列4","列5","列6","列7","列8","列9","列10"]
["胚細胞腫瘍","A000000"]
["MSI-high固形癌","A000000","MSI-High"]
["神経内分泌腫瘍","A000000"]
["MSI-High固形癌","A000000","MSI-High"]
["原発不明癌","A000000","MSI-High"]
["血管肉腫","A000000"]
["TMB-high固形癌","A000000","TMB-High"]
["その他（非がん）","A000000"]
["悪性中皮腫","A000000"]
["脳腫瘍（TMZ注射）","BRA0000"]
["脳腫瘍（TMZ注射・RT)","BRA0000"]
["脳腫瘍（TMZ内服・RT)","BRA0000"]
["脳腫瘍(TMZ内服)","BRA0000"]
["脳腫瘍","BRA0000"]
["抗MAG活性を有するIgM型パラプロテイン陽性ニューロパチー","BRA0000"]
["乳癌","BRE0000","ER / PgR","HER2","BRCA1/2","PIK3CA/AKT1/PTEN遺伝子変化",null,"MSI-High"]
["乳癌（Her2+)","BRE0000","ER / PgR","HER2","BRCA1/2","PIK3CA/AKT1/PTEN遺伝子変化",null,"MSI-High"]
["口腔癌","DEN0000","MSI-High"]
["悪性黒色腫","DER0000"]
["卵巣癌","GYN0000","BRCA1/2","MSI-High","HRDスコア"]
["子宮体癌","GYN0000","MSI-High"]
["子宮頚癌","GYN0000","MSI-High"]
["絨毛性疾患","GYN0000"]
["異所性妊娠","GYN0000"]
["白血病（AML)","HEM0000","FLT3","FLT3-ITD","フィラデルフィア染色体"]
["白血病（APL)","HEM0000"]
["リンパ腫","HEM0000","CD20","CD30","CD５","CD22","CD33","CCR4"]
["その他","HEM0000"]
["骨髄腫","HEM0000"]
["移植関連","HEM0000"]
["白血病","HEM0000","FLT3","FLT3-ITD","Ph染色体"]
["白血病（ALL)","HEM0000","Ph染色体"]
["ALアミロイドーシス","HEM0000"]
["白血病（CLL)","HEM0000"]
["血管炎","KID0000"]
["難治性ネフローゼ","KID0000"]
["リウマチ性疾患","KID0000"]
["間質性肺炎","O100000"]
["頭頚部癌","O100000","MSI-High"]
["唾液腺癌","O100000"]
["小細胞肺癌","RES0000","MSI-High"]
["非小細胞肺癌","RES0000","EGFR変異","ALK融合","ROS1融合","BRAF V600E","MET exon14スキッピング","RET融合","HER2変異（ERBB2）","KRAS G12C","PD-L1（TPS）"]
["悪性胸膜中皮腫","RES0000"]
["胸腺腫","RES0000"]
["胃癌","SUR0000","HER2","PD-L1（CPS）","MSI-High / MMR欠損","Claudin18.2"]
["胃癌（Her2+）","SUR0000","HER2","PD-L1（CPS）","MSI-High / MMR欠損","Claudin18.2"]
["大腸癌","SUR0000","RAS変異","BRAF V600E","MSI-High / MMR欠損","HER2","UGT1A1遺伝子型"]
["大腸癌(RASwild)","SUR0000","RAS変異","BRAF V600E","MSI-High / MMR欠損","HER2","UGT1A1遺伝子型"]
["大腸癌（HER2+)","SUR0000","RAS変異","BRAF V600E","MSI-High / MMR欠損","HER2","UGT1A1遺伝子型"]
["大腸癌(BRAF+)","SUR0000","RAS変異","BRAF V600E","MSI-High / MMR欠損","HER2","UGT1A1遺伝子型"]
["MSI-High大腸癌","SUR0000","RAS変異","BRAF V600E","MSI-High / MMR欠損","HER2","UGT1A1遺伝子型"]
["食道癌","SUR0000","MSI-High"]
["膵臓癌","SUR0000","BRCA1/2","MSI-High / MMR欠損","UGT1A1遺伝子型"]
["肛門管癌","SUR0000","MSI-High"]
["胆嚢・胆管癌","SUR0000","FGFR2融合","IDH1変異","MSI-High / MMR欠損"]
["軟部腫瘍","SUR0000","MSI-High"]
["膵・消化管神経内分泌腫瘍","SUR0000"]
["肝臓癌","SUR0000","MSI-High"]
["小腸癌","SUR0000","MSI-High"]
["尿路上皮癌","URO0000","MSI-High"]
["陰茎癌","URO0000","MSI-High"]
["前立腺癌","URO0000","BRCA1/2、HRR関連","MSI-High / MMR欠損"]
["精巣腫瘍","URO0000","MSI-High"]
["腎細胞癌","URO0000","MSI-High"]
["膀胱癌","URO0000","MSI-High"]
["胃,大腸,頭頚部,NSL,乳,膵,胆道","内服単剤S1：A法"]
["胃,NSL","内服単剤S1：B法"]
["胃,大腸,NSL,膵","内服単剤S2：C法"]
["大腸","内服単剤S2：D法"]
["胆道","内服単剤S3：E法"]
["切除不能再発乳癌","内服Cape：A法"]
["直腸癌","内服Cape：D法"]
["大腸,胃","ロンサーフ単剤"]
["大腸,GIST,肝","スチバーガ"]
["GIST,腎細胞癌","スーテント"]
["膵神経内分泌腫瘍","スーテント"]
["悪性神経膠腫","テモゾロミド(初発：放射線併用)"]
["多発性骨髄腫","ニンラーロ(再発難治)"]
["５番染色体長腕部欠損骨髄異形成症候群","レブラミド(5q-MDS)"]
["成人T細胞白血病リンパ腫","レブラミド(再発難治ATL)"]
["濾胞性リンパ腫,辺縁帯リンパ腫","レブラミド(再発難治FL又はMZL)"]